{"text_format":"1","workbook":"xlsx","n_sheets":20,"sheets":["Start","Sheet1","Forum","Print","K","Inscrieri","CLS","www","Rezultate","Grupe","Gr.1","Gr.inf.","Gr.sup.","Arb.inf.","Tabel","Elim.","T64","T32","T16","T8"],"not_rendered":{"charts":0,"images":51,"macros":1,"external_links":0,"defined_names":91,"comments":0,"pivot_tables":0},"unopened":[],"bounds":{"document_bytes":16777216,"sheet_cells":100000,"rows_first":2000,"rows_last":500,"rows_between":2000,"halvings":0,"cell_chars":16384,"cell_head_chars":4096},"cells_cut":0,"cells_raw":0,"read":"whole","date_system":"1900"}

{"sheet":"Start","index":0,"n_rows":36,"n_cols":60,"rows_kept":36,"cut":false,"hidden":false,"merged":[[24,0,24,13],[34,0,34,13],[35,0,35,13],[19,0,19,13],[29,0,29,13],[25,0,25,13],[30,0,30,13],[32,0,32,13],[33,0,33,13],[28,0,28,13],[31,0,31,13],[27,0,27,13],[26,0,26,13],[23,0,23,13],[22,0,22,13],[21,0,21,13],[13,0,13,13],[15,0,15,13],[2,0,2,2],[20,0,20,13],[16,0,16,13],[11,0,11,13],[10,0,10,13],[14,0,14,13],[12,0,12,13],[17,0,17,13],[18,0,18,13],[6,9,6,13],[8,0,8,13],[1,12,1,13],[0,3,0,4],[2,3,2,5],[1,0,1,11],[2,6,2,8],[0,0,0,1],[2,9,2,11]]}
["localitate",null,"data","categorie",null,null,null,"n","A+ (y/n) ?",null,null,"v7.31","cls_2025-ian",null,null,null,null,null,null,null,null,null,null,"[color=black]","[color=\"#990000\"]",null,"[\"","[TD=\"bgcolor:#ffffaa\"]","[TD=\"bgcolor:#2C75ee\"]","[TD]","[table=\"class: x\"]",null,"[td=\"width: 25\"]",null,"[TD=\"bgcolor:#00ff00\"]",null,null,null,null,null,null,null,null,null,null,null,null,null,null,null,null,null,null,null,null,null,null,null,null,"v7.31"]
["- randul de sus ... localitate, data, categoria, tipul turneului (n - turneu A, y - turneu A+)",null,null,null,null,null,null,null,null,null,null,null,2,null,null,null,null,null,null,null,null,null,null,"[/color] ","[color=\"#000075\"]",null,"\",\"","[td=\"align:center\"]","[TD=\"bgcolor:#d31f1f\"]",null,"[td=\"width:20\"][/td]",null,"[td=\"width: 120\"]",null,"[TD=\"bgcolor:#ffff00\"]"]
["Initializare",null,null,"Grupe inferioare",null,null,"Grupe superioare",null,null,"Eliminatorii",null,null,null,null,null,null,null,null,null,null,null,null,{"$f":"TEXT(CHAR(10)&CHAR(10)&CHAR(13),\"\")","v":"\n\n\r"},"[/i][/color] ","[color=\"#009900\"]",null,"\"],",null,null,null,"[td=\"width:150\"][/td]",null,"[td=\"width: 280\"]",null,"[TD=\"bgcolor:#ff0000\"]"]
[null,null,null,null,null,null,null,null,null,null,null,null,null,null,null,null,null,null,null,null,null,null,null,null,"[color=\"#6900af\"]",null,null,null,null,null,null,null,"[td=\"width: 20\"]",null,"[TD=\"bgcolor:#ff8700\"]"]
[null,null,null,null,null,null,null,null,null,null,null,null,null,null,null,null,null,null,null,null,null,null,null,null,"[color=\"#cc5000\"][i]"]
[0,null,null,null,null,null,null,null,null,null,null,null,null,null,null,null,null,null,null,null,null,null,null,null,"[color=\"#4040FF\"][i]"]
["Limitare","MPmax","MPmin","Nr.Gr.Inf.","Nr. Calif.","X suplim.1","Nr.Gr.Sup.","Nr. Calif.","X suplim.2",null,null,null,null,null,null,null,null,null,null,null,null,null,null,null,"[color=\"#00DC00\"][i]"]
[36,100,null,6,4,0,8,2,0,4,3,2,null,null,null,null,null,null,null,null,null,null,null,null,"[color=\"#bd5dff\"][i]"]
["Nu stergeti nimic din ceea ce exista deja in fisier, nici copy-paste din alte fisiere - multe celule contin formule",null,null,null,null,null,null,null,null,null,null,null,null,null,null,null,null,null,null,null,null,null,null,null,"[color=red]"]
["1. Daca este cazul, click pe \"Actualizare CLS\" in sheetul Inscrieri.",null,null,null,null,null,null,null,null,null,null,null,null,null,null,null,null,null,null,null,null,null,null,null,"[color=\"#8e44ad\"]"]
["2. Se modifica mai sus datele turneului si se salveaza cate un fisier separat pentru fiecare categorie (Elite - Open - Avansati - Hobby etc)",null,null,null,null,null,null,null,null,null,null,null,null,null,null,null,null,null,null,null,null,null,null,null,"[color=\"#e74c3c\"]",null,null,{"$f":"REPT(\"-\",20) & \" \"","v":"-------------------- "}]
["3. Click pe butonul \"Initializare\" - numai daca este nevoie - se vor sterge automat inscrierile, grupele, foile completate, eliminatoriile - daca exista.",null,null,null,null,null,null,null,null,null,null,null,null,null,null,null,null,null,null,null,null,null,null,null,"[color=\"#2379B5\"]",null,null,{"$f":"REPT(\"-\",40) & \" \"","v":"---------------------------------------- "}]
["\"Limitare\" = numarul maxim de participanti; \"MPmax, MPmin\" - mediile maxime si minime ale categoriei",null,null,null,null,null,null,null,null,null,null,null,null,null,null,null,null,null,null,null,null,null,null,null,null,null,null,{"$f":"REPT(\"-\",60) & \" \"","v":"------------------------------------------------------------ "}]
["Inscrieri - scop: in coloana 7 din \"Inscrieri\" sa fie bifat cu \"1\" fiecare jucator inscris.",null,null,null,null,null,null,null,null,null,null,null,null,null,null,null,null,null,null,null,null,null,null,null,null,null,null,{"$f":"REPT(\"-\",80) & \" \"","v":"-------------------------------------------------------------------------------- "}]
["4. Doua metode de lucru:    a) click pe \"Formular\";    b) Plus/Minus conform instructiunilor din coloana 26 (din \"Inscrieri\").",null,null,null,null,null,null,null,null,null,null,null,null,null,null,null,null,null,null,null,null,null,null,null,null,null,null,{"$f":"REPT(\"-\",100) & \" \"","v":"---------------------------------------------------------------------------------------------------- "}]
["Periodic se actualizeaza lista: click pe \"Lista\", Paste pe forum. Sheetul \"Print\" se scoate la imprimanta.",null,null,null,null,null,null,null,null,null,null,null,null,null,null,null,null,null,null,null,null,null,null,null,null,null,null,{"$f":"REPT(\"-\",120) & \" \"","v":"------------------------------------------------------------------------------------------------------------------------ "}]
["Confirmari - scop: in coloana 7 din \"Inscrieri\" sa ramana bifati cu \"1\" doar jucatorii prezenti."]
["5. Click pe jucatorul absent sau retras dupa termen in coloana 21 apoi click pe N sau r2."]
["6. Click pe \"Selectie participanti\""]
[]
["Grupe inferioare - in celula \"Nr.Gr.Inf.\" de mai sus (randul 8) se trec nr. de grupe inferioare (maxim 32), nr.de calificati, nr. de calificati suplimentar"]
["7. Click pe \"Selectie grupe\", in sheet-ul \"Grupe\" vor fi afisate grupele. Se pot opera modificari asupra lor prin permutarea unor jucatori \"sus-jos\", pe aceeasi coloana."]
["8. Click pe \"Completare foi\" - se genereaza sheet-ul \"Gr.inf.\", se vor completa rezultatele in partea superioara a diagonalei."]
["9. Se trece in fiecare grupa locul ocupat -  atentie! doar pt. cei calificati, pot fi si cele mai bune X locuri suplimentare, numarul lor se trece in celula X suplim.1"]
["Grupe superioare - se completeaza mai sus celulele \"Nr.Gr.Sup.\", nr. de calificati, nr. de calificati suplimentar"]
["Nr.Gr.Sup. poate fi egal sau diferit de nr.gr.inferioare (maxim 32 a cate 5 jucatori) / se trece 0 daca nu se fac si superioare"]
["10. Click pe \"Selectie grupe\" - in sheetul \"Grupe\" apar grupele superioare"]
["11. Click pe \"Completare foi\" - Se genereaza sheet-ul \"Gr.sup.\", se vor completa rezultatele in partea superioara a diagonalei."]
["12. Se trece in fiecare grupa locul ocupat - atentie! doar pt. cei calificati, pot fi si cele mai bune X locuri suplimentare, numarul lor se trece in celula X suplim.2"]
[]
["Eliminatorii - maxim 64 de jucatori"]
["13. Click pe \"Tabel calificati\". In sheetul \"Tabel\" se completeaza automat celulele \"Poz.tablou\""]
["In coloana \"1/4 tab\" apare sfertul de tablou in care a nimerit respectivul jucator (s1, s2 = superior 1, 2;    i1, i2 = inferior 1, 2)"]
["14. Click pe \"Tablou eliminatoriu\", in sheetul \"Elim.\" se trec rezultatele in celulele colorate, fara alte modificari"]
["Clasament"]
["15. In sheet-ul \"CLS\" click pe \"Clasament / Copy CLS\" apoi Paste pe forum"]

{"sheet":"Sheet1","index":1,"n_rows":33,"n_cols":25,"rows_kept":33,"cut":false,"hidden":true,"merged":[]}
[null,null,null,null,"init ----------------------","selgi ----------------------------------","selgs --------------------"]
["x=1","init",null,null,"wcl.Range(wcl.Cells(2, 9), wcl.Cells(6000, 25)).ClearContents"]
[null,null,null,null,"wcl.Range(wcl.Cells(2, 11), wcl.Cells(100, 12)).Clear"]
[null,null,null,null,"selp:"]
["x=1","selp",null,null,"wgr.Shapes(\"copy_inf\").Left = 800"]
[null,null,null,null,"wgr.Shapes(\"copy_inf\").Top = 5"]
[null,null,null,null,"wst.Range(wst.Columns(16), wst.Columns(17)).ClearContents"]
[null,null,null,null,"wli.Range(wli.Cells(2, 1), wli.Cells(300, 10)).Clear"]
[null,null,null,null,"selgi:"]
["x=4","selgi",null,null,"wgr.Rows(\"1:150\").Clear","wgr.Rows(\"1:150\").Clear"]
[null,null,null,null,"wgr.Rows(\"1:150\").RowHeight = 15","wgr.Rows(\"1:150\").RowHeight = 15"]
[null,null,null,null,"wgr.Shapes(\"copy_cal_sup\").Left = 800","wgr.Shapes(\"copy_cal_sup\").Left = 800"]
[null,null,null,null,"wgr.Shapes(\"copy_cal_sup\").Top = 35","wgr.Shapes(\"copy_cal_sup\").Top = 35"]
[null,null,null,null,"wgr.Shapes(\"copy_sup\").Left = 800","wgr.Shapes(\"copy_sup\").Left = 800"]
[null,null,null,null,"wgr.Shapes(\"copy_sup\").Top = 65","wgr.Shapes(\"copy_sup\").Top = 65"]
[null,null,null,null,"wgr.Cells.Font.Size = 8","wgr.Cells.Font.Size = 8"]
[null,null,null,null,"foigi:"]
["x=6","foigi",null,null,"Call DelLines(\"Gr.inferioare\")","Call DelLines(\"Gr.inferioare\")"]
[null,null,null,null,"selgs:"]
[null,null,null,null,"foigs:"]
["x=7","selgs","x=9","foigs","Call DelLines(\"Gr.superioare\")","Call DelLines(\"Gr.superioare\")","Call DelLines(\"Gr.superioare\")"]
[null,null,null,null,"Call CopySheet(\"T\", \"Tabel\")","Call CopySheet(\"T\", \"Tabel\")","Call CopySheet(\"T\", \"Tabel\")"]
[null,null,null,null,"Call InitEall","Call InitEall","Call InitEall"]
[null,null,null,null,"Call HideSheets(5 + wgr.Index)","Call HideSheets(5 + wgr.Index)","Call HideSheets(5 + wgr.Index)"]
[null,null,null,null,"wli.Range(wli.Cells(2, 11), wli.Cells(300, 18)).Clear","wli.Range(wli.Cells(2, 11), wli.Cells(300, 18)).Clear","wli.Range(wli.Cells(2, 11), wli.Cells(300, 18)).Clear"]
[null,null,null,null,"Sheets(\"Forum\").Columns(1).ClearContents","Sheets(\"Forum\").Columns(1).ClearContents","Sheets(\"Forum\").Columns(1).ClearContents"]
[]
[null,null,null,null,"wst.Range(wst.Cells(6, x), wst.Cells(6, 14)).ClearContents","wst.Range(wst.Cells(6, x), wst.Cells(6, 14)).ClearContents","wst.Range(wst.Cells(6, x), wst.Cells(6, 14)).ClearContents"]
[]
[]
[]
[]
["a","b","c","d","e","f","g","h","i","j","k","l","m","n","o","p","q","r","s","t","u","v","x","y","z"]

{"sheet":"Forum","index":2,"n_rows":330,"n_cols":10,"rows_kept":330,"cut":false,"hidden":false,"merged":[]}
[null,"|",null,"|",null,"|",null,"|",null,"|"]
[null,"|",null,"|",null,"|",null,"|",null,"|"]
[null,"|",null,"|",null,"|",null,"|",null,"|"]
[null,"|",null,"|",null,"|",null,"|",null,"|"]
[null,"|",null,"|",null,"|",null,"|",null,"|"]
[null,"|",null,"|",null,"|",null,"|",null,"|"]
[null,"|",null,"|",null,"|",null,"|",null,"|"]
[null,"|",null,"|",null,"|",null,"|",null,"|"]
[null,"|",null,"|",null,"|",null,"|",null,"|"]
[null,"|",null,"|",null,"|",null,"|",null,"|"]
[null,"|",null,"|",null,"|",null,"|",null,"|"]
[null,"|",null,"|",null,"|",null,"|",null,"|"]
[null,"|",null,"|",null,"|",null,"|",null,"|"]
[null,"|",null,"|",null,"|",null,"|",null,"|"]
[null,"|",null,"|",null,"|",null,"|",null,"|"]
[null,"|",null,"|",null,"|",null,"|",null,"|"]
[null,"|",null,"|",null,"|",null,"|",null,"|"]
[null,"|",null,"|",null,"|",null,"|",null,"|"]
[null,"|",null,"|",null,"|",null,"|",null,"|"]
[null,"|",null,"|",null,"|",null,"|",null,"|"]
[null,"|",null,"|",null,"|",null,"|",null,"|"]
[null,"|",null,"|",null,"|",null,"|",null,"|"]
[null,"|",null,"|",null,"|",null,"|",null,"|"]
[null,"|",null,"|",null,"|",null,"|",null,"|"]
[null,"|",null,"|",null,"|",null,"|",null,"|"]
[null,"|",null,"|",null,"|",null,"|",null,"|"]
[null,"|",null,"|",null,"|",null,"|",null,"|"]
[null,"|",null,"|",null,"|",null,"|",null,"|"]
[null,"|",null,"|",null,"|",null,"|",null,"|"]
[null,"|",null,"|",null,"|",null,"|",null,"|"]
[null,"|",null,"|",null,"|",null,"|",null,"|"]
[null,"|",null,"|",null,"|",null,"|",null,"|"]
[null,"|",null,"|",null,"|",null,"|",null,"|"]
[null,"|",null,"|",null,"|",null,"|",null,"|"]
[null,"|",null,"|",null,"|",null,"|",null,"|"]
[null,"|",null,"|",null,"|",null,"|",null,"|"]
[null,"|",null,"|",null,"|",null,"|",null,"|"]
[null,"|",null,"|",null,"|",null,"|",null,"|"]
[null,"|",null,"|",null,"|",null,"|",null,"|"]
[null,"|",null,"|",null,"|",null,"|",null,"|"]
[null,"|",null,"|",null,"|",null,"|",null,"|"]
[null,"|",null,"|",null,"|",null,"|",null,"|"]
[null,"|",null,"|",null,"|",null,"|",null,"|"]
[null,"|",null,"|",null,"|",null,"|",null,"|"]
[null,"|",null,"|",null,"|",null,"|",null,"|"]
[null,"|",null,"|",null,"|",null,"|",null,"|"]
[null,"|",null,"|",null,"|",null,"|",null,"|"]
[null,"|",null,"|",null,"|",null,"|",null,"|"]
[null,"|",null,"|",null,"|",null,"|",null,"|"]
[null,"|",null,"|",null,"|",null,"|",null,"|"]
[null,"|",null,"|",null,"|",null,"|",null,"|"]
[null,"|",null,"|",null,"|",null,"|",null,"|"]
[null,"|",null,"|",null,"|",null,"|",null,"|"]
[null,"|",null,"|",null,"|",null,"|",null,"|"]
[null,"|",null,"|",null,"|",null,"|",null,"|"]
[null,"|",null,"|",null,"|",null,"|",null,"|"]
[null,"|",null,"|",null,"|",null,"|",null,"|"]
[null,"|",null,"|",null,"|",null,"|",null,"|"]
[null,"|",null,"|",null,"|",null,"|",null,"|"]
[null,"|",null,"|",null,"|",null,"|",null,"|"]
[null,"|",null,"|",null,"|",null,"|",null,"|"]
[null,"|",null,"|",null,"|",null,"|",null,"|"]
[null,"|",null,"|",null,"|",null,"|",null,"|"]
[null,"|",null,"|",null,"|",null,"|",null,"|"]
[null,"|",null,"|",null,"|",null,"|",null,"|"]
[null,"|",null,"|",null,"|",null,"|",null,"|"]
[null,"|",null,"|",null,"|",null,"|",null,"|"]
[null,"|",null,"|",null,"|",null,"|",null,"|"]
[null,"|",null,"|",null,"|",null,"|",null,"|"]
[null,"|",null,"|",null,"|",null,"|",null,"|"]
[null,"|",null,"|",null,"|",null,"|",null,"|"]
[null,"|",null,"|",null,"|",null,"|",null,"|"]
[null,"|",null,"|",null,"|",null,"|",null,"|"]
[null,"|",null,"|",null,"|",null,"|",null,"|"]
[null,"|",null,"|",null,"|",null,"|",null,"|"]
[null,"|",null,"|",null,"|",null,"|",null,"|"]
[null,"|",null,"|",null,"|",null,"|",null,"|"]
[null,"|",null,"|",null,"|",null,"|",null,"|"]
[null,"|",null,"|",null,"|",null,"|",null,"|"]
[null,"|",null,"|",null,"|",null,"|",null,"|"]
[null,"|",null,"|",null,"|",null,"|",null,"|"]
[null,"|",null,"|",null,"|",null,"|",null,"|"]
[null,"|",null,"|",null,"|",null,"|",null,"|"]
[null,"|",null,"|",null,"|",null,"|",null,"|"]
[null,"|",null,"|",null,"|",null,"|",null,"|"]
[null,"|",null,"|",null,"|",null,"|",null,"|"]
[null,"|",null,"|",null,"|",null,"|",null,"|"]
[null,"|",null,"|",null,"|",null,"|",null,"|"]
[null,"|",null,"|",null,"|",null,"|",null,"|"]
[null,"|",null,"|",null,"|",null,"|",null,"|"]
[null,"|",null,"|",null,"|",null,"|",null,"|"]
[null,"|",null,"|",null,"|",null,"|",null,"|"]
[null,"|",null,"|",null,"|",null,"|",null,"|"]
[null,"|",null,"|",null,"|",null,"|",null,"|"]
[null,"|",null,"|",null,"|",null,"|",null,"|"]
[null,"|",null,"|",null,"|",null,"|",null,"|"]
[null,"|",null,"|",null,"|",null,"|",null,"|"]
[null,"|",null,"|",null,"|",null,"|",null,"|"]
[null,"|",null,"|",null,"|",null,"|",null,"|"]
[null,"|",null,"|",null,"|",null,"|",null,"|"]
[null,"|",null,"|",null,"|",null,"|",null,"|"]
[null,"|",null,"|",null,"|",null,"|",null,"|"]
[null,"|",null,"|",null,"|",null,"|",null,"|"]
[null,"|",null,"|",null,"|",null,"|",null,"|"]
[null,"|",null,"|",null,"|",null,"|",null,"|"]
[null,"|",null,"|",null,"|",null,"|",null,"|"]
[null,"|",null,"|",null,"|",null,"|",null,"|"]
[null,"|",null,"|",null,"|",null,"|",null,"|"]
[null,"|",null,"|",null,"|",null,"|",null,"|"]
[null,"|",null,"|",null,"|",null,"|",null,"|"]
[null,"|",null,"|",null,"|",null,"|",null,"|"]
[null,"|",null,"|",null,"|",null,"|",null,"|"]
[null,"|",null,"|",null,"|",null,"|",null,"|"]
[null,"|",null,"|",null,"|",null,"|",null,"|"]
[null,"|",null,"|",null,"|",null,"|",null,"|"]
[null,"|",null,"|",null,"|",null,"|",null,"|"]
[null,"|",null,"|",null,"|",null,"|",null,"|"]
[null,"|",null,"|",null,"|",null,"|",null,"|"]
[null,"|",null,"|",null,"|",null,"|",null,"|"]
[null,"|",null,"|",null,"|",null,"|",null,"|"]
[null,"|",null,"|",null,"|",null,"|",null,"|"]
[null,"|",null,"|",null,"|",null,"|",null,"|"]
[null,"|",null,"|",null,"|",null,"|",null,"|"]
[null,"|",null,"|",null,"|",null,"|",null,"|"]
[null,"|",null,"|",null,"|",null,"|",null,"|"]
[null,"|",null,"|",null,"|",null,"|",null,"|"]
[null,"|",null,"|",null,"|",null,"|",null,"|"]
[null,"|",null,"|",null,"|",null,"|",null,"|"]
[null,"|",null,"|",null,"|",null,"|",null,"|"]
[null,"|",null,"|",null,"|",null,"|",null,"|"]
[null,"|",null,"|",null,"|",null,"|",null,"|"]
[null,"|",null,"|",null,"|",null,"|",null,"|"]
[null,"|",null,"|",null,"|",null,"|",null,"|"]
[null,"|",null,"|",null,"|",null,"|",null,"|"]
[null,"|",null,"|",null,"|",null,"|",null,"|"]
[null,"|",null,"|",null,"|",null,"|",null,"|"]
[null,"|",null,"|",null,"|",null,"|",null,"|"]
[null,"|",null,"|",null,"|",null,"|",null,"|"]
[null,"|",null,"|",null,"|",null,"|",null,"|"]
[null,"|",null,"|",null,"|",null,"|",null,"|"]
[null,"|",null,"|",null,"|",null,"|",null,"|"]
[null,"|",null,"|",null,"|",null,"|",null,"|"]
[null,"|",null,"|",null,"|",null,"|",null,"|"]
[null,"|",null,"|",null,"|",null,"|",null,"|"]
[null,"|",null,"|",null,"|",null,"|",null,"|"]
[null,"|",null,"|",null,"|",null,"|",null,"|"]
[null,"|",null,"|",null,"|",null,"|",null,"|"]
[null,"|",null,"|",null,"|",null,"|",null,"|"]
[null,"|",null,"|",null,"|",null,"|",null,"|"]
[null,"|",null,"|",null,"|",null,"|",null,"|"]
[null,"|",null,"|",null,"|",null,"|",null,"|"]
[null,"|",null,"|",null,"|",null,"|",null,"|"]
[null,"|",null,"|",null,"|",null,"|",null,"|"]
[null,"|",null,"|",null,"|",null,"|",null,"|"]
[null,"|",null,"|",null,"|",null,"|",null,"|"]
[null,"|",null,"|",null,"|",null,"|",null,"|"]
[null,"|",null,"|",null,"|",null,"|",null,"|"]
[null,"|",null,"|",null,"|",null,"|",null,"|"]
[null,"|",null,"|",null,"|",null,"|",null,"|"]
[null,"|",null,"|",null,"|",null,"|",null,"|"]
[null,"|",null,"|",null,"|",null,"|",null,"|"]
[null,"|",null,"|",null,"|",null,"|",null,"|"]
[null,"|",null,"|",null,"|",null,"|",null,"|"]
[null,"|",null,"|",null,"|",null,"|",null,"|"]
[null,"|",null,"|",null,"|",null,"|",null,"|"]
[null,"|",null,"|",null,"|",null,"|",null,"|"]
[null,"|",null,"|",null,"|",null,"|",null,"|"]
[null,"|",null,"|",null,"|",null,"|",null,"|"]
[null,"|",null,"|",null,"|",null,"|",null,"|"]
[null,"|",null,"|",null,"|",null,"|",null,"|"]
[null,"|",null,"|",null,"|",null,"|",null,"|"]
[null,"|",null,"|",null,"|",null,"|",null,"|"]
[null,"|",null,"|",null,"|",null,"|",null,"|"]
[null,"|",null,"|",null,"|",null,"|",null,"|"]
[null,"|",null,"|",null,"|",null,"|",null,"|"]
[null,"|",null,"|",null,"|",null,"|",null,"|"]
[null,"|",null,"|",null,"|",null,"|",null,"|"]
[null,"|",null,"|",null,"|",null,"|",null,"|"]
[null,"|",null,"|",null,"|",null,"|",null,"|"]
[null,"|",null,"|",null,"|",null,"|",null,"|"]
[null,"|",null,"|",null,"|",null,"|",null,"|"]
[null,"|",null,"|",null,"|",null,"|",null,"|"]
[null,"|",null,"|",null,"|",null,"|",null,"|"]
[null,"|",null,"|",null,"|",null,"|",null,"|"]
[null,"|",null,"|",null,"|",null,"|",null,"|"]
[null,"|",null,"|",null,"|",null,"|",null,"|"]
[null,"|",null,"|",null,"|",null,"|",null,"|"]
[null,"|",null,"|",null,"|",null,"|",null,"|"]
[null,"|",null,"|",null,"|",null,"|",null,"|"]
[null,"|",null,"|",null,"|",null,"|",null,"|"]
[null,"|",null,"|",null,"|",null,"|",null,"|"]
[null,"|",null,"|",null,"|",null,"|",null,"|"]
[null,"|",null,"|",null,"|",null,"|",null,"|"]
[null,"|",null,"|",null,"|",null,"|",null,"|"]
[null,"|",null,"|",null,"|",null,"|",null,"|"]
[null,"|",null,"|",null,"|",null,"|",null,"|"]
[null,"|",null,"|",null,"|",null,"|",null,"|"]
[null,"|",null,"|",null,"|",null,"|",null,"|"]
[null,"|",null,"|",null,"|",null,"|",null,"|"]
[null,"|",null,"|",null,"|",null,"|",null,"|"]
[null,"|",null,"|",null,"|",null,"|",null,"|"]
[null,"|",null,"|",null,"|",null,"|",null,"|"]
[null,"|",null,"|",null,"|",null,"|",null,"|"]
[null,"|",null,"|",null,"|",null,"|",null,"|"]
[null,"|",null,"|",null,"|",null,"|",null,"|"]
[null,"|",null,"|",null,"|",null,"|",null,"|"]
[null,"|",null,"|",null,"|",null,"|",null,"|"]
[null,"|",null,"|",null,"|",null,"|",null,"|"]
[null,"|",null,"|",null,"|",null,"|",null,"|"]
[null,"|",null,"|",null,"|",null,"|",null,"|"]
[null,"|",null,"|",null,"|",null,"|",null,"|"]
[null,"|",null,"|",null,"|",null,"|",null,"|"]
[null,"|",null,"|",null,"|",null,"|",null,"|"]
[null,"|",null,"|",null,"|",null,"|",null,"|"]
[null,"|",null,"|",null,"|",null,"|",null,"|"]
[null,"|",null,"|",null,"|",null,"|",null,"|"]
[null,"|",null,"|",null,"|",null,"|",null,"|"]
[null,"|",null,"|",null,"|",null,"|",null,"|"]
[null,"|",null,"|",null,"|",null,"|",null,"|"]
[null,"|",null,"|",null,"|",null,"|",null,"|"]
[null,"|",null,"|",null,"|",null,"|",null,"|"]
[null,"|",null,"|",null,"|",null,"|",null,"|"]
[null,"|",null,"|",null,"|",null,"|",null,"|"]
[null,"|",null,"|",null,"|",null,"|",null,"|"]
[null,"|",null,"|",null,"|",null,"|",null,"|"]
[null,"|",null,"|",null,"|",null,"|",null,"|"]
[null,"|",null,"|",null,"|",null,"|",null,"|"]
[null,"|",null,"|",null,"|",null,"|",null,"|"]
[null,"|",null,"|",null,"|",null,"|",null,"|"]
[null,"|",null,"|",null,"|",null,"|",null,"|"]
[null,"|",null,"|",null,"|",null,"|",null,"|"]
[null,"|",null,"|",null,"|",null,"|",null,"|"]
[null,"|",null,"|",null,"|",null,"|",null,"|"]
[null,"|",null,"|",null,"|",null,"|",null,"|"]
[null,"|",null,"|",null,"|",null,"|",null,"|"]
[null,"|",null,"|",null,"|",null,"|",null,"|"]
[null,"|",null,"|",null,"|",null,"|",null,"|"]
[null,"|",null,"|",null,"|",null,"|",null,"|"]
[null,"|",null,"|",null,"|",null,"|",null,"|"]
[null,"|",null,"|",null,"|",null,"|",null,"|"]
[null,"|",null,"|",null,"|",null,"|",null,"|"]
[null,"|",null,"|",null,"|",null,"|",null,"|"]
[null,"|",null,"|",null,"|",null,"|",null,"|"]
[null,"|",null,"|",null,"|",null,"|",null,"|"]
[null,"|",null,"|",null,"|",null,"|",null,"|"]
[null,"|",null,"|",null,"|",null,"|",null,"|"]
[null,"|",null,"|",null,"|",null,"|",null,"|"]
[null,"|",null,"|",null,"|",null,"|",null,"|"]
[null,"|",null,"|",null,"|",null,"|",null,"|"]
[null,"|",null,"|",null,"|",null,"|",null,"|"]
[null,"|",null,"|",null,"|",null,"|",null,"|"]
[null,"|",null,"|",null,"|",null,"|",null,"|"]
[null,"|",null,"|",null,"|",null,"|",null,"|"]
[null,"|",null,"|",null,"|",null,"|",null,"|"]
[null,"|",null,"|",null,"|",null,"|",null,"|"]
[null,"|",null,"|",null,"|",null,"|",null,"|"]
[null,"|",null,"|",null,"|",null,"|",null,"|"]
[null,"|",null,"|",null,"|",null,"|",null,"|"]
[null,"|",null,"|",null,"|",null,"|",null,"|"]
[null,"|",null,"|",null,"|",null,"|",null,"|"]
[null,"|",null,"|",null,"|",null,"|",null,"|"]
[null,"|",null,"|",null,"|",null,"|",null,"|"]
[null,"|",null,"|",null,"|",null,"|",null,"|"]
[null,"|",null,"|",null,"|",null,"|",null,"|"]
[null,"|",null,"|",null,"|",null,"|",null,"|"]
[null,"|",null,"|",null,"|",null,"|",null,"|"]
[null,"|",null,"|",null,"|",null,"|",null,"|"]
[null,"|",null,"|",null,"|",null,"|",null,"|"]
[null,"|",null,"|",null,"|",null,"|",null,"|"]
[null,"|",null,"|",null,"|",null,"|",null,"|"]
[null,"|",null,"|",null,"|",null,"|",null,"|"]
[null,"|",null,"|",null,"|",null,"|",null,"|"]
[null,"|",null,"|",null,"|",null,"|",null,"|"]
[null,"|",null,"|",null,"|",null,"|",null,"|"]
[null,"|",null,"|",null,"|",null,"|",null,"|"]
[null,"|",null,"|",null,"|",null,"|",null,"|"]
[null,"|",null,"|",null,"|",null,"|",null,"|"]
[null,"|",null,"|",null,"|",null,"|",null,"|"]
[null,"|",null,"|",null,"|",null,"|",null,"|"]
[null,"|",null,"|",null,"|",null,"|",null,"|"]
[null,"|",null,"|",null,"|",null,"|",null,"|"]
[null,"|",null,"|",null,"|",null,"|",null,"|"]
[null,"|",null,"|",null,"|",null,"|",null,"|"]
[null,"|",null,"|",null,"|",null,"|",null,"|"]
[null,"|",null,"|",null,"|",null,"|",null,"|"]
[null,"|",null,"|",null,"|",null,"|",null,"|"]
[null,"|",null,"|",null,"|",null,"|",null,"|"]
[null,"|",null,"|",null,"|",null,"|",null,"|"]
[null,"|",null,"|",null,"|",null,"|",null,"|"]
[null,"|",null,"|",null,"|",null,"|",null,"|"]
[null,"|",null,"|",null,"|",null,"|",null,"|"]
[null,"|",null,"|",null,"|",null,"|",null,"|"]
[null,"|",null,"|",null,"|",null,"|",null,"|"]
[null,"|",null,"|",null,"|",null,"|",null,"|"]
[null,"|",null,"|",null,"|",null,"|",null,"|"]
[null,"|",null,"|",null,"|",null,"|",null,"|"]
[null,"|",null,"|",null,"|",null,"|",null,"|"]
[null,"|",null,"|",null,"|",null,"|",null,"|"]
[null,"|",null,"|",null,"|",null,"|",null,"|"]
[null,"|",null,"|",null,"|",null,"|",null,"|"]
[null,"|",null,"|",null,"|",null,"|",null,"|"]
[null,"|",null,"|",null,"|",null,"|",null,"|"]
[null,"|",null,"|",null,"|",null,"|",null,"|"]
[null,"|",null,"|",null,"|",null,"|",null,"|"]
[null,"|",null,"|",null,"|",null,"|",null,"|"]
[null,"|",null,"|",null,"|",null,"|",null,"|"]
[null,"|",null,"|",null,"|",null,"|",null,"|"]
[null,"|",null,"|",null,"|",null,"|",null,"|"]
[null,"|",null,"|",null,"|",null,"|",null,"|"]
[null,"|",null,"|",null,"|",null,"|",null,"|"]
[null,"|",null,"|",null,"|",null,"|",null,"|"]
[null,"|",null,"|",null,"|",null,"|",null,"|"]
[null,"|",null,"|",null,"|",null,"|",null,"|"]
[null,"|",null,"|",null,"|",null,"|",null,"|"]
[null,"|",null,"|",null,"|",null,"|",null,"|"]
[null,"|",null,"|",null,"|",null,"|",null,"|"]
[null,"|",null,"|",null,"|",null,"|",null,"|"]
[null,"|",null,"|",null,"|",null,"|",null,"|"]
[null,"|",null,"|",null,"|",null,"|",null,"|"]
[null,"|",null,"|",null,"|",null,"|",null,"|"]
[null,"|",null,"|",null,"|",null,"|",null,"|"]
[null,"|",null,"|",null,"|",null,"|",null,"|"]
[null,"|",null,"|",null,"|",null,"|",null,"|"]
[null,"|",null,"|",null,"|",null,"|",null,"|"]
[null,"|",null,"|",null,"|",null,"|",null,"|"]
[null,"|",null,"|",null,"|",null,"|",null,"|"]
[null,"|",null,"|",null,"|",null,"|",null,"|"]
[null,"|",null,"|",null,"|",null,"|",null,"|"]
[null,"|",null,"|",null,"|",null,"|",null,"|"]
[null,"|",null,"|",null,"|",null,"|",null,"|"]

{"sheet":"Print","index":3,"n_rows":229,"n_cols":11,"rows_kept":229,"cut":false,"hidden":false,"merged":[[3,0,3,8],[2,0,2,8]]}
["     Subsemnatul(a) ... conform tabel ... declar pe propria răspundere că:"]
["- Am luat la cunoștință și sunt de acord cu Regulamentul AmaTur 2024;",null,null,null,null,null,null,null,null,null,"Puteti modifica textul, dar ..."]
["- Nu sufăr de nici o afecțiune care să îmi pericliteze starea de sănătate în timpul desfăsurării competiției și îmi asum întreaga responsabilitate în ceea ce privește participarea mea la Turneul: ",null,null,null,null,null,null,null,null,null,"Nu stergeti randuri sau coloane !!"]
[{"$f":"Start!$A$1 &\" \" &Start!$C$1 &\" - \" &Start!$D$1","v":"localitate data - categorie"}]
["Nr.","Nume si prenume","Localitate","Loc","MP","Cat","Taxa","Observatii","Semnatura",null,"Inainte de a scoate la imprimanta, verificati setarile acesteia!"]
[1,null,null,null,null,null,null,null,null,null,"Print Preview --> urmariti incadrarea corecta in pagina, eventual mai trageti de margini."]
[2,null,null,null,null,null,null,null,null,null,"Pagina este setata pe Portrait si trebuie sa incapa cele 9 coloane cu 36 jucatori/pagina"]
[3]
[4]
[5]
[6]
[7]
[8]
[9]
[10]
[11]
[12]
[13]
[14]
[15]
[16]
[17]
[18]
[19]
[20]
[21]
[22]
[23]
[24]
[25]
[26]
[27]
[28]
[29]
[30]
[31]
[32]
[33]
[34]
[35]
[36]
[37]
[38]
[39]
[40]
[41]
[42]
[43]
[44]
[45]
[46]
[47]
[48]
[49]
[50]
[51]
[52]
[53]
[54]
[55]
[56]
[57]
[58]
[59]
[60]
[61]
[62]
[63]
[64]
[65]
[66]
[67]
[68]
[69]
[70]
[71]
[72]
[73]
[74]
[75]
[76]
[77]
[78]
[79]
[80]
[81]
[82]
[83]
[84]
[85]
[86]
[87]
[88]
[89]
[90]
[91]
[92]
[93]
[94]
[95]
[96]
[97]
[98]
[99]
[100]
[101]
[102]
[103]
[104]
[105]
[106]
[107]
[108]
[109]
[110]
[111]
[112]
[113]
[114]
[115]
[116]
[117]
[118]
[119]
[120]
[121]
[122]
[123]
[124]
[125]
[126]
[127]
[128]
[129]
[130]
[131]
[132]
[133]
[134]
[135]
[136]
[137]
[138]
[139]
[140]
[141]
[142]
[143]
[144]
[145]
[146]
[147]
[148]
[149]
[150]
[151]
[152]
[153]
[154]
[155]
[156]
[157]
[158]
[159]
[160]
[161]
[162]
[163]
[164]
[165]
[166]
[167]
[168]
[169]
[170]
[171]
[172]
[173]
[174]
[175]
[176]
[177]
[178]
[179]
[180]
[181]
[182]
[183]
[184]
[185]
[186]
[187]
[188]
[189]
[190]
[191]
[192]
[193]
[194]
[195]
[196]
[197]
[198]
[199]
[200]
[201]
[202]
[203]
[204]
[205]
[206]
[207]
[208]
[209]
[210]
[211]
[212]
[213]
[214]
[215]
[216]
[217]
[218]
[219]
[220]
[221]
[222]
[223]
[224]

{"sheet":"K","index":4,"n_rows":5208,"n_cols":37,"rows_kept":4500,"cut":true,"hidden":false,"merged":[],"bounds":{"rows_first":2000,"rows_last":500,"rows_between":2000,"halvings":0}}
[3,null,null,null,null,null,null,"2--3","1--3","1--2",null,"2--3","1--4",null,"Aiud",null,null,null,null,"Nume_si_prenume","Localitate",null,null,null,null,null,null,null,null,null,null,"P"]
[null,null,null,null,null,null,null,null,null,null,null,"1--3","2--3",null,"Alba Iulia",null,null,null,null,"Ababei Razvan","Iasi",null,null,null,1,1,1,1,"s1",null,"E",1]
[null,null,null,null,null,null,null,null,null,null,null,"1--2","1--3",null,"Blaj",null,null,null,null,"Ababii Ghenadie","Moldova-Drochia",null,null,null,{"$f":"REPT(\"-\",20)","v":"--------------------"},{"$f":"REPT(\"-\",20)","v":"--------------------"},{"$f":"REPT(\"-\",20)","v":"--------------------"},{"$f":"REPT(\"-\",20)","v":"--------------------"},"s1",null,"O",2]
[null,null,null,null,null,null,null,null,null,null,null,null,"2--4",null,"Cergau Mare",null,null,null,null,"Ababii Gheorghe","Moldova-Drochia",null,null,null,64,32,16,8,"s1",null,"A",3]
[null,null,null,null,null,null,null,null,null,null,null,null,"1--2",null,"Cugir",null,null,null,null,"Abdi Shenol","Bucuresti",null,null,null,{"$f":"REPT(\"-\",35)","v":"-----------------------------------"},{"$f":"REPT(\"-\",35)","v":"-----------------------------------"},{"$f":"REPT(\"-\",35)","v":"-----------------------------------"},{"$f":"REPT(\"-\",35)","v":"-----------------------------------"},"s1",null,"H",4]
[4,null,null,null,null,null,null,"1--4","1--3","1--2",null,null,"3--4",null,"Fenes",null,null,null,null,"Abrudan Cosmin","Apahida",null,null,null,33,17,9,5,"s1"]
[4,null,null,null,null,null,null,"2--3","2--4","3--4",null,null,null,null,"Jidvei",null,null,null,null,"Acasandrei Cosmin","Mangalia",null,null,null,{"$f":"REPT(\"-\",20)","v":"--------------------"},{"$f":"REPT(\"-\",20)","v":"--------------------"},{"$f":"REPT(\"-\",20)","v":"--------------------"},{"$f":"REPT(\"-\",20)","v":"--------------------"},"s1"]
[null,null,null,null,null,null,null,null,null,null,null,null,null,null,"Razboieni",null,null,null,null,"Acatrinei Ciprian","Iasi",null,null,null,32,16,8,4,"s1"]
[null,null,null,null,null,null,null,null,null,null,null,null,null,null,"Rosia Montana",null,null,null,null,"Acatrinei Lucian","Bucuresti",null,null,null,{"$f":"REPT(\"-\",50)","v":"--------------------------------------------------"},{"$f":"REPT(\"-\",50)","v":"--------------------------------------------------"},{"$f":"REPT(\"-\",50)","v":"--------------------------------------------------"},{"$f":"REPT(\"-\",50)","v":"--------------------------------------------------"},"s1"]
[null,null,null,null,null,null,null,null,null,null,null,null,null,null,"Salciua",null,null,null,null,"Achim Georgel","Calarasi",null,null,null,17,9,5,3,"s1"]
[5,null,null,null,null,"2--5","1--5","1--4","2--4","4--5",null,null,null,null,"Santimbru AB",null,null,null,null,"Achim Paul","Arad",null,null,null,{"$f":"REPT(\"-\",20)","v":"--------------------"},{"$f":"REPT(\"-\",20)","v":"--------------------"},{"$f":"REPT(\"-\",20)","v":"--------------------"},{"$f":"REPT(\"-\",20)","v":"--------------------"},"s1"]
[5,null,null,null,null,"3--4","2--3","3--5","1--3","1--2",null,null,null,null,"Stremt",null,null,null,null,"Acquistapace Santiago","Lombardia Italia",null,null,null,48,24,12,6,"s1"]
[null,null,null,null,null,null,null,null,null,null,null,null,null,null,"Teius",null,null,null,null,"Acriva Marian","Mizil",null,null,null,{"$f":"REPT(\"-\",35)","v":"-----------------------------------"},{"$f":"REPT(\"-\",35)","v":"-----------------------------------"},{"$f":"REPT(\"-\",35)","v":"-----------------------------------"},{"$f":"REPT(\"-\",35)","v":"-----------------------------------"},"s1"]
[null,null,null,null,null,null,null,null,null,null,null,null,null,null,"Vintu de Jos",null,null,null,null,"Acsinte Andrei","Roman",null,null,null,49,25,13,7,"s1"]
[null,null,null,null,null,null,null,null,null,null,null,null,null,null,"Zlatna",null,null,null,null,"Acsinte Oana","Bucuresti",null,null,null,{"$f":"REPT(\"-\",20)","v":"--------------------"},{"$f":"REPT(\"-\",20)","v":"--------------------"},{"$f":"REPT(\"-\",20)","v":"--------------------"},{"$f":"REPT(\"-\",20)","v":"--------------------"},"s1"]
[6,null,null,null,null,"1--6","1--5","1--4","1--3","1--2",null,null,null,null,"Bughea de Jos",null,null,null,null,"Acu Paul","Bucuresti",null,null,null,16,8,4,2,"s1",null,1,2,3,4,5,6]
[6,null,null,null,null,"2--5","4--6","3--5","2--4","3--6",null,null,null,null,"Buzoesti",null,null,null,null,"Acu Rares","Bucuresti",null,null,null,{"$f":"REPT(\"-\",65)","v":"-----------------------------------------------------------------"},{"$f":"REPT(\"-\",65)","v":"-----------------------------------------------------------------"},{"$f":"REPT(\"-\",65)","v":"-----------------------------------------------------------------"},null,"s1",null,0,1,2,2,1,0]
[6,null,null,null,null,"3--4","2--3","2--6","5--6","4--5",null,null,null,null,"Calinesti Arges",null,null,null,null,"Adam Cristian","Navodari",null,null,null,9,5,3,null,"s1",null,2,3,2,1,1,3]
[null,null,null,null,null,null,null,null,null,null,null,null,null,null,"Campulung Muscel",null,null,null,null,"Adam Florin","Targoviste",null,null,null,{"$f":"REPT(\"-\",20)","v":"--------------------"},{"$f":"REPT(\"-\",20)","v":"--------------------"},{"$f":"REPT(\"-\",20)","v":"--------------------"},null,"s1",null,2,2,1,1,3,3]
[null,null,null,null,null,null,null,null,null,null,null,null,null,null,"Cateasca",null,null,null,null,"Adamosi Klaudia","Targu Mures",null,null,null,56,28,14,null,"s1",null,2,1,1,3,3,2]
[7,null,null,"2--7","1--7","1--6","1--5","1--4","1--3","1--2",null,null,null,null,"Cosesti",null,null,null,null,"Aden Erduan","Constanta",null,null,null,{"$f":"REPT(\"-\",35)","v":"-----------------------------------"},{"$f":"REPT(\"-\",35)","v":"-----------------------------------"},{"$f":"REPT(\"-\",35)","v":"-----------------------------------"},null,"s1",null,2,1,3,3,2,1]
[7,null,null,"3--6","2--5","5--7","4--6","3--5","2--4","5--6",null,null,null,null,"Costesti",null,null,null,null,"Aga Alexandru","Botosani",null,null,null,41,21,11,null,"s1"]
[7,null,null,"4--5","3--4","2--3","3--7","2--6","6--7","4--7",null,null,null,null,"Curtea de Arges",null,null,null,null,"Aga Dan","Putna",null,null,null,{"$f":"REPT(\"-\",20)","v":"--------------------"},{"$f":"REPT(\"-\",20)","v":"--------------------"},{"$f":"REPT(\"-\",20)","v":"--------------------"},null,"s1",null,1,2,3,4,5,6,7]
[null,null,null,null,null,null,null,null,null,null,null,null,null,null,"Domnesti AG",null,null,null,null,"Agache Sorin","Navodari",null,null,null,24,12,6,null,"s1",null,3,0,1,2,2,1,0]
[null,null,null,null,null,null,null,null,null,null,null,null,null,null,"Leordeni",null,null,null,null,"Agavriloaie Costica","Moinesti",null,null,null,{"$f":"REPT(\"-\",50)","v":"--------------------------------------------------"},{"$f":"REPT(\"-\",50)","v":"--------------------------------------------------"},{"$f":"REPT(\"-\",50)","v":"--------------------------------------------------"},null,"s1",null,2,3,3,2,1,4,2]
[8,null,null,"1--8","1--7","1--6","1--5","1--4","1--3","1--2",null,null,null,null,"Maracineni",null,null,null,null,"Agbas Veaceslav","Moldova-Ceadir-Lunga",null,null,null,25,13,7,null,"s1",null,2,3,2,4,2,3,3]
[8,null,null,"2--7","8--6","7--5","6--4","5--3","4--2","3--8",null,null,null,null,"Mioveni",null,null,null,null,"Aherghelegitei Mihai","Dumbraveni SB",null,null,null,{"$f":"REPT(\"-\",20)","v":"--------------------"},{"$f":"REPT(\"-\",20)","v":"--------------------"},{"$f":"REPT(\"-\",20)","v":"--------------------"},null,"s1",null,2,5,2,1,1,3,3]
[8,null,null,"3--6","2--5","8--4","7--3","6--2","5--8","4--7",null,null,null,null,"Pitesti",null,null,null,null,"Aiben Robert","Tasnad",null,null,null,40,20,10,null,"s1",null,2,1,1,3,3,2,5]
[8,null,null,"4--5","3--4","2--3","8--2","7--8","6--7","5--6",null,null,null,null,"Stefanesti Arges",null,null,null,null,"Aihan Velula","Constanta",null,null,null,{"$f":"REPT(\"-\",35)","v":"-----------------------------------"},{"$f":"REPT(\"-\",35)","v":"-----------------------------------"},{"$f":"REPT(\"-\",35)","v":"-----------------------------------"},null,"s1",null,2,1,1,3,5,1,2]
[null,null,null,null,null,null,null,null,null,null,null,null,null,null,"Topoloveni",null,null,null,null,"Ailinca Cristina","Brasov",null,null,null,57,29,15,null,"s1",null,2,2,5,0,1,1,0]
[9,"2--9","1--9","1--8","1--7","1--6","1--5","1--4","1--3","1--2",null,null,null,null,"Alunis",null,null,null,null,"Ailioaie Bogdan","Comanesti",null,null,null,{"$f":"REPT(\"-\",20)","v":"--------------------"},{"$f":"REPT(\"-\",20)","v":"--------------------"},{"$f":"REPT(\"-\",20)","v":"--------------------"},null,"s1"]
[9,"3--8","2--7","9--7","8--6","7--5","6--4","3--5","4--2","4--9",null,null,null,null,"Arad",null,null,null,null,"Ailioaie Gheorghe","Comanesti",null,null,null,8,4,2,null,"s1"]
[9,"4--7","3--6","2--5","9--5","8--4","7--3","2--6","6--9","5--8",null,null,null,null,"Chisineu Cris",null,null,null,null,"Ailioaie Ionut","Comanesti",null,null,null,{"$f":"REPT(\"-\",80)","v":"--------------------------------------------------------------------------------"},{"$f":"REPT(\"-\",80)","v":"--------------------------------------------------------------------------------"}]
[9,"5--6","4--5","3--4","2--3","9--3","8--2","9--8","7--8","6--7",null,null,null,null,"Lipova",null,null,null,null,"Ailoaie Cosmin Marian","Vorona",null,null,null,5,3,null,null,"s2"]
[null,null,null,null,null,null,null,null,null,null,null,null,null,null,"Pecica",null,null,null,null,"Aizner Imre","Ludus",null,null,null,{"$f":"REPT(\"-\",20)","v":"--------------------"},{"$f":"REPT(\"-\",20)","v":"--------------------"},null,null,"s2"]
[10,"1--10","1--9","1--8","1--7","1--6","1--5","1--4","1--3","1--2",null,null,null,null,"Petris",null,null,null,null,"Alamorean Viorel","Blaj",null,null,null,60,30,null,null,"s2"]
[10,"2--9","10--8","9--7","8--6","7--5","6--4","3--5","4--2","3--10",null,null,null,null,"Ribita",null,null,null,null,"Alb Sorin","Alba Iulia",null,null,null,{"$f":"REPT(\"-\",35)","v":"-----------------------------------"},{"$f":"REPT(\"-\",35)","v":"-----------------------------------"},null,null,"s2"]
[10,"3--8","2--7","10--6","9--5","8--4","7--3","2--6","5--10","4--9",null,null,null,null,"Santana",null,null,null,null,"Albert Szabolcs","Targu Mures",null,null,null,37,19,null,null,"s2"]
[10,"4--7","3--6","2--5","10--4","9--3","8--2","10--7","6--9","5--8",null,null,null,null,"Sebis",null,null,null,null,"Albescu Constantin Ionut","Bucuresti",null,null,null,{"$f":"REPT(\"-\",20)","v":"--------------------"},{"$f":"REPT(\"-\",20)","v":"--------------------"},null,null,"s2"]
[10,"5--6","4--5","3--4","2--3","10--2","9--10","9--8","7--8","6--7",null,null,null,null,"Vinga",null,null,null,null,"Alboiu Robert","Botosani",null,null,null,28,14,null,null,"s2"]
[11,"2--11","1--11","1--10","1--9","1--8","1--7","1--6","1--5","1--4","1--3","1--2",null,null,"Bucuresti",null,null,null,null,"Albot Nicolae","Moldova-Balti",null,null,null,{"$f":"REPT(\"-\",50)","v":"--------------------------------------------------"},{"$f":"REPT(\"-\",50)","v":"--------------------------------------------------"},null,null,"s2"]
[11,"3--10","2--9","11--9","10--8","9--7","8--6","7--5","6--4","5--3","4--2","4--11",null,null,"Bacau",null,null,null,null,"Albu Alexandra","Pascani",null,null,null,21,11,null,null,"s2"]
[11,"4--9","3--8","2--7","11--7","10--6","9--5","8--4","7--3","6--2","6--11","5--10",null,null,"Buhusi",null,null,null,null,"Albu Catalin","Pascani",null,null,null,{"$f":"REPT(\"-\",20)","v":"--------------------"},{"$f":"REPT(\"-\",20)","v":"--------------------"},null,null,"s2"]
[11,"5--8","4--7","3--6","2--5","11--5","10--4","9--3","8--2","8--11","7--10","6--9",null,null,"Comanesti",null,null,null,null,"Albu Cristian","Iasi",null,null,null,44,22,null,null,"s2"]
[11,"6--7","5--6","4--5","3--4","2--3","11--3","10--2","10--11","9--10","8--9","7--8",null,null,"Darmanesti BC",null,null,null,null,"Albu Gheorghe","Galati",null,null,null,{"$f":"REPT(\"-\",35)","v":"-----------------------------------"},{"$f":"REPT(\"-\",35)","v":"-----------------------------------"},null,null,"s2"]
[12,"1--12","1--11","1--10","1--9","1--8","1--7","1--6","1--5","1--4","1--3","1--2",null,null,"Huruiesti",null,null,null,null,"Albu Iulian","Comanesti",null,null,null,53,27,null,null,"s2"]
[12,"2--11","12--10","11--9","10--8","9--7","8--6","7--5","6--4","5--3","4--2","3--12",null,null,"Margineni",null,null,null,null,"Albu Stefan","Iasi",null,null,null,{"$f":"REPT(\"-\",20)","v":"--------------------"},{"$f":"REPT(\"-\",20)","v":"--------------------"},null,null,"s2"]
[12,"3--10","2--9","12--8","11--7","10--6","9--5","8--4","7--3","6--2","5--12","4--11",null,null,"Moinesti",null,null,null,null,"Albu Vlad","Iasi",null,null,null,12,6,null,null,"s2"]
[12,"4--9","3--8","2--7","12--6","11--5","10--4","9--3","8--2","7--12","6--11","5--10",null,null,"Onesti",null,null,null,null,"Aldea Andrei","Roman",null,null,null,{"$f":"REPT(\"-\",65)","v":"-----------------------------------------------------------------"},{"$f":"REPT(\"-\",65)","v":"-----------------------------------------------------------------"},null,null,"s2"]
[12,"5--8","4--7","3--6","2--5","12--4","11--3","10--2","9--12","8--11","7--10","6--9",null,null,"Ploscuteni",null,null,null,null,"Aldea Eduard","Buzau",null,null,null,13,7,null,null,"s2"]
[12,"6--7","5--6","4--5","3--4","2--3","12--2","11--12","10--11","9--10","8--9","7--8",null,null,"Solont",null,null,null,null,"Aldea Sandrino","Comanesti",null,null,null,{"$f":"REPT(\"-\",20)","v":"--------------------"},{"$f":"REPT(\"-\",20)","v":"--------------------"},null,null,"s2"]
[null,null,null,null,null,null,null,null,null,null,null,null,null,null,"Targu Ocna",null,null,null,null,"Alecu Cristian","Targoviste",null,null,null,52,26,null,null,"s2"]
[null,null,null,null,null,null,null,null,null,null,null,null,null,null,"Alesd",null,null,null,null,"Alecu Ianis","Rosiori de Vede",null,null,null,{"$f":"REPT(\"-\",35)","v":"-----------------------------------"},{"$f":"REPT(\"-\",35)","v":"-----------------------------------"},null,null,"s2"]
[null,null,null,null,null,null,null,null,null,null,null,null,null,null,"Almasu Mare",null,null,null,null,"Alexa Cosmin","Cornetu",null,null,null,45,23,null,null,"s2"]
[null,null,null,null,null,null,null,null,null,null,null,null,null,null,"Balc",null,null,null,null,"Alexa Vicol","Zvoristea",null,null,null,{"$f":"REPT(\"-\",20)","v":"--------------------"},{"$f":"REPT(\"-\",20)","v":"--------------------"},null,null,"s2"]
[null,null,null,null,null,null,null,null,null,null,null,null,null,null,"Beius",null,null,null,null,"Alexandrescu Antonie","Voluntari",null,null,null,20,10,null,null,"s2"]
[null,null,null,null,null,null,null,null,null,null,null,null,null,null,"Bratca",null,null,null,null,"Alexandrescu Cristi","Alexandria",null,null,null,{"$f":"REPT(\"-\",50)","v":"--------------------------------------------------"},{"$f":"REPT(\"-\",50)","v":"--------------------------------------------------"},null,null,"s2"]
[null,null,null,null,null,null,null,null,null,null,null,null,null,null,"Gepiu",null,null,null,null,"Alexandrescu Eduard","Bucuresti",null,null,null,29,15,null,null,"s2"]
[null,null,null,null,null,null,null,null,null,null,null,null,null,null,"Lovrin",null,null,null,null,"Alexandrescu Ionica","Piatra Neamt",null,null,null,{"$f":"REPT(\"-\",20)","v":"--------------------"},{"$f":"REPT(\"-\",20)","v":"--------------------"},null,null,"s2"]
[null,null,null,null,null,null,null,null,null,null,null,null,null,null,"Magesti",null,null,null,null,"Alexandrescu Marius","Voluntari",null,null,null,36,18,null,null,"s2"]
[null,null,null,null,null,null,null,null,null,null,null,null,null,null,"Marghita",null,null,null,null,"Alexandrescu Robert","Alexandria",null,null,null,{"$f":"REPT(\"-\",35)","v":"-----------------------------------"},{"$f":"REPT(\"-\",35)","v":"-----------------------------------"},null,null,"s2"]
[null,null,null,null,null,null,null,null,null,null,null,null,null,null,"Oradea",null,null,null,null,"Alexandroaie Emanuel","Bucuresti",null,null,null,61,31,null,null,"s2"]
[null,null,null,null,null,null,null,null,null,null,null,null,null,null,"Osorhei",null,null,null,null,"Alexandrov Iulian","Constanta",null,null,null,{"$f":"REPT(\"-\",20)","v":"--------------------"},{"$f":"REPT(\"-\",20)","v":"--------------------"},null,null,"s2"]
[null,null,null,null,null,null,null,null,null,null,null,null,null,null,"Paleu",null,null,null,null,"Alexandru Anghel","Bucuresti",null,null,null,4,2,null,null,"s2"]
[null,null,null,null,null,null,null,null,null,null,null,null,null,null,"Sacuieni",null,null,null,null,"Alexandru Constantin","Bucuresti",null,null,null,{"$f":"REPT(\"-\",90)","v":"------------------------------------------------------------------------------------------"}]
[null,null,null,null,null,null,null,null,null,null,null,null,null,null,"Salonta",null,null,null,null,"Alexandru David Gabriel","Bucuresti",null,null,null,3,null,null,null,"i1"]
[null,null,null,null,null,null,null,null,null,null,null,null,null,null,"Santandrei",null,null,null,null,"Alexandru Marius","Bucuresti",null,null,null,{"$f":"REPT(\"-\",20)","v":"--------------------"},null,null,null,"i1"]
[null,null,null,null,null,null,null,null,null,null,null,null,null,null,"Tamaseu",null,null,null,null,"Alexandru Matei","Cluj Napoca",null,null,null,62,null,null,null,"i1"]
[null,null,null,null,null,null,null,null,null,null,null,null,null,null,"Beclean",null,null,null,null,"Alexandru Vasile","Iasi",null,null,null,{"$f":"REPT(\"-\",35)","v":"-----------------------------------"},null,null,null,"i1"]
[null,null,null,null,null,null,null,null,null,null,null,null,null,null,"Bistrita",null,null,null,null,"Alexanovici Bogdan","Brasov",null,null,null,35,null,null,null,"i1"]
[null,null,null,null,null,null,null,null,null,null,null,null,null,null,"Branistea",null,null,null,null,"Alexe Dan","Bucuresti",null,null,null,{"$f":"REPT(\"-\",20)","v":"--------------------"},null,null,null,"i1"]
[null,null,null,null,null,null,null,null,null,null,null,null,null,null,"Livezile",null,null,null,null,"Alexe Daria","Dumbravita",null,null,null,30,null,null,null,"i1"]
[null,null,null,null,null,null,null,null,null,null,null,null,null,null,"Maieru",null,null,null,null,"Alexoi Marius","Calan",null,null,null,{"$f":"REPT(\"-\",50)","v":"--------------------------------------------------"},null,null,null,"i1"]
[null,null,null,null,null,null,null,null,null,null,null,null,null,null,"Mogoseni",null,null,null,null,"Alfred Knobel","Bucuresti",null,null,null,19,null,null,null,"i1"]
[null,null,null,null,null,null,null,null,null,null,null,null,null,null,"Nasaud",null,null,null,null,"Algeorge Pop Eduard","Arad",null,null,null,{"$f":"REPT(\"-\",20)","v":"--------------------"},null,null,null,"i1"]
[null,null,null,null,null,null,null,null,null,null,null,null,null,null,"Sieu",null,null,null,null,"Alimareanu Raul","Dumbravita",null,null,null,46,null,null,null,"i1"]
[null,null,null,null,null,null,null,null,null,null,null,null,null,null,"Sieu Odorhei",null,null,null,null,"Aloman Mircea","Andrasesti",null,null,null,{"$f":"REPT(\"-\",35)","v":"-----------------------------------"},null,null,null,"i1"]
[null,null,null,null,null,null,null,null,null,null,null,null,null,null,"Uriu",null,null,null,null,"Alstani Mariana","Drobeta Tr Severin",null,null,null,51,null,null,null,"i1"]
[null,null,null,null,null,null,null,null,null,null,null,null,null,null,"Braila",null,null,null,null,"Aluculesa Radu","Botosani",null,null,null,{"$f":"REPT(\"-\",20)","v":"--------------------"},null,null,null,"i1"]
[null,null,null,null,null,null,null,null,null,null,null,null,null,null,"Cazasu",null,null,null,null,"Alupoaie Dumitru","Iasi",null,null,null,14,null,null,null,"i1"]
[null,null,null,null,null,null,null,null,null,null,null,null,null,null,"Faurei",null,null,null,null,"Amariei Lucian","Piatra Neamt",null,null,null,{"$f":"REPT(\"-\",65)","v":"-----------------------------------------------------------------"},null,null,null,"i1"]
[null,null,null,null,null,null,null,null,null,null,null,null,null,null,"Ianca",null,null,null,null,"Amarinei Sorin","Galati",null,null,null,11,null,null,null,"i1"]
[null,null,null,null,null,null,null,null,null,null,null,null,null,null,"Liesti",null,null,null,null,"Ambrus Arnold","Lazarea",null,null,null,{"$f":"REPT(\"-\",20)","v":"--------------------"},null,null,null,"i1"]
[null,null,null,null,null,null,null,null,null,null,null,null,null,null,"Botosani",null,null,null,null,"Ambrus Zoltan","Miercurea Ciuc",null,null,null,54,null,null,null,"i1"]
[null,null,null,null,null,null,null,null,null,null,null,null,null,null,"Bucecea",null,null,null,null,"Amet Denis","Harsova",null,null,null,{"$f":"REPT(\"-\",35)","v":"-----------------------------------"},null,null,null,"i1"]
[null,null,null,null,null,null,null,null,null,null,null,null,null,null,"Corlateni",null,null,null,null,"Anani Mihaita","Galati",null,null,null,43,null,null,null,"i1"]
[null,null,null,null,null,null,null,null,null,null,null,null,null,null,"Curtesti",null,null,null,null,"Anastasiu Constantin","Comanesti",null,null,null,{"$f":"REPT(\"-\",20)","v":"--------------------"},null,null,null,"i1"]
[null,null,null,null,null,null,null,null,null,null,null,null,null,null,"Darabani",null,null,null,null,"Anatolii Zamkovyi","Baia Mare",null,null,null,22,null,null,null,"i1"]
[null,null,null,null,null,null,null,null,null,null,null,null,null,null,"Dersca",null,null,null,null,"Anbrus Stefan","Bistrita",null,null,null,{"$f":"REPT(\"-\",50)","v":"--------------------------------------------------"},null,null,null,"i1"]
[null,null,null,null,null,null,null,null,null,null,null,null,null,null,"Dobarceni",null,null,null,null,"Anca Ana Maria","Ludus",null,null,null,27,null,null,null,"i1"]
[null,null,null,null,null,null,null,null,null,null,null,null,null,null,"Dorohoi",null,null,null,null,"Anca Octavian","Ludus",null,null,null,{"$f":"REPT(\"-\",20)","v":"--------------------"},null,null,null,"i1"]
[null,null,null,null,null,null,null,null,null,null,null,null,null,null,"Frumusica BT",null,null,null,null,"Anca Valentin","Ludus",null,null,null,38,null,null,null,"i1"]
[null,null,null,null,null,null,null,null,null,null,null,null,null,null,"Hlipiceni",null,null,null,null,"Anchidin Cosmin","Lugoj",null,null,null,{"$f":"REPT(\"-\",35)","v":"-----------------------------------"},null,null,null,"i1"]
[null,null,null,null,null,null,null,null,null,null,null,null,null,null,"Horodistea BT",null,null,null,null,"Andone Claudiu","Cugir",null,null,null,59,null,null,null,"i1"]
[null,null,null,null,null,null,null,null,null,null,null,null,null,null,"Hudesti",null,null,null,null,"Andoni Grigore","Moldova-Straseni",null,null,null,{"$f":"REPT(\"-\",20)","v":"--------------------"},null,null,null,"i1"]
[null,null,null,null,null,null,null,null,null,null,null,null,null,null,"Ipotesti",null,null,null,null,"Andoni Marian","Hunedoara",null,null,null,6,null,null,null,"i1"]
[null,null,null,null,null,null,null,null,null,null,null,null,null,null,"Mihai Eminescu",null,null,null,null,"Andras Nicolae","Oradea",null,null,null,{"$f":"REPT(\"-\",80)","v":"--------------------------------------------------------------------------------"}]
[null,null,null,null,null,null,null,null,null,null,null,null,null,null,"Rauseni",null,null,null,null,"Andras Robert","Hateg",null,null,null,7,null,null,null,"i2"]
[null,null,null,null,null,null,null,null,null,null,null,null,null,null,"Saveni",null,null,null,null,"Andrea Simion","Cluj Napoca",null,null,null,{"$f":"REPT(\"-\",20)","v":"--------------------"},null,null,null,"i2"]
[null,null,null,null,null,null,null,null,null,null,null,null,null,null,"Sebesel",null,null,null,null,"Andreescu Liviu","Urlati",null,null,null,58,null,null,null,"i2"]
[null,null,null,null,null,null,null,null,null,null,null,null,null,null,"Sendriceni",null,null,null,null,"Andrei Alin","Nasaud",null,null,null,{"$f":"REPT(\"-\",35)","v":"-----------------------------------"},null,null,null,"i2"]
[null,null,null,null,null,null,null,null,null,null,null,null,null,null,"Stefanesti",null,null,null,null,"Andrei Bogdan","Jijila",null,null,null,39,null,null,null,"i2"]
[null,null,null,null,null,null,null,null,null,null,null,null,null,null,"Trusesti",null,null,null,null,"Andrei Bogdan Ion","Targoviste",null,null,null,{"$f":"REPT(\"-\",20)","v":"--------------------"},null,null,null,"i2"]
[null,null,null,null,null,null,null,null,null,null,null,null,null,null,"Vorona",null,null,null,null,"Andrei Cornel","Nasaud",null,null,null,26,null,null,null,"i2"]
[null,null,null,null,null,null,null,null,null,null,null,null,null,null,"Arpas",null,null,null,null,"Andrei Cozmin Stefanut","Buzau",null,null,null,{"$f":"REPT(\"-\",50)","v":"--------------------------------------------------"},null,null,null,"i2"]
[null,null,null,null,null,null,null,null,null,null,null,null,null,null,"Bod BV",null,null,null,null,"Andrei Gheorghe","Petrosani",null,null,null,23,null,null,null,"i2"]
[null,null,null,null,null,null,null,null,null,null,null,null,null,null,"Bran",null,null,null,null,"Andrei Ionut","Pitesti",null,null,null,{"$f":"REPT(\"-\",20)","v":"--------------------"},null,null,null,"i2"]
[null,null,null,null,null,null,null,null,null,null,null,null,null,null,"Brasov",null,null,null,null,"Andrei Iordan","Tulcea",null,null,null,42,null,null,null,"i2"]
[null,null,null,null,null,null,null,null,null,null,null,null,null,null,"Cheile Gradistei",null,null,null,null,"Andrei Lucian","Nasaud",null,null,null,{"$f":"REPT(\"-\",35)","v":"-----------------------------------"},null,null,null,"i2"]
[null,null,null,null,null,null,null,null,null,null,null,null,null,null,"Codlea",null,null,null,null,"Andrei Maria","Ludus",null,null,null,55,null,null,null,"i2"]
[null,null,null,null,null,null,null,null,null,null,null,null,null,null,"Fagaras",null,null,null,null,"Andrei Marian","Barlad",null,null,null,{"$f":"REPT(\"-\",20)","v":"--------------------"},null,null,null,"i2"]
[null,null,null,null,null,null,null,null,null,null,null,null,null,null,"Lunca Calnicului",null,null,null,null,"Andrei Radu","Tulcea",null,null,null,10,null,null,null,"i2"]
[null,null,null,null,null,null,null,null,null,null,null,null,null,null,"Sacele",null,null,null,null,"Andrei Radu Alexandru","Iasi",null,null,null,{"$f":"REPT(\"-\",65)","v":"-----------------------------------------------------------------"},null,null,null,"i2"]
[null,null,null,null,null,null,null,null,null,null,null,null,null,null,"Sinca Noua",null,null,null,null,"Andrei Vasile Ilie","Ludus",null,null,null,15,null,null,null,"i2"]
[null,null,null,null,null,null,null,null,null,null,null,null,null,null,"Ucea",null,null,null,null,"Andreica Daniel","Viseu",null,null,null,{"$f":"REPT(\"-\",20)","v":"--------------------"},null,null,null,"i2"]
[null,null,null,null,null,null,null,null,null,null,null,null,null,null,"Victoria",null,null,null,null,"Andreica Gabriel","Viseu",null,null,null,50,null,null,null,"i2"]
[null,null,null,null,null,null,null,null,null,null,null,null,null,null,"Buzau",null,null,null,null,"Andreievici Vuk","Dumbravita",null,null,null,{"$f":"REPT(\"-\",35)","v":"-----------------------------------"},null,null,null,"i2"]
[null,null,null,null,null,null,null,null,null,null,null,null,null,null,"Ramnicu Sarat",null,null,null,null,"Andries Cristina","Brasov",null,null,null,47,null,null,null,"i2"]
[null,null,null,null,null,null,null,null,null,null,null,null,null,null,"Apahida",null,null,null,null,"Andries Ionut Alexandru","Iasi",null,null,null,{"$f":"REPT(\"-\",20)","v":"--------------------"},null,null,null,"i2"]
[null,null,null,null,null,null,null,null,null,null,null,null,null,null,"Baciu",null,null,null,null,"Andries Natalia","Navodari",null,null,null,18,null,null,null,"i2"]
[null,null,null,null,null,null,null,null,null,null,null,null,null,null,"Bogata",null,null,null,null,"Andriy Buldyzhov","Targu Mures",null,null,null,{"$f":"REPT(\"-\",50)","v":"--------------------------------------------------"},null,null,null,"i2"]
[null,null,null,null,null,null,null,null,null,null,null,null,null,null,"Campia Turzii",null,null,null,null,"Andronache Petrica","Barlad",null,null,null,31,null,null,null,"i2"]
[null,null,null,null,null,null,null,null,null,null,null,null,null,null,"Cluj Napoca",null,null,null,null,"Androne Cristian","Braila",null,null,null,{"$f":"REPT(\"-\",20)","v":"--------------------"},null,null,null,"i2"]
[null,null,null,null,null,null,null,null,null,null,null,null,null,null,"Dej",null,null,null,null,"Androne Daniel","Petrila",null,null,null,34,null,null,null,"i2"]
[null,null,null,null,null,null,null,null,null,null,null,null,null,null,"Floresti",null,null,null,null,"Androne Luca","Bucuresti",null,null,null,{"$f":"REPT(\"-\",35)","v":"-----------------------------------"},null,null,null,"i2"]
[null,null,null,null,null,null,null,null,null,null,null,null,null,null,"Gherla",null,null,null,null,"Angelescu Mihai","Bucuresti",null,null,null,63,null,null,null,"i2"]
[null,null,null,null,null,null,null,null,null,null,null,null,null,null,"Gilau",null,null,null,null,"Anghel Adriana","Sibiu",null,null,null,{"$f":"REPT(\"-\",20)","v":"--------------------"},null,null,null,"i2"]
[null,null,null,null,null,null,null,null,null,null,null,null,null,null,"Huedin",null,null,null,null,"Anghel Alexandru","Iasi",null,null,null,2,null,null,null,"i2"]
[null,null,null,null,null,null,null,null,null,null,null,null,null,null,"Luna CJ",null,null,null,null,"Anghel Bogdan","Buzau"]
[null,null,null,null,null,null,null,null,null,null,null,null,null,null,"Luna de Sus",null,null,null,null,"Anghel Ciprian","Buzau"]
[null,null,null,null,null,null,null,null,null,null,null,null,null,null,"Manastireni",null,null,null,null,"Anghel Darius","Pitesti"]
[null,null,null,null,null,null,null,null,null,null,null,null,null,null,"Manasturu Romanesc",null,null,null,null,"Anghel George","Targoviste"]
[null,null,null,null,null,null,null,null,null,null,null,null,null,null,"Rasca",null,null,null,null,"Anghel Patrick","Voluntari"]
[null,null,null,null,null,null,null,null,null,null,null,null,null,null,"Sanicoara",null,null,null,null,"Anghel Valentin","Voluntari"]
[null,null,null,null,null,null,null,null,null,null,null,null,null,null,"Somesu Rece",null,null,null,null,"Anghel Vlad","Bucuresti"]
[null,null,null,null,null,null,null,null,null,null,null,null,null,null,"Turda",null,null,null,null,"Anghele Cristinel","Galati"]
[null,null,null,null,null,null,null,null,null,null,null,null,null,null,"Viisoara CJ",null,null,null,null,"Angheloni Adrian","Nadrag"]
[null,null,null,null,null,null,null,null,null,null,null,null,null,null,"Calarasi",null,null,null,null,"Anghelus Flavius","Lipova"]
[null,null,null,null,null,null,null,null,null,null,null,null,null,null,"Lehliu Gara",null,null,null,null,"Angi Zoltan","Gheorgheni"]
[null,null,null,null,null,null,null,null,null,null,null,null,null,null,"Oltenita",null,null,null,null,"Anhelov Mihail","Moldova-Vulcanesti"]
[null,null,null,null,null,null,null,null,null,null,null,null,null,null,"Anina",null,null,null,null,"Ani Cosmin","Popesti CJ"]
[null,null,null,null,null,null,null,null,null,null,null,null,null,null,"Armenis",null,null,null,null,"Anica Andrei","Buzau"]
[null,null,null,null,null,null,null,null,null,null,null,null,null,null,"Baile Herculane",null,null,null,null,"Ankar Mohamed","Timisoara"]
[null,null,null,null,null,null,null,null,null,null,null,null,null,null,"Berzovia",null,null,null,null,"Ankar Wasim","Timisoara"]
[null,null,null,null,null,null,null,null,null,null,null,null,null,null,"Bocsa",null,null,null,null,"Anoiu Alexandru","Hunedoara"]
[null,null,null,null,null,null,null,null,null,null,null,null,null,null,"Caransebes",null,null,null,null,"Antal Csaba","Miercurea Ciuc"]
[null,null,null,null,null,null,null,null,null,null,null,null,null,null,"Cornea",null,null,null,null,"Antal Kevin Martin","Tarcaia"]
[null,null,null,null,null,null,null,null,null,null,null,null,null,null,"Cornereva",null,null,null,null,"Antal Laszlo","Miercurea Ciuc"]
[null,null,null,null,null,null,null,null,null,null,null,null,null,null,"Gradinari",null,null,null,null,"Antochi Iulian","Tamaseni"]
[null,null,null,null,null,null,null,null,null,null,null,null,null,null,"Moldova Noua",null,null,null,null,"Anton Calin","Sibiu"]
[null,null,null,null,null,null,null,null,null,null,null,null,null,null,"Oravita",null,null,null,null,"Anton Cristian","Tulcea"]
[null,null,null,null,null,null,null,null,null,null,null,null,null,null,"Otelu Rosu",null,null,null,null,"Anton Cristian","Constanta"]
[null,null,null,null,null,null,null,null,null,null,null,null,null,null,"Plugova",null,null,null,null,"Anton Dragos","Focsani"]
[null,null,null,null,null,null,null,null,null,null,null,null,null,null,"Resita",null,null,null,null,"Anton Ioan","Constanta"]
[null,null,null,null,null,null,null,null,null,null,null,null,null,null,"Sacu",null,null,null,null,"Anton Nicolae","Constanta"]
[null,null,null,null,null,null,null,null,null,null,null,null,null,null,"Slatina Nera",null,null,null,null,"Anton Viorel","Barlad"]
[null,null,null,null,null,null,null,null,null,null,null,null,null,null,"Teregova",null,null,null,null,"Antonas Cristian","Dorohoi"]
[null,null,null,null,null,null,null,null,null,null,null,null,null,null,"Cernavoda",null,null,null,null,"Antonescu Dan","Bucuresti"]
[null,null,null,null,null,null,null,null,null,null,null,null,null,null,"Cobadin",null,null,null,null,"Antonescu Nicolae","Pitesti"]
[null,null,null,null,null,null,null,null,null,null,null,null,null,null,"Constanta",null,null,null,null,"Antonya Csaba","Brasov"]
[null,null,null,null,null,null,null,null,null,null,null,null,null,null,"Costinesti",null,null,null,null,"Aparaschive Iulian","Botosani"]
[null,null,null,null,null,null,null,null,null,null,null,null,null,null,"Eforie",null,null,null,null,"Aparaschive Paul","Botosani"]
[null,null,null,null,null,null,null,null,null,null,null,null,null,null,"Hurezani",null,null,null,null,"Aparaschivei Bogdan","Iasi"]
[null,null,null,null,null,null,null,null,null,null,null,null,null,null,"Lazu",null,null,null,null,"Aparaschivei Marcel","Botosani"]
[null,null,null,null,null,null,null,null,null,null,null,null,null,null,"Lumina",null,null,null,null,"Apatachioae Augustin","Paunesti"]
[null,null,null,null,null,null,null,null,null,null,null,null,null,null,"Mamaia",null,null,null,null,"Apatiei Andrei","Botosani"]
[null,null,null,null,null,null,null,null,null,null,null,null,null,null,"Mangalia",null,null,null,null,"Apetrei Constantin","Iasi"]
[null,null,null,null,null,null,null,null,null,null,null,null,null,null,"Medgidia",null,null,null,null,"Apian Florin","Bistrita"]
[null,null,null,null,null,null,null,null,null,null,null,null,null,null,"Mihail Kogalniceanu",null,null,null,null,"Apostoaiei Andrei","Bucuresti"]
[null,null,null,null,null,null,null,null,null,null,null,null,null,null,"Murfatlar",null,null,null,null,"Apostol Cristian","Bucuresti"]
[null,null,null,null,null,null,null,null,null,null,null,null,null,null,"Navodari",null,null,null,null,"Apostol Ionut","Cluj Napoca"]
[null,null,null,null,null,null,null,null,null,null,null,null,null,null,"Poiana Teiului",null,null,null,null,"Apostol Stefan Leonard","Alexandria"]
[null,null,null,null,null,null,null,null,null,null,null,null,null,null,"Techirghiol",null,null,null,null,"Apostol Valentin","Alexandria"]
[null,null,null,null,null,null,null,null,null,null,null,null,null,null,"Valul lui Traian",null,null,null,null,"Apostu Marius","Galati"]
[null,null,null,null,null,null,null,null,null,null,null,null,null,null,"Aita Mare",null,null,null,null,"Apreotesei Alex","Piatra Neamt"]
[null,null,null,null,null,null,null,null,null,null,null,null,null,null,"Baraolt",null,null,null,null,"Aprodu Lucian","Bacau"]
[null,null,null,null,null,null,null,null,null,null,null,null,null,null,"Batanii Mari",null,null,null,null,"Aprodu Mircea","Bacau"]
[null,null,null,null,null,null,null,null,null,null,null,null,null,null,"Bixad",null,null,null,null,"Arabadji Iurie","Iasi"]
[null,null,null,null,null,null,null,null,null,null,null,null,null,null,"Bretcu",null,null,null,null,"Arabagiu Marius","Bucuresti"]
[null,null,null,null,null,null,null,null,null,null,null,null,null,null,"Calnic",null,null,null,null,"Arama Ciprian","Buhusi"]
[null,null,null,null,null,null,null,null,null,null,null,null,null,null,"Capeni",null,null,null,null,"Arama Gicu","Braila"]
[null,null,null,null,null,null,null,null,null,null,null,null,null,null,"Covasna",null,null,null,null,"Aramescu Neculai","Harsova"]
[null,null,null,null,null,null,null,null,null,null,null,null,null,null,"Estelnic",null,null,null,null,"Arcusa Aliona","Ucraina-Umani"]
[null,null,null,null,null,null,null,null,null,null,null,null,null,null,"Micfalau",null,null,null,null,"Arcusa Andrei","Ucraina-Umani"]
[null,null,null,null,null,null,null,null,null,null,null,null,null,null,"Moacsa",null,null,null,null,"Arcusa Dmitrii","Ucraina-Umani"]
[null,null,null,null,null,null,null,null,null,null,null,null,null,null,"Olteni",null,null,null,null,"Ardelean Alex","Ineu"]
[null,null,null,null,null,null,null,null,null,null,null,null,null,null,"Racosu de Sus",null,null,null,null,"Ardelean Ovidiu","Zalau"]
[null,null,null,null,null,null,null,null,null,null,null,null,null,null,"Santionlunca",null,null,null,null,"Ardelean Raul","Lipova"]
[null,null,null,null,null,null,null,null,null,null,null,null,null,null,"Sanzieni",null,null,null,null,"Ardelean Stefan","Dumbravita"]
[null,null,null,null,null,null,null,null,null,null,null,null,null,null,"Sfantu Gheorghe",null,null,null,null,"Ardeleanu Bogdan","Resita"]
[null,null,null,null,null,null,null,null,null,null,null,null,null,null,"Targu Secuiesc",null,null,null,null,"Ardeleanu Marcel","Focsani"]
[null,null,null,null,null,null,null,null,null,null,null,null,null,null,"Valea Scurta",null,null,null,null,"Ardeljan Marinel","Varset"]
[null,null,null,null,null,null,null,null,null,null,null,null,null,null,"Varghis",null,null,null,null,"Aresan David","Bistrita"]
[null,null,null,null,null,null,null,null,null,null,null,null,null,null,"Zabala",null,null,null,null,"Argesanu David","Barlad"]
[null,null,null,null,null,null,null,null,null,null,null,null,null,null,"Branesti DB",null,null,null,null,"Argesanu Johnny","Barlad"]
[null,null,null,null,null,null,null,null,null,null,null,null,null,null,"Bucsani",null,null,null,null,"Arhip George","Botosani"]
[null,null,null,null,null,null,null,null,null,null,null,null,null,null,"Caprioru DB",null,null,null,null,"Ariciu George","Cocorastii Mislii"]
[null,null,null,null,null,null,null,null,null,null,null,null,null,null,"Caragiale DB",null,null,null,null,"Arimia Constantin","Azuga"]
[null,null,null,null,null,null,null,null,null,null,null,null,null,null,"Cobia",null,null,null,null,"Armanu Cristian","Bucuresti"]
[null,null,null,null,null,null,null,null,null,null,null,null,null,null,"Contesti",null,null,null,null,"Armanu Razvan","Bucuresti"]
[null,null,null,null,null,null,null,null,null,null,null,null,null,null,"Darmanesti",null,null,null,null,"Armene Ionel","Barlad"]
[null,null,null,null,null,null,null,null,null,null,null,null,null,null,"Doicesti",null,null,null,null,"Arnaut Alexandr","Moldova-Avdarma"]
[null,null,null,null,null,null,null,null,null,null,null,null,null,null,"Dragomiresti DB",null,null,null,null,"Aron Darie","Sibiu"]
[null,null,null,null,null,null,null,null,null,null,null,null,null,null,"Fieni",null,null,null,null,"Aron Razvan","Fenes"]
[null,null,null,null,null,null,null,null,null,null,null,null,null,null,"Gaesti",null,null,null,null,"Aron Valentin","Fenes"]
[null,null,null,null,null,null,null,null,null,null,null,null,null,null,"Glodeni",null,null,null,null,"Arovich Laszlo","Ucraina"]
[null,null,null,null,null,null,null,null,null,null,null,null,null,null,"Gura Sutii",null,null,null,null,"Arseni Mihai","Moinesti"]
[null,null,null,null,null,null,null,null,null,null,null,null,null,null,"Iedera",null,null,null,null,"Arteni Sergiu","Bucuresti"]
[null,null,null,null,null,null,null,null,null,null,null,null,null,null,"Lucieni",null,null,null,null,"Asmarandei Petru","Constanta"]
[null,null,null,null,null,null,null,null,null,null,null,null,null,null,"Moreni",null,null,null,null,"Astanoaiei Adrian","Arad"]
[null,null,null,null,null,null,null,null,null,null,null,null,null,null,"Motaieni",null,null,null,null,"Astefanoaie Bogdan","Pascani"]
[null,null,null,null,null,null,null,null,null,null,null,null,null,null,"Ocnita",null,null,null,null,"Astefanoaie David","Pascani"]
[null,null,null,null,null,null,null,null,null,null,null,null,null,null,"Poiana",null,null,null,null,"Asteleanu Lucian","Cluj Napoca"]
[null,null,null,null,null,null,null,null,null,null,null,null,null,null,"Produlesti",null,null,null,null,"Atanasiu Alexone","Arad"]
[null,null,null,null,null,null,null,null,null,null,null,null,null,null,"Pucioasa",null,null,null,null,"Atasiei Bogdan","Floresti"]
[null,null,null,null,null,null,null,null,null,null,null,null,null,null,"Racari",null,null,null,null,"Atomei Armand","Piatra Neamt"]
[null,null,null,null,null,null,null,null,null,null,null,null,null,null,"Raul Alb",null,null,null,null,"Aurica Gabriel","Tecuci"]
[null,null,null,null,null,null,null,null,null,null,null,null,null,null,"Razvad",null,null,null,null,"Avadanei Maria","Cluj Napoca"]
[null,null,null,null,null,null,null,null,null,null,null,null,null,null,"Sotanga",null,null,null,null,"Avadanoaei Petuel","Bucuresti"]
[null,null,null,null,null,null,null,null,null,null,null,null,null,null,"Targoviste",null,null,null,null,"Avram Alexandru","Brasov"]
[null,null,null,null,null,null,null,null,null,null,null,null,null,null,"Tatarani",null,null,null,null,"Avram Alexandru","Dumbraveni SB"]
[null,null,null,null,null,null,null,null,null,null,null,null,null,null,"Titu",null,null,null,null,"Avram Antonio","Pitesti"]
[null,null,null,null,null,null,null,null,null,null,null,null,null,null,"Ulmi",null,null,null,null,"Avram Bogdan","Iasi"]
[null,null,null,null,null,null,null,null,null,null,null,null,null,null,"Vacaresti",null,null,null,null,"Avram Iancu","Petrosani"]
[null,null,null,null,null,null,null,null,null,null,null,null,null,null,"Valea Voievozilor",null,null,null,null,"Avram Ionut","Galati"]
[null,null,null,null,null,null,null,null,null,null,null,null,null,null,"Vulcana Bai",null,null,null,null,"Avram Marian","Alexandria"]
[null,null,null,null,null,null,null,null,null,null,null,null,null,null,"Vulcana Pandele",null,null,null,null,"Avram Matei","Barcea"]
[null,null,null,null,null,null,null,null,null,null,null,null,null,null,"Amarastii de Sus",null,null,null,null,"Avram Mihai","Sibiu"]
[null,null,null,null,null,null,null,null,null,null,null,null,null,null,"Bailesti",null,null,null,null,"Avram Nicolae","Nedelea"]
[null,null,null,null,null,null,null,null,null,null,null,null,null,null,"Calafat",null,null,null,null,"Avram Radu","Tarnaveni"]
[null,null,null,null,null,null,null,null,null,null,null,null,null,null,"Cerat",null,null,null,null,"Avram Razvan","Focsani"]
[null,null,null,null,null,null,null,null,null,null,null,null,null,null,"Craiova",null,null,null,null,"Avram Victor","Arad"]
[null,null,null,null,null,null,null,null,null,null,null,null,null,null,"Dabuleni",null,null,null,null,"Avramescu Bogdan","Bucuresti"]
[null,null,null,null,null,null,null,null,null,null,null,null,null,null,"Gighera",null,null,null,null,"Avramescu Claudiu","Bucuresti"]
[null,null,null,null,null,null,null,null,null,null,null,null,null,null,"Leu",null,null,null,null,"Avramia Dan","Oniceni"]
[null,null,null,null,null,null,null,null,null,null,null,null,null,null,"Piscul Vechi",null,null,null,null,"Avronova Eva","Moldova-Balti"]
[null,null,null,null,null,null,null,null,null,null,null,null,null,null,"Plenita DJ",null,null,null,null,"Axinte Bogdan","Iasi"]
[null,null,null,null,null,null,null,null,null,null,null,null,null,null,"Segarcea",null,null,null,null,"Axinte Tiberius","Iasi"]
[null,null,null,null,null,null,null,null,null,null,null,null,null,null,"Motru",null,null,null,null,"Babadac Patricia","Slatina"]
[null,null,null,null,null,null,null,null,null,null,null,null,null,null,"Novaci",null,null,null,null,"Babalean Sebastian","Galanesti"]
[null,null,null,null,null,null,null,null,null,null,null,null,null,null,"Rovinari",null,null,null,null,"Babes Razvan","Brasov"]
[null,null,null,null,null,null,null,null,null,null,null,null,null,null,"Targu Carbunesti",null,null,null,null,"Babes Robin","Brasov"]
[null,null,null,null,null,null,null,null,null,null,null,null,null,null,"Targu Jiu",null,null,null,null,"Babos Ioan","Sarmasag"]
[null,null,null,null,null,null,null,null,null,null,null,null,null,null,"Telesti",null,null,null,null,"Baburea Alexandru Ionut","Alexandria"]
[null,null,null,null,null,null,null,null,null,null,null,null,null,null,"Tismana",null,null,null,null,"Baburea Alexandru Ionut","Alexandria"]
[null,null,null,null,null,null,null,null,null,null,null,null,null,null,"Barcea",null,null,null,null,"Baca Stefan","Bucuresti"]
[null,null,null,null,null,null,null,null,null,null,null,null,null,null,"Certesti",null,null,null,null,"Bacain Marian","Calarasi"]
[null,null,null,null,null,null,null,null,null,null,null,null,null,null,"Corod",null,null,null,null,"Bacanu Paulian","Brasov"]
[null,null,null,null,null,null,null,null,null,null,null,null,null,null,"Cosmesti",null,null,null,null,"Baceanu Constantin","Buzau"]
[null,null,null,null,null,null,null,null,null,null,null,null,null,null,"Draganesti",null,null,null,null,"Baciu Adrian","Pascani"]
[null,null,null,null,null,null,null,null,null,null,null,null,null,null,"Galati",null,null,null,null,"Baciu Adrian","Giarmata"]
[null,null,null,null,null,null,null,null,null,null,null,null,null,null,"Matca",null,null,null,null,"Baciu Alexandru","Giarmata"]
[null,null,null,null,null,null,null,null,null,null,null,null,null,null,"Tecuci",null,null,null,null,"Baciu Gabriel","Tarnaveni"]
[null,null,null,null,null,null,null,null,null,null,null,null,null,null,"Umbraresti",null,null,null,null,"Baciu Stefan","Mioveni"]
[null,null,null,null,null,null,null,null,null,null,null,null,null,null,"Giurgiu",null,null,null,null,"Bacosca Catalin","Sabaoani"]
[null,null,null,null,null,null,null,null,null,null,null,null,null,null,"Novaci GR",null,null,null,null,"Badalan Adina","Drobeta Tr Severin"]
[null,null,null,null,null,null,null,null,null,null,null,null,null,null,"Baia de Cris",null,null,null,null,"Badaluta Marian","Vatra Dornei"]
[null,null,null,null,null,null,null,null,null,null,null,null,null,null,"Brad",null,null,null,null,"Badea Aida","Alesd"]
[null,null,null,null,null,null,null,null,null,null,null,null,null,null,"Calan",null,null,null,null,"Badea Alexandru","Bucuresti"]
[null,null,null,null,null,null,null,null,null,null,null,null,null,null,"Cristur",null,null,null,null,"Badea Catalin","Dumbravita"]
[null,null,null,null,null,null,null,null,null,null,null,null,null,null,"Deva",null,null,null,null,"Badea Cristian","Calarasi"]
[null,null,null,null,null,null,null,null,null,null,null,null,null,null,"Geoagiu",null,null,null,null,"Badea Daniel","Targoviste"]
[null,null,null,null,null,null,null,null,null,null,null,null,null,null,"Hateg",null,null,null,null,"Badea Ionel","Oltenita"]
[null,null,null,null,null,null,null,null,null,null,null,null,null,null,"Hunedoara",null,null,null,null,"Badea Ionut","Bucuresti"]
[null,null,null,null,null,null,null,null,null,null,null,null,null,null,"Ilia",null,null,null,null,"Badea Marian","Buftea"]
[null,null,null,null,null,null,null,null,null,null,null,null,null,null,"Lupeni",null,null,null,null,"Badea Mihai","Targoviste"]
[null,null,null,null,null,null,null,null,null,null,null,null,null,null,"Mintia",null,null,null,null,"Badea Stefan","Targoviste"]
[null,null,null,null,null,null,null,null,null,null,null,null,null,null,"Orastie",null,null,null,null,"Badescu Andrei","Bucuresti"]
[null,null,null,null,null,null,null,null,null,null,null,null,null,null,"Petrila",null,null,null,null,"Badescu Lucian","Oradea"]
[null,null,null,null,null,null,null,null,null,null,null,null,null,null,"Petrosani",null,null,null,null,"Badescu Stefan","Campulung Muscel"]
[null,null,null,null,null,null,null,null,null,null,null,null,null,null,"Sebes",null,null,null,null,"Badescu Tudor","Cluj Napoca"]
[null,null,null,null,null,null,null,null,null,null,null,null,null,null,"Simeria",null,null,null,null,"Badescu Vicentiu","Campulung Muscel"]
[null,null,null,null,null,null,null,null,null,null,null,null,null,null,"Sugag",null,null,null,null,"Badiu Gavril","Rasca"]
[null,null,null,null,null,null,null,null,null,null,null,null,null,null,"Tampa",null,null,null,null,"Badiu Neculae","Braila"]
[null,null,null,null,null,null,null,null,null,null,null,null,null,null,"Uricani",null,null,null,null,"Badiu Patricia","Floresti"]
[null,null,null,null,null,null,null,null,null,null,null,null,null,null,"Vulcan",null,null,null,null,"Badulescu Daniel Catalin","Urlati"]
[null,null,null,null,null,null,null,null,null,null,null,null,null,null,"Baile Tusnad",null,null,null,null,"Badulescu Eduard","Bucuresti"]
[null,null,null,null,null,null,null,null,null,null,null,null,null,null,"Balan",null,null,null,null,"Badulescu Rafael","Giurgiu"]
[null,null,null,null,null,null,null,null,null,null,null,null,null,null,"Borsec",null,null,null,null,"Badulescu Teodor","Ramnicu Valcea"]
[null,null,null,null,null,null,null,null,null,null,null,null,null,null,"Bradesti",null,null,null,null,"Baias Calin","Floresti"]
[null,null,null,null,null,null,null,null,null,null,null,null,null,null,"Ciceu",null,null,null,null,"Baiburi Levent","Tulcea"]
[null,null,null,null,null,null,null,null,null,null,null,null,null,null,"Ciumani",null,null,null,null,"Baican Alexandru","Bucuresti"]
[null,null,null,null,null,null,null,null,null,null,null,null,null,null,"Corbu",null,null,null,null,"Baican Cristian","Cluj Napoca"]
[null,null,null,null,null,null,null,null,null,null,null,null,null,null,"Corund",null,null,null,null,"Baicu Andrei","Sinaia"]
[null,null,null,null,null,null,null,null,null,null,null,null,null,null,"Cristuru Secuiesc",null,null,null,null,"Baicu Angelo","Bucuresti"]
[null,null,null,null,null,null,null,null,null,null,null,null,null,null,"Danesti",null,null,null,null,"Baicu Claudiu","Bucuresti"]
[null,null,null,null,null,null,null,null,null,null,null,null,null,null,"Dealu",null,null,null,null,"Baicu Cristian","Bucuresti"]
[null,null,null,null,null,null,null,null,null,null,null,null,null,null,"Ditrau",null,null,null,null,"Baidanac Radu","Alexandria"]
[null,null,null,null,null,null,null,null,null,null,null,null,null,null,"Galautas",null,null,null,null,"Baidoc Marius Ionut","Zalau"]
[null,null,null,null,null,null,null,null,null,null,null,null,null,null,"Gheorgheni",null,null,null,null,"Baidoc Sergiu","Zalau"]
[null,null,null,null,null,null,null,null,null,null,null,null,null,null,"Ineu HR",null,null,null,null,"Baies Daniel","Sibiu"]
[null,null,null,null,null,null,null,null,null,null,null,null,null,null,"Joseni",null,null,null,null,"Bairam Marcel","Harsova"]
[null,null,null,null,null,null,null,null,null,null,null,null,null,null,"Lazarea",null,null,null,null,"Baisan Paul","Roman"]
[null,null,null,null,null,null,null,null,null,null,null,null,null,null,"Lueta Hr",null,null,null,null,"Baiu Lacramioara","Iasi"]
[null,null,null,null,null,null,null,null,null,null,null,null,null,null,"Lunca de Sus",null,null,null,null,"Baiu Teodor","Brasov"]
[null,null,null,null,null,null,null,null,null,null,null,null,null,null,"Miercurea Ciuc",null,null,null,null,"Bajko Attila","Sfantu Gheorghe"]
[null,null,null,null,null,null,null,null,null,null,null,null,null,null,"Odorheiu Secuiesc",null,null,null,null,"Bajko Daniel","Sarmas"]
[null,null,null,null,null,null,null,null,null,null,null,null,null,null,"Praid",null,null,null,null,"Bajko Tamas","Targu Secuiesc"]
[null,null,null,null,null,null,null,null,null,null,null,null,null,null,"Remetea",null,null,null,null,"Bakos Miklos","Zrenjanin"]
[null,null,null,null,null,null,null,null,null,null,null,null,null,null,"Sandominic",null,null,null,null,"Bal Adrian","Gherla"]
[null,null,null,null,null,null,null,null,null,null,null,null,null,null,"Sanmartin",null,null,null,null,"Balaban Adrian","Bucuresti"]
[null,null,null,null,null,null,null,null,null,null,null,null,null,null,"Sansimion",null,null,null,null,"Balaban Cosmin","Focsani"]
[null,null,null,null,null,null,null,null,null,null,null,null,null,null,"Santimbru",null,null,null,null,"Balaban Daniel","Bucuresti"]
[null,null,null,null,null,null,null,null,null,null,null,null,null,null,"Sarmas",null,null,null,null,"Balaban Dumitru","Barlad"]
[null,null,null,null,null,null,null,null,null,null,null,null,null,null,"Siculeni",null,null,null,null,"Balaceanu Iulian","Drobeta Tr Severin"]
[null,null,null,null,null,null,null,null,null,null,null,null,null,null,"Subcetate",null,null,null,null,"Balaceanu Mihai","Drobeta Tr Severin"]
[null,null,null,null,null,null,null,null,null,null,null,null,null,null,"Suseni",null,null,null,null,"Balaj Cristian","Navodari"]
[null,null,null,null,null,null,null,null,null,null,null,null,null,null,"Tomesti",null,null,null,null,"Balaj Roland","Arad"]
[null,null,null,null,null,null,null,null,null,null,null,null,null,null,"Toplita",null,null,null,null,"Balan Andrei Tiberiu","Timisoara"]
[null,null,null,null,null,null,null,null,null,null,null,null,null,null,"Valea Stramba",null,null,null,null,"Balan Codrin","Bucuresti"]
[null,null,null,null,null,null,null,null,null,null,null,null,null,null,"Vlahita",null,null,null,null,"Balan Cristian","Tecuci"]
[null,null,null,null,null,null,null,null,null,null,null,null,null,null,"Zetea",null,null,null,null,"Balan David Andrei","Targu Jiu"]
[null,null,null,null,null,null,null,null,null,null,null,null,null,null,"Balotesti",null,null,null,null,"Balan Florin","Brasov"]
[null,null,null,null,null,null,null,null,null,null,null,null,null,null,"Berceni",null,null,null,null,"Balan Ionel","Calarasi"]
[null,null,null,null,null,null,null,null,null,null,null,null,null,null,"Bragadiru",null,null,null,null,"Balan Liviu","Tecuci"]
[null,null,null,null,null,null,null,null,null,null,null,null,null,null,"Branesti",null,null,null,null,"Balan Mihai","Ploiesti"]
[null,null,null,null,null,null,null,null,null,null,null,null,null,null,"Buftea",null,null,null,null,"Balan Norocel","Bucuresti"]
[null,null,null,null,null,null,null,null,null,null,null,null,null,null,"Cernica",null,null,null,null,"Balan Sebastian","Bucuresti"]
[null,null,null,null,null,null,null,null,null,null,null,null,null,null,"Chiajna",null,null,null,null,"Balan Viorel","Bistrita"]
[null,null,null,null,null,null,null,null,null,null,null,null,null,null,"Chitila",null,null,null,null,"Balanean Andrei","Sibiu"]
[null,null,null,null,null,null,null,null,null,null,null,null,null,null,"Dobroesti",null,null,null,null,"Balanean David","Zalau"]
[null,null,null,null,null,null,null,null,null,null,null,null,null,null,"Ilfov",null,null,null,null,"Balanean Florin","Sibiu"]
[null,null,null,null,null,null,null,null,null,null,null,null,null,null,"Mogosoaia",null,null,null,null,"Balanescu Boby","Ploiesti"]
[null,null,null,null,null,null,null,null,null,null,null,null,null,null,"Otopeni",null,null,null,null,"Balanescu Gheorghe","Slobozia"]
[null,null,null,null,null,null,null,null,null,null,null,null,null,null,"Peris",null,null,null,null,"Balasa Adrian","Alexandria"]
[null,null,null,null,null,null,null,null,null,null,null,null,null,null,"Popesti Leordeni",null,null,null,null,"Balasa Andrei","Bucuresti"]
[null,null,null,null,null,null,null,null,null,null,null,null,null,null,"Stefanestii de Jos",null,null,null,null,"Balasa Flavius","Bucuresti"]
[null,null,null,null,null,null,null,null,null,null,null,null,null,null,"Voluntari",null,null,null,null,"Balasa Mihai","Sibiu"]
[null,null,null,null,null,null,null,null,null,null,null,null,null,null,"Amara",null,null,null,null,"Balasa Nicolae","Spania"]
[null,null,null,null,null,null,null,null,null,null,null,null,null,null,"Fetesti",null,null,null,null,"Balasescu Ionut","Campina"]
[null,null,null,null,null,null,null,null,null,null,null,null,null,null,"Movila",null,null,null,null,"Balasoiu Liviu","Novaci"]
[null,null,null,null,null,null,null,null,null,null,null,null,null,null,"Ograda",null,null,null,null,"Balasoiu Maria","Novaci"]
[null,null,null,null,null,null,null,null,null,null,null,null,null,null,"Slobozia",null,null,null,null,"Balasoiu Mihai","Novaci"]
[null,null,null,null,null,null,null,null,null,null,null,null,null,null,"Urziceni",null,null,null,null,"Balauca Cornel","Botosani"]
[null,null,null,null,null,null,null,null,null,null,null,null,null,null,"Braesti",null,null,null,null,"Balauca Daniel","Constanta"]
[null,null,null,null,null,null,null,null,null,null,null,null,null,null,"Halaucesti",null,null,null,null,"Balazs Anna","Toplita"]
[null,null,null,null,null,null,null,null,null,null,null,null,null,null,"Husi",null,null,null,null,"Balazs Imre Florin","Apahida"]
[null,null,null,null,null,null,null,null,null,null,null,null,null,null,"Iasi",null,null,null,null,"Balcan Gigi","Buhusi"]
[null,null,null,null,null,null,null,null,null,null,null,null,null,null,"Lespezi",null,null,null,null,"Balcu Laurentiu","Bocsa"]
[null,null,null,null,null,null,null,null,null,null,null,null,null,null,"Mogosesti",null,null,null,null,"Baldan Andrei","Cluj Napoca"]
[null,null,null,null,null,null,null,null,null,null,null,null,null,null,"Pascani",null,null,null,null,"Baldan Eric","Cluj Napoca"]
[null,null,null,null,null,null,null,null,null,null,null,null,null,null,"Stolniceni",null,null,null,null,"Baldan Ioana","Cluj Napoca"]
[null,null,null,null,null,null,null,null,null,null,null,null,null,null,"Targu Frumos",null,null,null,null,"Balhuc Marian Andrei","Halaucesti"]
[null,null,null,null,null,null,null,null,null,null,null,null,null,null,"Todiresti",null,null,null,null,"Balhuc Rares","Halaucesti"]
[null,null,null,null,null,null,null,null,null,null,null,null,null,null,"Drobeta Tr Severin",null,null,null,null,"Balici Aurel","Radauti"]
[null,null,null,null,null,null,null,null,null,null,null,null,null,null,"Orsova",null,null,null,null,"Balint Andrei","Reghin"]
[null,null,null,null,null,null,null,null,null,null,null,null,null,null,"Baia Mare",null,null,null,null,"Balint Doru","Alesd"]
[null,null,null,null,null,null,null,null,null,null,null,null,null,null,"Baia Sprie",null,null,null,null,"Balla Peter","Toplita"]
[null,null,null,null,null,null,null,null,null,null,null,null,null,null,"Bogdan Voda",null,null,null,null,"Balllo Szabolcs","Miercurea Ciuc"]
[null,null,null,null,null,null,null,null,null,null,null,null,null,null,"Campulung la Tisa",null,null,null,null,"Balog Mihai","Timisoara"]
[null,null,null,null,null,null,null,null,null,null,null,null,null,null,"Cavnic",null,null,null,null,"Balogh Attila","Oradea"]
[null,null,null,null,null,null,null,null,null,null,null,null,null,null,"Desesti",null,null,null,null,"Baloi Silviu","Alexandria"]
[null,null,null,null,null,null,null,null,null,null,null,null,null,null,"Sacel",null,null,null,null,"Baltariu Remus","Suceava"]
[null,null,null,null,null,null,null,null,null,null,null,null,null,null,"Sapanta",null,null,null,null,"Baltat Sebastian","Arad"]
[null,null,null,null,null,null,null,null,null,null,null,null,null,null,"Seini",null,null,null,null,"Baltatu Eduard Laurentiu","Bucuresti"]
[null,null,null,null,null,null,null,null,null,null,null,null,null,null,"Sighetu Marmatiei",null,null,null,null,"Baltatu Marius","Pitesti"]
[null,null,null,null,null,null,null,null,null,null,null,null,null,null,"Somcuta Mare",null,null,null,null,"Baltes Ovidiu","Ocna Sibiului"]
[null,null,null,null,null,null,null,null,null,null,null,null,null,null,"Targu Lapus",null,null,null,null,"Baluta George","Tulcea"]
[null,null,null,null,null,null,null,null,null,null,null,null,null,null,"Viseu",null,null,null,null,"Baluta Silviu","Bucuresti"]
[null,null,null,null,null,null,null,null,null,null,null,null,null,null,"Viseu de Sus",null,null,null,null,"Baluta Vlad","Buhusi"]
[null,null,null,null,null,null,null,null,null,null,null,null,null,null,"Albesti",null,null,null,null,"Banaseanu Dorin","Alexandria"]
[null,null,null,null,null,null,null,null,null,null,null,null,null,null,"Bagaciu",null,null,null,null,"Banceanu Radu","Hunedoara"]
[null,null,null,null,null,null,null,null,null,null,null,null,null,null,"Batos",null,null,null,null,"Banea Radu","Sibiu"]
[null,null,null,null,null,null,null,null,null,null,null,null,null,null,"Bordosiu",null,null,null,null,"Banescu Dragos","Pitesti"]
[null,null,null,null,null,null,null,null,null,null,null,null,null,null,"Brancovenesti",null,null,null,null,"Bank Vadim","Bucuresti"]
[null,null,null,null,null,null,null,null,null,null,null,null,null,null,"Chibed",null,null,null,null,"Bantush Mihaela","Moldova-Cahul"]
[null,null,null,null,null,null,null,null,null,null,null,null,null,null,"Corunca",null,null,null,null,"Banu Codrin","Brasov"]
[null,null,null,null,null,null,null,null,null,null,null,null,null,null,"Deda",null,null,null,null,"Banu Dan","Ploiesti"]
[null,null,null,null,null,null,null,null,null,null,null,null,null,null,"Ernei",null,null,null,null,"Banu Florentin","Timisoara"]
[null,null,null,null,null,null,null,null,null,null,null,null,null,null,"Fantanele",null,null,null,null,"Banulescu Cristian","Brasov"]
[null,null,null,null,null,null,null,null,null,null,null,null,null,null,"Ghindari",null,null,null,null,"Banuta Dumitru","Ploiesti"]
[null,null,null,null,null,null,null,null,null,null,null,null,null,null,"Gornesti",null,null,null,null,"Bara Natanael","Oradea"]
[null,null,null,null,null,null,null,null,null,null,null,null,null,null,"Hodosa",null,null,null,null,"Bara Radu","Floresti"]
[null,null,null,null,null,null,null,null,null,null,null,null,null,null,"Laslea",null,null,null,null,"Bara Titus","Oradea"]
[null,null,null,null,null,null,null,null,null,null,null,null,null,null,"Ludus",null,null,null,null,"Barabancea Lili","Iasi"]
[null,null,null,null,null,null,null,null,null,null,null,null,null,null,"Maioresti",null,null,null,null,"Barabas Victor","Suceava"]
[null,null,null,null,null,null,null,null,null,null,null,null,null,null,"Miercurea Nirajului",null,null,null,null,"Barac Marius","Sibiu"]
[null,null,null,null,null,null,null,null,null,null,null,null,null,null,"Ocna Mures",null,null,null,null,"Baragan Vladimir","Moldova-Cahul"]
[null,null,null,null,null,null,null,null,null,null,null,null,null,null,"Rastolita",null,null,null,null,"Baran Virgil","Bucuresti"]
[null,null,null,null,null,null,null,null,null,null,null,null,null,null,"Reghin",null,null,null,null,"Baran Virgil Sr","Bucuresti"]
[null,null,null,null,null,null,null,null,null,null,null,null,null,null,"Sangeorgiu de Padure",null,null,null,null,"Barascu Andrei","Suceava"]
[null,null,null,null,null,null,null,null,null,null,null,null,null,null,"Sanpaul",null,null,null,null,"Barau Adrian","Bucuresti"]
[null,null,null,null,null,null,null,null,null,null,null,null,null,null,"Sighisoara",null,null,null,null,"Barban Alexandr","Moldova-Cazaclia"]
[null,null,null,null,null,null,null,null,null,null,null,null,null,null,"Sovata",null,null,null,null,"Barban Ivan","Moldova-Cazaclia"]
[null,null,null,null,null,null,null,null,null,null,null,null,null,null,"Stanceni",null,null,null,null,"Barbinta Dan","Zalau"]
[null,null,null,null,null,null,null,null,null,null,null,null,null,null,"Targu Mures",null,null,null,null,"Barboiu Adrian","Curtea de Arges"]
[null,null,null,null,null,null,null,null,null,null,null,null,null,null,"Tarnaveni",null,null,null,null,"Barbos Florin","Bistrita"]
[null,null,null,null,null,null,null,null,null,null,null,null,null,null,"Topa",null,null,null,null,"Barbu Alexandru","Bucuresti"]
[null,null,null,null,null,null,null,null,null,null,null,null,null,null,"Vanatori",null,null,null,null,"Barbu Cristian","Maneciu"]
[null,null,null,null,null,null,null,null,null,null,null,null,null,null,"Alexandru cel Bun",null,null,null,null,"Barbu Cristian","Slobozia"]
[null,null,null,null,null,null,null,null,null,null,null,null,null,null,"Bicaz",null,null,null,null,"Barbu Dan","Cluj Napoca"]
[null,null,null,null,null,null,null,null,null,null,null,null,null,null,"Garcina",null,null,null,null,"Barbu Denis","Bucuresti"]
[null,null,null,null,null,null,null,null,null,null,null,null,null,null,"Gheraesti",null,null,null,null,"Barbu Dorin","Constanta"]
[null,null,null,null,null,null,null,null,null,null,null,null,null,null,"Mircesti",null,null,null,null,"Barbu Marian","Alexandria"]
[null,null,null,null,null,null,null,null,null,null,null,null,null,null,"Piatra Neamt",null,null,null,null,"Barbu Sara","Constanta"]
[null,null,null,null,null,null,null,null,null,null,null,null,null,null,"Roman",null,null,null,null,"Barbu Tiberiu","Deva"]
[null,null,null,null,null,null,null,null,null,null,null,null,null,null,"Sabaoani",null,null,null,null,"Barbulescu Dan","Sibiu"]
[null,null,null,null,null,null,null,null,null,null,null,null,null,null,"Targu Neamt",null,null,null,null,"Barbus David","Luna de Sus"]
[null,null,null,null,null,null,null,null,null,null,null,null,null,null,"Tibucani",null,null,null,null,"Barbuta Ioan","Dej"]
[null,null,null,null,null,null,null,null,null,null,null,null,null,null,"Turturesti",null,null,null,null,"Barca George","Pitesti"]
[null,null,null,null,null,null,null,null,null,null,null,null,null,null,"Bals",null,null,null,null,"Barcan Adrian","Piatra Neamt"]
[null,null,null,null,null,null,null,null,null,null,null,null,null,null,"Caracal",null,null,null,null,"Bardas Ioan","Dumbraveni SB"]
[null,null,null,null,null,null,null,null,null,null,null,null,null,null,"Gostavatu",null,null,null,null,"Bardas Mark","Dumbraveni SB"]
[null,null,null,null,null,null,null,null,null,null,null,null,null,null,"Slatina",null,null,null,null,"Bardas Patrick","Dumbraveni SB"]
[null,null,null,null,null,null,null,null,null,null,null,null,null,null,"Aricestii Rahtivani",null,null,null,null,"Bardocz Ferenc","Ditrau"]
[null,null,null,null,null,null,null,null,null,null,null,null,null,null,"Azuga",null,null,null,null,"Baricz Dezso","Joseni"]
[null,null,null,null,null,null,null,null,null,null,null,null,null,null,"Baicoi",null,null,null,null,"Barjac Raul","Prodanesti"]
[null,null,null,null,null,null,null,null,null,null,null,null,null,null,"Barcanesti",null,null,null,null,"Barla Catalin","Videle"]
[null,null,null,null,null,null,null,null,null,null,null,null,null,null,"Batesti",null,null,null,null,"Barladeanu Emil","Constanta"]
[null,null,null,null,null,null,null,null,null,null,null,null,null,null,"Blejoi",null,null,null,null,"Barlianu Liviu","Vaslui"]
[null,null,null,null,null,null,null,null,null,null,null,null,null,null,"Boldesti",null,null,null,null,"Barna Florin","Blaj"]
[null,null,null,null,null,null,null,null,null,null,null,null,null,null,"Boldesti Scaeni",null,null,null,null,"Barsa Ioan","Moinesti"]
[null,null,null,null,null,null,null,null,null,null,null,null,null,null,"Bratasanca",null,null,null,null,"Bartha Arpad","Micfalau"]
[null,null,null,null,null,null,null,null,null,null,null,null,null,null,"Brazi",null,null,null,null,"Bartha David","Sovata"]
[null,null,null,null,null,null,null,null,null,null,null,null,null,null,"Breaza",null,null,null,null,"Bartha Dezso","Sovata"]
[null,null,null,null,null,null,null,null,null,null,null,null,null,null,"Bucov",null,null,null,null,"Bartha Istvan Zsolt","Aita Mare"]
[null,null,null,null,null,null,null,null,null,null,null,null,null,null,"Busteni",null,null,null,null,"Bartha Lorant","Micfalau"]
[null,null,null,null,null,null,null,null,null,null,null,null,null,null,"Calinesti Prahova",null,null,null,null,"Bartha Nimrod","Oradea"]
[null,null,null,null,null,null,null,null,null,null,null,null,null,null,"Campina",null,null,null,null,"Bartha Szabolcs Gyula","Targu Mures"]
[null,null,null,null,null,null,null,null,null,null,null,null,null,null,"Cerasu",null,null,null,null,"Bartha Zoltan","Oradea"]
[null,null,null,null,null,null,null,null,null,null,null,null,null,null,"Cocorasti Colt",null,null,null,null,"Bartha Zsolt Attila","Aita Mare"]
[null,null,null,null,null,null,null,null,null,null,null,null,null,null,"Cocorastii Mislii",null,null,null,null,"Bartic Stefan","Mogosesti"]
[null,null,null,null,null,null,null,null,null,null,null,null,null,null,"Comarnic",null,null,null,null,"Bartos Csongor","Miercurea Ciuc"]
[null,null,null,null,null,null,null,null,null,null,null,null,null,null,"Cornesti",null,null,null,null,"Bartos Vlad","Cluj Napoca"]
[null,null,null,null,null,null,null,null,null,null,null,null,null,null,"Cornu",null,null,null,null,"Batir Alexandru","Bucuresti"]
[null,null,null,null,null,null,null,null,null,null,null,null,null,null,"Drajna de Jos",null,null,null,null,"Batista Lucian","Sibiu"]
[null,null,null,null,null,null,null,null,null,null,null,null,null,null,"Filipestii de Targ",null,null,null,null,"Batrinu Florin Andrei Catalin","Alexandria"]
[null,null,null,null,null,null,null,null,null,null,null,null,null,null,"Gornet",null,null,null,null,"Batrinu Valentin","Bucuresti"]
[null,null,null,null,null,null,null,null,null,null,null,null,null,null,"Gura Vitioarei",null,null,null,null,"Bauer Lajos","Targu Mures"]
[null,null,null,null,null,null,null,null,null,null,null,null,null,null,"Homoraciu",null,null,null,null,"Bayusz Zoltan","Arad"]
[null,null,null,null,null,null,null,null,null,null,null,null,null,null,"Izvoarele",null,null,null,null,"Beches Andrei","Sibiu"]
[null,null,null,null,null,null,null,null,null,null,null,null,null,null,"Lipanesti",null,null,null,null,"Becleanu Octavian","Bucuresti"]
[null,null,null,null,null,null,null,null,null,null,null,null,null,null,"Magurele",null,null,null,null,"Bectas Igor","Moldova-Hincesti"]
[null,null,null,null,null,null,null,null,null,null,null,null,null,null,"Magureni",null,null,null,null,"Bedreiga Petrica Alin","Husi"]
[null,null,null,null,null,null,null,null,null,null,null,null,null,null,"Maneciu",null,null,null,null,"Beganu Mihai","Buzau"]
[null,null,null,null,null,null,null,null,null,null,null,null,null,null,"Marginenii de Jos",null,null,null,null,"Bege Laszlo","Joseni"]
[null,null,null,null,null,null,null,null,null,null,null,null,null,null,"Mizil",null,null,null,null,"Beian Luca","Floresti"]
[null,null,null,null,null,null,null,null,null,null,null,null,null,null,"Nedelea",null,null,null,null,"Beican Razvan","Bistrita"]
[null,null,null,null,null,null,null,null,null,null,null,null,null,null,"Paulesti",null,null,null,null,"Bej Ioan","Arad"]
[null,null,null,null,null,null,null,null,null,null,null,null,null,null,"Pietrosani",null,null,null,null,"Bej Sergiu","Arad"]
[null,null,null,null,null,null,null,null,null,null,null,null,null,null,"Ploiesti",null,null,null,null,"Bejan Alexandru","Tecuci"]
[null,null,null,null,null,null,null,null,null,null,null,null,null,null,"Ploiestiori",null,null,null,null,"Bejan Nicolae","Iasi"]
[null,null,null,null,null,null,null,null,null,null,null,null,null,null,"Plopeni",null,null,null,null,"Bejenariu Andrei","Arghira"]
[null,null,null,null,null,null,null,null,null,null,null,null,null,null,"Plopu",null,null,null,null,"Bejinariu Valentin","Iasi"]
[null,null,null,null,null,null,null,null,null,null,null,null,null,null,"Predeal Sarari",null,null,null,null,"Bekesi Zsolt","Arad"]
[null,null,null,null,null,null,null,null,null,null,null,null,null,null,"Puchenii Mosneni",null,null,null,null,"Belba Caius","Baile Herculane"]
[null,null,null,null,null,null,null,null,null,null,null,null,null,null,"Rafov",null,null,null,null,"Belba Mihai","Baile Herculane"]
[null,null,null,null,null,null,null,null,null,null,null,null,null,null,"Salciile",null,null,null,null,"Belea Beniamin","Cajvana"]
[null,null,null,null,null,null,null,null,null,null,null,null,null,null,"Scorteni",null,null,null,null,"Belea Laurentiu","Galati"]
[null,null,null,null,null,null,null,null,null,null,null,null,null,null,"Sinaia",null,null,null,null,"Belenesi Istvan","Oradea"]
[null,null,null,null,null,null,null,null,null,null,null,null,null,null,"Slanic",null,null,null,null,"Belgun Ionut","Timisoara"]
[null,null,null,null,null,null,null,null,null,null,null,null,null,null,"Strejnicu",null,null,null,null,"Benca Lucian","Balan"]
[null,null,null,null,null,null,null,null,null,null,null,null,null,null,"Teisani",null,null,null,null,"Benchea Celestin","Iasi"]
[null,null,null,null,null,null,null,null,null,null,null,null,null,null,"Urlati",null,null,null,null,"Benderschi Alexandru","Moldova-Briceni"]
[null,null,null,null,null,null,null,null,null,null,null,null,null,null,"Urleta",null,null,null,null,"Bendescu Matei","Iasi"]
[null,null,null,null,null,null,null,null,null,null,null,null,null,null,"Valcanesti",null,null,null,null,"Bendris Nicu","Targu Mures"]
[null,null,null,null,null,null,null,null,null,null,null,null,null,null,"Valea Calugareasca",null,null,null,null,"Bene Alexandru","Cluj Napoca"]
[null,null,null,null,null,null,null,null,null,null,null,null,null,null,"Valea Plopului",null,null,null,null,"Benga Alin","Targu Jiu"]
[null,null,null,null,null,null,null,null,null,null,null,null,null,null,"Valenii de Munte",null,null,null,null,"Benko Istvan","Targu Secuiesc"]
[null,null,null,null,null,null,null,null,null,null,null,null,null,null,"Varbilau",null,null,null,null,"Benko Jozsef","Reghin"]
[null,null,null,null,null,null,null,null,null,null,null,null,null,null,"Alibunar",null,null,null,null,"Benyi Crinel","Tarnaveni"]
[null,null,null,null,null,null,null,null,null,null,null,null,null,null,"Anglia",null,null,null,null,"Berbecanu Andrei","Videle"]
[null,null,null,null,null,null,null,null,null,null,null,null,null,null,"Arandjelovac",null,null,null,null,"Berbecar Alin","Zalau"]
[null,null,null,null,null,null,null,null,null,null,null,null,null,null,"Armenia",null,null,null,null,"Bercea Alex","Drobeta Tr Severin"]
[null,null,null,null,null,null,null,null,null,null,null,null,null,null,"Austria",null,null,null,null,"Bercea Darius Marian","Iasi"]
[null,null,null,null,null,null,null,null,null,null,null,null,null,null,"Avdarma",null,null,null,null,"Berchi Ioan","Arad"]
[null,null,null,null,null,null,null,null,null,null,null,null,null,null,"Balti",null,null,null,null,"Berco Veaceslav","Suceava"]
[null,null,null,null,null,null,null,null,null,null,null,null,null,null,"Banatski Karlovac",null,null,null,null,"Berco Vlad","Suceava"]
[null,null,null,null,null,null,null,null,null,null,null,null,null,null,"Becej",null,null,null,null,"Bercuci Lucian","Navodari"]
[null,null,null,null,null,null,null,null,null,null,null,null,null,null,"Bela Crkva",null,null,null,null,"Bereczki Peter","Gherla"]
[null,null,null,null,null,null,null,null,null,null,null,null,null,null,"Belgia",null,null,null,null,"Berei Roland","Satu Mare"]
[null,null,null,null,null,null,null,null,null,null,null,null,null,null,"Belgrad",null,null,null,null,"Berentan Corneliu Petru","Campulung Mold"]
[null,null,null,null,null,null,null,null,null,null,null,null,null,null,"Bulgaria",null,null,null,null,"Berescu Gheorghe","Iasi"]
[null,null,null,null,null,null,null,null,null,null,null,null,null,null,"California",null,null,null,null,"Berezan Sorin","Vaslui"]
[null,null,null,null,null,null,null,null,null,null,null,null,null,null,"Canada",null,null,null,null,"Bernea Daniel","Bucuresti"]
[null,null,null,null,null,null,null,null,null,null,null,null,null,null,"Cernauti",null,null,null,null,"Beschiu Daniel","Sibiu"]
[null,null,null,null,null,null,null,null,null,null,null,null,null,null,"Chisinau",null,null,null,null,"Besliu Alexandru","Suceava"]
[null,null,null,null,null,null,null,null,null,null,null,null,null,null,"Danemarca",null,null,null,null,"Besteala Andrei","Alexandria"]
[null,null,null,null,null,null,null,null,null,null,null,null,null,null,"Elvetia",null,null,null,null,"Bialis Nina","Dumbravita"]
[null,null,null,null,null,null,null,null,null,null,null,null,null,null,"Filipine",null,null,null,null,"Biber Adrian","Iasi"]
[null,null,null,null,null,null,null,null,null,null,null,null,null,null,"Franta",null,null,null,null,"Bica Alexandru","Alesd"]
[null,null,null,null,null,null,null,null,null,null,null,null,null,null,"Germania",null,null,null,null,"Biciin Alexandru","Faurei"]
[null,null,null,null,null,null,null,null,null,null,null,null,null,null,"Ibiza",null,null,null,null,"Biciin Mitica","Faurei"]
[null,null,null,null,null,null,null,null,null,null,null,null,null,null,"Israel",null,null,null,null,"Bielinsckyi Victor","Stefanestii de Jos"]
[null,null,null,null,null,null,null,null,null,null,null,null,null,null,"Italia",null,null,null,null,"Bighiu Florin","Tecuci"]
[null,null,null,null,null,null,null,null,null,null,null,null,null,null,"Japonia",null,null,null,null,"Bigiu Florin","Tecuci"]
[null,null,null,null,null,null,null,null,null,null,null,null,null,null,"Kikinda",null,null,null,null,"Bilibok Csongor","Gheorgheni"]
[null,null,null,null,null,null,null,null,null,null,null,null,null,null,"Lokve",null,null,null,null,"Bilibok Kristof","Gheorgheni"]
[null,null,null,null,null,null,null,null,null,null,null,null,null,null,"Londra",null,null,null,null,"Bilt Catalin","Suceava"]
[null,null,null,null,null,null,null,null,null,null,null,null,null,null,"Macedonia",null,null,null,null,"Bina Eduard","Dumbraveni SB"]
[null,null,null,null,null,null,null,null,null,null,null,null,null,null,"Malaysia",null,null,null,null,"Binzari Stanislav","Moldova-Balti"]
[null,null,null,null,null,null,null,null,null,null,null,null,null,null,"Manheim",null,null,null,null,"Bira Mitache","Constanta"]
[null,null,null,null,null,null,null,null,null,null,null,null,null,null,"Moldova",null,null,null,null,"Biraut Emil","Cluj Napoca"]
[null,null,null,null,null,null,null,null,null,null,null,null,null,null,"New York",null,null,null,null,"Biris Alexandru","Sighisoara"]
[null,null,null,null,null,null,null,null,null,null,null,null,null,null,"Nikolinci",null,null,null,null,"Birlea Nichita","Moldova-Cahul"]
[null,null,null,null,null,null,null,null,null,null,null,null,null,null,"Nis",null,null,null,null,"Birloncea Claudiu","Medias"]
[null,null,null,null,null,null,null,null,null,null,null,null,null,null,"Noua Zeelanda",null,null,null,null,"Birloncea Mara","Medias"]
[null,null,null,null,null,null,null,null,null,null,null,null,null,null,"Novi Sad",null,null,null,null,"Biro Attila","Reghin"]
[null,null,null,null,null,null,null,null,null,null,null,null,null,null,"Odesa",null,null,null,null,"Birtalan Attila","Crasna"]
[null,null,null,null,null,null,null,null,null,null,null,null,null,null,"Odzaci",null,null,null,null,"Birtalan Bence","Sovata"]
[null,null,null,null,null,null,null,null,null,null,null,null,null,null,"Osaka",null,null,null,null,"Birtalan Casian","Dumbraveni SB"]
[null,null,null,null,null,null,null,null,null,null,null,null,null,null,"Polonia",null,null,null,null,"Birtalan Hunor","Sovata"]
[null,null,null,null,null,null,null,null,null,null,null,null,null,null,"Pozarevac",null,null,null,null,"Birtalan Laszlo","Oradea"]
[null,null,null,null,null,null,null,null,null,null,null,null,null,null,"Rusia",null,null,null,null,"Birtalan Levente","Sovata"]
[null,null,null,null,null,null,null,null,null,null,null,null,null,null,"Rusko Selo",null,null,null,null,"Birtalan Robert","Oradea"]
[null,null,null,null,null,null,null,null,null,null,null,null,null,null,"Serbia",null,null,null,null,"Bischin Gabriel","Cisnadie"]
[null,null,null,null,null,null,null,null,null,null,null,null,null,null,"Sofia",null,null,null,null,"Bisoc Razvan","Sabaoani"]
[null,null,null,null,null,null,null,null,null,null,null,null,null,null,"Spania",null,null,null,null,"Bistreanu Armand","Bucuresti"]
[null,null,null,null,null,null,null,null,null,null,null,null,null,null,"Spantov",null,null,null,null,"Bistreanu Petru","Bucuresti"]
[null,null,null,null,null,null,null,null,null,null,null,null,null,null,"Suedia",null,null,null,null,"Bistreanu Sorin","Bucuresti"]
[null,null,null,null,null,null,null,null,null,null,null,null,null,null,"Transnistria",null,null,null,null,"Bivolaru Marius","Ploiesti"]
[null,null,null,null,null,null,null,null,null,null,null,null,null,null,"Ucraina",null,null,null,null,"Bivolaru Stelian","Targoviste"]
[null,null,null,null,null,null,null,null,null,null,null,null,null,null,"Ungaria",null,null,null,null,"Bizau Robin","Chisoda"]
[null,null,null,null,null,null,null,null,null,null,null,null,null,null,"Varset",null,null,null,null,"Bizo Virgil","Brad"]
[null,null,null,null,null,null,null,null,null,null,null,null,null,null,"Vietnam",null,null,null,null,"Bjelanovic Milojko","Nova Varos"]
[null,null,null,null,null,null,null,null,null,null,null,null,null,null,"Vlajkovac",null,null,null,null,"Blaboli Dominik","Arad"]
[null,null,null,null,null,null,null,null,null,null,null,null,null,null,"Vojvodinci",null,null,null,null,"Blaga Alexandru","Iasi"]
[null,null,null,null,null,null,null,null,null,null,null,null,null,null,"Zrenjanin",null,null,null,null,"Blaga Daria","Cluj Napoca"]
[null,null,null,null,null,null,null,null,null,null,null,null,null,null,"Agnita",null,null,null,null,"Blaga Iulian","Deva"]
[null,null,null,null,null,null,null,null,null,null,null,null,null,null,"Bazna",null,null,null,null,"Blaga Mircea","Simleu Silvaniei"]
[null,null,null,null,null,null,null,null,null,null,null,null,null,null,"Bradeni",null,null,null,null,"Blaga Mircea","Oradea"]
[null,null,null,null,null,null,null,null,null,null,null,null,null,null,"Cirta",null,null,null,null,"Blaga Radu","Zalau"]
[null,null,null,null,null,null,null,null,null,null,null,null,null,null,"Cirtisoara",null,null,null,null,"Blahuta Luca","Alesd"]
[null,null,null,null,null,null,null,null,null,null,null,null,null,null,"Cisnadie",null,null,null,null,"Blaj Cristian","Navodari"]
[null,null,null,null,null,null,null,null,null,null,null,null,null,null,"Cristian SB",null,null,null,null,"Blaj Filip","Iasi"]
[null,null,null,null,null,null,null,null,null,null,null,null,null,null,"Dumbraveni SB",null,null,null,null,"Blaj Victor","Dumbravita"]
[null,null,null,null,null,null,null,null,null,null,null,null,null,null,"Eliseni",null,null,null,null,"Blehoianu Laurentiu","Galati"]
[null,null,null,null,null,null,null,null,null,null,null,null,null,null,"Gura Raului",null,null,null,null,"Bleoca Lucas","Tarnaveni"]
[null,null,null,null,null,null,null,null,null,null,null,null,null,null,"Medias",null,null,null,null,"Bleoca Marius","Tarnaveni"]
[null,null,null,null,null,null,null,null,null,null,null,null,null,null,"Ocna Sibiului",null,null,null,null,"Blidariu Alin","Bucovat"]
[null,null,null,null,null,null,null,null,null,null,null,null,null,null,"Pelisor",null,null,null,null,"Boaca Danut","Buzau"]
[null,null,null,null,null,null,null,null,null,null,null,null,null,null,"Saliste",null,null,null,null,"Boaca Valentin","Branesti"]
[null,null,null,null,null,null,null,null,null,null,null,null,null,null,"Selimbar",null,null,null,null,"Boariu Timofte Danut","Borsec"]
[null,null,null,null,null,null,null,null,null,null,null,null,null,null,"Sibiu",null,null,null,null,"Boata Edgar","Arad"]
[null,null,null,null,null,null,null,null,null,null,null,null,null,null,"Tilisca",null,null,null,null,"Bobe Ionel","Faurei"]
[null,null,null,null,null,null,null,null,null,null,null,null,null,null,"Ban SJ",null,null,null,null,"Bobeica Eduard","Focsani"]
[null,null,null,null,null,null,null,null,null,null,null,null,null,null,"Borla",null,null,null,null,"Bobeico Igor","Moldova"]
[null,null,null,null,null,null,null,null,null,null,null,null,null,null,"Cehu Silvaniei",null,null,null,null,"Boboc Cosmin","Targu Neamt"]
[null,null,null,null,null,null,null,null,null,null,null,null,null,null,"Crasna",null,null,null,null,"Boboc Eva","Vatra Dornei"]
[null,null,null,null,null,null,null,null,null,null,null,null,null,null,"Ileanda",null,null,null,null,"Boboc Viorel","Slobozia"]
[null,null,null,null,null,null,null,null,null,null,null,null,null,null,"Jibou",null,null,null,null,"Bobocea Teodor","Buzau"]
[null,null,null,null,null,null,null,null,null,null,null,null,null,null,"Pericei",null,null,null,null,"Bobos Marius","Apahida"]
[null,null,null,null,null,null,null,null,null,null,null,null,null,null,"Sarmasag",null,null,null,null,"Bobu Stefan Minodor","Targu Neamt"]
[null,null,null,null,null,null,null,null,null,null,null,null,null,null,"Simleu Silvaniei",null,null,null,null,"Boca Radu Stefan","Bucuresti"]
[null,null,null,null,null,null,null,null,null,null,null,null,null,null,"Somes Odorhei SJ",null,null,null,null,"Boca Timotei","Salcea"]
[null,null,null,null,null,null,null,null,null,null,null,null,null,null,"Supuru de jos",null,null,null,null,"Bocai Marius","Blaj"]
[null,null,null,null,null,null,null,null,null,null,null,null,null,null,"Surduc",null,null,null,null,"Bocaniala Norocel","Bucuresti"]
[null,null,null,null,null,null,null,null,null,null,null,null,null,null,"Varsolt",null,null,null,null,"Bocea Georgia","Dumbravita"]
[null,null,null,null,null,null,null,null,null,null,null,null,null,null,"Zalau",null,null,null,null,"Bocean Andrei Emanuel","Apahida"]
[null,null,null,null,null,null,null,null,null,null,null,null,null,null,"Carei",null,null,null,null,"Bocos David Nicolas","Apahida"]
[null,null,null,null,null,null,null,null,null,null,null,null,null,null,"Negresti Oas",null,null,null,null,"Bocsan Ilie","Caransebes"]
[null,null,null,null,null,null,null,null,null,null,null,null,null,null,"Satu Mare",null,null,null,null,"Boda Horatiu","Sibiu"]
[null,null,null,null,null,null,null,null,null,null,null,null,null,null,"Tasnad",null,null,null,null,"Bode Emil","Valcau"]
[null,null,null,null,null,null,null,null,null,null,null,null,null,null,"Arbore",null,null,null,null,"Bodea Aida","Alesd"]
[null,null,null,null,null,null,null,null,null,null,null,null,null,null,"Baia",null,null,null,null,"Bodea Cezar","Alesd"]
[null,null,null,null,null,null,null,null,null,null,null,null,null,null,"Baisesti",null,null,null,null,"Bodea Flaviu","Simleu Silvaniei"]
[null,null,null,null,null,null,null,null,null,null,null,null,null,null,"Berchisesti",null,null,null,null,"Bodea Tudor","Cluj Napoca"]
[null,null,null,null,null,null,null,null,null,null,null,null,null,null,"Bilca",null,null,null,null,"Bodea Vasile","Panciu"]
[null,null,null,null,null,null,null,null,null,null,null,null,null,null,"Cajvana",null,null,null,null,"Bodeanu Dan","Bucuresti"]
[null,null,null,null,null,null,null,null,null,null,null,null,null,null,"Calinesti SV",null,null,null,null,"Bodeanu Mihai","Bucuresti"]
[null,null,null,null,null,null,null,null,null,null,null,null,null,null,"Campeni",null,null,null,null,"Bodin Ion","Tecuci"]
[null,null,null,null,null,null,null,null,null,null,null,null,null,null,"Campulung Mold",null,null,null,null,"Bodnar Alexandra Ioana","Vicovu de Sus"]
[null,null,null,null,null,null,null,null,null,null,null,null,null,null,"Capu Codrului",null,null,null,null,"Bodnar Cosmin","Vicovu de Sus"]
[null,null,null,null,null,null,null,null,null,null,null,null,null,null,"Cosna",null,null,null,null,"Bodnari Mircea","Gura Humorului"]
[null,null,null,null,null,null,null,null,null,null,null,null,null,null,"Dolhasca",null,null,null,null,"Bodoni Renata","Targu Mures"]
[null,null,null,null,null,null,null,null,null,null,null,null,null,null,"Dolhestii Mari",null,null,null,null,"Boer Barna","Bordosiu"]
[null,null,null,null,null,null,null,null,null,null,null,null,null,null,"Dorna Candrenilor",null,null,null,null,"Bogatan Marius","Cluj Napoca"]
[null,null,null,null,null,null,null,null,null,null,null,null,null,null,"Dornesti",null,null,null,null,"Bogdan Daniel","Sibiu"]
[null,null,null,null,null,null,null,null,null,null,null,null,null,null,"Dumbraveni SV",null,null,null,null,"Bogdan Marian","Caransebes"]
[null,null,null,null,null,null,null,null,null,null,null,null,null,null,"Falcau",null,null,null,null,"Bogdan Raul","Deva"]
[null,null,null,null,null,null,null,null,null,null,null,null,null,null,"Falticeni",null,null,null,null,"Bogdan Tiberiu","Alexandria"]
[null,null,null,null,null,null,null,null,null,null,null,null,null,null,"Frasin",null,null,null,null,"Bognean Adrian","Delenii"]
[null,null,null,null,null,null,null,null,null,null,null,null,null,null,"Fratauti",null,null,null,null,"Bohotineanu Florin","Vaslui"]
[null,null,null,null,null,null,null,null,null,null,null,null,null,null,"Fratautii Noi",null,null,null,null,"Bohotineanu Stefan","Vaslui"]
[null,null,null,null,null,null,null,null,null,null,null,null,null,null,"Fratautii Vechi",null,null,null,null,"Boian Vlad","Bucuresti"]
[null,null,null,null,null,null,null,null,null,null,null,null,null,null,"Galanesti",null,null,null,null,"Boicu Eduard","Vaslui"]
[null,null,null,null,null,null,null,null,null,null,null,null,null,null,"Granicesti",null,null,null,null,"Boicu Gabriel","Vatra Dornei"]
[null,null,null,null,null,null,null,null,null,null,null,null,null,null,"Gura Humorului",null,null,null,null,"Boicu Liviu","Vatra Dornei"]
[null,null,null,null,null,null,null,null,null,null,null,null,null,null,"Hartop",null,null,null,null,"Boicu Tatiana","Moldova-Sadaclia"]
[null,null,null,null,null,null,null,null,null,null,null,null,null,null,"Horodnic de Jos",null,null,null,null,"Boicu Victor","Vatra Dornei"]
[null,null,null,null,null,null,null,null,null,null,null,null,null,null,"Horodnic de Sus",null,null,null,null,"Boitos Rodica","Oradea"]
[null,null,null,null,null,null,null,null,null,null,null,null,null,null,"Hurjuieni",null,null,null,null,"Bojan Alina","Alexandria"]
[null,null,null,null,null,null,null,null,null,null,null,null,null,null,"Liteni",null,null,null,null,"Boka Norbert","Arad"]
[null,null,null,null,null,null,null,null,null,null,null,null,null,null,"Magura",null,null,null,null,"Bokor Barna","Targu Mures"]
[null,null,null,null,null,null,null,null,null,null,null,null,null,null,"Maneuti",null,null,null,null,"Bokor Zoltan Jr","Brasov"]
[null,null,null,null,null,null,null,null,null,null,null,null,null,null,"Marginea",null,null,null,null,"Bokor Zoltan Sr","Brasov"]
[null,null,null,null,null,null,null,null,null,null,null,null,null,null,"Mihoveni",null,null,null,null,"Bokor Zsolt","Sovata"]
[null,null,null,null,null,null,null,null,null,null,null,null,null,null,"Milisauti",null,null,null,null,"Bolboaca Flaviu","Cluj Napoca"]
[null,null,null,null,null,null,null,null,null,null,null,null,null,null,"Oniceni",null,null,null,null,"Boldor Serban","Cluj Napoca"]
[null,null,null,null,null,null,null,null,null,null,null,null,null,null,"Paltinoasa",null,null,null,null,"Bolea Catalin","Bucuresti"]
[null,null,null,null,null,null,null,null,null,null,null,null,null,null,"Partestii de Jos",null,null,null,null,"Bolog Ioan","Targu Mures"]
[null,null,null,null,null,null,null,null,null,null,null,null,null,null,"Plopeni SV",null,null,null,null,"Bolog Petrica","Bacau"]
[null,null,null,null,null,null,null,null,null,null,null,null,null,null,"Poiana Negri",null,null,null,null,"Bolos Viorel","Hateg"]
[null,null,null,null,null,null,null,null,null,null,null,null,null,null,"Poiana Stampei",null,null,null,null,"Bolota Marius","Sibiu"]
[null,null,null,null,null,null,null,null,null,null,null,null,null,null,"Prelipca",null,null,null,null,"Bolovaneanu Vlad","Bucuresti"]
[null,null,null,null,null,null,null,null,null,null,null,null,null,null,"Preutesti",null,null,null,null,"Bolovaneanu Vlad","Targoviste"]
[null,null,null,null,null,null,null,null,null,null,null,null,null,null,"Putna",null,null,null,null,"Bolozan Laurentiu","Braila"]
[null,null,null,null,null,null,null,null,null,null,null,null,null,null,"Radauti",null,null,null,null,"Bompa Cosmin","Reghin"]
[null,null,null,null,null,null,null,null,null,null,null,null,null,null,"Romanesti",null,null,null,null,"Boncoi Bogdan","Sinaia"]
[null,null,null,null,null,null,null,null,null,null,null,null,null,null,"Salcea",null,null,null,null,"Bondar Leontin","Oradea"]
[null,null,null,null,null,null,null,null,null,null,null,null,null,null,"Serbanesti",null,null,null,null,"Bondila Adrian","Targoviste"]
[null,null,null,null,null,null,null,null,null,null,null,null,null,null,"Siret",null,null,null,null,"Bondoc Alexandru","Brasov"]
[null,null,null,null,null,null,null,null,null,null,null,null,null,null,"Solca",null,null,null,null,"Bondrea Attila","Gheorgheni"]
[null,null,null,null,null,null,null,null,null,null,null,null,null,null,"Straja",null,null,null,null,"Bontoi Mihai","Alexandria"]
[null,null,null,null,null,null,null,null,null,null,null,null,null,null,"Stulpicani",null,null,null,null,"Bora Nicolae","Alba Iulia"]
[null,null,null,null,null,null,null,null,null,null,null,null,null,null,"Suceava",null,null,null,null,"Bora Paul","Cluj Napoca"]
[null,null,null,null,null,null,null,null,null,null,null,null,null,null,"Sucevita",null,null,null,null,"Bora Robert","Constanta"]
[null,null,null,null,null,null,null,null,null,null,null,null,null,null,"Tibeni",null,null,null,null,"Borbeiu Ciprian","Baia Mare"]
[null,null,null,null,null,null,null,null,null,null,null,null,null,null,"Tisauti",null,null,null,null,"Borbeiu Paul","Baia Mare"]
[null,null,null,null,null,null,null,null,null,null,null,null,null,null,"Udesti",null,null,null,null,"Borbeiu Raul","Baia Mare"]
[null,null,null,null,null,null,null,null,null,null,null,null,null,null,"Vama SV",null,null,null,null,"Borbil Octavian","Sibiu"]
[null,null,null,null,null,null,null,null,null,null,null,null,null,null,"Varatec",null,null,null,null,"Borca Liviu","Targu Mures"]
[null,null,null,null,null,null,null,null,null,null,null,null,null,null,"Varfu Dealului",null,null,null,null,"Borceanu Paul Cristian","Pitesti"]
[null,null,null,null,null,null,null,null,null,null,null,null,null,null,"Vatra Dornei",null,null,null,null,"Borcila Alexandru","Targu Neamt"]
[null,null,null,null,null,null,null,null,null,null,null,null,null,null,"Vicovu de Jos",null,null,null,null,"Bordas Laszlo","Santionlunca"]
[null,null,null,null,null,null,null,null,null,null,null,null,null,null,"Vicovu de Sus",null,null,null,null,"Bordas Zsolt","Santionlunca"]
[null,null,null,null,null,null,null,null,null,null,null,null,null,null,"Voitinel",null,null,null,null,"Bordea Cristian","Giroc"]
[null,null,null,null,null,null,null,null,null,null,null,null,null,null,"Volovat",null,null,null,null,"Bordea Diana","Calan"]
[null,null,null,null,null,null,null,null,null,null,null,null,null,null,"Babadag",null,null,null,null,"Bordeianu Alice","Bucuresti"]
[null,null,null,null,null,null,null,null,null,null,null,null,null,null,"Cerna",null,null,null,null,"Bordeianu Marcel","Bucuresti"]
[null,null,null,null,null,null,null,null,null,null,null,null,null,null,"Greci",null,null,null,null,"Bordeianu Marius","Bucuresti"]
[null,null,null,null,null,null,null,null,null,null,null,null,null,null,"Isaccea",null,null,null,null,"Bordusanu Mona Maria","Constanta"]
[null,null,null,null,null,null,null,null,null,null,null,null,null,null,"Jijila",null,null,null,null,"Borisov David","Moldova-Drochia"]
[null,null,null,null,null,null,null,null,null,null,null,null,null,null,"Jurilovca",null,null,null,null,"Borla Nicolae","Cluj Napoca"]
[null,null,null,null,null,null,null,null,null,null,null,null,null,null,"Luncavita",null,null,null,null,"Borodi Alin","Cluj Napoca"]
[null,null,null,null,null,null,null,null,null,null,null,null,null,null,"Macin",null,null,null,null,"Borodi Claudiu","Dobric"]
[null,null,null,null,null,null,null,null,null,null,null,null,null,null,"Niculitel",null,null,null,null,"Borodi Levi","Dobric"]
[null,null,null,null,null,null,null,null,null,null,null,null,null,null,"Tulcea",null,null,null,null,"Boroica Gheorghe","Bucuresti"]
[null,null,null,null,null,null,null,null,null,null,null,null,null,null,"Vacareni",null,null,null,null,"Boroleanu Robert","Bucuresti"]
[null,null,null,null,null,null,null,null,null,null,null,null,null,null,"Buzias",null,null,null,null,"Boros Mihaly","Crasna"]
[null,null,null,null,null,null,null,null,null,null,null,null,null,null,"Curtea",null,null,null,null,"Borosoiu Laurentiu","Sinaia"]
[null,null,null,null,null,null,null,null,null,null,null,null,null,null,"Deta",null,null,null,null,"Bors Marian","Barlad"]
[null,null,null,null,null,null,null,null,null,null,null,null,null,null,"Dumbravita",null,null,null,null,"Borsa Sorin","Bistrita"]
[null,null,null,null,null,null,null,null,null,null,null,null,null,null,"Faget",null,null,null,null,"Borsan Adrian","Cluj Napoca"]
[null,null,null,null,null,null,null,null,null,null,null,null,null,null,"Giroc",null,null,null,null,"Borsan David","Cluj Napoca"]
[null,null,null,null,null,null,null,null,null,null,null,null,null,null,"Jimbolia",null,null,null,null,"Borsan Petru","Cluj Napoca"]
[null,null,null,null,null,null,null,null,null,null,null,null,null,null,"Lugoj",null,null,null,null,"Boruga Alex","Drobeta Tr Severin"]
[null,null,null,null,null,null,null,null,null,null,null,null,null,null,"Margina",null,null,null,null,"Borza Sergiu","Moldova-Leova"]
[null,null,null,null,null,null,null,null,null,null,null,null,null,null,"Moravita",null,null,null,null,"Bosbiciu Stefan","Nasaud"]
[null,null,null,null,null,null,null,null,null,null,null,null,null,null,"Nadrag",null,null,null,null,"Bostan Culita","Moinesti"]
[null,null,null,null,null,null,null,null,null,null,null,null,null,null,"Sacalaz",null,null,null,null,"Bostinaru Filip","Curtea de Arges"]
[null,null,null,null,null,null,null,null,null,null,null,null,null,null,"Sandra",null,null,null,null,"Bot Ioan","Uriu"]
[null,null,null,null,null,null,null,null,null,null,null,null,null,null,"Sannicolau Mare",null,null,null,null,"Bota Sergiu","Cluj Napoca"]
[null,null,null,null,null,null,null,null,null,null,null,null,null,null,"Silvas",null,null,null,null,"Botanel Eduard","Rovinari"]
[null,null,null,null,null,null,null,null,null,null,null,null,null,null,"Timisoara",null,null,null,null,"Botanel Grigore","Rovinari"]
[null,null,null,null,null,null,null,null,null,null,null,null,null,null,"Utvin",null,null,null,null,"Botas Constantin","Sannicolau Mare"]
[null,null,null,null,null,null,null,null,null,null,null,null,null,null,"Voiteg",null,null,null,null,"Bote Tudor","Dej"]
[null,null,null,null,null,null,null,null,null,null,null,null,null,null,"Zagujeni",null,null,null,null,"Botea Fabian","Hunedoara"]
[null,null,null,null,null,null,null,null,null,null,null,null,null,null,"Alexandria",null,null,null,null,"Botea Marian","Fieni"]
[null,null,null,null,null,null,null,null,null,null,null,null,null,null,"Ciuperceni",null,null,null,null,"Botea Mihai","Braila"]
[null,null,null,null,null,null,null,null,null,null,null,null,null,null,"Frumoasa",null,null,null,null,"Boteanu Alexandru","Constanta"]
[null,null,null,null,null,null,null,null,null,null,null,null,null,null,"Mosteni",null,null,null,null,"Boteanu Nicu","Bucuresti"]
[null,null,null,null,null,null,null,null,null,null,null,null,null,null,"Rosiori de Vede",null,null,null,null,"Botez Radu","Targu Mures"]
[null,null,null,null,null,null,null,null,null,null,null,null,null,null,"Sericu",null,null,null,null,"Botezatu Nicusor","Focsani"]
[null,null,null,null,null,null,null,null,null,null,null,null,null,null,"Tarnava",null,null,null,null,"Botezatu Onelus","Galati"]
[null,null,null,null,null,null,null,null,null,null,null,null,null,null,"Teleorman",null,null,null,null,"Bothazan Florin","Dej"]
[null,null,null,null,null,null,null,null,null,null,null,null,null,null,"Turnu Magurele",null,null,null,null,"Botian Radu","Sibiu"]
[null,null,null,null,null,null,null,null,null,null,null,null,null,null,"Videle",null,null,null,null,"Botoc Ovidiu","Paulesti"]
[null,null,null,null,null,null,null,null,null,null,null,null,null,null,"Brezoi",null,null,null,null,"Botosneanu Ionut","Videle"]
[null,null,null,null,null,null,null,null,null,null,null,null,null,null,"Corabia",null,null,null,null,"Boureanu Constantin","Iasi"]
[null,null,null,null,null,null,null,null,null,null,null,null,null,null,"Dragasani",null,null,null,null,"Boureanu Ionel","Iasi"]
[null,null,null,null,null,null,null,null,null,null,null,null,null,null,"Malaia",null,null,null,null,"Bozga Codrin","Vatra Dornei"]
[null,null,null,null,null,null,null,null,null,null,null,null,null,null,"Ramnicu Valcea",null,null,null,null,"Bozga Dan","Arad"]
[null,null,null,null,null,null,null,null,null,null,null,null,null,null,"Adjud",null,null,null,null,"Bozga Luisa","Dobric"]
[null,null,null,null,null,null,null,null,null,null,null,null,null,null,"Biliesti",null,null,null,null,"Bozga Stefan","Beclean"]
[null,null,null,null,null,null,null,null,null,null,null,null,null,null,"Calienii Vechi",null,null,null,null,"Bozga Viorel","Dobric"]
[null,null,null,null,null,null,null,null,null,null,null,null,null,null,"Cotesti",null,null,null,null,"Boznea Daniel","Deva"]
[null,null,null,null,null,null,null,null,null,null,null,null,null,null,"Dumbraveni VN",null,null,null,null,"Bozosan Petre","Sibiu"]
[null,null,null,null,null,null,null,null,null,null,null,null,null,null,"Dumitresti",null,null,null,null,"Bozuc Paul","Tulcea"]
[null,null,null,null,null,null,null,null,null,null,null,null,null,null,"Focsani",null,null,null,null,"Bradea Lucian","Arad"]
[null,null,null,null,null,null,null,null,null,null,null,null,null,null,"Gugesti",null,null,null,null,"Bradean Toma","Arad"]
[null,null,null,null,null,null,null,null,null,null,null,null,null,null,"Jaristea",null,null,null,null,"Bradina Daniel","Calan"]
[null,null,null,null,null,null,null,null,null,null,null,null,null,null,"Marasesti",null,null,null,null,"Bradu Dan","Iasi"]
[null,null,null,null,null,null,null,null,null,null,null,null,null,null,"Marasti",null,null,null,null,"Bradu Georgel","Barlad"]
[null,null,null,null,null,null,null,null,null,null,null,null,null,null,"Nistoresti",null,null,null,null,"Bragaru Marian","Valcau"]
[null,null,null,null,null,null,null,null,null,null,null,null,null,null,"Odobesti",null,null,null,null,"Bragus Sorin","Bucuresti"]
[null,null,null,null,null,null,null,null,null,null,null,null,null,null,"Panciu",null,null,null,null,"Bran Florin","Tulcea"]
[null,null,null,null,null,null,null,null,null,null,null,null,null,null,"Paunesti",null,null,null,null,"Bran Miruna","Buhusi"]
[null,null,null,null,null,null,null,null,null,null,null,null,null,null,"Pufesti",null,null,null,null,"Brandusa Marius","Sighisoara"]
[null,null,null,null,null,null,null,null,null,null,null,null,null,null,"Straoane",null,null,null,null,"Braniste George","Bacau"]
[null,null,null,null,null,null,null,null,null,null,null,null,null,null,"Barlad",null,null,null,null,"Branzei Florin","Piatra Neamt"]
[null,null,null,null,null,null,null,null,null,null,null,null,null,null,"Vaslui",null,null,null,null,"Brasoveanu Arthur","Brasov"]
[null,null,null,null,null,null,null,null,null,null,null,null,null,null,"x",null,null,null,null,"Brateanu Liviu","Bacau"]
[null,null,null,null,null,null,null,null,null,null,null,null,null,null,"Sanpaul AR",null,null,null,null,"Bratescu Adrian","Targoviste"]
[null,null,null,null,null,null,null,null,null,null,null,null,null,null,"Ruse",null,null,null,null,"Bratescu Alexandru","Bucuresti"]
[null,null,null,null,null,null,null,null,null,null,null,null,null,null,"Mogosesti Siret",null,null,null,null,"Bratosin Lica","Faurei"]
[null,null,null,null,null,null,null,null,null,null,null,null,null,null,"Dumbraveni",null,null,null,null,"Bratu Andrei","Brasov"]
[null,null,null,null,null,null,null,null,null,null,null,null,null,null,"Bors",null,null,null,null,"Bratu Aurel","Constanta"]
[null,null,null,null,null,null,null,null,null,null,null,null,null,null,"Cocorastii Grind",null,null,null,null,"Bratu Gabriel","Italia"]
[null,null,null,null,null,null,null,null,null,null,null,null,null,null,"Dobric",null,null,null,null,"Bratu Valentin","Bucuresti"]
[null,null,null,null,null,null,null,null,null,null,null,null,null,null,"Rediu",null,null,null,null,"Brazdau Bogdan","Zalau"]
[null,null,null,null,null,null,null,null,null,null,null,null,null,null,"Victor Vlad Delamarina",null,null,null,null,"Breaza Theodor","Drobeta Tr Severin"]
[null,null,null,null,null,null,null,null,null,null,null,null,null,null,"Santamaria Orlea",null,null,null,null,"Brebu Liviu","Barlad"]
[null,null,null,null,null,null,null,null,null,null,null,null,null,null,"Lozovik",null,null,null,null,"Breda Dan","Tarnaveni"]
[null,null,null,null,null,null,null,null,null,null,null,null,null,null,"Smederevo",null,null,null,null,"Bregar Dan","Alba Iulia"]
[null,null,null,null,null,null,null,null,null,null,null,null,null,null,"Stara Palanka",null,null,null,null,"Breje Marin","Zalau"]
[null,null,null,null,null,null,null,null,null,null,null,null,null,null,"Ilandza",null,null,null,null,"Brezaie Andrei","Alexandria"]
[null,null,null,null,null,null,null,null,null,null,null,null,null,null,"Sarajevo",null,null,null,null,"Bria Vitalie","Bucuresti"]
[null,null,null,null,null,null,null,null,null,null,null,null,null,null,"Valcau",null,null,null,null,"Briceag Bebe","Targoviste"]
[null,null,null,null,null,null,null,null,null,null,null,null,null,null,"Harsova",null,null,null,null,"Brinza Paul","Iasi"]
[null,null,null,null,null,null,null,null,null,null,null,null,null,null,"Iordania",null,null,null,null,"Brisc Nelu","Timisoara"]
[null,null,null,null,null,null,null,null,null,null,null,null,null,null,"Malut",null,null,null,null,"Brodetchi Andrei","Sibiu"]
[null,null,null,null,null,null,null,null,null,null,null,null,null,null,"Sacadat",null,null,null,null,"Brulea Petre","Paulesti"]
[null,null,null,null,null,null,null,null,null,null,null,null,null,null,"Bucovat",null,null,null,null,"Bruma Ion","Harsova"]
[null,null,null,null,null,null,null,null,null,null,null,null,null,null,"Caianu Mic",null,null,null,null,"Bruma Ovidiu","Popesti Leordeni"]
[null,null,null,null,null,null,null,null,null,null,null,null,null,null,"Lopadea Noua",null,null,null,null,"Brunshtein Yehudit","Israel"]
[null,null,null,null,null,null,null,null,null,null,null,null,null,null,"Cenade",null,null,null,null,"Bruzan Cosmin","Calan"]
[null,null,null,null,null,null,null,null,null,null,null,null,null,null,"Atintis",null,null,null,null,"Bubulac Cristi","Piatra Neamt"]
[null,null,null,null,null,null,null,null,null,null,null,null,null,null,"Sarmasu",null,null,null,null,"Bucalaete Andrei","Alimpesti GJ"]
[null,null,null,null,null,null,null,null,null,null,null,null,null,null,"Pancevo",null,null,null,null,"Bucin Claudiu","Targu Mures"]
[null,null,null,null,null,null,null,null,null,null,null,null,null,null,"Petrovac",null,null,null,null,"Buciu Catalin","Bals"]
[null,null,null,null,null,null,null,null,null,null,null,null,null,null,"Fundu Moldovei",null,null,null,null,"Buciu Cristina","Bucuresti"]
[null,null,null,null,null,null,null,null,null,null,null,null,null,null,"Giarmata",null,null,null,null,"Buciu Denis","Bals"]
[null,null,null,null,null,null,null,null,null,null,null,null,null,null,"Hida",null,null,null,null,"Bucovszki Alexandru","Sighetu Marmatiei"]
[null,null,null,null,null,null,null,null,null,null,null,null,null,null,"Tuzla",null,null,null,null,"Bucsa Eugen Marcel","Apahida"]
[null,null,null,null,null,null,null,null,null,null,null,null,null,null,"Snagov",null,null,null,null,"Bucse Stefan","Sibiu"]
[null,null,null,null,null,null,null,null,null,null,null,null,null,null,"Moldova-Balti",null,null,null,null,"Bucsoiu Vlad","Brasov"]
[null,null,null,null,null,null,null,null,null,null,null,null,null,null,"Moldova-Chisinau",null,null,null,null,"Bucur Alin Adrian","Targu Mures"]
[null,null,null,null,null,null,null,null,null,null,null,null,null,null,"Moldova-Lunga",null,null,null,null,"Bucur Andrei","Blaj"]
[null,null,null,null,null,null,null,null,null,null,null,null,null,null,"Moldova-Avdarma",null,null,null,null,"Bucur Dan","Cisnadie"]
[null,null,null,null,null,null,null,null,null,null,null,null,null,null,"Moldova-Tvardita",null,null,null,null,"Bucur Mario","Bucuresti"]
[null,null,null,null,null,null,null,null,null,null,null,null,null,null,"Moldova-Taraclia",null,null,null,null,"Bucur Sorin","Ploiesti"]
[null,null,null,null,null,null,null,null,null,null,null,null,null,null,"Moldova-Comrat",null,null,null,null,"Bucurel Ion","Comanesti"]
[null,null,null,null,null,null,null,null,null,null,null,null,null,null,"Moldova-Basarabeasca",null,null,null,null,"Bucurenciu Mihai","Fagaras"]
[null,null,null,null,null,null,null,null,null,null,null,null,null,null,"Moldova-Cahul",null,null,null,null,"Bud Adrian","Dej"]
[null,null,null,null,null,null,null,null,null,null,null,null,null,null,"Moldova-Vulcanesti",null,null,null,null,"Buda Nelu","Arad"]
[null,null,null,null,null,null,null,null,null,null,null,null,null,null,"Moldova-Budjac",null,null,null,null,"Budea Andra","Galati"]
[null,null,null,null,null,null,null,null,null,null,null,null,null,null,"Moldova-Dubasari",null,null,null,null,"Budean Daniel","Gherla"]
[null,null,null,null,null,null,null,null,null,null,null,null,null,null,"Pildesti",null,null,null,null,"Budeanu Dan","Sannicolau Mare"]
[null,null,null,null,null,null,null,null,null,null,null,null,null,null,"Tamaseni",null,null,null,null,"Budes Alin","Timisoara"]
[null,null,null,null,null,null,null,null,null,null,null,null,null,null,"Mihai Viteazu",null,null,null,null,"Budescu Marian","Galati"]
[null,null,null,null,null,null,null,null,null,null,null,null,null,null,"Moldova-Ceadir-Lunga",null,null,null,null,"Budihala Raul","Hunedoara"]
[null,null,null,null,null,null,null,null,null,null,null,null,null,null,"Moldova-Cazaclia",null,null,null,null,"Budusan Claudiu","Dej"]
[null,null,null,null,null,null,null,null,null,null,null,null,null,null,"Ucraina-Ciornomorsk",null,null,null,null,"Bufetov Ilia","Moldova-Balti"]
[null,null,null,null,null,null,null,null,null,null,null,null,null,null,"Harlau",null,null,null,null,"Buga Adrian","Cluj Napoca"]
[null,null,null,null,null,null,null,null,null,null,null,null,null,null,"Muncel",null,null,null,null,"Buga Mihai","Alexandria"]
[null,null,null,null,null,null,null,null,null,null,null,null,null,null,"Ciohorani",null,null,null,null,"Bugarcic Ivan","Belgrad"]
[null,null,null,null,null,null,null,null,null,null,null,null,null,null,"Remetea Mare",null,null,null,null,"Bugariu Teodora","Lugoj"]
[null,null,null,null,null,null,null,null,null,null,null,null,null,null,"Stei",null,null,null,null,"Buhaciuc Crina","Constanta"]
[null,null,null,null,null,null,null,null,null,null,null,null,null,null,"Moldova-Briceni",null,null,null,null,"Buhai Andrii","Stefanestii de Jos"]
[null,null,null,null,null,null,null,null,null,null,null,null,null,null,"Moldova-Larga",null,null,null,null,"Buhaianu Bogdan","Bacau"]
[null,null,null,null,null,null,null,null,null,null,null,null,null,null,"Moldova-Lipcani",null,null,null,null,"Buica Elias","Hateg"]
[null,null,null,null,null,null,null,null,null,null,null,null,null,null,"Moldova-Coteala",null,null,null,null,"Buica Elisei","Hateg"]
[null,null,null,null,null,null,null,null,null,null,null,null,null,null,"Vama",null,null,null,null,"Buica Petrica","Hateg"]
[null,null,null,null,null,null,null,null,null,null,null,null,null,null,"Moldova-Edinet",null,null,null,null,"Buicea Andra","Pitesti"]
[null,null,null,null,null,null,null,null,null,null,null,null,null,null,"Moldova-Drochia",null,null,null,null,"Buicea Rares","Pitesti"]
[null,null,null,null,null,null,null,null,null,null,null,null,null,null,"Moldova-Singerei",null,null,null,null,"Buie Laurentiu","Arad"]
[null,null,null,null,null,null,null,null,null,null,null,null,null,null,"Vicov",null,null,null,null,"Buiturian Ionel","Santamaria Orlea"]
[null,null,null,null,null,null,null,null,null,null,null,null,null,null,"Vadu Moldovei",null,null,null,null,"Bujenita Elena","Galati"]
[null,null,null,null,null,null,null,null,null,null,null,null,null,null,"Petia",null,null,null,null,"Bujenita Mihai","Galati"]
[null,null,null,null,null,null,null,null,null,null,null,null,null,null,"Arghira",null,null,null,null,"Bujoi Emanuel","Braila"]
[null,null,null,null,null,null,null,null,null,null,null,null,null,null,"Blandesti",null,null,null,null,"Bujor Laurentiu","Bacau"]
[null,null,null,null,null,null,null,null,null,null,null,null,null,null,"Slatina Timis",null,null,null,null,"Bujoreanu Neculai","Falticeni"]
[null,null,null,null,null,null,null,null,null,null,null,null,null,null,"Telega",null,null,null,null,"Bujuleg Petre","Breaza"]
[null,null,null,null,null,null,null,null,null,null,null,null,null,null,"Jebel",null,null,null,null,"Bulancea Victor","Curtea de Arges"]
[null,null,null,null,null,null,null,null,null,null,null,null,null,null,"Balomir",null,null,null,null,"Bularda Iulian","Barlad"]
[null,null,null,null,null,null,null,null,null,null,null,null,null,null,"Bulzestii de Sus",null,null,null,null,"Buleandra Radu","Craiova"]
[null,null,null,null,null,null,null,null,null,null,null,null,null,null,"Priboieni",null,null,null,null,"Bulgari Serghei","Moldova-Briceni"]
[null,null,null,null,null,null,null,null,null,null,null,null,null,null,"Dor Marunt",null,null,null,null,"Bulgaria Dan","Deva"]
[null,null,null,null,null,null,null,null,null,null,null,null,null,null,"Fundeni",null,null,null,null,"Buliga Cornel","Galati"]
[null,null,null,null,null,null,null,null,null,null,null,null,null,null,"Gligoresti",null,null,null,null,"Bulinschi Alexandru","Hunedoara"]
[null,null,null,null,null,null,null,null,null,null,null,null,null,null,"Ineu",null,null,null,null,"Bunduchi Mircea Andrei","Solont"]
[null,null,null,null,null,null,null,null,null,null,null,null,null,null,"Popeni",null,null,null,null,"Bunea Adrian","Ploiesti"]
[null,null,null,null,null,null,null,null,null,null,null,null,null,null,"Andrasesti",null,null,null,null,"Bunea Aurel","Salciua"]
[null,null,null,null,null,null,null,null,null,null,null,null,null,null,"Vadeni",null,null,null,null,"Bunea Raul","Targu Mures"]
[null,null,null,null,null,null,null,null,null,null,null,null,null,null,"Tibanesti",null,null,null,null,"Bungeanu Bogdan","Vaslui"]
[null,null,null,null,null,null,null,null,null,null,null,null,null,null,"Ianova",null,null,null,null,"Bura Ionut Virgil","Cluj Napoca"]
[null,null,null,null,null,null,null,null,null,null,null,null,null,null,"Domnesti",null,null,null,null,"Buraciuc Cornel","Nasaud"]
[null,null,null,null,null,null,null,null,null,null,null,null,null,null,"Popesti CJ",null,null,null,null,"Buraciuc Raluca","Nasaud"]
[null,null,null,null,null,null,null,null,null,null,null,null,null,null,"Frasinet",null,null,null,null,"Buraga Emilian","Iasi"]
[null,null,null,null,null,null,null,null,null,null,null,null,null,null,"Branceni",null,null,null,null,"Burcea Daniel","Bucuresti"]
[null,null,null,null,null,null,null,null,null,null,null,null,null,null,"Solonet",null,null,null,null,"Burcea Daniel","Lugoj"]
[null,null,null,null,null,null,null,null,null,null,null,null,null,null,"Vizejdia",null,null,null,null,"Burcea Valentin","Bucuresti"]
[null,null,null,null,null,null,null,null,null,null,null,null,null,null,"Magiresti",null,null,null,null,"Burdalescu Bogdan","Bucuresti"]
[null,null,null,null,null,null,null,null,null,null,null,null,null,null,"Dobrotesti",null,null,null,null,"Burducea Alexandru","Targoviste"]
[null,null,null,null,null,null,null,null,null,null,null,null,null,null,"Baru",null,null,null,null,"Burechita Marian","Vaslui"]
[null,null,null,null,null,null,null,null,null,null,null,null,null,null,"Cotoroaia",null,null,null,null,"Burga Ionut","Bucuresti"]
[null,null,null,null,null,null,null,null,null,null,null,null,null,null,"Branistea DB",null,null,null,null,"Burghelea Florin","Piatra Neamt"]
[null,null,null,null,null,null,null,null,null,null,null,null,null,null,"Foeni",null,null,null,null,"Burghelea Liviu","Bucuresti"]
[null,null,null,null,null,null,null,null,null,null,null,null,null,null,"Kladovo Serbia",null,null,null,null,"Burhui Radu","Buhusi"]
[null,null,null,null,null,null,null,null,null,null,null,null,null,null,"Satumare",null,null,null,null,"Burian Alexandru","Cluj Napoca"]
[null,null,null,null,null,null,null,null,null,null,null,null,null,null,"Zajecar Serbia",null,null,null,null,"Burian Ovidiu","Cluj Napoca"]
[null,null,null,null,null,null,null,null,null,null,null,null,null,null,"Kentucky USA",null,null,null,null,"Burlacel Ionut","Bucuresti"]
[null,null,null,null,null,null,null,null,null,null,null,null,null,null,"Lunca Muresului",null,null,null,null,"Burlica Cristian","Vicovu de Jos"]
[null,null,null,null,null,null,null,null,null,null,null,null,null,null,"Moldova-Cantemir",null,null,null,null,"Burnar Ioan","Viseu"]
[null,null,null,null,null,null,null,null,null,null,null,null,null,null,"Voinesti DB",null,null,null,null,"Burnoiu Costel","Bucuresti"]
[null,null,null,null,null,null,null,null,null,null,null,null,null,null,"Sangeorgiu de Mures",null,null,null,null,"Burtea Iustin Gabriel","Galati"]
[null,null,null,null,null,null,null,null,null,null,null,null,null,null,"Berveni",null,null,null,null,"Burtea Teodor Daniel","Galati"]
[null,null,null,null,null,null,null,null,null,null,null,null,null,null,"Amarastii de Jos",null,null,null,null,"Burtumac Alin","Balotesti"]
[null,null,null,null,null,null,null,null,null,null,null,null,null,null,"Darmanesti SV",null,null,null,null,"Burucenco Vadim","Moldova-Chisinau"]
[null,null,null,null,null,null,null,null,null,null,null,null,null,null,"Voinesti",null,null,null,null,"Buruian Ovidiu","Cluj Napoca"]
[null,null,null,null,null,null,null,null,null,null,null,null,null,null,"Coarnele Caprei",null,null,null,null,"Buruiana Mihai","Marasesti"]
[null,null,null,null,null,null,null,null,null,null,null,null,null,null,"Maderat",null,null,null,null,"Buruiana Petru","Piatra Neamt"]
[null,null,null,null,null,null,null,null,null,null,null,null,null,null,"Cornetu",null,null,null,null,"Burz Adrian Gheorghe","Fagaras"]
[null,null,null,null,null,null,null,null,null,null,null,null,null,null,"Erbiceni",null,null,null,null,"Busega Iulian","Bucuresti"]
[null,null,null,null,null,null,null,null,null,null,null,null,null,null,"Rascaeti",null,null,null,null,"Busnatu Radu Andrei","Bucuresti"]
[null,null,null,null,null,null,null,null,null,null,null,null,null,null,"Ucraina-Kiev",null,null,null,null,"Bustiuc Razvan","Iasi"]
[null,null,null,null,null,null,null,null,null,null,null,null,null,null,"Poienita",null,null,null,null,"Busuioc Andrei","Panciu"]
[null,null,null,null,null,null,null,null,null,null,null,null,null,null,"Tomesti IS",null,null,null,null,"Busuioc Marian","Bucuresti"]
[null,null,null,null,null,null,null,null,null,null,null,null,null,null,"Chiuza",null,null,null,null,"Busuioc Robert","Radauti"]
[null,null,null,null,null,null,null,null,null,null,null,null,null,null,"Asau",null,null,null,null,"Busuioc Stelian","Bucuresti"]
[null,null,null,null,null,null,null,null,null,null,null,null,null,null,"Kovin",null,null,null,null,"But Victor","Moldova-Comrat"]
[null,null,null,null,null,null,null,null,null,null,null,null,null,null,"Nova Varos",null,null,null,null,"Buta Raul","Petrosani"]
[null,null,null,null,null,null,null,null,null,null,null,null,null,null,"Trstenik",null,null,null,null,"Buta Sebastian","Tarnaveni"]
[null,null,null,null,null,null,null,null,null,null,null,null,null,null,"Ram",null,null,null,null,"Buteanu Cristi","Beclean"]
[null,null,null,null,null,null,null,null,null,null,null,null,null,null,"Kumane",null,null,null,null,"Butnaru Andrei","Iasi"]
[null,null,null,null,null,null,null,null,null,null,null,null,null,null,"Ucraina-Umani",null,null,null,null,"Butnaru Damian","Mogosesti"]
[null,null,null,null,null,null,null,null,null,null,null,null,null,null,"Ucraina-Okny",null,null,null,null,"Butoi Aurel","Caracal"]
[null,null,null,null,null,null,null,null,null,null,null,null,null,null,"Campani",null,null,null,null,"Butunoiu Dorin","Brasov"]
[null,null,null,null,null,null,null,null,null,null,null,null,null,null,"Hotarel",null,null,null,null,"Butura Vasile","Alba Iulia"]
[null,null,null,null,null,null,null,null,null,null,null,null,null,null,"Saliste de Vascau",null,null,null,null,"Butusina Samuel","Arad"]
[null,null,null,null,null,null,null,null,null,null,null,null,null,null,"Ucraina-Odessa",null,null,null,null,"Buzas Erika","Baia Mare"]
[null,null,null,null,null,null,null,null,null,null,null,null,null,null,"Moldova-Glodeni",null,null,null,null,"Buzatu Vasile","Buftea"]
[null,null,null,null,null,null,null,null,null,null,null,null,null,null,"Stejeris",null,null,null,null,"Buzdea Casian","Iasi"]
[null,null,null,null,null,null,null,null,null,null,null,null,null,null,"Sibot",null,null,null,null,"Buzdea Stefan","Iasi"]
[null,null,null,null,null,null,null,null,null,null,null,null,null,null,"Delenii",null,null,null,null,"Buzdea Stefanel","Iasi"]
[null,null,null,null,null,null,null,null,null,null,null,null,null,null,"Aroneanu",null,null,null,null,"Buzera Matei","Timisoara"]
[null,null,null,null,null,null,null,null,null,null,null,null,null,null,"Moldova-Leova",null,null,null,null,"Buzila Adrian","Botosani"]
[null,null,null,null,null,null,null,null,null,null,null,null,null,null,"Moldova-Hincesti",null,null,null,null,"Buzila Marcel","Cluj Napoca"]
[null,null,null,null,null,null,null,null,null,null,null,null,null,null,"Moldova-Riscani",null,null,null,null,"Buzoianu Eduard","Oltenita"]
[null,null,null,null,null,null,null,null,null,null,null,null,null,null,"Chisoda",null,null,null,null,"Buzzoni Amelia","Lombardia Italia"]
[null,null,null,null,null,null,null,null,null,null,null,null,null,null,"Mihaesti",null,null,null,null,"Buzzoni Clara","Lombardia Italia"]
[null,null,null,null,null,null,null,null,null,null,null,null,null,null,"Cicarlau",null,null,null,null,"Buzzoni Matilde","Lombardia Italia"]
[null,null,null,null,null,null,null,null,null,null,null,null,null,null,"Becicherecu Mic",null,null,null,null,"Bzovii Elena","Moldova-Cahul"]
[null,null,null,null,null,null,null,null,null,null,null,null,null,null,"Zebil",null,null,null,null,"Bzovii Teodora","Moldova-Cahul"]
[null,null,null,null,null,null,null,null,null,null,null,null,null,null,"Jucu",null,null,null,null,"Caba Alin","Putna"]
[null,null,null,null,null,null,null,null,null,null,null,null,null,null,"Moldova-Straseni",null,null,null,null,"Caba Ciprian","Putna"]
[null,null,null,null,null,null,null,null,null,null,null,null,null,null,"Moldova-Sadaclia",null,null,null,null,"Caciandone Stere","Constanta"]
[null,null,null,null,null,null,null,null,null,null,null,null,null,null,"Valea Lunga",null,null,null,null,"Cadar Ioan","Cluj Napoca"]
[null,null,null,null,null,null,null,null,null,null,null,null,null,null,"Malaiesti",null,null,null,null,"Cailean Daniel","Turda"]
[null,null,null,null,null,null,null,null,null,null,null,null,null,null,"Tarcaia",null,null,null,null,"Caileanu Patrick","Sibiu"]
[null,null,null,null,null,null,null,null,null,null,null,null,null,null,"Zvoristea",null,null,null,null,"Calasnicov Matvei","Moldova-Cahul"]
[null,null,null,null,null,null,null,null,null,null,null,null,null,null,"Corocaesti SV",null,null,null,null,"Calasnicov Stanislav","Moldova-Cahul"]
[null,null,null,null,null,null,null,null,null,null,null,null,null,null,"Scheia SV",null,null,null,null,"Calciu Vasile","Craiova"]
[null,null,null,null,null,null,null,null,null,null,null,null,null,null,"Orasu Nou",null,null,null,null,"Caldaruse Roland","Craiova"]
[null,null,null,null,null,null,null,null,null,null,null,null,null,null,"Ciobanu",null,null,null,null,"Calea George","Drobeta Tr Severin"]
[null,null,null,null,null,null,null,null,null,null,null,null,null,null,"Sanpetru",null,null,null,null,"Calenciuc Dumitru","Radauti"]
[null,null,null,null,null,null,null,null,null,null,null,null,null,null,"Mosnita Veche",null,null,null,null,"Calin Alexandru","Focsani"]
[null,null,null,null,null,null,null,null,null,null,null,null,null,null,"Lombardia Italia",null,null,null,null,"Calin Anisoara","Bucuresti"]
[null,null,null,null,null,null,null,null,null,null,null,null,null,null,"Alimpesti GJ",null,null,null,null,"Calin Cosmin","Navodari"]
[null,null,null,null,null,null,null,null,null,null,null,null,null,null,"Valea lui Liman",null,null,null,null,"Calin Cristian","Bucuresti"]
[null,null,null,null,null,null,null,null,null,null,null,null,null,null,"Varna",null,null,null,null,"Calin Dragos","Focsani"]
[null,null,null,null,null,null,null,null,null,null,null,null,null,null,"Gornet Cricov",null,null,null,null,"Calin Narcis","Barlad"]
[null,null,null,null,null,null,null,null,null,null,null,null,null,null,"Valea Lupului",null,null,null,null,"Calin Stefan Daniel","Urlati"]
[null,null,null,null,null,null,null,null,null,null,null,null,null,null,"Moldova-Falesti",null,null,null,null,"Calinescu Mircea","Ploiesti"]
[null,null,null,null,null,null,null,null,null,null,null,null,null,null,"Prodanesti",null,null,null,null,"Calinicenco Denis","Moldova-Basarabeasca"]
[null,null,null,null,null,null,null,null,null,null,null,null,null,null,"Cristesti",null,null,null,null,"Calinoiu Matei","Sibiu"]
[null,null,null,null,null,null,null,null,null,null,null,null,null,null,null,null,null,null,null,"Calomfirescu Vlad","Bucuresti"]
[null,null,null,null,null,null,null,null,null,null,null,null,null,null,null,null,null,null,null,"Calonfirescu Sever","Manastireni"]
[null,null,null,null,null,null,null,null,null,null,null,null,null,null,null,null,null,null,null,"Calota Cristian","Tulcea"]
[null,null,null,null,null,null,null,null,null,null,null,null,null,null,null,null,null,null,null,"Calpacci Olga","Moldova-Ceadir-Lunga"]
[null,null,null,null,null,null,null,null,null,null,null,null,null,null,null,null,null,null,null,"Camarasiu Tiberiu","Cluj Napoca"]
[null,null,null,null,null,null,null,null,null,null,null,null,null,null,null,null,null,null,null,"Campean Adrian","Bucuresti"]
[null,null,null,null,null,null,null,null,null,null,null,null,null,null,null,null,null,null,null,"Campean Daniel","Santimbru AB"]
[null,null,null,null,null,null,null,null,null,null,null,null,null,null,null,null,null,null,null,"Campean Eugen","Dej"]
[null,null,null,null,null,null,null,null,null,null,null,null,null,null,null,null,null,null,null,"Campean Traian","Apahida"]
[null,null,null,null,null,null,null,null,null,null,null,null,null,null,null,null,null,null,null,"Campian Vlad","Toplita"]
[null,null,null,null,null,null,null,null,null,null,null,null,null,null,null,null,null,null,null,"Campian Zoltan","Toplita"]
[null,null,null,null,null,null,null,null,null,null,null,null,null,null,null,null,null,null,null,"Candea Ana Nasta","Bucuresti"]
[null,null,null,null,null,null,null,null,null,null,null,null,null,null,null,null,null,null,null,"Canea Kocsis Andras","Targu Secuiesc"]
[null,null,null,null,null,null,null,null,null,null,null,null,null,null,null,null,null,null,null,"Cangea Todor","Moldova-Cahul"]
[null,null,null,null,null,null,null,null,null,null,null,null,null,null,null,null,null,null,null,"Cangea Tudor","Galati"]
[null,null,null,null,null,null,null,null,null,null,null,null,null,null,null,null,null,null,null,"Cangia Tudor","Tulcea"]
[null,null,null,null,null,null,null,null,null,null,null,null,null,null,null,null,null,null,null,"Canpan Radu","Bistrita"]
[null,null,null,null,null,null,null,null,null,null,null,null,null,null,null,null,null,null,null,"Capalnas Vasile","Bistrita"]
[null,null,null,null,null,null,null,null,null,null,null,null,null,null,null,null,null,null,null,"Caploiu Elena","Giarmata"]
[null,null,null,null,null,null,null,null,null,null,null,null,null,null,null,null,null,null,null,"Capotescu Tiberiu","Faget"]
[null,null,null,null,null,null,null,null,null,null,null,null,null,null,null,null,null,null,null,"Capra Arthur","Vatra Dornei"]
[null,null,null,null,null,null,null,null,null,null,null,null,null,null,null,null,null,null,null,"Capstramb Liviu","Radauti"]
[null,null,null,null,null,null,null,null,null,null,null,null,null,null,null,null,null,null,null,"Capus Giani","Galati"]
[null,null,null,null,null,null,null,null,null,null,null,null,null,null,null,null,null,null,null,"Capusa Bogdan","Bacau"]
[null,null,null,null,null,null,null,null,null,null,null,null,null,null,null,null,null,null,null,"Carabas Adrian","Timisoara"]
[null,null,null,null,null,null,null,null,null,null,null,null,null,null,null,null,null,null,null,"Carabas Cosmin","Timisoara"]
[null,null,null,null,null,null,null,null,null,null,null,null,null,null,null,null,null,null,null,"Caracuda Andrei","Sibiu"]
[null,null,null,null,null,null,null,null,null,null,null,null,null,null,null,null,null,null,null,"Caradjov Stepan","Moldova-Leova"]
[null,null,null,null,null,null,null,null,null,null,null,null,null,null,null,null,null,null,null,"Caraman Ionel","Tulcea"]
[null,null,null,null,null,null,null,null,null,null,null,null,null,null,null,null,null,null,null,"Caraman Vitalie","Moldova-Cahul"]
[null,null,null,null,null,null,null,null,null,null,null,null,null,null,null,null,null,null,null,"Caramarin Dumitru","Constanta"]
[null,null,null,null,null,null,null,null,null,null,null,null,null,null,null,null,null,null,null,"Caranda Alexandru","Bucuresti"]
[null,null,null,null,null,null,null,null,null,null,null,null,null,null,null,null,null,null,null,"Caranfilian Eduard","Bucuresti"]
[null,null,null,null,null,null,null,null,null,null,null,null,null,null,null,null,null,null,null,"Caranfilian Migo","Bucuresti"]
[null,null,null,null,null,null,null,null,null,null,null,null,null,null,null,null,null,null,null,"Carare Cristinel","Vaslui"]
[null,null,null,null,null,null,null,null,null,null,null,null,null,null,null,null,null,null,null,"Carata Catalin","Tulcea"]
[null,null,null,null,null,null,null,null,null,null,null,null,null,null,null,null,null,null,null,"Caraus Sorin","Deva"]
[null,null,null,null,null,null,null,null,null,null,null,null,null,null,null,null,null,null,null,"Carcea Daria","Galanesti"]
[null,null,null,null,null,null,null,null,null,null,null,null,null,null,null,null,null,null,null,"Carcea David","Galanesti"]
[null,null,null,null,null,null,null,null,null,null,null,null,null,null,null,null,null,null,null,"Carciog Ionut Alexandru","Calarasi"]
[null,null,null,null,null,null,null,null,null,null,null,null,null,null,null,null,null,null,null,"Cardas Alexandru","Dumbravita"]
[null,null,null,null,null,null,null,null,null,null,null,null,null,null,null,null,null,null,null,"Cardas Andrei","Dumbravita"]
[null,null,null,null,null,null,null,null,null,null,null,null,null,null,null,null,null,null,null,"Carja Florin","Cotoroaia"]
[null,null,null,null,null,null,null,null,null,null,null,null,null,null,null,null,null,null,null,"Carmazan Andra","Deva"]
[null,null,null,null,null,null,null,null,null,null,null,null,null,null,null,null,null,null,null,"Carnu Eugen","Bacau"]
[null,null,null,null,null,null,null,null,null,null,null,null,null,null,null,null,null,null,null,"Carnu Miruna","Dumbravita"]
[null,null,null,null,null,null,null,null,null,null,null,null,null,null,null,null,null,null,null,"Carp Marius","Bucuresti"]
[null,null,null,null,null,null,null,null,null,null,null,null,null,null,null,null,null,null,null,"Carpaci Alexandru","Ludus"]
[null,null,null,null,null,null,null,null,null,null,null,null,null,null,null,null,null,null,null,"Carpaci Szanto Cristian","Ludus"]
[null,null,null,null,null,null,null,null,null,null,null,null,null,null,null,null,null,null,null,"Carpaci Szanto Edmond","Ludus"]
[null,null,null,null,null,null,null,null,null,null,null,null,null,null,null,null,null,null,null,"Carpovici Boris","Falticeni"]
[null,null,null,null,null,null,null,null,null,null,null,null,null,null,null,null,null,null,null,"Caruntu Constantin","Bucuresti"]
[null,null,null,null,null,null,null,null,null,null,null,null,null,null,null,null,null,null,null,"Caruntu David","Dumbravita"]
[null,null,null,null,null,null,null,null,null,null,null,null,null,null,null,null,null,null,null,"Caruntu Razvan","Dumbravita"]
[null,null,null,null,null,null,null,null,null,null,null,null,null,null,null,null,null,null,null,"Casim Alina","Moldova-Avdarma"]
[null,null,null,null,null,null,null,null,null,null,null,null,null,null,null,null,null,null,null,"Casim Igor","Moldova-Avdarma"]
[null,null,null,null,null,null,null,null,null,null,null,null,null,null,null,null,null,null,null,"Casim Milena","Moldova-Avdarma"]
[null,null,null,null,null,null,null,null,null,null,null,null,null,null,null,null,null,null,null,"Casu Marius","Bucuresti"]
[null,null,null,null,null,null,null,null,null,null,null,null,null,null,null,null,null,null,null,"Cata Doru","Baia Mare"]
[null,null,null,null,null,null,null,null,null,null,null,null,null,null,null,null,null,null,null,"Cata Teodor","Baia Mare"]
[null,null,null,null,null,null,null,null,null,null,null,null,null,null,null,null,null,null,null,"Catana Claudiu","Bucuresti"]
[null,null,null,null,null,null,null,null,null,null,null,null,null,null,null,null,null,null,null,"Catana Gabriel","Bucuresti"]
[null,null,null,null,null,null,null,null,null,null,null,null,null,null,null,null,null,null,null,"Catana Marius Gabriel","Bucuresti"]
[null,null,null,null,null,null,null,null,null,null,null,null,null,null,null,null,null,null,null,"Catana Vasile","Bacau"]
[null,null,null,null,null,null,null,null,null,null,null,null,null,null,null,null,null,null,null,"Catana Vlad","Targu Mures"]
[null,null,null,null,null,null,null,null,null,null,null,null,null,null,null,null,null,null,null,"Catargiu Andrei","Bucuresti"]
[null,null,null,null,null,null,null,null,null,null,null,null,null,null,null,null,null,null,null,"Catinean Anda","Targu Mures"]
[null,null,null,null,null,null,null,null,null,null,null,null,null,null,null,null,null,null,null,"Catricicau Adrian","Baia Mare"]
[null,null,null,null,null,null,null,null,null,null,null,null,null,null,null,null,null,null,null,"Cattaneo Nicolo","Lombardia Italia"]
[null,null,null,null,null,null,null,null,null,null,null,null,null,null,null,null,null,null,null,"Catuna Bogdan","Cluj Napoca"]
[null,null,null,null,null,null,null,null,null,null,null,null,null,null,null,null,null,null,null,"Cavasdan Doru","Oradea"]
[null,null,null,null,null,null,null,null,null,null,null,null,null,null,null,null,null,null,null,"Cazac Abel","Radauti"]
[null,null,null,null,null,null,null,null,null,null,null,null,null,null,null,null,null,null,null,"Cazac Iulia","Moldova-Briceni"]
[null,null,null,null,null,null,null,null,null,null,null,null,null,null,null,null,null,null,null,"Cazac Victor","Moldova-Briceni"]
[null,null,null,null,null,null,null,null,null,null,null,null,null,null,null,null,null,null,null,"Cazaciuc Marius","Suceava"]
[null,null,null,null,null,null,null,null,null,null,null,null,null,null,null,null,null,null,null,"Cazacu Florin","Vatra Dornei"]
[null,null,null,null,null,null,null,null,null,null,null,null,null,null,null,null,null,null,null,"Cazacu Valentin","Pitesti"]
[null,null,null,null,null,null,null,null,null,null,null,null,null,null,null,null,null,null,null,"Ceacusta Daria","Moldova-Avdarma"]
[null,null,null,null,null,null,null,null,null,null,null,null,null,null,null,null,null,null,null,"Ceaica Ilia","Moldova-Balti"]
[null,null,null,null,null,null,null,null,null,null,null,null,null,null,null,null,null,null,null,"Ceausescu Rares","Pitesti"]
[null,null,null,null,null,null,null,null,null,null,null,null,null,null,null,null,null,null,null,"Ceausescu Rebeca","Pitesti"]
[null,null,null,null,null,null,null,null,null,null,null,null,null,null,null,null,null,null,null,"Ceavdar Andrei","Moldova-Cahul"]
[null,null,null,null,null,null,null,null,null,null,null,null,null,null,null,null,null,null,null,"Cebotari Alexandru","Iasi"]
[null,null,null,null,null,null,null,null,null,null,null,null,null,null,null,null,null,null,null,"Cebuc Emma","Dumbravita"]
[null,null,null,null,null,null,null,null,null,null,null,null,null,null,null,null,null,null,null,"Cecan Ghenadie","Moldova-Falesti"]
[null,null,null,null,null,null,null,null,null,null,null,null,null,null,null,null,null,null,null,"Cecan Leonid","Moldova-Drochia"]
[null,null,null,null,null,null,null,null,null,null,null,null,null,null,null,null,null,null,null,"Cecan Miroslav","Moldova-Glodeni"]
[null,null,null,null,null,null,null,null,null,null,null,null,null,null,null,null,null,null,null,"Cecan Vasile","Timisoara"]
[null,null,null,null,null,null,null,null,null,null,null,null,null,null,null,null,null,null,null,"Centea Daniel","Dej"]
[null,null,null,null,null,null,null,null,null,null,null,null,null,null,null,null,null,null,null,"Ceocea Elena","Tulcea"]
[null,null,null,null,null,null,null,null,null,null,null,null,null,null,null,null,null,null,null,"Ceolca Robert","Sibiu"]
[null,null,null,null,null,null,null,null,null,null,null,null,null,null,null,null,null,null,null,"Ceornei Andrei","Falticeni"]
[null,null,null,null,null,null,null,null,null,null,null,null,null,null,null,null,null,null,null,"Cercega Dani","Timisoara"]
[null,null,null,null,null,null,null,null,null,null,null,null,null,null,null,null,null,null,null,"Cerciu Marius","Timisoara"]
[null,null,null,null,null,null,null,null,null,null,null,null,null,null,null,null,null,null,null,"Cerciu Samir","Timisoara"]
[null,null,null,null,null,null,null,null,null,null,null,null,null,null,null,null,null,null,null,"Cernat Cristian","Iasi"]
[null,null,null,null,null,null,null,null,null,null,null,null,null,null,null,null,null,null,null,"Cernat Gheorghe","Bucuresti"]
[null,null,null,null,null,null,null,null,null,null,null,null,null,null,null,null,null,null,null,"Cernat Ionut","Moinesti"]
[null,null,null,null,null,null,null,null,null,null,null,null,null,null,null,null,null,null,null,"Cernat Radu","Moinesti"]
[null,null,null,null,null,null,null,null,null,null,null,null,null,null,null,null,null,null,null,"Ceuca Gavrila","Satu Mare"]
[null,null,null,null,null,null,null,null,null,null,null,null,null,null,null,null,null,null,null,"Chebac Moiz","Galati"]
[null,null,null,null,null,null,null,null,null,null,null,null,null,null,null,null,null,null,null,"Chelan Catalin","Giroc"]
[null,null,null,null,null,null,null,null,null,null,null,null,null,null,null,null,null,null,null,"Chelaru Tudor","Iasi"]
[null,null,null,null,null,null,null,null,null,null,null,null,null,null,null,null,null,null,null,"Cheran Tiberiu","Bucuresti"]
[null,null,null,null,null,null,null,null,null,null,null,null,null,null,null,null,null,null,null,"Cheranu Alex","Ramnicu Valcea"]
[null,null,null,null,null,null,null,null,null,null,null,null,null,null,null,null,null,null,null,"Cheranu Alexandru","Ramnicu Valcea"]
[null,null,null,null,null,null,null,null,null,null,null,null,null,null,null,null,null,null,null,"Cheregi Nelu","Oradea"]
[null,null,null,null,null,null,null,null,null,null,null,null,null,null,null,null,null,null,null,"Cherhat Dumitru","Cluj Napoca"]
[null,null,null,null,null,null,null,null,null,null,null,null,null,null,null,null,null,null,null,"Chesa Dragos","Viseu"]
[null,null,null,null,null,null,null,null,null,null,null,null,null,null,null,null,null,null,null,"Chesa Rares","Viseu"]
[null,null,null,null,null,null,null,null,null,null,null,null,null,null,null,null,null,null,null,"Chesche Mihai","Harsova"]
[null,null,null,null,null,null,null,null,null,null,null,null,null,null,null,null,null,null,null,"Cheseli Rares","Bucuresti"]
[null,null,null,null,null,null,null,null,null,null,null,null,null,null,null,null,null,null,null,"Chesintan Luca","Lipova"]
[null,null,null,null,null,null,null,null,null,null,null,null,null,null,null,null,null,null,null,"Cheta Victor","Zalau"]
[null,null,null,null,null,null,null,null,null,null,null,null,null,null,null,null,null,null,null,"Chetan Laurean","Reghin"]
[null,null,null,null,null,null,null,null,null,null,null,null,null,null,null,null,null,null,null,"Chetronie Liviu","Tecuci"]
[null,null,null,null,null,null,null,null,null,null,null,null,null,null,null,null,null,null,null,"Chibulcutean Bogdan","Tarnaveni"]
[null,null,null,null,null,null,null,null,null,null,null,null,null,null,null,null,null,null,null,"Chibulcutean Ioan","Tarnaveni"]
[null,null,null,null,null,null,null,null,null,null,null,null,null,null,null,null,null,null,null,"Chichernea Paul","Bucuresti"]
[null,null,null,null,null,null,null,null,null,null,null,null,null,null,null,null,null,null,null,"Chicou Nikita","Franta"]
[null,null,null,null,null,null,null,null,null,null,null,null,null,null,null,null,null,null,null,"Chidovat David","Darmanesti SV"]
[null,null,null,null,null,null,null,null,null,null,null,null,null,null,null,null,null,null,null,"Chifor Vlad","Targu Mures"]
[null,null,null,null,null,null,null,null,null,null,null,null,null,null,null,null,null,null,null,"Chihaia Ianis","Iasi"]
[null,null,null,null,null,null,null,null,null,null,null,null,null,null,null,null,null,null,null,"Chindea Emilian","Targu Neamt"]
[null,null,null,null,null,null,null,null,null,null,null,null,null,null,null,null,null,null,null,"Chiper Codrin Gabriel","Bacau"]
[null,null,null,null,null,null,null,null,null,null,null,null,null,null,null,null,null,null,null,"Chira Angel","Baia Mare"]
[null,null,null,null,null,null,null,null,null,null,null,null,null,null,null,null,null,null,null,"Chira Camelia","Baia Mare"]
[null,null,null,null,null,null,null,null,null,null,null,null,null,null,null,null,null,null,null,"Chira Ciprian","Magiresti"]
[null,null,null,null,null,null,null,null,null,null,null,null,null,null,null,null,null,null,null,"Chiraches Eric Stefan","Bucuresti"]
[null,null,null,null,null,null,null,null,null,null,null,null,null,null,null,null,null,null,null,"Chirca Alexandru","Mioveni"]
[null,null,null,null,null,null,null,null,null,null,null,null,null,null,null,null,null,null,null,"Chirea Alex","Bals"]
[null,null,null,null,null,null,null,null,null,null,null,null,null,null,null,null,null,null,null,"Chirea Laurentiu","Targu Jiu"]
[null,null,null,null,null,null,null,null,null,null,null,null,null,null,null,null,null,null,null,"Chiriac Adrian","Bucuresti"]
[null,null,null,null,null,null,null,null,null,null,null,null,null,null,null,null,null,null,null,"Chiriac Alexandru","Bucuresti"]
[null,null,null,null,null,null,null,null,null,null,null,null,null,null,null,null,null,null,null,"Chiriac Andrei","Bucuresti"]
[null,null,null,null,null,null,null,null,null,null,null,null,null,null,null,null,null,null,null,"Chiriac Nastase","Galati"]
[null,null,null,null,null,null,null,null,null,null,null,null,null,null,null,null,null,null,null,"Chiriac Petru","Roman"]
[null,null,null,null,null,null,null,null,null,null,null,null,null,null,null,null,null,null,null,"Chirica Alexandru","Bucuresti"]
[null,null,null,null,null,null,null,null,null,null,null,null,null,null,null,null,null,null,null,"Chirica Dragos","Vaslui"]
[null,null,null,null,null,null,null,null,null,null,null,null,null,null,null,null,null,null,null,"Chirila Laurentiu","Braila"]
[null,null,null,null,null,null,null,null,null,null,null,null,null,null,null,null,null,null,null,"Chirila Ovidiu","Hunedoara"]
[null,null,null,null,null,null,null,null,null,null,null,null,null,null,null,null,null,null,null,"Chirila Robert","Bucuresti"]
[null,null,null,null,null,null,null,null,null,null,null,null,null,null,null,null,null,null,null,"Chirilescu Crina","Constanta"]
[null,null,null,null,null,null,null,null,null,null,null,null,null,null,null,null,null,null,null,"Chirita Daniel","Bucuresti"]
[null,null,null,null,null,null,null,null,null,null,null,null,null,null,null,null,null,null,null,"Chirita Ioana","Targu Mures"]
[null,null,null,null,null,null,null,null,null,null,null,null,null,null,null,null,null,null,null,"Chirita Ion","Frasinet"]
[null,null,null,null,null,null,null,null,null,null,null,null,null,null,null,null,null,null,null,"Chirita Nicolae","Curtea de Arges"]
[null,null,null,null,null,null,null,null,null,null,null,null,null,null,null,null,null,null,null,"Chiron Adrian","Bucuresti"]
[null,null,null,null,null,null,null,null,null,null,null,null,null,null,null,null,null,null,null,"Chironda Leonid","Moldova"]
[null,null,null,null,null,null,null,null,null,null,null,null,null,null,null,null,null,null,null,"Chironda Nica","Moldova-Balti"]
[null,null,null,null,null,null,null,null,null,null,null,null,null,null,null,null,null,null,null,"Chirtoaca Sergiu","Ploiesti"]
[null,null,null,null,null,null,null,null,null,null,null,null,null,null,null,null,null,null,null,"Chis Mihai","Techirghiol"]
[null,null,null,null,null,null,null,null,null,null,null,null,null,null,null,null,null,null,null,"Chiscan Bogdan","Arad"]
[null,null,null,null,null,null,null,null,null,null,null,null,null,null,null,null,null,null,null,"Chitigoi Gabriel","Buhusi"]
[null,null,null,null,null,null,null,null,null,null,null,null,null,null,null,null,null,null,null,"Chivaran Alin","Timisoara"]
[null,null,null,null,null,null,null,null,null,null,null,null,null,null,null,null,null,null,null,"Chivari Sebastian","Arad"]
[null,null,null,null,null,null,null,null,null,null,null,null,null,null,null,null,null,null,null,"Chivu Cornel","Craiova"]
[null,null,null,null,null,null,null,null,null,null,null,null,null,null,null,null,null,null,null,"Christova Raia","Bulgaria"]
[null,null,null,null,null,null,null,null,null,null,null,null,null,null,null,null,null,null,null,"Cibotariu Bogdan","Piatra Neamt"]
[null,null,null,null,null,null,null,null,null,null,null,null,null,null,null,null,null,null,null,"Cili Denis","Ludus"]
[null,null,null,null,null,null,null,null,null,null,null,null,null,null,null,null,null,null,null,"Cili Denisa","Ludus"]
[null,null,null,null,null,null,null,null,null,null,null,null,null,null,null,null,null,null,null,"Cilianu Vladut Gabriel","Bucuresti"]
[null,null,null,null,null,null,null,null,null,null,null,null,null,null,null,null,null,null,null,"Cimbru Andrei","Moinesti"]
[null,null,null,null,null,null,null,null,null,null,null,null,null,null,null,null,null,null,null,"Cimpanu Mihai","Roman"]
[null,null,null,null,null,null,null,null,null,null,null,null,null,null,null,null,null,null,null,"Cimpei Alexandru","Bucuresti"]
[null,null,null,null,null,null,null,null,null,null,null,null,null,null,null,null,null,null,null,"Cimpoes Bogdan","Moldova"]
[null,null,null,null,null,null,null,null,null,null,null,null,null,null,null,null,null,null,null,"Cimponeriu Ianis","Lugoj"]
[null,null,null,null,null,null,null,null,null,null,null,null,null,null,null,null,null,null,null,"Cindea Cristian","Medias"]
[null,null,null,null,null,null,null,null,null,null,null,null,null,null,null,null,null,null,null,"Ciobanu Adrian","Pitesti"]
[null,null,null,null,null,null,null,null,null,null,null,null,null,null,null,null,null,null,null,"Ciobanu Adrian","Brasov"]
[null,null,null,null,null,null,null,null,null,null,null,null,null,null,null,null,null,null,null,"Ciobanu Andrei","Iasi"]
[null,null,null,null,null,null,null,null,null,null,null,null,null,null,null,null,null,null,null,"Ciobanu Anton","Tuzla"]
[null,null,null,null,null,null,null,null,null,null,null,null,null,null,null,null,null,null,null,"Ciobanu Cosmin","Cristian SB"]
[null,null,null,null,null,null,null,null,null,null,null,null,null,null,null,null,null,null,null,"Ciobanu Daniel","Blaj"]
[null,null,null,null,null,null,null,null,null,null,null,null,null,null,null,null,null,null,null,"Ciobanu David Florin","Gura Humorului"]
[null,null,null,null,null,null,null,null,null,null,null,null,null,null,null,null,null,null,null,"Ciobanu Edi","Lugoj"]
[null,null,null,null,null,null,null,null,null,null,null,null,null,null,null,null,null,null,null,"Ciobanu Emilian","Moldova-Cahul"]
[null,null,null,null,null,null,null,null,null,null,null,null,null,null,null,null,null,null,null,"Ciobanu Gabriel","Cluj Napoca"]
[null,null,null,null,null,null,null,null,null,null,null,null,null,null,null,null,null,null,null,"Ciobanu Ioana","Pitesti"]
[null,null,null,null,null,null,null,null,null,null,null,null,null,null,null,null,null,null,null,"Ciobanu Marius","Iasi"]
[null,null,null,null,null,null,null,null,null,null,null,null,null,null,null,null,null,null,null,"Ciobanu Marius","Bucuresti"]
[null,null,null,null,null,null,null,null,null,null,null,null,null,null,null,null,null,null,null,"Ciobanu Mihail","Moldova-Vulcanesti"]
[null,null,null,null,null,null,null,null,null,null,null,null,null,null,null,null,null,null,null,"Ciobanu Sabin","Pascani"]
[null,null,null,null,null,null,null,null,null,null,null,null,null,null,null,null,null,null,null,"Ciobanu Sebastian","Mogosesti"]
[null,null,null,null,null,null,null,null,null,null,null,null,null,null,null,null,null,null,null,"Ciobescu Gabriel Radu","Targu Jiu"]
[null,null,null,null,null,null,null,null,null,null,null,null,null,null,null,null,null,null,null,"Cioboiu Dan","Craiova"]
[null,null,null,null,null,null,null,null,null,null,null,null,null,null,null,null,null,null,null,"Cioca Raul","Agnita"]
[null,null,null,null,null,null,null,null,null,null,null,null,null,null,null,null,null,null,null,"Ciocan Ion","Chiajna"]
[null,null,null,null,null,null,null,null,null,null,null,null,null,null,null,null,null,null,null,"Ciocan Ionut Cristian","Bacau"]
[null,null,null,null,null,null,null,null,null,null,null,null,null,null,null,null,null,null,null,"Ciocanel Stefan","Botosani"]
[null,null,null,null,null,null,null,null,null,null,null,null,null,null,null,null,null,null,null,"Ciocani Rafael","Sannicolau Mare"]
[null,null,null,null,null,null,null,null,null,null,null,null,null,null,null,null,null,null,null,"Ciocau Viorel","Bucuresti"]
[null,null,null,null,null,null,null,null,null,null,null,null,null,null,null,null,null,null,null,"Ciocirlan Mircea","Tulcea"]
[null,null,null,null,null,null,null,null,null,null,null,null,null,null,null,null,null,null,null,"Ciocoiu Alexandru","Brasov"]
[null,null,null,null,null,null,null,null,null,null,null,null,null,null,null,null,null,null,null,"Cioloca Stefan","Reghin"]
[null,null,null,null,null,null,null,null,null,null,null,null,null,null,null,null,null,null,null,"Ciolpan Doru","Iasi"]
[null,null,null,null,null,null,null,null,null,null,null,null,null,null,null,null,null,null,null,"Ciolpan Grigore","Viseu"]
[null,null,null,null,null,null,null,null,null,null,null,null,null,null,null,null,null,null,null,"Ciorasteanu Ionut","Brasov"]
[null,null,null,null,null,null,null,null,null,null,null,null,null,null,null,null,null,null,null,"Ciorlip Sorin","Hunedoara"]
[null,null,null,null,null,null,null,null,null,null,null,null,null,null,null,null,null,null,null,"Ciornuleta Denis Stefan","Focsani"]
[null,null,null,null,null,null,null,null,null,null,null,null,null,null,null,null,null,null,null,"Ciortan Catalin","Cluj Napoca"]
[null,null,null,null,null,null,null,null,null,null,null,null,null,null,null,null,null,null,null,"Ciortescu Cristi","Popeni"]
[null,null,null,null,null,null,null,null,null,null,null,null,null,null,null,null,null,null,null,"Ciortescu Mihai","Iasi"]
[null,null,null,null,null,null,null,null,null,null,null,null,null,null,null,null,null,null,null,"Ciotlaus Ilarie","Hunedoara"]
[null,null,null,null,null,null,null,null,null,null,null,null,null,null,null,null,null,null,null,"Cir Florin","Razboieni"]
[null,null,null,null,null,null,null,null,null,null,null,null,null,null,null,null,null,null,null,"Ciripan Camelia","Bucuresti"]
[null,null,null,null,null,null,null,null,null,null,null,null,null,null,null,null,null,null,null,"Cirja Anita","Arad"]
[null,null,null,null,null,null,null,null,null,null,null,null,null,null,null,null,null,null,null,"Cirja Florin","Cotoroaia"]
[null,null,null,null,null,null,null,null,null,null,null,null,null,null,null,null,null,null,null,"Cirja Sorin","Arad"]
[null,null,null,null,null,null,null,null,null,null,null,null,null,null,null,null,null,null,null,"Cirja Timea","Arad"]
[null,null,null,null,null,null,null,null,null,null,null,null,null,null,null,null,null,null,null,"Cirneci Mihai Georgian","Drobeta Tr Severin"]
[null,null,null,null,null,null,null,null,null,null,null,null,null,null,null,null,null,null,null,"Cirsmar Stefan","Siret"]
[null,null,null,null,null,null,null,null,null,null,null,null,null,null,null,null,null,null,null,"Cirstea Matei","Craiova"]
[null,null,null,null,null,null,null,null,null,null,null,null,null,null,null,null,null,null,null,"Cirstea Toni","Targu Jiu"]
[null,null,null,null,null,null,null,null,null,null,null,null,null,null,null,null,null,null,null,"Cisco Eldar","Moldova-Balti"]
[null,null,null,null,null,null,null,null,null,null,null,null,null,null,null,null,null,null,null,"Cisco Elina","Moldova-Balti"]
[null,null,null,null,null,null,null,null,null,null,null,null,null,null,null,null,null,null,null,"Ciubar Codrut","Bucuresti"]
[null,null,null,null,null,null,null,null,null,null,null,null,null,null,null,null,null,null,null,"Ciublea Vichente","Oravita"]
[null,null,null,null,null,null,null,null,null,null,null,null,null,null,null,null,null,null,null,"Ciubotariu Andrei","Moinesti"]
[null,null,null,null,null,null,null,null,null,null,null,null,null,null,null,null,null,null,null,"Ciubotaru Bogdan Florin","Bucuresti"]
[null,null,null,null,null,null,null,null,null,null,null,null,null,null,null,null,null,null,null,"Ciubotaru Dan","Piatra Neamt"]
[null,null,null,null,null,null,null,null,null,null,null,null,null,null,null,null,null,null,null,"Ciubotaru Leonas","Iasi"]
[null,null,null,null,null,null,null,null,null,null,null,null,null,null,null,null,null,null,null,"Ciuca Dan","Pitesti"]
[null,null,null,null,null,null,null,null,null,null,null,null,null,null,null,null,null,null,null,"Ciucioiu Dorin","Timisoara"]
[null,null,null,null,null,null,null,null,null,null,null,null,null,null,null,null,null,null,null,"Ciucu Pavel","Pitesti"]
[null,null,null,null,null,null,null,null,null,null,null,null,null,null,null,null,null,null,null,"Ciufudean Lucian","Cluj Napoca"]
[null,null,null,null,null,null,null,null,null,null,null,null,null,null,null,null,null,null,null,"Ciuguianu Marian","Curtea de Arges"]
[null,null,null,null,null,null,null,null,null,null,null,null,null,null,null,null,null,null,null,"Ciulei Adrian","Movila"]
[null,null,null,null,null,null,null,null,null,null,null,null,null,null,null,null,null,null,null,"Ciupe Alin","Zalau"]
[null,null,null,null,null,null,null,null,null,null,null,null,null,null,null,null,null,null,null,"Ciurca Ovidiu","Targu Mures"]
[null,null,null,null,null,null,null,null,null,null,null,null,null,null,null,null,null,null,null,"Ciurca Sorin","Tarnaveni"]
[null,null,null,null,null,null,null,null,null,null,null,null,null,null,null,null,null,null,null,"Ciurdea Danut","Mogoseni"]
[null,null,null,null,null,null,null,null,null,null,null,null,null,null,null,null,null,null,null,"Ciurdea Gheorghe","Mogosesti"]
[null,null,null,null,null,null,null,null,null,null,null,null,null,null,null,null,null,null,null,"Ciurdea Ionut","Mogoseni"]
[null,null,null,null,null,null,null,null,null,null,null,null,null,null,null,null,null,null,null,"Ciurez Vladimir","Bucuresti"]
[null,null,null,null,null,null,null,null,null,null,null,null,null,null,null,null,null,null,null,"Ciurlica Mugurel","Pascani"]
[null,null,null,null,null,null,null,null,null,null,null,null,null,null,null,null,null,null,null,"Ciutre Ioan","Zalau"]
[null,null,null,null,null,null,null,null,null,null,null,null,null,null,null,null,null,null,null,"Ciuverca Adrian","Satu Mare"]
[null,null,null,null,null,null,null,null,null,null,null,null,null,null,null,null,null,null,null,"Clej Alexandru","Arad"]
[null,null,null,null,null,null,null,null,null,null,null,null,null,null,null,null,null,null,null,"Clesiu Florin","Deva"]
[null,null,null,null,null,null,null,null,null,null,null,null,null,null,null,null,null,null,null,"Clisic Iosif","Sannicolau Mare"]
[null,null,null,null,null,null,null,null,null,null,null,null,null,null,null,null,null,null,null,"Clontea Mircea","Victoria"]
[null,null,null,null,null,null,null,null,null,null,null,null,null,null,null,null,null,null,null,"Coaja Andrei","Iasi"]
[null,null,null,null,null,null,null,null,null,null,null,null,null,null,null,null,null,null,null,"Coaja Constantin","Bucuresti"]
[null,null,null,null,null,null,null,null,null,null,null,null,null,null,null,null,null,null,null,"Coaja Matei","Bucuresti"]
[null,null,null,null,null,null,null,null,null,null,null,null,null,null,null,null,null,null,null,"Cobeanu Marius","Breaza"]
[null,null,null,null,null,null,null,null,null,null,null,null,null,null,null,null,null,null,null,"Cobzaru Radu","Deva"]
[null,null,null,null,null,null,null,null,null,null,null,null,null,null,null,null,null,null,null,"Coca Mircea","Topoloveni"]
[null,null,null,null,null,null,null,null,null,null,null,null,null,null,null,null,null,null,null,"Cocan Mircea","Bucuresti"]
[null,null,null,null,null,null,null,null,null,null,null,null,null,null,null,null,null,null,null,"Cocea Felix","Bucuresti"]
[null,null,null,null,null,null,null,null,null,null,null,null,null,null,null,null,null,null,null,"Cocea Radu","Bucuresti"]
[null,null,null,null,null,null,null,null,null,null,null,null,null,null,null,null,null,null,null,"Cocerva Nica","Moldova-Balti"]
[null,null,null,null,null,null,null,null,null,null,null,null,null,null,null,null,null,null,null,"Cocis Radu","Lunca Muresului"]
[null,null,null,null,null,null,null,null,null,null,null,null,null,null,null,null,null,null,null,"Coclea Ionel","Braila"]
[null,null,null,null,null,null,null,null,null,null,null,null,null,null,null,null,null,null,null,"Cocolos Alexandru","Bucuresti"]
[null,null,null,null,null,null,null,null,null,null,null,null,null,null,null,null,null,null,null,"Cocos Claudiu","Calan"]
[null,null,null,null,null,null,null,null,null,null,null,null,null,null,null,null,null,null,null,"Cocotan Vasile","Oltenita"]
[null,null,null,null,null,null,null,null,null,null,null,null,null,null,null,null,null,null,null,"Codau Vlad","Oradea"]
[null,null,null,null,null,null,null,null,null,null,null,null,null,null,null,null,null,null,null,"Codin Mihai","Bucuresti"]
[null,null,null,null,null,null,null,null,null,null,null,null,null,null,null,null,null,null,null,"Codreanu Daria","Bucuresti"]
[null,null,null,null,null,null,null,null,null,null,null,null,null,null,null,null,null,null,null,"Codreanu George","Tecuci"]
[null,null,null,null,null,null,null,null,null,null,null,null,null,null,null,null,null,null,null,"Codreanu Iulia","Vatra Dornei"]
[null,null,null,null,null,null,null,null,null,null,null,null,null,null,null,null,null,null,null,"Codreanu Laurentiu","Buzau"]
[null,null,null,null,null,null,null,null,null,null,null,null,null,null,null,null,null,null,null,"Cofari Eugen","Sovata"]
[null,null,null,null,null,null,null,null,null,null,null,null,null,null,null,null,null,null,null,"Coica Laurentia","Iasi"]
[null,null,null,null,null,null,null,null,null,null,null,null,null,null,null,null,null,null,null,"Coiov Nicolae","Arad"]
[null,null,null,null,null,null,null,null,null,null,null,null,null,null,null,null,null,null,null,"Cojanu Ciprian","Bucuresti"]
[null,null,null,null,null,null,null,null,null,null,null,null,null,null,null,null,null,null,null,"Cojocariu Vasile","Comanesti"]
[null,null,null,null,null,null,null,null,null,null,null,null,null,null,null,null,null,null,null,"Cojocaru Adrian","Suceava"]
[null,null,null,null,null,null,null,null,null,null,null,null,null,null,null,null,null,null,null,"Cojocaru Alexandru","Arad"]
[null,null,null,null,null,null,null,null,null,null,null,null,null,null,null,null,null,null,null,"Cojocaru Andru","Targoviste"]
[null,null,null,null,null,null,null,null,null,null,null,null,null,null,null,null,null,null,null,"Cojocaru Cosmin","Bucuresti"]
[null,null,null,null,null,null,null,null,null,null,null,null,null,null,null,null,null,null,null,"Cojocaru Cosmin","Breaza"]
[null,null,null,null,null,null,null,null,null,null,null,null,null,null,null,null,null,null,null,"Cojocaru Cristian","Targu Jiu"]
[null,null,null,null,null,null,null,null,null,null,null,null,null,null,null,null,null,null,null,"Cojocaru Didi","Ramnicu Valcea"]
[null,null,null,null,null,null,null,null,null,null,null,null,null,null,null,null,null,null,null,"Cojocaru Ion","Ploiesti"]
[null,null,null,null,null,null,null,null,null,null,null,null,null,null,null,null,null,null,null,"Cojocaru Mitica","Braila"]
[null,null,null,null,null,null,null,null,null,null,null,null,null,null,null,null,null,null,null,"Cojocaru Nicusor","Brasov"]
[null,null,null,null,null,null,null,null,null,null,null,null,null,null,null,null,null,null,null,"Cojocaru Stefan","Suceava"]
[null,null,null,null,null,null,null,null,null,null,null,null,null,null,null,null,null,null,null,"Cojocaru Stefan","Targu Jiu"]
[null,null,null,null,null,null,null,null,null,null,null,null,null,null,null,null,null,null,null,"Cojocea Florin","Cluj Napoca"]
[null,null,null,null,null,null,null,null,null,null,null,null,null,null,null,null,null,null,null,"Colcer Nicolae","Toplita"]
[null,null,null,null,null,null,null,null,null,null,null,null,null,null,null,null,null,null,null,"Colceru Paul","Comanesti"]
[null,null,null,null,null,null,null,null,null,null,null,null,null,null,null,null,null,null,null,"Colda Dorin","Lupeni"]
[null,null,null,null,null,null,null,null,null,null,null,null,null,null,null,null,null,null,null,"Colesniuc Romeo","Botosani"]
[null,null,null,null,null,null,null,null,null,null,null,null,null,null,null,null,null,null,null,"Colinicenco Denis","Moldova-Basarabeasca"]
[null,null,null,null,null,null,null,null,null,null,null,null,null,null,null,null,null,null,null,"Coltau Aurica","Salonta"]
[null,null,null,null,null,null,null,null,null,null,null,null,null,null,null,null,null,null,null,"Coman Alexandru","Bucuresti"]
[null,null,null,null,null,null,null,null,null,null,null,null,null,null,null,null,null,null,null,"Coman Denis","Cluj Napoca"]
[null,null,null,null,null,null,null,null,null,null,null,null,null,null,null,null,null,null,null,"Coman Florin","Bucuresti"]
[null,null,null,null,null,null,null,null,null,null,null,null,null,null,null,null,null,null,null,"Coman Gabriel","Bucuresti"]
[null,null,null,null,null,null,null,null,null,null,null,null,null,null,null,null,null,null,null,"Coman Mihaita","Harsova"]
[null,null,null,null,null,null,null,null,null,null,null,null,null,null,null,null,null,null,null,"Coman Radu","Campina"]
[null,null,null,null,null,null,null,null,null,null,null,null,null,null,null,null,null,null,null,"Coman Razvan","Lugoj"]
[null,null,null,null,null,null,null,null,null,null,null,null,null,null,null,null,null,null,null,"Coman Violeta","Brasov"]
[null,null,null,null,null,null,null,null,null,null,null,null,null,null,null,null,null,null,null,"Comanescu Marian","Branceni"]
[null,null,null,null,null,null,null,null,null,null,null,null,null,null,null,null,null,null,null,"Comanoiu Andrei","Bucuresti"]
[null,null,null,null,null,null,null,null,null,null,null,null,null,null,null,null,null,null,null,"Comanoiu Claudiu","Bucuresti"]
[null,null,null,null,null,null,null,null,null,null,null,null,null,null,null,null,null,null,null,"Comsa Aurel","Nedelea"]
[null,null,null,null,null,null,null,null,null,null,null,null,null,null,null,null,null,null,null,"Comsa Dan","Sibiu"]
[null,null,null,null,null,null,null,null,null,null,null,null,null,null,null,null,null,null,null,"Comsa George Alexandru","Tulcea"]
[null,null,null,null,null,null,null,null,null,null,null,null,null,null,null,null,null,null,null,"Condrea Nicolae","Alba Iulia"]
[null,null,null,null,null,null,null,null,null,null,null,null,null,null,null,null,null,null,null,"Congiu Luigi","Italia"]
[null,null,null,null,null,null,null,null,null,null,null,null,null,null,null,null,null,null,null,"Constantin Adrian","Craiova"]
[null,null,null,null,null,null,null,null,null,null,null,null,null,null,null,null,null,null,null,"Constantin Alexandru","Bucuresti"]
[null,null,null,null,null,null,null,null,null,null,null,null,null,null,null,null,null,null,null,"Constantin Alexandru","Filipestii de Targ"]
[null,null,null,null,null,null,null,null,null,null,null,null,null,null,null,null,null,null,null,"Constantin Alexandru","Cluj Napoca"]
[null,null,null,null,null,null,null,null,null,null,null,null,null,null,null,null,null,null,null,"Constantin Andrei","Buzau"]
[null,null,null,null,null,null,null,null,null,null,null,null,null,null,null,null,null,null,null,"Constantin Ciprian","Buzau"]
[null,null,null,null,null,null,null,null,null,null,null,null,null,null,null,null,null,null,null,"Constantin Cristian","Curtea de Arges"]
[null,null,null,null,null,null,null,null,null,null,null,null,null,null,null,null,null,null,null,"Constantin Cristina","Bucuresti"]
[null,null,null,null,null,null,null,null,null,null,null,null,null,null,null,null,null,null,null,"Constantin Daniel","Filipestii de Targ"]
[null,null,null,null,null,null,null,null,null,null,null,null,null,null,null,null,null,null,null,"Constantin Eduard","Bucuresti"]
[null,null,null,null,null,null,null,null,null,null,null,null,null,null,null,null,null,null,null,"Constantin Filip","Sinaia"]
[null,null,null,null,null,null,null,null,null,null,null,null,null,null,null,null,null,null,null,"Constantin Gabriela","Bucuresti"]
[null,null,null,null,null,null,null,null,null,null,null,null,null,null,null,null,null,null,null,"Constantin Ionut","Odobesti"]
[null,null,null,null,null,null,null,null,null,null,null,null,null,null,null,null,null,null,null,"Constantin Luca Andrei","Focsani"]
[null,null,null,null,null,null,null,null,null,null,null,null,null,null,null,null,null,null,null,"Constantin Mihaela","Bucuresti"]
[null,null,null,null,null,null,null,null,null,null,null,null,null,null,null,null,null,null,null,"Constantin Rares","Focsani"]
[null,null,null,null,null,null,null,null,null,null,null,null,null,null,null,null,null,null,null,"Constantin Teodor","Bucuresti"]
[null,null,null,null,null,null,null,null,null,null,null,null,null,null,null,null,null,null,null,"Constantin Valentin","Ploiesti"]
[null,null,null,null,null,null,null,null,null,null,null,null,null,null,null,null,null,null,null,"Constantin Vlad","Bucuresti"]
[null,null,null,null,null,null,null,null,null,null,null,null,null,null,null,null,null,null,null,"Constantinescu Gabriel","Bucuresti"]
[null,null,null,null,null,null,null,null,null,null,null,null,null,null,null,null,null,null,null,"Constantinescu Liviu","Curtea de Arges"]
[null,null,null,null,null,null,null,null,null,null,null,null,null,null,null,null,null,null,null,"Constantinescu Marius","Bucuresti"]
[null,null,null,null,null,null,null,null,null,null,null,null,null,null,null,null,null,null,null,"Constantinescu Valentin","Vizejdia"]
[null,null,null,null,null,null,null,null,null,null,null,null,null,null,null,null,null,null,null,"Cont Cosmin","Gherla"]
[null,null,null,null,null,null,null,null,null,null,null,null,null,null,null,null,null,null,null,"Cont Mircea","Hunedoara"]
[null,null,null,null,null,null,null,null,null,null,null,null,null,null,null,null,null,null,null,"Contes Vasile","Timisoara"]
[null,null,null,null,null,null,null,null,null,null,null,null,null,null,null,null,null,null,null,"Contiu Flaviu","Floresti"]
[null,null,null,null,null,null,null,null,null,null,null,null,null,null,null,null,null,null,null,"Contiu Mircea","Brasov"]
[null,null,null,null,null,null,null,null,null,null,null,null,null,null,null,null,null,null,null,"Copacinschi Raisa","Vaslui"]
[null,null,null,null,null,null,null,null,null,null,null,null,null,null,null,null,null,null,null,"Corabian Daniel","Cluj Napoca"]
[null,null,null,null,null,null,null,null,null,null,null,null,null,null,null,null,null,null,null,"Corbeanu David","Slatina"]
[null,null,null,null,null,null,null,null,null,null,null,null,null,null,null,null,null,null,null,"Corbu Darius","Valenii de Munte"]
[null,null,null,null,null,null,null,null,null,null,null,null,null,null,null,null,null,null,null,"Corbu Mihai Cosmin","Pitesti"]
[null,null,null,null,null,null,null,null,null,null,null,null,null,null,null,null,null,null,null,"Corburean Ioan","Tarnaveni"]
[null,null,null,null,null,null,null,null,null,null,null,null,null,null,null,null,null,null,null,"Cordun Eugen","Sibiu"]
[null,null,null,null,null,null,null,null,null,null,null,null,null,null,null,null,null,null,null,"Corduneanu Eduard","Suceava"]
[null,null,null,null,null,null,null,null,null,null,null,null,null,null,null,null,null,null,null,"Cornea Marian","Constanta"]
[null,null,null,null,null,null,null,null,null,null,null,null,null,null,null,null,null,null,null,"Corneanu Sorin","Botosani"]
[null,null,null,null,null,null,null,null,null,null,null,null,null,null,null,null,null,null,null,"Corniet Nicolai","Moldova-Balti"]
[null,null,null,null,null,null,null,null,null,null,null,null,null,null,null,null,null,null,null,"Coroama Mircea","Suceava"]
[null,null,null,null,null,null,null,null,null,null,null,null,null,null,null,null,null,null,null,"Corodeanu Mihai","Tecuci"]
[null,null,null,null,null,null,null,null,null,null,null,null,null,null,null,null,null,null,null,"Coroi Sergiu","Moldova-Leova"]
[null,null,null,null,null,null,null,null,null,null,null,null,null,null,null,null,null,null,null,"Coroiu Andrei","Roman"]
[null,null,null,null,null,null,null,null,null,null,null,null,null,null,null,null,null,null,null,"Coroiu Dan","Roman"]
[null,null,null,null,null,null,null,null,null,null,null,null,null,null,null,null,null,null,null,"Coroliuc Maria","Moldova-Balti"]
[null,null,null,null,null,null,null,null,null,null,null,null,null,null,null,null,null,null,null,"Coroncan Andrei","Targu Mures"]
[null,null,null,null,null,null,null,null,null,null,null,null,null,null,null,null,null,null,null,"Corozel Vasile","Barlad"]
[null,null,null,null,null,null,null,null,null,null,null,null,null,null,null,null,null,null,null,"Cosau Toader","Targu Neamt"]
[null,null,null,null,null,null,null,null,null,null,null,null,null,null,null,null,null,null,null,"Cosma Cosmin","Iasi"]
[null,null,null,null,null,null,null,null,null,null,null,null,null,null,null,null,null,null,null,"Cosmin Alexa","Cornetu"]
[null,null,null,null,null,null,null,null,null,null,null,null,null,null,null,null,null,null,null,"Cosmineanu Lucian","Baicoi"]
[null,null,null,null,null,null,null,null,null,null,null,null,null,null,null,null,null,null,null,"Costache Claudiu","Calarasi"]
[null,null,null,null,null,null,null,null,null,null,null,null,null,null,null,null,null,null,null,"Costache Dragos Valentin","Vadeni"]
[null,null,null,null,null,null,null,null,null,null,null,null,null,null,null,null,null,null,null,"Costache Rosioru Cristian","Timisoara"]
[null,null,null,null,null,null,null,null,null,null,null,null,null,null,null,null,null,null,null,"Costandache Narcis","Iasi"]
[null,null,null,null,null,null,null,null,null,null,null,null,null,null,null,null,null,null,null,"Coste Rafael","Lupeni"]
[null,null,null,null,null,null,null,null,null,null,null,null,null,null,null,null,null,null,null,"Costea Claudiu","Negresti Oas"]
[null,null,null,null,null,null,null,null,null,null,null,null,null,null,null,null,null,null,null,"Costea Constantin","Oradea"]
[null,null,null,null,null,null,null,null,null,null,null,null,null,null,null,null,null,null,null,"Costea Costin","Bucuresti"]
[null,null,null,null,null,null,null,null,null,null,null,null,null,null,null,null,null,null,null,"Costea Dominic","Medias"]
[null,null,null,null,null,null,null,null,null,null,null,null,null,null,null,null,null,null,null,"Costea Mircea","Alba Iulia"]
[null,null,null,null,null,null,null,null,null,null,null,null,null,null,null,null,null,null,null,"Costea Stefan","Tarnaveni"]
[null,null,null,null,null,null,null,null,null,null,null,null,null,null,null,null,null,null,null,"Costeant Tiberiu","Margina"]
[null,null,null,null,null,null,null,null,null,null,null,null,null,null,null,null,null,null,null,"Costin Bogdan","Iasi"]
[null,null,null,null,null,null,null,null,null,null,null,null,null,null,null,null,null,null,null,"Costin Filip","Iasi"]
[null,null,null,null,null,null,null,null,null,null,null,null,null,null,null,null,null,null,null,"Cotca Dacian","Oradea"]
[null,null,null,null,null,null,null,null,null,null,null,null,null,null,null,null,null,null,null,"Cotet George","Pascani"]
[null,null,null,null,null,null,null,null,null,null,null,null,null,null,null,null,null,null,null,"Cotet Nicolae","Braila"]
[null,null,null,null,null,null,null,null,null,null,null,null,null,null,null,null,null,null,null,"Cotoara Daniel","Iasi"]
[null,null,null,null,null,null,null,null,null,null,null,null,null,null,null,null,null,null,null,"Cotoara Toader","Suceava"]
[null,null,null,null,null,null,null,null,null,null,null,null,null,null,null,null,null,null,null,"Cotos Maria","Straja"]
[null,null,null,null,null,null,null,null,null,null,null,null,null,null,null,null,null,null,null,"Cotruta Alexandru Florin","Vaslui"]
[null,null,null,null,null,null,null,null,null,null,null,null,null,null,null,null,null,null,null,"Cotun Leo","Suceava"]
[null,null,null,null,null,null,null,null,null,null,null,null,null,null,null,null,null,null,null,"Covaci Eduardo","Arad"]
[null,null,null,null,null,null,null,null,null,null,null,null,null,null,null,null,null,null,null,"Covaci Vasile","Sighisoara"]
[null,null,null,null,null,null,null,null,null,null,null,null,null,null,null,null,null,null,null,"Covalciuc Bogdan","Iasi"]
[null,null,null,null,null,null,null,null,null,null,null,null,null,null,null,null,null,null,null,"Covasa Gloria","Pascani"]
[null,null,null,null,null,null,null,null,null,null,null,null,null,null,null,null,null,null,null,"Cozma Adrian","Targu Neamt"]
[null,null,null,null,null,null,null,null,null,null,null,null,null,null,null,null,null,null,null,"Cozma Catalin","Falticeni"]
[null,null,null,null,null,null,null,null,null,null,null,null,null,null,null,null,null,null,null,"Cozma Dan","Dej"]
[null,null,null,null,null,null,null,null,null,null,null,null,null,null,null,null,null,null,null,"Cozma David","Moldova-Comrat"]
[null,null,null,null,null,null,null,null,null,null,null,null,null,null,null,null,null,null,null,"Cozma Delia","Bistrita"]
[null,null,null,null,null,null,null,null,null,null,null,null,null,null,null,null,null,null,null,"Cozma Florina","Baia Mare"]
[null,null,null,null,null,null,null,null,null,null,null,null,null,null,null,null,null,null,null,"Cozma Georgiana","Bistrita"]
[null,null,null,null,null,null,null,null,null,null,null,null,null,null,null,null,null,null,null,"Cozma Gheorghe","Bistrita"]
[null,null,null,null,null,null,null,null,null,null,null,null,null,null,null,null,null,null,null,"Cozma Ioan","Buhusi"]
[null,null,null,null,null,null,null,null,null,null,null,null,null,null,null,null,null,null,null,"Cozma Maria","Dej"]
[null,null,null,null,null,null,null,null,null,null,null,null,null,null,null,null,null,null,null,"Cozma Stefan","Apahida"]
[null,null,null,null,null,null,null,null,null,null,null,null,null,null,null,null,null,null,null,"Cracana Ionut","Targu Neamt"]
[null,null,null,null,null,null,null,null,null,null,null,null,null,null,null,null,null,null,null,"Cracanel Gerard","Agnita"]
[null,null,null,null,null,null,null,null,null,null,null,null,null,null,null,null,null,null,null,"Cracanel Gerard Sr","Agnita"]
[null,null,null,null,null,null,null,null,null,null,null,null,null,null,null,null,null,null,null,"Craciun Calin","Oradea"]
[null,null,null,null,null,null,null,null,null,null,null,null,null,null,null,null,null,null,null,"Craciun David Mihai","Bucuresti"]
[null,null,null,null,null,null,null,null,null,null,null,null,null,null,null,null,null,null,null,"Craciun Dragos","Filipestii de Targ"]
[null,null,null,null,null,null,null,null,null,null,null,null,null,null,null,null,null,null,null,"Craciun Mihaita","Brasov"]
[null,null,null,null,null,null,null,null,null,null,null,null,null,null,null,null,null,null,null,"Craciun Rafael","Videle"]
[null,null,null,null,null,null,null,null,null,null,null,null,null,null,null,null,null,null,null,"Craciun Roberto","Videle"]
[null,null,null,null,null,null,null,null,null,null,null,null,null,null,null,null,null,null,null,"Craciunel Rares Andrei","Giroc"]
[null,null,null,null,null,null,null,null,null,null,null,null,null,null,null,null,null,null,null,"Craciunescu Mihai","Calarasi"]
[null,null,null,null,null,null,null,null,null,null,null,null,null,null,null,null,null,null,null,"Craciunescu Vlad","Bucuresti"]
[null,null,null,null,null,null,null,null,null,null,null,null,null,null,null,null,null,null,null,"Craciunica Gabriel","Calarasi"]
[null,null,null,null,null,null,null,null,null,null,null,null,null,null,null,null,null,null,null,"Crainic Adrian","Orastie"]
[null,null,null,null,null,null,null,null,null,null,null,null,null,null,null,null,null,null,null,"Craiovan Victor","Resita"]
[null,null,null,null,null,null,null,null,null,null,null,null,null,null,null,null,null,null,null,"Craiu Catalin","Videle"]
[null,null,null,null,null,null,null,null,null,null,null,null,null,null,null,null,null,null,null,"Craja Gina Alexandra","Bucuresti"]
[null,null,null,null,null,null,null,null,null,null,null,null,null,null,null,null,null,null,null,"Cramba Cristinel","Iasi"]
[null,null,null,null,null,null,null,null,null,null,null,null,null,null,null,null,null,null,null,"Cranta Andrei","Bucuresti"]
[null,null,null,null,null,null,null,null,null,null,null,null,null,null,null,null,null,null,null,"Cranta Gabriel","Bucuresti"]
[null,null,null,null,null,null,null,null,null,null,null,null,null,null,null,null,null,null,null,"Crasnojon Alexandra","Moldova-Balti"]
[null,null,null,null,null,null,null,null,null,null,null,null,null,null,null,null,null,null,null,"Crasnoscec Alexandr","Moldova-Vulcanesti"]
[null,null,null,null,null,null,null,null,null,null,null,null,null,null,null,null,null,null,null,"Craus Marian","Bucuresti"]
[null,null,null,null,null,null,null,null,null,null,null,null,null,null,null,null,null,null,null,"Cravcenco Dmitrii","Ucraina-Kiev"]
[null,null,null,null,null,null,null,null,null,null,null,null,null,null,null,null,null,null,null,"Creta Petru","Luna CJ"]
[null,null,null,null,null,null,null,null,null,null,null,null,null,null,null,null,null,null,null,"Cretan Radu","Bucuresti"]
[null,null,null,null,null,null,null,null,null,null,null,null,null,null,null,null,null,null,null,"Cretu Catalin","Floresti"]
[null,null,null,null,null,null,null,null,null,null,null,null,null,null,null,null,null,null,null,"Cretu Ionut","Bucuresti"]
[null,null,null,null,null,null,null,null,null,null,null,null,null,null,null,null,null,null,null,"Cretu Ionut","Bacau"]
[null,null,null,null,null,null,null,null,null,null,null,null,null,null,null,null,null,null,null,"Cretu Marian","Craiova"]
[null,null,null,null,null,null,null,null,null,null,null,null,null,null,null,null,null,null,null,"Cretu Ricardo","Luna CJ"]
[null,null,null,null,null,null,null,null,null,null,null,null,null,null,null,null,null,null,null,"Crihan Tudor","Bucuresti"]
[null,null,null,null,null,null,null,null,null,null,null,null,null,null,null,null,null,null,null,"Crihana Ciprian","Bucuresti"]
[null,null,null,null,null,null,null,null,null,null,null,null,null,null,null,null,null,null,null,"Crippa Beatrice","Lombardia Italia"]
[null,null,null,null,null,null,null,null,null,null,null,null,null,null,null,null,null,null,null,"Crisan Alexandru","Cluj Napoca"]
[null,null,null,null,null,null,null,null,null,null,null,null,null,null,null,null,null,null,null,"Crisan Alexandru","Oradea"]
[null,null,null,null,null,null,null,null,null,null,null,null,null,null,null,null,null,null,null,"Crisan Beniamin","Sighetu Marmatiei"]
[null,null,null,null,null,null,null,null,null,null,null,null,null,null,null,null,null,null,null,"Crisan Casian","Agnita"]
[null,null,null,null,null,null,null,null,null,null,null,null,null,null,null,null,null,null,null,"Crisan Cristian","Oradea"]
[null,null,null,null,null,null,null,null,null,null,null,null,null,null,null,null,null,null,null,"Crisan Matei","Focsani"]
[null,null,null,null,null,null,null,null,null,null,null,null,null,null,null,null,null,null,null,"Crisan Ovidiu","Cluj Napoca"]
[null,null,null,null,null,null,null,null,null,null,null,null,null,null,null,null,null,null,null,"Crisan Ovidiu","Sibiu"]
[null,null,null,null,null,null,null,null,null,null,null,null,null,null,null,null,null,null,null,"Crisan Patrik","Oradea"]
[null,null,null,null,null,null,null,null,null,null,null,null,null,null,null,null,null,null,null,"Crisan Romeo","Estelnic"]
[null,null,null,null,null,null,null,null,null,null,null,null,null,null,null,null,null,null,null,"Crisan Tihamer","Valea Scurta"]
[null,null,null,null,null,null,null,null,null,null,null,null,null,null,null,null,null,null,null,"Cristache George","Bucuresti"]
[null,null,null,null,null,null,null,null,null,null,null,null,null,null,null,null,null,null,null,"Cristanus Cristian","Timisoara"]
[null,null,null,null,null,null,null,null,null,null,null,null,null,null,null,null,null,null,null,"Criste Mihai Marius","Cluj Napoca"]
[null,null,null,null,null,null,null,null,null,null,null,null,null,null,null,null,null,null,null,"Cristea Adrian","Bucuresti"]
[null,null,null,null,null,null,null,null,null,null,null,null,null,null,null,null,null,null,null,"Cristea Alexandru Costin","Bucuresti"]
[null,null,null,null,null,null,null,null,null,null,null,null,null,null,null,null,null,null,null,"Cristea Alin Mihai","Bucuresti"]
[null,null,null,null,null,null,null,null,null,null,null,null,null,null,null,null,null,null,null,"Cristea Andrei Cosmin","Aiud"]
[null,null,null,null,null,null,null,null,null,null,null,null,null,null,null,null,null,null,null,"Cristea Calin","Cluj Napoca"]
[null,null,null,null,null,null,null,null,null,null,null,null,null,null,null,null,null,null,null,"Cristea Calin","Targu Mures"]
[null,null,null,null,null,null,null,null,null,null,null,null,null,null,null,null,null,null,null,"Cristea Catalina","Bucuresti"]
[null,null,null,null,null,null,null,null,null,null,null,null,null,null,null,null,null,null,null,"Cristea Cristian Claudiu","Blaj"]
[null,null,null,null,null,null,null,null,null,null,null,null,null,null,null,null,null,null,null,"Cristea Daniel","Bistrita"]
[null,null,null,null,null,null,null,null,null,null,null,null,null,null,null,null,null,null,null,"Cristea Gabriel","Straoane"]
[null,null,null,null,null,null,null,null,null,null,null,null,null,null,null,null,null,null,null,"Cristea Ovidiu","Bucuresti"]
[null,null,null,null,null,null,null,null,null,null,null,null,null,null,null,null,null,null,null,"Cristea Virgil","Cugir"]
[null,null,null,null,null,null,null,null,null,null,null,null,null,null,null,null,null,null,null,"Cristescu Cristian","Bucuresti"]
[null,null,null,null,null,null,null,null,null,null,null,null,null,null,null,null,null,null,null,"Cristian Enache","Bucuresti"]
[null,null,null,null,null,null,null,null,null,null,null,null,null,null,null,null,null,null,null,"Cristian Vasile","Harsova"]
[null,null,null,null,null,null,null,null,null,null,null,null,null,null,null,null,null,null,null,"Cristofor Razvan","Moinesti"]
[null,null,null,null,null,null,null,null,null,null,null,null,null,null,null,null,null,null,null,"Cristoiu Cozmin","Bucuresti"]
[null,null,null,null,null,null,null,null,null,null,null,null,null,null,null,null,null,null,null,"Crivat Matei","Bucuresti"]
[null,null,null,null,null,null,null,null,null,null,null,null,null,null,null,null,null,null,null,"Croitoru Adrian Nicolae","Brasov"]
[null,null,null,null,null,null,null,null,null,null,null,null,null,null,null,null,null,null,null,"Croitoru Alexandru","Iasi"]
[null,null,null,null,null,null,null,null,null,null,null,null,null,null,null,null,null,null,null,"Croitoru Alin","Brasov"]
[null,null,null,null,null,null,null,null,null,null,null,null,null,null,null,null,null,null,null,"Croitoru Bogdan","Constanta"]
[null,null,null,null,null,null,null,null,null,null,null,null,null,null,null,null,null,null,null,"Croitoru Carli","Craiova"]
[null,null,null,null,null,null,null,null,null,null,null,null,null,null,null,null,null,null,null,"Croitoru Daniel","Craiova"]
[null,null,null,null,null,null,null,null,null,null,null,null,null,null,null,null,null,null,null,"Croitoru Doru","Vaslui"]
[null,null,null,null,null,null,null,null,null,null,null,null,null,null,null,null,null,null,null,"Croitoru Gabriel","Craiova"]
[null,null,null,null,null,null,null,null,null,null,null,null,null,null,null,null,null,null,null,"Croitoru Ianiss","Brasov"]
[null,null,null,null,null,null,null,null,null,null,null,null,null,null,null,null,null,null,null,"Croitoru Ionut","Iasi"]
[null,null,null,null,null,null,null,null,null,null,null,null,null,null,null,null,null,null,null,"Cruceru Ion","Ramnicu Sarat"]
[null,null,null,null,null,null,null,null,null,null,null,null,null,null,null,null,null,null,null,"Cruceru Sergiu","Targu Jiu"]
[null,null,null,null,null,null,null,null,null,null,null,null,null,null,null,null,null,null,null,"Crutian Alexei","Moldova-Balti"]
[null,null,null,null,null,null,null,null,null,null,null,null,null,null,null,null,null,null,null,"Csaki Zsolt","Tomesti"]
[null,null,null,null,null,null,null,null,null,null,null,null,null,null,null,null,null,null,null,"Csaky Tiberiu","Resita"]
[null,null,null,null,null,null,null,null,null,null,null,null,null,null,null,null,null,null,null,"Csatlos Bela","Toplita"]
[null,null,null,null,null,null,null,null,null,null,null,null,null,null,null,null,null,null,null,"Csefko Tibi","Giroc"]
[null,null,null,null,null,null,null,null,null,null,null,null,null,null,null,null,null,null,null,"Cserei Gabor","Sovata"]
[null,null,null,null,null,null,null,null,null,null,null,null,null,null,null,null,null,null,null,"Cserei Stefan","Apahida"]
[null,null,null,null,null,null,null,null,null,null,null,null,null,null,null,null,null,null,null,"Csibi Arpad","Ditrau"]
[null,null,null,null,null,null,null,null,null,null,null,null,null,null,null,null,null,null,null,"Csibi Razvan","Lunca Muresului"]
[null,null,null,null,null,null,null,null,null,null,null,null,null,null,null,null,null,null,null,"Csiki Alexandru","Tarnaveni"]
[null,null,null,null,null,null,null,null,null,null,null,null,null,null,null,null,null,null,null,"Csiki Ioan","Targu Mures"]
[null,null,null,null,null,null,null,null,null,null,null,null,null,null,null,null,null,null,null,"Csiki Sandor","Cluj Napoca"]
[null,null,null,null,null,null,null,null,null,null,null,null,null,null,null,null,null,null,null,"Csiszer Sandor","Targu Mures"]
[null,null,null,null,null,null,null,null,null,null,null,null,null,null,null,null,null,null,null,"Csiszer Tibor","Sighisoara"]
[null,null,null,null,null,null,null,null,null,null,null,null,null,null,null,null,null,null,null,"Csoka Andras","Hunedoara"]
[null,null,null,null,null,null,null,null,null,null,null,null,null,null,null,null,null,null,null,"Csokany Gheorghe","Sannicolau Mare"]
[null,null,null,null,null,null,null,null,null,null,null,null,null,null,null,null,null,null,null,"Csorbai Lorand","Sanpaul"]
[null,null,null,null,null,null,null,null,null,null,null,null,null,null,null,null,null,null,null,"Csulak Jozsef","Sfantu Gheorghe"]
[null,null,null,null,null,null,null,null,null,null,null,null,null,null,null,null,null,null,null,"Csurulya Gyula","Miercurea Ciuc"]
[null,null,null,null,null,null,null,null,null,null,null,null,null,null,null,null,null,null,null,"Cuc Remus","Hotarel"]
[null,null,null,null,null,null,null,null,null,null,null,null,null,null,null,null,null,null,null,"Cucereavaia Natalia","Moldova-Balti"]
[null,null,null,null,null,null,null,null,null,null,null,null,null,null,null,null,null,null,null,"Cuciureanu Daniel","Ploiesti"]
[null,null,null,null,null,null,null,null,null,null,null,null,null,null,null,null,null,null,null,"Cucu Gabriela","Brasov"]
[null,null,null,null,null,null,null,null,null,null,null,null,null,null,null,null,null,null,null,"Cucu Ioan Emanuel","Brasov"]
[null,null,null,null,null,null,null,null,null,null,null,null,null,null,null,null,null,null,null,"Cucurigu Paul","Vatra Dornei"]
[null,null,null,null,null,null,null,null,null,null,null,null,null,null,null,null,null,null,null,"Cudalbu Ciprian","Ploiesti"]
[null,null,null,null,null,null,null,null,null,null,null,null,null,null,null,null,null,null,null,"Cuiumju Victor","Moldova-Vulcanesti"]
[null,null,null,null,null,null,null,null,null,null,null,null,null,null,null,null,null,null,null,"Culda Andrei","Oradea"]
[null,null,null,null,null,null,null,null,null,null,null,null,null,null,null,null,null,null,null,"Cumpaniciu Alin","Barlad"]
[null,null,null,null,null,null,null,null,null,null,null,null,null,null,null,null,null,null,null,"Cuna Gheorghe","Buzau"]
[null,null,null,null,null,null,null,null,null,null,null,null,null,null,null,null,null,null,null,"Cuntan Ioan","Saliste"]
[null,null,null,null,null,null,null,null,null,null,null,null,null,null,null,null,null,null,null,"Curaciuc Claudiu","Resita"]
[null,null,null,null,null,null,null,null,null,null,null,null,null,null,null,null,null,null,null,"Curcin Vladimir","Varset"]
[null,null,null,null,null,null,null,null,null,null,null,null,null,null,null,null,null,null,null,"Curelea Andrei","Bucuresti"]
[null,null,null,null,null,null,null,null,null,null,null,null,null,null,null,null,null,null,null,"Curelea Petre","Lehliu Gara"]
[null,null,null,null,null,null,null,null,null,null,null,null,null,null,null,null,null,null,null,"Curinnoi Andrei","Moldova-Balti"]
[null,null,null,null,null,null,null,null,null,null,null,null,null,null,null,null,null,null,null,"Curpas Ioan","Oradea"]
[null,null,null,null,null,null,null,null,null,null,null,null,null,null,null,null,null,null,null,"Curtea Daniel","Viseu"]
[null,null,null,null,null,null,null,null,null,null,null,null,null,null,null,null,null,null,null,"Curtea Lucas","Viseu"]
[null,null,null,null,null,null,null,null,null,null,null,null,null,null,null,null,null,null,null,"Curtut Cezar","Arad"]
[null,null,null,null,null,null,null,null,null,null,null,null,null,null,null,null,null,null,null,"Curut Gabriel","Timisoara"]
[null,null,null,null,null,null,null,null,null,null,null,null,null,null,null,null,null,null,null,"Curutiu Corin","Dumbraveni SB"]
[null,null,null,null,null,null,null,null,null,null,null,null,null,null,null,null,null,null,null,"Curutiu Traian","Dumbraveni SB"]
[null,null,null,null,null,null,null,null,null,null,null,null,null,null,null,null,null,null,null,"Cusmir Raul","Oradea"]
[null,null,null,null,null,null,null,null,null,null,null,null,null,null,null,null,null,null,null,"Cut Dan","Caransebes"]
[null,null,null,null,null,null,null,null,null,null,null,null,null,null,null,null,null,null,null,"Cutar Ionut","Targoviste"]
[null,null,null,null,null,null,null,null,null,null,null,null,null,null,null,null,null,null,null,"Cutcovschi Damian","Moldova"]
[null,null,null,null,null,null,null,null,null,null,null,null,null,null,null,null,null,null,null,"Cuzincu Iulian","Bucuresti"]
[null,null,null,null,null,null,null,null,null,null,null,null,null,null,null,null,null,null,null,"Cuzmin Gabriel","Navodari"]
[null,null,null,null,null,null,null,null,null,null,null,null,null,null,null,null,null,null,null,"Cuznetova Polina","Moldova-Comrat"]
[null,null,null,null,null,null,null,null,null,null,null,null,null,null,null,null,null,null,null,"Czigler Albert","Supuru de jos"]
[null,null,null,null,null,null,null,null,null,null,null,null,null,null,null,null,null,null,null,"Czimbalmos Gyula","Lazarea"]
[null,null,null,null,null,null,null,null,null,null,null,null,null,null,null,null,null,null,null,"Dabacan Dorin","Tarnaveni"]
[null,null,null,null,null,null,null,null,null,null,null,null,null,null,null,null,null,null,null,"Dabija Razvan","Iasi"]
[null,null,null,null,null,null,null,null,null,null,null,null,null,null,null,null,null,null,null,"Dabu Alex","Bucuresti"]
[null,null,null,null,null,null,null,null,null,null,null,null,null,null,null,null,null,null,null,"Dabucean Matei","Hateg"]
[null,null,null,null,null,null,null,null,null,null,null,null,null,null,null,null,null,null,null,"Daia Cristina","Bucuresti"]
[null,null,null,null,null,null,null,null,null,null,null,null,null,null,null,null,null,null,null,"Daianu Ion","Timisoara"]
[null,null,null,null,null,null,null,null,null,null,null,null,null,null,null,null,null,null,null,"Daineanu Paul","Constanta"]
[null,null,null,null,null,null,null,null,null,null,null,null,null,null,null,null,null,null,null,"Dalalau Dora","Targu Mures"]
[null,null,null,null,null,null,null,null,null,null,null,null,null,null,null,null,null,null,null,"Damian Alin","Campia Turzii"]
[null,null,null,null,null,null,null,null,null,null,null,null,null,null,null,null,null,null,null,"Damian Gelu","Comanesti"]
[null,null,null,null,null,null,null,null,null,null,null,null,null,null,null,null,null,null,null,"Damian Mircea","Bistrita"]
[null,null,null,null,null,null,null,null,null,null,null,null,null,null,null,null,null,null,null,"Damian Sebastian","Paulesti"]
[null,null,null,null,null,null,null,null,null,null,null,null,null,null,null,null,null,null,null,"Damian Toma","Comanesti"]
[null,null,null,null,null,null,null,null,null,null,null,null,null,null,null,null,null,null,null,"Damian Vasile","Nasaud"]
[null,null,null,null,null,null,null,null,null,null,null,null,null,null,null,null,null,null,null,"Damoc George","Pildesti"]
[null,null,null,null,null,null,null,null,null,null,null,null,null,null,null,null,null,null,null,"Damse Daniel","Oradea"]
[null,null,null,null,null,null,null,null,null,null,null,null,null,null,null,null,null,null,null,"Dan Alexandru","Alexandria"]
[null,null,null,null,null,null,null,null,null,null,null,null,null,null,null,null,null,null,null,"Dan Bogdan","Orastie"]
[null,null,null,null,null,null,null,null,null,null,null,null,null,null,null,null,null,null,null,"Dan Radu","Zalau"]
[null,null,null,null,null,null,null,null,null,null,null,null,null,null,null,null,null,null,null,"Danalache Daniel","Navodari"]
[null,null,null,null,null,null,null,null,null,null,null,null,null,null,null,null,null,null,null,"Danca Cezar","Navodari"]
[null,null,null,null,null,null,null,null,null,null,null,null,null,null,null,null,null,null,null,"Dancioiu Antonio","Targoviste"]
[null,null,null,null,null,null,null,null,null,null,null,null,null,null,null,null,null,null,null,"Danciu Beatrice","Brasov"]
[null,null,null,null,null,null,null,null,null,null,null,null,null,null,null,null,null,null,null,"Dancu Luminita","Sibiu"]
[null,null,null,null,null,null,null,null,null,null,null,null,null,null,null,null,null,null,null,"Dancu Luminita","Medias"]
[null,null,null,null,null,null,null,null,null,null,null,null,null,null,null,null,null,null,null,"Daneliuc Gabi","Selimbar"]
[null,null,null,null,null,null,null,null,null,null,null,null,null,null,null,null,null,null,null,"Danescu Emil Dan","Ploiesti"]
[null,null,null,null,null,null,null,null,null,null,null,null,null,null,null,null,null,null,null,"Danescu Marius","Dumbraveni SB"]
[null,null,null,null,null,null,null,null,null,null,null,null,null,null,null,null,null,null,null,"Dangulea Tudor","Dumbraveni SB"]
[null,null,null,null,null,null,null,null,null,null,null,null,null,null,null,null,null,null,null,"Dani Darko","Pancevo"]
[null,null,null,null,null,null,null,null,null,null,null,null,null,null,null,null,null,null,null,"Dani Leo","Arad"]
[null,null,null,null,null,null,null,null,null,null,null,null,null,null,null,null,null,null,null,"Danila Alexandru","Cugir"]
[null,null,null,null,null,null,null,null,null,null,null,null,null,null,null,null,null,null,null,"Danila Eugeniu","Bucuresti"]
[null,null,null,null,null,null,null,null,null,null,null,null,null,null,null,null,null,null,null,"Danila Florin","Cugir"]
[null,null,null,null,null,null,null,null,null,null,null,null,null,null,null,null,null,null,null,"Dansolean Stefan","Cluj Napoca"]
[null,null,null,null,null,null,null,null,null,null,null,null,null,null,null,null,null,null,null,"Danu Ion","Moldova-Balti"]
[null,null,null,null,null,null,null,null,null,null,null,null,null,null,null,null,null,null,null,"Daraba Gabriel","Botosani"]
[null,null,null,null,null,null,null,null,null,null,null,null,null,null,null,null,null,null,null,"Dari Valeriu","Moldova-Cahul"]
[null,null,null,null,null,null,null,null,null,null,null,null,null,null,null,null,null,null,null,"Darie Gabriel","Comanesti"]
[null,null,null,null,null,null,null,null,null,null,null,null,null,null,null,null,null,null,null,"Darmaz Ion","Targoviste"]
[null,null,null,null,null,null,null,null,null,null,null,null,null,null,null,null,null,null,null,"Daroiu Augustin","Bucuresti"]
[null,null,null,null,null,null,null,null,null,null,null,null,null,null,null,null,null,null,null,"Darosi Alin","Bistrita"]
[null,null,null,null,null,null,null,null,null,null,null,null,null,null,null,null,null,null,null,"Darosi Robert","Bistrita"]
[null,null,null,null,null,null,null,null,null,null,null,null,null,null,null,null,null,null,null,"Daroti Florin","Lipova"]
[null,null,null,null,null,null,null,null,null,null,null,null,null,null,null,null,null,null,null,"Darvasi Ibolya","Salonta"]
[null,null,null,null,null,null,null,null,null,null,null,null,null,null,null,null,null,null,null,"Dasca Laurentiu","Bucuresti"]
[null,null,null,null,null,null,null,null,null,null,null,null,null,null,null,null,null,null,null,"Dascal Tiberiu","Cluj Napoca"]
[null,null,null,null,null,null,null,null,null,null,null,null,null,null,null,null,null,null,null,"Dascalasu Viorel","Bucuresti"]
[null,null,null,null,null,null,null,null,null,null,null,null,null,null,null,null,null,null,null,"Dascalu Cosmin Stefan","Cluj Napoca"]
[null,null,null,null,null,null,null,null,null,null,null,null,null,null,null,null,null,null,null,"Dascalu Cristian","Bucuresti"]
[null,null,null,null,null,null,null,null,null,null,null,null,null,null,null,null,null,null,null,"Dascalu Matei","Buhusi"]
[null,null,null,null,null,null,null,null,null,null,null,null,null,null,null,null,null,null,null,"Dascalu Sergiu","Vorona"]
[null,null,null,null,null,null,null,null,null,null,null,null,null,null,null,null,null,null,null,"David Andrei","Slobozia"]
[null,null,null,null,null,null,null,null,null,null,null,null,null,null,null,null,null,null,null,"David Marian","Braila"]
[null,null,null,null,null,null,null,null,null,null,null,null,null,null,null,null,null,null,null,"David Sergiu Danut","Bucuresti"]
[null,null,null,null,null,null,null,null,null,null,null,null,null,null,null,null,null,null,null,"David Zoltan","Floresti"]
[null,null,null,null,null,null,null,null,null,null,null,null,null,null,null,null,null,null,null,"Davidoiu Emma","Cluj Napoca"]
[null,null,null,null,null,null,null,null,null,null,null,null,null,null,null,null,null,null,null,"Davydov Valerii","Ucraina-Kiev"]
[null,null,null,null,null,null,null,null,null,null,null,null,null,null,null,null,null,null,null,"Deabluc Samuel","Dumbraveni SV"]
[null,null,null,null,null,null,null,null,null,null,null,null,null,null,null,null,null,null,null,"Deac Adrian","Dumbravita"]
[null,null,null,null,null,null,null,null,null,null,null,null,null,null,null,null,null,null,null,"Deac Isabela","Dumbravita"]
[null,null,null,null,null,null,null,null,null,null,null,null,null,null,null,null,null,null,null,"Deac Octavian","Dumbraveni SB"]
[null,null,null,null,null,null,null,null,null,null,null,null,null,null,null,null,null,null,null,"Deac Vasile","Ianova"]
[null,null,null,null,null,null,null,null,null,null,null,null,null,null,null,null,null,null,null,"Deaconu Adrian","Sibiu"]
[null,null,null,null,null,null,null,null,null,null,null,null,null,null,null,null,null,null,null,"Deaconu Lucian","Curtea de Arges"]
[null,null,null,null,null,null,null,null,null,null,null,null,null,null,null,null,null,null,null,"Deak Sandor","Cluj Napoca"]
[null,null,null,null,null,null,null,null,null,null,null,null,null,null,null,null,null,null,null,"Deak Valentin","Sebis"]
[null,null,null,null,null,null,null,null,null,null,null,null,null,null,null,null,null,null,null,"Decean Darian","Sibiu"]
[null,null,null,null,null,null,null,null,null,null,null,null,null,null,null,null,null,null,null,"Decsei Emma","Ludus"]
[null,null,null,null,null,null,null,null,null,null,null,null,null,null,null,null,null,null,null,"Defta Mihai","Iedera"]
[null,null,null,null,null,null,null,null,null,null,null,null,null,null,null,null,null,null,null,"Degau Toni","Stei"]
[null,null,null,null,null,null,null,null,null,null,null,null,null,null,null,null,null,null,null,"Degianschi Obrad","Resita"]
[null,null,null,null,null,null,null,null,null,null,null,null,null,null,null,null,null,null,null,"Dehelean Alexandru","Dumbravita"]
[null,null,null,null,null,null,null,null,null,null,null,null,null,null,null,null,null,null,null,"Dehelean Octavian","Timisoara"]
[null,null,null,null,null,null,null,null,null,null,null,null,null,null,null,null,null,null,null,"Delca Aian","Constanta"]
[null,null,null,null,null,null,null,null,null,null,null,null,null,null,null,null,null,null,null,"Delev Alexandru","Moldova-Edinet"]
[null,null,null,null,null,null,null,null,null,null,null,null,null,null,null,null,null,null,null,"Delev Andreea","Moldova-Balti"]
[null,null,null,null,null,null,null,null,null,null,null,null,null,null,null,null,null,null,null,"Delev Paula","Moldova-Balti"]
[null,null,null,null,null,null,null,null,null,null,null,null,null,null,null,null,null,null,null,"Deli Iura","Moldova-Budjac"]
[null,null,null,null,null,null,null,null,null,null,null,null,null,null,null,null,null,null,null,"Deli Victoria","Moldova-Comrat"]
[null,null,null,null,null,null,null,null,null,null,null,null,null,null,null,null,null,null,null,"Delibaltov Gennadii","Moldova-Taraclia"]
[null,null,null,null,null,null,null,null,null,null,null,null,null,null,null,null,null,null,null,"Demenciuc Iurie","Moldova-Balti"]
[null,null,null,null,null,null,null,null,null,null,null,null,null,null,null,null,null,null,null,"Demeter Attila","Campia Turzii"]
[null,null,null,null,null,null,null,null,null,null,null,null,null,null,null,null,null,null,null,"Demian Daniel","Arad"]
[null,null,null,null,null,null,null,null,null,null,null,null,null,null,null,null,null,null,null,"Demian Elvira","Baia Mare"]
[null,null,null,null,null,null,null,null,null,null,null,null,null,null,null,null,null,null,null,"Demian Radu","Oradea"]
[null,null,null,null,null,null,null,null,null,null,null,null,null,null,null,null,null,null,null,"Demjen Eszter","Zalau"]
[null,null,null,null,null,null,null,null,null,null,null,null,null,null,null,null,null,null,null,"Demsa Daniel","Brasov"]
[null,null,null,null,null,null,null,null,null,null,null,null,null,null,null,null,null,null,null,"Dena Corneliu","Giurgiu"]
[null,null,null,null,null,null,null,null,null,null,null,null,null,null,null,null,null,null,null,"Denes Ferenc","Praid"]
[null,null,null,null,null,null,null,null,null,null,null,null,null,null,null,null,null,null,null,"Denes Ludovic","Varsolt"]
[null,null,null,null,null,null,null,null,null,null,null,null,null,null,null,null,null,null,null,"Denis Cismas Ionut","Sighisoara"]
[null,null,null,null,null,null,null,null,null,null,null,null,null,null,null,null,null,null,null,"Derbac Ivan","Caransebes"]
[null,null,null,null,null,null,null,null,null,null,null,null,null,null,null,null,null,null,null,"Derzsi Gabor","Hunedoara"]
[null,null,null,null,null,null,null,null,null,null,null,null,null,null,null,null,null,null,null,"Derzsi Lorand","Targu Mures"]
[null,null,null,null,null,null,null,null,null,null,null,null,null,null,null,null,null,null,null,"Dezso Attila","Dej"]
[null,null,null,null,null,null,null,null,null,null,null,null,null,null,null,null,null,null,null,"Dezso Lorand","Dej"]
[null,null,null,null,null,null,null,null,null,null,null,null,null,null,null,null,null,null,null,"Diaconescu Cristian","Floresti"]
[null,null,null,null,null,null,null,null,null,null,null,null,null,null,null,null,null,null,null,"Diaconescu Dragos","Craiova"]
[null,null,null,null,null,null,null,null,null,null,null,null,null,null,null,null,null,null,null,"Diaconescu Lucian","Targoviste"]
[null,null,null,null,null,null,null,null,null,null,null,null,null,null,null,null,null,null,null,"Diaconu Dan","Hunedoara"]
[null,null,null,null,null,null,null,null,null,null,null,null,null,null,null,null,null,null,null,"Diaconu Daniel","Timisoara"]
[null,null,null,null,null,null,null,null,null,null,null,null,null,null,null,null,null,null,null,"Diaconu Ionut","Moinesti"]
[null,null,null,null,null,null,null,null,null,null,null,null,null,null,null,null,null,null,null,"Diaconu Mariana","Moinesti"]
[null,null,null,null,null,null,null,null,null,null,null,null,null,null,null,null,null,null,null,"Diaconu Vasile Iliuta","Izvoarele"]
[null,null,null,null,null,null,null,null,null,null,null,null,null,null,null,null,null,null,null,"Dica Danut","Caracal"]
[null,null,null,null,null,null,null,null,null,null,null,null,null,null,null,null,null,null,null,"Dicu Andrei","Bucuresti"]
[null,null,null,null,null,null,null,null,null,null,null,null,null,null,null,null,null,null,null,"Dicu Bogdan","Voinesti DB"]
[null,null,null,null,null,null,null,null,null,null,null,null,null,null,null,null,null,null,null,"Dicu Mircea","Vaslui"]
[null,null,null,null,null,null,null,null,null,null,null,null,null,null,null,null,null,null,null,"Dicu Vlad","Vaslui"]
[null,null,null,null,null,null,null,null,null,null,null,null,null,null,null,null,null,null,null,"Didu Gabriel","Moldova"]
[null,null,null,null,null,null,null,null,null,null,null,null,null,null,null,null,null,null,null,"Digolean Alexandru","Moldova-Larga"]
[null,null,null,null,null,null,null,null,null,null,null,null,null,null,null,null,null,null,null,"Dilan Pavel","Iasi"]
[null,null,null,null,null,null,null,null,null,null,null,null,null,null,null,null,null,null,null,"Dima Alexandru","Dumbravita"]
[null,null,null,null,null,null,null,null,null,null,null,null,null,null,null,null,null,null,null,"Dima Alexia","Pitesti"]
[null,null,null,null,null,null,null,null,null,null,null,null,null,null,null,null,null,null,null,"Dima Gabriel","Braila"]
[null,null,null,null,null,null,null,null,null,null,null,null,null,null,null,null,null,null,null,"Dima George","Ploiesti"]
[null,null,null,null,null,null,null,null,null,null,null,null,null,null,null,null,null,null,null,"Dima Ionel","Braila"]
[null,null,null,null,null,null,null,null,null,null,null,null,null,null,null,null,null,null,null,"Dima Paul","Giroc"]
[null,null,null,null,null,null,null,null,null,null,null,null,null,null,null,null,null,null,null,"Dimache Maria","Brasov"]
[null,null,null,null,null,null,null,null,null,null,null,null,null,null,null,null,null,null,null,"Dimache Marian","Braila"]
[null,null,null,null,null,null,null,null,null,null,null,null,null,null,null,null,null,null,null,"Dimeny Sanyi","Crasna"]
[null,null,null,null,null,null,null,null,null,null,null,null,null,null,null,null,null,null,null,"Dimitriu Vasile","Bacau"]
[null,null,null,null,null,null,null,null,null,null,null,null,null,null,null,null,null,null,null,"Dimitrov Alexandr","Bulgaria"]
[null,null,null,null,null,null,null,null,null,null,null,null,null,null,null,null,null,null,null,"Dimitrov Claudiu Marian","Suceava"]
[null,null,null,null,null,null,null,null,null,null,null,null,null,null,null,null,null,null,null,"Dina Alexandru","Bucuresti"]
[null,null,null,null,null,null,null,null,null,null,null,null,null,null,null,null,null,null,null,"Dinca Alexandru","Calarasi"]
[null,null,null,null,null,null,null,null,null,null,null,null,null,null,null,null,null,null,null,"Dinca Bogdan","Alexandria"]
[null,null,null,null,null,null,null,null,null,null,null,null,null,null,null,null,null,null,null,"Dinca Dorinel","Calarasi"]
[null,null,null,null,null,null,null,null,null,null,null,null,null,null,null,null,null,null,null,"Dinescu Alin","Bucuresti"]
[null,null,null,null,null,null,null,null,null,null,null,null,null,null,null,null,null,null,null,"Dinescu Dan","Oradea"]
[null,null,null,null,null,null,null,null,null,null,null,null,null,null,null,null,null,null,null,"Dinescu Mihai","Curtea de Arges"]
[null,null,null,null,null,null,null,null,null,null,null,null,null,null,null,null,null,null,null,"Dinic Jovica","Zajecar Serbia"]
[null,null,null,null,null,null,null,null,null,null,null,null,null,null,null,null,null,null,null,"Dinicescu Ion","Pitesti"]
[null,null,null,null,null,null,null,null,null,null,null,null,null,null,null,null,null,null,null,"Dinu Adrian","Darmanesti"]
[null,null,null,null,null,null,null,null,null,null,null,null,null,null,null,null,null,null,null,"Dinu Catalin","Slobozia"]
[null,null,null,null,null,null,null,null,null,null,null,null,null,null,null,null,null,null,null,"Dinu Cristian","Mizil"]
[null,null,null,null,null,null,null,null,null,null,null,null,null,null,null,null,null,null,null,"Dinu Cristian","Sotanga"]
[null,null,null,null,null,null,null,null,null,null,null,null,null,null,null,null,null,null,null,"Dinu Gheorghe","Bucuresti"]
[null,null,null,null,null,null,null,null,null,null,null,null,null,null,null,null,null,null,null,"Dinu Ion","Bals"]
[null,null,null,null,null,null,null,null,null,null,null,null,null,null,null,null,null,null,null,"Dinu Mihai","Moreni"]
[null,null,null,null,null,null,null,null,null,null,null,null,null,null,null,null,null,null,null,"Dinu Vladimir","Bucuresti"]
[null,null,null,null,null,null,null,null,null,null,null,null,null,null,null,null,null,null,null,"Dior Dorin","Bucuresti"]
[null,null,null,null,null,null,null,null,null,null,null,null,null,null,null,null,null,null,null,"Dirdala Catalin","Focsani"]
[null,null,null,null,null,null,null,null,null,null,null,null,null,null,null,null,null,null,null,"Dirlea Ana","Aiud"]
[null,null,null,null,null,null,null,null,null,null,null,null,null,null,null,null,null,null,null,"Dirlea Ioan","Aiud"]
[null,null,null,null,null,null,null,null,null,null,null,null,null,null,null,null,null,null,null,"Dita Diana","Bucuresti"]
[null,null,null,null,null,null,null,null,null,null,null,null,null,null,null,null,null,null,null,"Ditu Constantin","Tulcea"]
[null,null,null,null,null,null,null,null,null,null,null,null,null,null,null,null,null,null,null,"Djan Branislav","Varset"]
[null,null,null,null,null,null,null,null,null,null,null,null,null,null,null,null,null,null,null,"Dobai Istvan","Cluj Napoca"]
[null,null,null,null,null,null,null,null,null,null,null,null,null,null,null,null,null,null,null,"Dobai Patricia","Alesd"]
[null,null,null,null,null,null,null,null,null,null,null,null,null,null,null,null,null,null,null,"Dobai Sandor","Targu Mures"]
[null,null,null,null,null,null,null,null,null,null,null,null,null,null,null,null,null,null,null,"Dobai Stefan","Alesd"]
[null,null,null,null,null,null,null,null,null,null,null,null,null,null,null,null,null,null,null,"Dobinda Alexandru","Arad"]
[null,null,null,null,null,null,null,null,null,null,null,null,null,null,null,null,null,null,null,"Dobinda Dinu","Arad"]
[null,null,null,null,null,null,null,null,null,null,null,null,null,null,null,null,null,null,null,"Dobos Robert","Iasi"]
[null,null,null,null,null,null,null,null,null,null,null,null,null,null,null,null,null,null,null,"Dobre Alexandru","Bucuresti"]
[null,null,null,null,null,null,null,null,null,null,null,null,null,null,null,null,null,null,null,"Dobre Elisei","Jimbolia"]
[null,null,null,null,null,null,null,null,null,null,null,null,null,null,null,null,null,null,null,"Dobre Ionel","Bucuresti"]
[null,null,null,null,null,null,null,null,null,null,null,null,null,null,null,null,null,null,null,"Dobre Matei","Targoviste"]
[null,null,null,null,null,null,null,null,null,null,null,null,null,null,null,null,null,null,null,"Dobre Nicolae","Alesd"]
[null,null,null,null,null,null,null,null,null,null,null,null,null,null,null,null,null,null,null,"Dobrea Nicolae","Alesd"]
[null,null,null,null,null,null,null,null,null,null,null,null,null,null,null,null,null,null,null,"Dobrean Ruben","Faget"]
[null,null,null,null,null,null,null,null,null,null,null,null,null,null,null,null,null,null,null,"Dobrica Marius","Videle"]
[null,null,null,null,null,null,null,null,null,null,null,null,null,null,null,null,null,null,null,"Dobrin Adrian","Targoviste"]
[null,null,null,null,null,null,null,null,null,null,null,null,null,null,null,null,null,null,null,"Dobrin David","Alexandria"]
[null,null,null,null,null,null,null,null,null,null,null,null,null,null,null,null,null,null,null,"Dobrin Dragos","Alexandria"]
[null,null,null,null,null,null,null,null,null,null,null,null,null,null,null,null,null,null,null,"Docan Cristian","Bucuresti"]
[null,null,null,null,null,null,null,null,null,null,null,null,null,null,null,null,null,null,null,"Dochita Mircea","Braila"]
[null,null,null,null,null,null,null,null,null,null,null,null,null,null,null,null,null,null,null,"Doda Cosmin","Chisineu Cris"]
[null,null,null,null,null,null,null,null,null,null,null,null,null,null,null,null,null,null,null,"Dodon Sebastian","Dej"]
[null,null,null,null,null,null,null,null,null,null,null,null,null,null,null,null,null,null,null,"Dodon Vlad","Dej"]
[null,null,null,null,null,null,null,null,null,null,null,null,null,null,null,null,null,null,null,"Dodu Costica","Focsani"]
[null,null,null,null,null,null,null,null,null,null,null,null,null,null,null,null,null,null,null,"Dogaru Iurie","Moldova-Cahul"]
[null,null,null,null,null,null,null,null,null,null,null,null,null,null,null,null,null,null,null,"Dogaru Mihai","Drobeta Tr Severin"]
[null,null,null,null,null,null,null,null,null,null,null,null,null,null,null,null,null,null,null,"Dogaru Teodor","Bucuresti"]
[null,null,null,null,null,null,null,null,null,null,null,null,null,null,null,null,null,null,null,"Doghi Ciprian","Apahida"]
[null,null,null,null,null,null,null,null,null,null,null,null,null,null,null,null,null,null,null,"Dolis Narcis","Comanesti"]
[null,null,null,null,null,null,null,null,null,null,null,null,null,null,null,null,null,null,null,"Dombi Tihamer","Miercurea Ciuc"]
[null,null,null,null,null,null,null,null,null,null,null,null,null,null,null,null,null,null,null,"Domnescu Mirela","Iasi"]
[null,null,null,null,null,null,null,null,null,null,null,null,null,null,null,null,null,null,null,"Domokos Andras","Targu Mures"]
[null,null,null,null,null,null,null,null,null,null,null,null,null,null,null,null,null,null,null,"Domokos David","Lunca Muresului"]
[null,null,null,null,null,null,null,null,null,null,null,null,null,null,null,null,null,null,null,"Domokos Jozsef","Targu Mures"]
[null,null,null,null,null,null,null,null,null,null,null,null,null,null,null,null,null,null,null,"Domokos Vitan","Targu Secuiesc"]
[null,null,null,null,null,null,null,null,null,null,null,null,null,null,null,null,null,null,null,"Donca Daniel","Brasov"]
[null,null,null,null,null,null,null,null,null,null,null,null,null,null,null,null,null,null,null,"Doncea Catalin","Giurgiu"]
[null,null,null,null,null,null,null,null,null,null,null,null,null,null,null,null,null,null,null,"Donea George","Brasov"]
[null,null,null,null,null,null,null,null,null,null,null,null,null,null,null,null,null,null,null,"Donisan Costel","Pascani"]
[null,null,null,null,null,null,null,null,null,null,null,null,null,null,null,null,null,null,null,"Donosa Vasile","Braila"]
[null,null,null,null,null,null,null,null,null,null,null,null,null,null,null,null,null,null,null,"Dontu Ionut","Calarasi"]
[null,null,null,null,null,null,null,null,null,null,null,null,null,null,null,null,null,null,null,"Dorcu Emanuel","Tamaseni"]
[null,null,null,null,null,null,null,null,null,null,null,null,null,null,null,null,null,null,null,"Dorner Thomas","Germania"]
[null,null,null,null,null,null,null,null,null,null,null,null,null,null,null,null,null,null,null,"Doroftei Kevyn","Arad"]
[null,null,null,null,null,null,null,null,null,null,null,null,null,null,null,null,null,null,null,"Doru Vasile","Snagov"]
[null,null,null,null,null,null,null,null,null,null,null,null,null,null,null,null,null,null,null,"Dosoftei Kevin","Arad"]
[null,null,null,null,null,null,null,null,null,null,null,null,null,null,null,null,null,null,null,"Dosoftei Traian","Mangalia"]
[null,null,null,null,null,null,null,null,null,null,null,null,null,null,null,null,null,null,null,"Dospinescu George","Sibiu"]
[null,null,null,null,null,null,null,null,null,null,null,null,null,null,null,null,null,null,null,"Dostatean Danut","Sibiu"]
[null,null,null,null,null,null,null,null,null,null,null,null,null,null,null,null,null,null,null,"Dracea Gabriel","Sinaia"]
[null,null,null,null,null,null,null,null,null,null,null,null,null,null,null,null,null,null,null,"Dragan Alin","Bucuresti"]
[null,null,null,null,null,null,null,null,null,null,null,null,null,null,null,null,null,null,null,"Dragan Cristian","Bucuresti"]
[null,null,null,null,null,null,null,null,null,null,null,null,null,null,null,null,null,null,null,"Dragan Florin","Targu Mures"]
[null,null,null,null,null,null,null,null,null,null,null,null,null,null,null,null,null,null,null,"Dragan Marius","Hunedoara"]
[null,null,null,null,null,null,null,null,null,null,null,null,null,null,null,null,null,null,null,"Dragan Paul","Zalau"]
[null,null,null,null,null,null,null,null,null,null,null,null,null,null,null,null,null,null,null,"Dragan Petru Ioan","Iasi"]
[null,null,null,null,null,null,null,null,null,null,null,null,null,null,null,null,null,null,null,"Dragan Razvan","Alexandria"]
[null,null,null,null,null,null,null,null,null,null,null,null,null,null,null,null,null,null,null,"Draganescu Denis","Pascani"]
[null,null,null,null,null,null,null,null,null,null,null,null,null,null,null,null,null,null,null,"Draganescu Laurentiu","Pascani"]
[null,null,null,null,null,null,null,null,null,null,null,null,null,null,null,null,null,null,null,"Draganescu Stefan","Pascani"]
[null,null,null,null,null,null,null,null,null,null,null,null,null,null,null,null,null,null,null,"Draganescu Viorel","Ploiesti"]
[null,null,null,null,null,null,null,null,null,null,null,null,null,null,null,null,null,null,null,"Draghia Ionel Eugen","Drobeta Tr Severin"]
[null,null,null,null,null,null,null,null,null,null,null,null,null,null,null,null,null,null,null,"Draghin Florin","Caransebes"]
[null,null,null,null,null,null,null,null,null,null,null,null,null,null,null,null,null,null,null,"Dragoi Andrei","Azuga"]
[null,null,null,null,null,null,null,null,null,null,null,null,null,null,null,null,null,null,null,"Dragoljevic Branko","Novi Sad"]
[null,null,null,null,null,null,null,null,null,null,null,null,null,null,null,null,null,null,null,"Dragomanu Ana Maria","Comanesti"]
[null,null,null,null,null,null,null,null,null,null,null,null,null,null,null,null,null,null,null,"Dragomanu Florin","Comanesti"]
[null,null,null,null,null,null,null,null,null,null,null,null,null,null,null,null,null,null,null,"Dragomer Tamas","Bretcu"]
[null,null,null,null,null,null,null,null,null,null,null,null,null,null,null,null,null,null,null,"Dragomir Cristian","Bucuresti"]
[null,null,null,null,null,null,null,null,null,null,null,null,null,null,null,null,null,null,null,"Dragomir Dan","Bucuresti"]
[null,null,null,null,null,null,null,null,null,null,null,null,null,null,null,null,null,null,null,"Dragomir Ioan","Cristian SB"]
[null,null,null,null,null,null,null,null,null,null,null,null,null,null,null,null,null,null,null,"Dragomir Iulian","Targoviste"]
[null,null,null,null,null,null,null,null,null,null,null,null,null,null,null,null,null,null,null,"Dragomir Iuliu","Turnu Magurele"]
[null,null,null,null,null,null,null,null,null,null,null,null,null,null,null,null,null,null,null,"Dragomir Marian","Slatina Timis"]
[null,null,null,null,null,null,null,null,null,null,null,null,null,null,null,null,null,null,null,"Dragomir Marius","Targu Mures"]
[null,null,null,null,null,null,null,null,null,null,null,null,null,null,null,null,null,null,null,"Dragomir Mihai","Armenis"]
[null,null,null,null,null,null,null,null,null,null,null,null,null,null,null,null,null,null,null,"Dragomir Mircea","Medias"]
[null,null,null,null,null,null,null,null,null,null,null,null,null,null,null,null,null,null,null,"Dragomir Mitica","Sibiu"]
[null,null,null,null,null,null,null,null,null,null,null,null,null,null,null,null,null,null,null,"Dragomir Nicolae","Armenis"]
[null,null,null,null,null,null,null,null,null,null,null,null,null,null,null,null,null,null,null,"Dragomir Noemi","Brasov"]
[null,null,null,null,null,null,null,null,null,null,null,null,null,null,null,null,null,null,null,"Dragomirescu Stefan","Bucuresti"]
[null,null,null,null,null,null,null,null,null,null,null,null,null,null,null,null,null,null,null,"Dragos Matei","Brasov"]
[null,null,null,null,null,null,null,null,null,null,null,null,null,null,null,null,null,null,null,"Dragoste Dorin","Cluj Napoca"]
[null,null,null,null,null,null,null,null,null,null,null,null,null,null,null,null,null,null,null,"Dragota Bogdan","Bucuresti"]
[null,null,null,null,null,null,null,null,null,null,null,null,null,null,null,null,null,null,null,"Dragotescu Iulian Darius","Deva"]
[null,null,null,null,null,null,null,null,null,null,null,null,null,null,null,null,null,null,null,"Dragu Bogdan","Brasov"]
[null,null,null,null,null,null,null,null,null,null,null,null,null,null,null,null,null,null,null,"Dragu Fanel","Slobozia"]
[null,null,null,null,null,null,null,null,null,null,null,null,null,null,null,null,null,null,null,"Dragu Raul","Focsani"]
[null,null,null,null,null,null,null,null,null,null,null,null,null,null,null,null,null,null,null,"Dragut Tudor","Moinesti"]
[null,null,null,null,null,null,null,null,null,null,null,null,null,null,null,null,null,null,null,"Dragutoiu Petre","Bucuresti"]
[null,null,null,null,null,null,null,null,null,null,null,null,null,null,null,null,null,null,null,"Dramba Daniel Dumitru","Bucuresti"]
[null,null,null,null,null,null,null,null,null,null,null,null,null,null,null,null,null,null,null,"Dranca David","Aiud"]
[null,null,null,null,null,null,null,null,null,null,null,null,null,null,null,null,null,null,null,"Drapac Gheorghe","Brasov"]
[null,null,null,null,null,null,null,null,null,null,null,null,null,null,null,null,null,null,null,"Driha Catalin","Timisoara"]
[null,null,null,null,null,null,null,null,null,null,null,null,null,null,null,null,null,null,null,"Drimbau Calin","Marghita"]
[null,null,null,null,null,null,null,null,null,null,null,null,null,null,null,null,null,null,null,"Drimus Mihai","Sighetu Marmatiei"]
[null,null,null,null,null,null,null,null,null,null,null,null,null,null,null,null,null,null,null,"Drinc Ionut","Oradea"]
[null,null,null,null,null,null,null,null,null,null,null,null,null,null,null,null,null,null,null,"Drinceanu Lilian","Oravita"]
[null,null,null,null,null,null,null,null,null,null,null,null,null,null,null,null,null,null,null,"Droj Dumitru","Zalau"]
[null,null,null,null,null,null,null,null,null,null,null,null,null,null,null,null,null,null,null,"Drugas Laurentiu Florin","Bucuresti"]
[null,null,null,null,null,null,null,null,null,null,null,null,null,null,null,null,null,null,null,"Drulea Petru","Jimbolia"]
[null,null,null,null,null,null,null,null,null,null,null,null,null,null,null,null,null,null,null,"Drulea Radu Vlad","Jimbolia"]
[null,null,null,null,null,null,null,null,null,null,null,null,null,null,null,null,null,null,null,"Drumen Dumitru","Vatra Dornei"]
[null,null,null,null,null,null,null,null,null,null,null,null,null,null,null,null,null,null,null,"Drumen Evelina","Vatra Dornei"]
[null,null,null,null,null,null,null,null,null,null,null,null,null,null,null,null,null,null,null,"Duagi Ervin","Galati"]
[null,null,null,null,null,null,null,null,null,null,null,null,null,null,null,null,null,null,null,"Dubrovin Evghenii","Moldova-Balti"]
[null,null,null,null,null,null,null,null,null,null,null,null,null,null,null,null,null,null,null,"Duca Bebe","Curtea de Arges"]
[null,null,null,null,null,null,null,null,null,null,null,null,null,null,null,null,null,null,null,"Duca George","Curtea de Arges"]
[null,null,null,null,null,null,null,null,null,null,null,null,null,null,null,null,null,null,null,"Duca Marius","Sibiu"]
[null,null,null,null,null,null,null,null,null,null,null,null,null,null,null,null,null,null,null,"Duceac Catalin","Botosani"]
[null,null,null,null,null,null,null,null,null,null,null,null,null,null,null,null,null,null,null,"Dudun Ghenadi","Moldova-Taraclia"]
[null,null,null,null,null,null,null,null,null,null,null,null,null,null,null,null,null,null,null,"Duhan Regina Elena","Bucuresti"]
[null,null,null,null,null,null,null,null,null,null,null,null,null,null,null,null,null,null,null,"Duka Peter","Marghita"]
[null,null,null,null,null,null,null,null,null,null,null,null,null,null,null,null,null,null,null,"Dulca Raul","Dumbravita"]
[null,null,null,null,null,null,null,null,null,null,null,null,null,null,null,null,null,null,null,"Dulgheru Alexandru","Bucuresti"]
[null,null,null,null,null,null,null,null,null,null,null,null,null,null,null,null,null,null,null,"Dulgheru Gheorghe","Buzau"]
[null,null,null,null,null,null,null,null,null,null,null,null,null,null,null,null,null,null,null,"Duma Daniel","Sighetu Marmatiei"]
[null,null,null,null,null,null,null,null,null,null,null,null,null,null,null,null,null,null,null,"Duma Tiberiu","Sibiu"]
[null,null,null,null,null,null,null,null,null,null,null,null,null,null,null,null,null,null,null,"Duman Andrei","Calarasi"]
[null,null,null,null,null,null,null,null,null,null,null,null,null,null,null,null,null,null,null,"Duman Constantin","Alexandria"]
[null,null,null,null,null,null,null,null,null,null,null,null,null,null,null,null,null,null,null,"Duman Iulian","Halaucesti"]
[null,null,null,null,null,null,null,null,null,null,null,null,null,null,null,null,null,null,null,"Dumbrava Dan","Timisoara"]
[null,null,null,null,null,null,null,null,null,null,null,null,null,null,null,null,null,null,null,"Dumbrava Daniel","Focsani"]
[null,null,null,null,null,null,null,null,null,null,null,null,null,null,null,null,null,null,null,"Dumbrava Doru","Bucuresti"]
[null,null,null,null,null,null,null,null,null,null,null,null,null,null,null,null,null,null,null,"Dumbrava Gabriel","Bucuresti"]
[null,null,null,null,null,null,null,null,null,null,null,null,null,null,null,null,null,null,null,"Dumitrache Daniel","Sinaia"]
[null,null,null,null,null,null,null,null,null,null,null,null,null,null,null,null,null,null,null,"Dumitrache Gabriel","Giurgiu"]
[null,null,null,null,null,null,null,null,null,null,null,null,null,null,null,null,null,null,null,"Dumitrache Ovidiu","Petrosani"]
[null,null,null,null,null,null,null,null,null,null,null,null,null,null,null,null,null,null,null,"Dumitrana Catalin","Bucuresti"]
[null,null,null,null,null,null,null,null,null,null,null,null,null,null,null,null,null,null,null,"Dumitras Cosmin","Barlad"]
[null,null,null,null,null,null,null,null,null,null,null,null,null,null,null,null,null,null,null,"Dumitras Matia","Vorona"]
[null,null,null,null,null,null,null,null,null,null,null,null,null,null,null,null,null,null,null,"Dumitras Victor","Giroc"]
[null,null,null,null,null,null,null,null,null,null,null,null,null,null,null,null,null,null,null,"Dumitrascu Alin","Buzau"]
[null,null,null,null,null,null,null,null,null,null,null,null,null,null,null,null,null,null,null,"Dumitrascu Cristi","Brasov"]
[null,null,null,null,null,null,null,null,null,null,null,null,null,null,null,null,null,null,null,"Dumitrascu Eduard","Bucuresti"]
[null,null,null,null,null,null,null,null,null,null,null,null,null,null,null,null,null,null,null,"Dumitrescu Cornel","Bucuresti"]
[null,null,null,null,null,null,null,null,null,null,null,null,null,null,null,null,null,null,null,"Dumitrescu Dan","Piatra Neamt"]
[null,null,null,null,null,null,null,null,null,null,null,null,null,null,null,null,null,null,null,"Dumitrescu Marius","Timisoara"]
[null,null,null,null,null,null,null,null,null,null,null,null,null,null,null,null,null,null,null,"Dumitrescu Mihai","Slobozia"]
[null,null,null,null,null,null,null,null,null,null,null,null,null,null,null,null,null,null,null,"Dumitrescu Robert Nicolae","Bucuresti"]
[null,null,null,null,null,null,null,null,null,null,null,null,null,null,null,null,null,null,null,"Dumitriu Florin","Iasi"]
[null,null,null,null,null,null,null,null,null,null,null,null,null,null,null,null,null,null,null,"Dumitriu Vitalie","Moldova-Larga"]
[null,null,null,null,null,null,null,null,null,null,null,null,null,null,null,null,null,null,null,"Dumitru Bogdan","Constanta"]
[null,null,null,null,null,null,null,null,null,null,null,null,null,null,null,null,null,null,null,"Dumitru Cosmin","Bucuresti"]
[null,null,null,null,null,null,null,null,null,null,null,null,null,null,null,null,null,null,null,"Dumitru Cosmin","Pitesti"]
[null,null,null,null,null,null,null,null,null,null,null,null,null,null,null,null,null,null,null,"Dumitru Cristian","Bucuresti"]
[null,null,null,null,null,null,null,null,null,null,null,null,null,null,null,null,null,null,null,"Dumitru Daria","Navodari"]
[null,null,null,null,null,null,null,null,null,null,null,null,null,null,null,null,null,null,null,"Dumitru Denis","Navodari"]
[null,null,null,null,null,null,null,null,null,null,null,null,null,null,null,null,null,null,null,"Dumitru Florin","Slobozia"]
[null,null,null,null,null,null,null,null,null,null,null,null,null,null,null,null,null,null,null,"Dumitru George","Targoviste"]
[null,null,null,null,null,null,null,null,null,null,null,null,null,null,null,null,null,null,null,"Dumitru George","Slobozia"]
[null,null,null,null,null,null,null,null,null,null,null,null,null,null,null,null,null,null,null,"Dumitru Gheorghe","Bucuresti"]
[null,null,null,null,null,null,null,null,null,null,null,null,null,null,null,null,null,null,null,"Dumitru Ioan","Bistrita"]
[null,null,null,null,null,null,null,null,null,null,null,null,null,null,null,null,null,null,null,"Dumitru Ovidiu","Buzau"]
[null,null,null,null,null,null,null,null,null,null,null,null,null,null,null,null,null,null,null,"Dumitru Paul","Bucuresti"]
[null,null,null,null,null,null,null,null,null,null,null,null,null,null,null,null,null,null,null,"Dumitru Rares","Pitesti"]
[null,null,null,null,null,null,null,null,null,null,null,null,null,null,null,null,null,null,null,"Dumitru Stefan","Buzau"]
[null,null,null,null,null,null,null,null,null,null,null,null,null,null,null,null,null,null,null,"Dumitru Traian","Bucuresti"]
[null,null,null,null,null,null,null,null,null,null,null,null,null,null,null,null,null,null,null,"Dunavat Radu","Bucuresti"]
[null,null,null,null,null,null,null,null,null,null,null,null,null,null,null,null,null,null,null,"Dunca Andrei","Viseu"]
[null,null,null,null,null,null,null,null,null,null,null,null,null,null,null,null,null,null,null,"Dunca Cristian","Sighetu Marmatiei"]
[null,null,null,null,null,null,null,null,null,null,null,null,null,null,null,null,null,null,null,"Dunca Daniel","Viseu"]
[null,null,null,null,null,null,null,null,null,null,null,null,null,null,null,null,null,null,null,"Durac Viorel","Constanta"]
[null,null,null,null,null,null,null,null,null,null,null,null,null,null,null,null,null,null,null,"Durdun George","Bucuresti"]
[null,null,null,null,null,null,null,null,null,null,null,null,null,null,null,null,null,null,null,"Durlai George","Barlad"]
[null,null,null,null,null,null,null,null,null,null,null,null,null,null,null,null,null,null,null,"Durlan Andrei","Iasi"]
[null,null,null,null,null,null,null,null,null,null,null,null,null,null,null,null,null,null,null,"Dusan Marcel","Arad"]
[null,null,null,null,null,null,null,null,null,null,null,null,null,null,null,null,null,null,null,"Duta David","Curtea de Arges"]
[null,null,null,null,null,null,null,null,null,null,null,null,null,null,null,null,null,null,null,"Duta Ion","Craiova"]
[null,null,null,null,null,null,null,null,null,null,null,null,null,null,null,null,null,null,null,"Dutan Ionut Marius","Bucuresti"]
[null,null,null,null,null,null,null,null,null,null,null,null,null,null,null,null,null,null,null,"Dutu Alexandru","Ploiesti"]
[null,null,null,null,null,null,null,null,null,null,null,null,null,null,null,null,null,null,null,"Dutu Constantin","Galati"]
[null,null,null,null,null,null,null,null,null,null,null,null,null,null,null,null,null,null,null,"Eden Memet","Constanta"]
[null,null,null,null,null,null,null,null,null,null,null,null,null,null,null,null,null,null,null,"Edves Vasile","Alba Iulia"]
[null,null,null,null,null,null,null,null,null,null,null,null,null,null,null,null,null,null,null,"Effler Stefan","Arad"]
[null,null,null,null,null,null,null,null,null,null,null,null,null,null,null,null,null,null,null,"Eftemita Polina","Moldova-Balti"]
[null,null,null,null,null,null,null,null,null,null,null,null,null,null,null,null,null,null,null,"Eftene Roberto","Oltenita"]
[null,null,null,null,null,null,null,null,null,null,null,null,null,null,null,null,null,null,null,"Eftimie Gabriel","Slobozia"]
[null,null,null,null,null,null,null,null,null,null,null,null,null,null,null,null,null,null,null,"Eftinoiu Andri","Ploiesti"]
[null,null,null,null,null,null,null,null,null,null,null,null,null,null,null,null,null,null,null,"Elekes Csaba","Valea Scurta"]
[null,null,null,null,null,null,null,null,null,null,null,null,null,null,null,null,null,null,null,"Elekes Tibor","Sebes"]
[null,null,null,null,null,null,null,null,null,null,null,null,null,null,null,null,null,null,null,"Elgazzar Nicolas","Constanta"]
[null,null,null,null,null,null,null,null,null,null,null,null,null,null,null,null,null,null,null,"Enache Adrian","Tulcea"]
[null,null,null,null,null,null,null,null,null,null,null,null,null,null,null,null,null,null,null,"Enache Adrian Victor","Ploiesti"]
[null,null,null,null,null,null,null,null,null,null,null,null,null,null,null,null,null,null,null,"Enache Ciprian","Ploiesti"]
[null,null,null,null,null,null,null,null,null,null,null,null,null,null,null,null,null,null,null,"Enache Costel","Bucuresti"]
[null,null,null,null,null,null,null,null,null,null,null,null,null,null,null,null,null,null,null,"Enache Cristian","Bucuresti"]
[null,null,null,null,null,null,null,null,null,null,null,null,null,null,null,null,null,null,null,"Enache Doru","Cobadin"]
[null,null,null,null,null,null,null,null,null,null,null,null,null,null,null,null,null,null,null,"Enache Ion","Ramnicu Valcea"]
[null,null,null,null,null,null,null,null,null,null,null,null,null,null,null,null,null,null,null,"Enache Ion","Curtea de Arges"]
[null,null,null,null,null,null,null,null,null,null,null,null,null,null,null,null,null,null,null,"Enache Ionel Gabriel","Oniceni"]
[null,null,null,null,null,null,null,null,null,null,null,null,null,null,null,null,null,null,null,"Enache Ionut","Ramnicu Valcea"]
[null,null,null,null,null,null,null,null,null,null,null,null,null,null,null,null,null,null,null,"Enache Leo","Ramnicu Valcea"]
[null,null,null,null,null,null,null,null,null,null,null,null,null,null,null,null,null,null,null,"Enache Leonardo","Ramnicu Valcea"]
[null,null,null,null,null,null,null,null,null,null,null,null,null,null,null,null,null,null,null,"Enache Puiu Adrian","Ploiesti"]
[null,null,null,null,null,null,null,null,null,null,null,null,null,null,null,null,null,null,null,"Enciu Alexandru","Slobozia"]
[null,null,null,null,null,null,null,null,null,null,null,null,null,null,null,null,null,null,null,"Enciu Marcel","Bucuresti"]
[null,null,null,null,null,null,null,null,null,null,null,null,null,null,null,null,null,null,null,"Enculescu Mihaita","Dobroesti"]
[null,null,null,null,null,null,null,null,null,null,null,null,null,null,null,null,null,null,null,"Ene Alexandru","Navodari"]
[null,null,null,null,null,null,null,null,null,null,null,null,null,null,null,null,null,null,null,"Ene Alexandru","Bucuresti"]
[null,null,null,null,null,null,null,null,null,null,null,null,null,null,null,null,null,null,null,"Ene Aurel","Tulcea"]
[null,null,null,null,null,null,null,null,null,null,null,null,null,null,null,null,null,null,null,"Ene Camelia","Barlad"]
[null,null,null,null,null,null,null,null,null,null,null,null,null,null,null,null,null,null,null,"Ene Daniel","Ploiesti"]
[null,null,null,null,null,null,null,null,null,null,null,null,null,null,null,null,null,null,null,"Ene Daniel","Bucuresti"]
[null,null,null,null,null,null,null,null,null,null,null,null,null,null,null,null,null,null,null,"Ene Denis","Navodari"]
[null,null,null,null,null,null,null,null,null,null,null,null,null,null,null,null,null,null,null,"Ene Dragos","Ploiesti"]
[null,null,null,null,null,null,null,null,null,null,null,null,null,null,null,null,null,null,null,"Ene Florin","Ploiesti"]
[null,null,null,null,null,null,null,null,null,null,null,null,null,null,null,null,null,null,null,"Enea Manuel","Iasi"]
[null,null,null,null,null,null,null,null,null,null,null,null,null,null,null,null,null,null,null,"Enescu Robert","Vulcana Bai"]
[null,null,null,null,null,null,null,null,null,null,null,null,null,null,null,null,null,null,null,"Enus Claudiu","Videle"]
[null,null,null,null,null,null,null,null,null,null,null,null,null,null,null,null,null,null,null,"Eotvos Flavius","Tarnaveni"]
[null,null,null,null,null,null,null,null,null,null,null,null,null,null,null,null,null,null,null,"Eparu Darius","Iasi"]
[null,null,null,null,null,null,null,null,null,null,null,null,null,null,null,null,null,null,null,"Erdely Andras","Targu Mures"]
[null,null,null,null,null,null,null,null,null,null,null,null,null,null,null,null,null,null,null,"Eremie Liviu","Dumbravita"]
[null,null,null,null,null,null,null,null,null,null,null,null,null,null,null,null,null,null,null,"Escribano Giulia","Lombardia Italia"]
[null,null,null,null,null,null,null,null,null,null,null,null,null,null,null,null,null,null,null,"Evghenii Dubrovin","Moldova-Balti"]
[null,null,null,null,null,null,null,null,null,null,null,null,null,null,null,null,null,null,null,"Evtei Vasile","Tulcea"]
[null,null,null,null,null,null,null,null,null,null,null,null,null,null,null,null,null,null,null,"Fagaras Daniel","Arad"]
[null,null,null,null,null,null,null,null,null,null,null,null,null,null,null,null,null,null,null,"Fagas Alberto","Arad"]
[null,null,null,null,null,null,null,null,null,null,null,null,null,null,null,null,null,null,null,"Fagyura Leonardo","Tarnaveni"]
[null,null,null,null,null,null,null,null,null,null,null,null,null,null,null,null,null,null,null,"Faiciuc Alex","Viseu"]
[null,null,null,null,null,null,null,null,null,null,null,null,null,null,null,null,null,null,null,"Faiciuc Damian","Viseu"]
[null,null,null,null,null,null,null,null,null,null,null,null,null,null,null,null,null,null,null,"Faladau Madalina","Aiud"]
[null,null,null,null,null,null,null,null,null,null,null,null,null,null,null,null,null,null,null,"Faladau Ovidiu","Aiud"]
[null,null,null,null,null,null,null,null,null,null,null,null,null,null,null,null,null,null,null,"Faltisca Eugen","Viseu"]
[null,null,null,null,null,null,null,null,null,null,null,null,null,null,null,null,null,null,null,"Fancsali Kalman","Miercurea Ciuc"]
[null,null,null,null,null,null,null,null,null,null,null,null,null,null,null,null,null,null,null,"Farcas Carla","Dumbravita"]
[null,null,null,null,null,null,null,null,null,null,null,null,null,null,null,null,null,null,null,"Farcas Dan","Zalau"]
[null,null,null,null,null,null,null,null,null,null,null,null,null,null,null,null,null,null,null,"Farcas Dragos","Targu Mures"]
[null,null,null,null,null,null,null,null,null,null,null,null,null,null,null,null,null,null,null,"Farcas Flavian","Bulzestii de Sus"]
[null,null,null,null,null,null,null,null,null,null,null,null,null,null,null,null,null,null,null,"Farcas Marius","Hunedoara"]
[null,null,null,null,null,null,null,null,null,null,null,null,null,null,null,null,null,null,null,"Farcas Rares","Targu Mures"]
[null,null,null,null,null,null,null,null,null,null,null,null,null,null,null,null,null,null,null,"Farcas Raul","Targu Mures"]
[null,null,null,null,null,null,null,null,null,null,null,null,null,null,null,null,null,null,null,"Farkas Gabor","Targu Mures"]
[null,null,null,null,null,null,null,null,null,null,null,null,null,null,null,null,null,null,null,"Farkas Gabor","Miercurea Ciuc"]
[null,null,null,null,null,null,null,null,null,null,null,null,null,null,null,null,null,null,null,"Fat Nicu","Sighetu Marmatiei"]
[null,null,null,null,null,null,null,null,null,null,null,null,null,null,null,null,null,null,null,"Faur Claudiu","Timisoara"]
[null,null,null,null,null,null,null,null,null,null,null,null,null,null,null,null,null,null,null,"Faur Laurentiu","Calarasi"]
[null,null,null,null,null,null,null,null,null,null,null,null,null,null,null,null,null,null,null,"Faur Lucian","Jimbolia"]
[null,null,null,null,null,null,null,null,null,null,null,null,null,null,null,null,null,null,null,"Faur Sebastian","Bucuresti"]
[null,null,null,null,null,null,null,null,null,null,null,null,null,null,null,null,null,null,null,"Fazakas Antal","Suseni"]
[null,null,null,null,null,null,null,null,null,null,null,null,null,null,null,null,null,null,null,"Fazakas Gergely","Miercurea Ciuc"]
[null,null,null,null,null,null,null,null,null,null,null,null,null,null,null,null,null,null,null,"Fazecas Daniel","Malut"]
[null,null,null,null,null,null,null,null,null,null,null,null,null,null,null,null,null,null,null,"Fecioru Alexandru","Salcea"]
[null,null,null,null,null,null,null,null,null,null,null,null,null,null,null,null,null,null,null,"Fecioru Cristi","Craiova"]
[null,null,null,null,null,null,null,null,null,null,null,null,null,null,null,null,null,null,null,"Fedorciuc Elias","Viseu"]
[null,null,null,null,null,null,null,null,null,null,null,null,null,null,null,null,null,null,null,"Fedorciuc Gelu","Viseu"]
[null,null,null,null,null,null,null,null,null,null,null,null,null,null,null,null,null,null,null,"Fedot Valentin","Tulcea"]
[null,null,null,null,null,null,null,null,null,null,null,null,null,null,null,null,null,null,null,"Feier Leon","Reghin"]
[null,null,null,null,null,null,null,null,null,null,null,null,null,null,null,null,null,null,null,"Fejer Konnert Andras","Sovata"]
[null,null,null,null,null,null,null,null,null,null,null,null,null,null,null,null,null,null,null,"Fekete Istvan","Arad"]
[null,null,null,null,null,null,null,null,null,null,null,null,null,null,null,null,null,null,null,"Feldara David","Agnita"]
[null,null,null,null,null,null,null,null,null,null,null,null,null,null,null,null,null,null,null,"Felicia Persida","Baia Mare"]
[null,null,null,null,null,null,null,null,null,null,null,null,null,null,null,null,null,null,null,"Fenesan Alex","Turda"]
[null,null,null,null,null,null,null,null,null,null,null,null,null,null,null,null,null,null,null,"Feodorov Gabriel","Tulcea"]
[null,null,null,null,null,null,null,null,null,null,null,null,null,null,null,null,null,null,null,"Feraru Nicolas Cezar","Navodari"]
[null,null,null,null,null,null,null,null,null,null,null,null,null,null,null,null,null,null,null,"Feraru Stefan","Buzau"]
[null,null,null,null,null,null,null,null,null,null,null,null,null,null,null,null,null,null,null,"Fercalo Alin","Siret"]
[null,null,null,null,null,null,null,null,null,null,null,null,null,null,null,null,null,null,null,"Ferenczi Laszlo","Sighisoara"]
[null,null,null,null,null,null,null,null,null,null,null,null,null,null,null,null,null,null,null,"Ferenczi Robert","Suseni"]
[null,null,null,null,null,null,null,null,null,null,null,null,null,null,null,null,null,null,null,"Ferenczi Sandor","Targu Mures"]
[null,null,null,null,null,null,null,null,null,null,null,null,null,null,null,null,null,null,null,"Ferenczy Zita","Cluj Napoca"]
[null,null,null,null,null,null,null,null,null,null,null,null,null,null,null,null,null,null,null,"Ficleanu Gabriel","Giurgiu"]
[null,null,null,null,null,null,null,null,null,null,null,null,null,null,null,null,null,null,null,"Filat Maria","Bucuresti"]
[null,null,null,null,null,null,null,null,null,null,null,null,null,null,null,null,null,null,null,"Filea Adonis","Sibiu"]
[null,null,null,null,null,null,null,null,null,null,null,null,null,null,null,null,null,null,null,"Filep Attila","Gherla"]
[null,null,null,null,null,null,null,null,null,null,null,null,null,null,null,null,null,null,null,"Filimon Alexandru","Aiud"]
[null,null,null,null,null,null,null,null,null,null,null,null,null,null,null,null,null,null,null,"Filip Cristi","Comanesti"]
[null,null,null,null,null,null,null,null,null,null,null,null,null,null,null,null,null,null,null,"Filip Dan","Comanesti"]
[null,null,null,null,null,null,null,null,null,null,null,null,null,null,null,null,null,null,null,"Filip Gabriel","Bucuresti"]
[null,null,null,null,null,null,null,null,null,null,null,null,null,null,null,null,null,null,null,"Filip Gabriel","Cluj Napoca"]
[null,null,null,null,null,null,null,null,null,null,null,null,null,null,null,null,null,null,null,"Filip Ioan","Sighetu Marmatiei"]
[null,null,null,null,null,null,null,null,null,null,null,null,null,null,null,null,null,null,null,"Filip Maia","Cluj Napoca"]
[null,null,null,null,null,null,null,null,null,null,null,null,null,null,null,null,null,null,null,"Filip Marcu","Stei"]
[null,null,null,null,null,null,null,null,null,null,null,null,null,null,null,null,null,null,null,"Filip Patric","Cluj Napoca"]
[null,null,null,null,null,null,null,null,null,null,null,null,null,null,null,null,null,null,null,"Filipescu Radu","Bucuresti"]
[null,null,null,null,null,null,null,null,null,null,null,null,null,null,null,null,null,null,null,"Filipics Zoli","Timisoara"]
[null,null,null,null,null,null,null,null,null,null,null,null,null,null,null,null,null,null,null,"Finaru Razvan","Bucuresti"]
[null,null,null,null,null,null,null,null,null,null,null,null,null,null,null,null,null,null,null,"Firanescu David","Dumbraveni SB"]
[null,null,null,null,null,null,null,null,null,null,null,null,null,null,null,null,null,null,null,"Firica Lucian","Constanta"]
[null,null,null,null,null,null,null,null,null,null,null,null,null,null,null,null,null,null,null,"Firican Andrei","Deva"]
[null,null,null,null,null,null,null,null,null,null,null,null,null,null,null,null,null,null,null,"Firu Marian","Vatra Dornei"]
[null,null,null,null,null,null,null,null,null,null,null,null,null,null,null,null,null,null,null,"Flaut Liviu","Navodari"]
[null,null,null,null,null,null,null,null,null,null,null,null,null,null,null,null,null,null,null,"Flesariu Mihai","Agnita"]
[null,null,null,null,null,null,null,null,null,null,null,null,null,null,null,null,null,null,null,"Fleser Marian","Blaj"]
[null,null,null,null,null,null,null,null,null,null,null,null,null,null,null,null,null,null,null,"Floca Raul","Sibiu"]
[null,null,null,null,null,null,null,null,null,null,null,null,null,null,null,null,null,null,null,"Flocea Codrin","Vatra Dornei"]
[null,null,null,null,null,null,null,null,null,null,null,null,null,null,null,null,null,null,null,"Florea Albert","Sibiu"]
[null,null,null,null,null,null,null,null,null,null,null,null,null,null,null,null,null,null,null,"Florea Bogdan","Caracal"]
[null,null,null,null,null,null,null,null,null,null,null,null,null,null,null,null,null,null,null,"Florea Cristian","Constanta"]
[null,null,null,null,null,null,null,null,null,null,null,null,null,null,null,null,null,null,null,"Florea Daniel","Bucuresti"]
[null,null,null,null,null,null,null,null,null,null,null,null,null,null,null,null,null,null,null,"Florea Ionut","Vatra Dornei"]
[null,null,null,null,null,null,null,null,null,null,null,null,null,null,null,null,null,null,null,"Florea Lucian","Vaslui"]
[null,null,null,null,null,null,null,null,null,null,null,null,null,null,null,null,null,null,null,"Florea Madalin","Bucuresti"]
[null,null,null,null,null,null,null,null,null,null,null,null,null,null,null,null,null,null,null,"Florea Marian","Targoviste"]
[null,null,null,null,null,null,null,null,null,null,null,null,null,null,null,null,null,null,null,"Florea Marin","Filipestii de Targ"]
[null,null,null,null,null,null,null,null,null,null,null,null,null,null,null,null,null,null,null,"Florea Mihai","Ludus"]
[null,null,null,null,null,null,null,null,null,null,null,null,null,null,null,null,null,null,null,"Florea Stelian","Bucuresti"]
[null,null,null,null,null,null,null,null,null,null,null,null,null,null,null,null,null,null,null,"Florean Luca","Lunca Muresului"]
[null,null,null,null,null,null,null,null,null,null,null,null,null,null,null,null,null,null,null,"Florean Renata","Lunca Muresului"]
[null,null,null,null,null,null,null,null,null,null,null,null,null,null,null,null,null,null,null,"Florescu Bogdan","Bucuresti"]
[null,null,null,null,null,null,null,null,null,null,null,null,null,null,null,null,null,null,null,"Florescu Eleodor","Deva"]
[null,null,null,null,null,null,null,null,null,null,null,null,null,null,null,null,null,null,null,"Florescu George","Bucuresti"]
[null,null,null,null,null,null,null,null,null,null,null,null,null,null,null,null,null,null,null,"Florescu Ionut","Craiova"]
[null,null,null,null,null,null,null,null,null,null,null,null,null,null,null,null,null,null,null,"Floricel Alexandru","Bucuresti"]
[null,null,null,null,null,null,null,null,null,null,null,null,null,null,null,null,null,null,null,"Florida Alin Emil","Videle"]
[null,null,null,null,null,null,null,null,null,null,null,null,null,null,null,null,null,null,null,"Flueraru Gilbert","Iasi"]
[null,null,null,null,null,null,null,null,null,null,null,null,null,null,null,null,null,null,null,"Flutur Ghita","Granicesti"]
[null,null,null,null,null,null,null,null,null,null,null,null,null,null,null,null,null,null,null,"Fodor Attila","Vanatori"]
[null,null,null,null,null,null,null,null,null,null,null,null,null,null,null,null,null,null,null,"Fodor Ianis","Dej"]
[null,null,null,null,null,null,null,null,null,null,null,null,null,null,null,null,null,null,null,"Fogarasi David","Baciu"]
[null,null,null,null,null,null,null,null,null,null,null,null,null,null,null,null,null,null,null,"Fonariuc Denis","Iasi"]
[null,null,null,null,null,null,null,null,null,null,null,null,null,null,null,null,null,null,null,"Fordon Alin","Campani"]
[null,null,null,null,null,null,null,null,null,null,null,null,null,null,null,null,null,null,null,"Foris Andrei","Baia Mare"]
[null,null,null,null,null,null,null,null,null,null,null,null,null,null,null,null,null,null,null,"Foris Csaba","Bistrita"]
[null,null,null,null,null,null,null,null,null,null,null,null,null,null,null,null,null,null,null,"Foris Dana","Baia Mare"]
[null,null,null,null,null,null,null,null,null,null,null,null,null,null,null,null,null,null,null,"Forna Andrei","Apahida"]
[null,null,null,null,null,null,null,null,null,null,null,null,null,null,null,null,null,null,null,"Forton Nicusor","Arad"]
[null,null,null,null,null,null,null,null,null,null,null,null,null,null,null,null,null,null,null,"Fota Alexandra","Drobeta Tr Severin"]
[null,null,null,null,null,null,null,null,null,null,null,null,null,null,null,null,null,null,null,"Fota Cosmin","Buftea"]
[null,null,null,null,null,null,null,null,null,null,null,null,null,null,null,null,null,null,null,"Fotia Iulian","Bacau"]
[null,null,null,null,null,null,null,null,null,null,null,null,null,null,null,null,null,null,null,"Franculescu Marius","Sinaia"]
[null,null,null,null,null,null,null,null,null,null,null,null,null,null,null,null,null,null,null,"Fratea Aurel","Constanta"]
[null,null,null,null,null,null,null,null,null,null,null,null,null,null,null,null,null,null,null,"Fratila Dan","Ocna Sibiului"]
[null,null,null,null,null,null,null,null,null,null,null,null,null,null,null,null,null,null,null,"Fratila Robert","Filipestii de Targ"]
[null,null,null,null,null,null,null,null,null,null,null,null,null,null,null,null,null,null,null,"Fratila Tiberiu","Bucuresti"]
[null,null,null,null,null,null,null,null,null,null,null,null,null,null,null,null,null,null,null,"Frent George","Arad"]
[null,null,null,null,null,null,null,null,null,null,null,null,null,null,null,null,null,null,null,"Frentiu Vasile","Dej"]
[null,null,null,null,null,null,null,null,null,null,null,null,null,null,null,null,null,null,null,"Frincu Iustin","Ploiesti"]
[null,null,null,null,null,null,null,null,null,null,null,null,null,null,null,null,null,null,null,"Frisan Andrei","Nasaud"]
[null,null,null,null,null,null,null,null,null,null,null,null,null,null,null,null,null,null,null,"Fritea Raul","Marghita"]
[null,null,null,null,null,null,null,null,null,null,null,null,null,null,null,null,null,null,null,"Fritz Costel","Slobozia"]
[null,null,null,null,null,null,null,null,null,null,null,null,null,null,null,null,null,null,null,"Frunza Alexandru","Timisoara"]
[null,null,null,null,null,null,null,null,null,null,null,null,null,null,null,null,null,null,null,"Fuciu Alexandru","Sighetu Marmatiei"]
[null,null,null,null,null,null,null,null,null,null,null,null,null,null,null,null,null,null,null,"Fudulu Sorin Gigi","Alexandria"]
[null,null,null,null,null,null,null,null,null,null,null,null,null,null,null,null,null,null,null,"Fuleki Zoltan","Uriu"]
[null,null,null,null,null,null,null,null,null,null,null,null,null,null,null,null,null,null,null,"Fulop Attila","Aiud"]
[null,null,null,null,null,null,null,null,null,null,null,null,null,null,null,null,null,null,null,"Fulop Lehel","Sovata"]
[null,null,null,null,null,null,null,null,null,null,null,null,null,null,null,null,null,null,null,"Fulop Nimrod","Cristuru Secuiesc"]
[null,null,null,null,null,null,null,null,null,null,null,null,null,null,null,null,null,null,null,"Fulop Oscar","Reghin"]
[null,null,null,null,null,null,null,null,null,null,null,null,null,null,null,null,null,null,null,"Funaru Raul","Cluj Napoca"]
[null,null,null,null,null,null,null,null,null,null,null,null,null,null,null,null,null,null,null,"Furca Alexandru","Hunedoara"]
[null,null,null,null,null,null,null,null,null,null,null,null,null,null,null,null,null,null,null,"Furdui Anatol","Moldova-Balti"]
[null,null,null,null,null,null,null,null,null,null,null,null,null,null,null,null,null,null,null,"Furdui Damian","Moldova-Balti"]
[null,null,null,null,null,null,null,null,null,null,null,null,null,null,null,null,null,null,null,"Furdui Iulian","Moldova-Balti"]
[null,null,null,null,null,null,null,null,null,null,null,null,null,null,null,null,null,null,null,"Furdui Lia","Moldova-Balti"]
[null,null,null,null,null,null,null,null,null,null,null,null,null,null,null,null,null,null,null,"Furdui Maria","Simeria"]
[null,null,null,null,null,null,null,null,null,null,null,null,null,null,null,null,null,null,null,"Furtuna Adrian","Brasov"]
[null,null,null,null,null,null,null,null,null,null,null,null,null,null,null,null,null,null,null,"Furtuna Serghei","Moldova-Balti"]
[null,null,null,null,null,null,null,null,null,null,null,null,null,null,null,null,null,null,null,"Furtuna Traian","Brasov"]
[null,null,null,null,null,null,null,null,null,null,null,null,null,null,null,null,null,null,null,"Fusca Georgian","Targoviste"]
[null,null,null,null,null,null,null,null,null,null,null,null,null,null,null,null,null,null,null,"Gabor David","Agnita"]
[null,null,null,null,null,null,null,null,null,null,null,null,null,null,null,null,null,null,null,"Gabor Luca","Moinesti"]
[null,null,null,null,null,null,null,null,null,null,null,null,null,null,null,null,null,null,null,"Gabor Sebastian","Sfantu Gheorghe"]
[null,null,null,null,null,null,null,null,null,null,null,null,null,null,null,null,null,null,null,"Gaborean Bogdan","Cluj Napoca"]
[null,null,null,null,null,null,null,null,null,null,null,null,null,null,null,null,null,null,null,"Gabriel Coman","Bucuresti"]
[null,null,null,null,null,null,null,null,null,null,null,null,null,null,null,null,null,null,null,"Gabudean Dorin","Cluj Napoca"]
[null,null,null,null,null,null,null,null,null,null,null,null,null,null,null,null,null,null,null,"Gaciu Gabriel","Gherla"]
[null,null,null,null,null,null,null,null,null,null,null,null,null,null,null,null,null,null,null,"Gado Ramses","Oradea"]
[null,null,null,null,null,null,null,null,null,null,null,null,null,null,null,null,null,null,null,"Gadzinscaia Maria","Ucraina-Okny"]
[null,null,null,null,null,null,null,null,null,null,null,null,null,null,null,null,null,null,null,"Gaga Ioan","Cluj Napoca"]
[null,null,null,null,null,null,null,null,null,null,null,null,null,null,null,null,null,null,null,"Gaga Ioana","Cluj Napoca"]
[null,null,null,null,null,null,null,null,null,null,null,null,null,null,null,null,null,null,null,"Gagea Marian","Botosani"]
[null,null,null,null,null,null,null,null,null,null,null,null,null,null,null,null,null,null,null,"Gagiu David","Targoviste"]
[null,null,null,null,null,null,null,null,null,null,null,null,null,null,null,null,null,null,null,"Gagiu Remus","Pitesti"]
[null,null,null,null,null,null,null,null,null,null,null,null,null,null,null,null,null,null,null,"Gaia Mihai","Iasi"]
[null,null,null,null,null,null,null,null,null,null,null,null,null,null,null,null,null,null,null,"Gaitan Tiberiu","Braila"]
[null,null,null,null,null,null,null,null,null,null,null,null,null,null,null,null,null,null,null,"Gal Csaby","Alesd"]
[null,null,null,null,null,null,null,null,null,null,null,null,null,null,null,null,null,null,null,"Gal Farkas Arpad","Miercurea Ciuc"]
[null,null,null,null,null,null,null,null,null,null,null,null,null,null,null,null,null,null,null,"Gal Nicolae","Uriu"]
[null,null,null,null,null,null,null,null,null,null,null,null,null,null,null,null,null,null,null,"Galan Andreea","Vatra Dornei"]
[null,null,null,null,null,null,null,null,null,null,null,null,null,null,null,null,null,null,null,"Galan Edoardo","Corocaesti SV"]
[null,null,null,null,null,null,null,null,null,null,null,null,null,null,null,null,null,null,null,"Galan Ionut","Barlad"]
[null,null,null,null,null,null,null,null,null,null,null,null,null,null,null,null,null,null,null,"Galanton Yanis","Suceava"]
[null,null,null,null,null,null,null,null,null,null,null,null,null,null,null,null,null,null,null,"Galatean Mircea","Bistrita"]
[null,null,null,null,null,null,null,null,null,null,null,null,null,null,null,null,null,null,null,"Galateanu Lucian","Suceava"]
[null,null,null,null,null,null,null,null,null,null,null,null,null,null,null,null,null,null,null,"Galateanu Sorin","Suceava"]
[null,null,null,null,null,null,null,null,null,null,null,null,null,null,null,null,null,null,null,"Galban Calin","Viseu"]
[null,null,null,null,null,null,null,null,null,null,null,null,null,null,null,null,null,null,null,"Galban Dorel","Viseu"]
[null,null,null,null,null,null,null,null,null,null,null,null,null,null,null,null,null,null,null,"Galca Andrei","Bucuresti"]
[null,null,null,null,null,null,null,null,null,null,null,null,null,null,null,null,null,null,null,"Galca Cristian","Iasi"]
[null,null,null,null,null,null,null,null,null,null,null,null,null,null,null,null,null,null,null,"Galea Robert","Arad"]
[null,null,null,null,null,null,null,null,null,null,null,null,null,null,null,null,null,null,null,"Gales Ioan","Suceava"]
[null,null,null,null,null,null,null,null,null,null,null,null,null,null,null,null,null,null,null,"Galfi Levente","Cluj Napoca"]
[null,null,null,null,null,null,null,null,null,null,null,null,null,null,null,null,null,null,null,"Galiu Mihai","Brasov"]
[null,null,null,null,null,null,null,null,null,null,null,null,null,null,null,null,null,null,null,"Galos Alexandru","Bucuresti"]
[null,null,null,null,null,null,null,null,null,null,null,null,null,null,null,null,null,null,null,"Gaman Alin","Marginenii de Jos"]
[null,null,null,null,null,null,null,null,null,null,null,null,null,null,null,null,null,null,null,"Ganga Alexandru","Suceava"]
[null,null,null,null,null,null,null,null,null,null,null,null,null,null,null,null,null,null,null,"Garabet Dan","Iasi"]
[null,null,null,null,null,null,null,null,null,null,null,null,null,null,null,null,null,null,null,"Garaz Mircea","Bistrita"]
[null,null,null,null,null,null,null,null,null,null,null,null,null,null,null,null,null,null,null,"Garaz Razvan","Bistrita"]
[null,null,null,null,null,null,null,null,null,null,null,null,null,null,null,null,null,null,null,"Garbacea Ionut","Slobozia"]
[null,null,null,null,null,null,null,null,null,null,null,null,null,null,null,null,null,null,null,"Gargalic Marina","Moldova-Avdarma"]
[null,null,null,null,null,null,null,null,null,null,null,null,null,null,null,null,null,null,null,"Gaspar Cecilia","Targu Mures"]
[null,null,null,null,null,null,null,null,null,null,null,null,null,null,null,null,null,null,null,"Gaspar Janos","Cristuru Secuiesc"]
[null,null,null,null,null,null,null,null,null,null,null,null,null,null,null,null,null,null,null,"Gaspar Zsolt Endre","Pericei"]
[null,null,null,null,null,null,null,null,null,null,null,null,null,null,null,null,null,null,null,"Gatea Marius","Piatra Neamt"]
[null,null,null,null,null,null,null,null,null,null,null,null,null,null,null,null,null,null,null,"Gavre Augustin","Hateg"]
[null,null,null,null,null,null,null,null,null,null,null,null,null,null,null,null,null,null,null,"Gavre Natanael","Hateg"]
[null,null,null,null,null,null,null,null,null,null,null,null,null,null,null,null,null,null,null,"Gavril Claudiu","Bucuresti"]
[null,null,null,null,null,null,null,null,null,null,null,null,null,null,null,null,null,null,null,"Gavril Madalin","Bucuresti"]
[null,null,null,null,null,null,null,null,null,null,null,null,null,null,null,null,null,null,null,"Gavrila Aurel","Bucuresti"]
[null,null,null,null,null,null,null,null,null,null,null,null,null,null,null,null,null,null,null,"Gavrilei Adelina","Pascani"]
[null,null,null,null,null,null,null,null,null,null,null,null,null,null,null,null,null,null,null,"Gavrilei Constantin","Pascani"]
[null,null,null,null,null,null,null,null,null,null,null,null,null,null,null,null,null,null,null,"Gavrilescu Petru Albert","Vaslui"]
[null,null,null,null,null,null,null,null,null,null,null,null,null,null,null,null,null,null,null,"Gavriliuc Daniel","Botosani"]
[null,null,null,null,null,null,null,null,null,null,null,null,null,null,null,null,null,null,null,"Gavriliuc Sorin","Botosani"]
[null,null,null,null,null,null,null,null,null,null,null,null,null,null,null,null,null,null,null,"Gavriluta Danut","Vadu Moldovei"]
[null,null,null,null,null,null,null,null,null,null,null,null,null,null,null,null,null,null,null,"Gazsi Adam","Marghita"]
[null,null,null,null,null,null,null,null,null,null,null,null,null,null,null,null,null,null,null,"Geamanu Pompiliu","Adjud"]
[null,null,null,null,null,null,null,null,null,null,null,null,null,null,null,null,null,null,null,"Geamanu Robert","Drobeta Tr Severin"]
[null,null,null,null,null,null,null,null,null,null,null,null,null,null,null,null,null,null,null,"Geanta Mihai","Slobozia"]
[null,null,null,null,null,null,null,null,null,null,null,null,null,null,null,null,null,null,null,"Geanta Tony","Braila"]
[null,null,null,null,null,null,null,null,null,null,null,null,null,null,null,null,null,null,null,"Gecse Alpar","Chibed"]
[null,null,null,null,null,null,null,null,null,null,null,null,null,null,null,null,null,null,null,"Gegea Dimitrie","Straoane"]
[null,null,null,null,null,null,null,null,null,null,null,null,null,null,null,null,null,null,null,"Gelei Kristof","Odorheiu Secuiesc"]
[null,null,null,null,null,null,null,null,null,null,null,null,null,null,null,null,null,null,null,"Gelei Nimrod","Odorheiu Secuiesc"]
[null,null,null,null,null,null,null,null,null,null,null,null,null,null,null,null,null,null,null,"Generosu Catalin","Alexandria"]
[null,null,null,null,null,null,null,null,null,null,null,null,null,null,null,null,null,null,null,"Geodescu Cosmin","Cluj Napoca"]
[null,null,null,null,null,null,null,null,null,null,null,null,null,null,null,null,null,null,null,"Georgescu Constantin","Orastie"]
[null,null,null,null,null,null,null,null,null,null,null,null,null,null,null,null,null,null,null,"Georgescu Costin","Bucuresti"]
[null,null,null,null,null,null,null,null,null,null,null,null,null,null,null,null,null,null,null,"Georgescu Cristi","Radauti"]
[null,null,null,null,null,null,null,null,null,null,null,null,null,null,null,null,null,null,null,"Georgescu Cristian","Pitesti"]
[null,null,null,null,null,null,null,null,null,null,null,null,null,null,null,null,null,null,null,"Georgescu Florin","Bucuresti"]
[null,null,null,null,null,null,null,null,null,null,null,null,null,null,null,null,null,null,null,"Georgescu Marius","Sibiu"]
[null,null,null,null,null,null,null,null,null,null,null,null,null,null,null,null,null,null,null,"Georgescu Robert Stefan","Bucuresti"]
[null,null,null,null,null,null,null,null,null,null,null,null,null,null,null,null,null,null,null,"Georgescu Vlad","Bucuresti"]
[null,null,null,null,null,null,null,null,null,null,null,null,null,null,null,null,null,null,null,"Georginov Vanja","Lokve"]
[null,null,null,null,null,null,null,null,null,null,null,null,null,null,null,null,null,null,null,"Georgiu Dragos","Vatra Dornei"]
[null,null,null,null,null,null,null,null,null,null,null,null,null,null,null,null,null,null,null,"Gereb Istvan Attila","Miercurea Ciuc"]
[null,null,null,null,null,null,null,null,null,null,null,null,null,null,null,null,null,null,null,"Gered Ferenc","Miercurea Ciuc"]
[null,null,null,null,null,null,null,null,null,null,null,null,null,null,null,null,null,null,null,"Gergely Anton","Oradea"]
[null,null,null,null,null,null,null,null,null,null,null,null,null,null,null,null,null,null,null,"Gergely Istvan","Ditrau"]
[null,null,null,null,null,null,null,null,null,null,null,null,null,null,null,null,null,null,null,"Gheaburcu Romeo","Pucioasa"]
[null,null,null,null,null,null,null,null,null,null,null,null,null,null,null,null,null,null,null,"Ghebaur Adi","Bucuresti"]
[null,null,null,null,null,null,null,null,null,null,null,null,null,null,null,null,null,null,null,"Ghedreutan Gheorghe","Moldova-Drochia"]
[null,null,null,null,null,null,null,null,null,null,null,null,null,null,null,null,null,null,null,"Ghelan Marius","Oradea"]
[null,null,null,null,null,null,null,null,null,null,null,null,null,null,null,null,null,null,null,"Gheorghe Alexandru","Pitesti"]
[null,null,null,null,null,null,null,null,null,null,null,null,null,null,null,null,null,null,null,"Gheorghe Catalin","Ploiesti"]
[null,null,null,null,null,null,null,null,null,null,null,null,null,null,null,null,null,null,null,"Gheorghe Constantin","Paulesti"]
[null,null,null,null,null,null,null,null,null,null,null,null,null,null,null,null,null,null,null,"Gheorghe Dan","Constanta"]
[null,null,null,null,null,null,null,null,null,null,null,null,null,null,null,null,null,null,null,"Gheorghe Dragos","Ploiesti"]
[null,null,null,null,null,null,null,null,null,null,null,null,null,null,null,null,null,null,null,"Gheorghe Eduard","Targoviste"]
[null,null,null,null,null,null,null,null,null,null,null,null,null,null,null,null,null,null,null,"Gheorghe Ion","Bucuresti"]
[null,null,null,null,null,null,null,null,null,null,null,null,null,null,null,null,null,null,null,"Gheorghe Mihai","Bucuresti"]
[null,null,null,null,null,null,null,null,null,null,null,null,null,null,null,null,null,null,null,"Gheorghe Nicolae","Calarasi"]
[null,null,null,null,null,null,null,null,null,null,null,null,null,null,null,null,null,null,null,"Gheorghe Nicu","Drobeta Tr Severin"]
[null,null,null,null,null,null,null,null,null,null,null,null,null,null,null,null,null,null,null,"Gheorghe Radu Andrei","Ploiesti"]
[null,null,null,null,null,null,null,null,null,null,null,null,null,null,null,null,null,null,null,"Gheorghe Viorel","Faurei"]
[null,null,null,null,null,null,null,null,null,null,null,null,null,null,null,null,null,null,null,"Gheorghiasa Catalin","Sighisoara"]
[null,null,null,null,null,null,null,null,null,null,null,null,null,null,null,null,null,null,null,"Gheorghies Ovidiu","Iasi"]
[null,null,null,null,null,null,null,null,null,null,null,null,null,null,null,null,null,null,null,"Gheorghita Robert","Cisnadie"]
[null,null,null,null,null,null,null,null,null,null,null,null,null,null,null,null,null,null,null,"Gheorghita Vasile","Buzau"]
[null,null,null,null,null,null,null,null,null,null,null,null,null,null,null,null,null,null,null,"Gheorghitoiu Andrei","Brasov"]
[null,null,null,null,null,null,null,null,null,null,null,null,null,null,null,null,null,null,null,"Gheozdan Daniel","Bucuresti"]
[null,null,null,null,null,null,null,null,null,null,null,null,null,null,null,null,null,null,null,"Gherasim Iulian","Tulcea"]
[null,null,null,null,null,null,null,null,null,null,null,null,null,null,null,null,null,null,null,"Gherasim Rares","Tulcea"]
[null,null,null,null,null,null,null,null,null,null,null,null,null,null,null,null,null,null,null,"Gherghel Cristian","Fagaras"]
[null,null,null,null,null,null,null,null,null,null,null,null,null,null,null,null,null,null,null,"Gherghel Petru","Gheraesti"]
[null,null,null,null,null,null,null,null,null,null,null,null,null,null,null,null,null,null,null,"Gherghevici Calin","Bucuresti"]
[null,null,null,null,null,null,null,null,null,null,null,null,null,null,null,null,null,null,null,"Gherghina Raluca","Slatina"]
[null,null,null,null,null,null,null,null,null,null,null,null,null,null,null,null,null,null,null,"Gherman Constantin","Curtea de Arges"]
[null,null,null,null,null,null,null,null,null,null,null,null,null,null,null,null,null,null,null,"Gherman Romulus","Arad"]
[null,null,null,null,null,null,null,null,null,null,null,null,null,null,null,null,null,null,null,"Gherman Sorin","Hida"]
[null,null,null,null,null,null,null,null,null,null,null,null,null,null,null,null,null,null,null,"Gherman Vlad","Timisoara"]
[null,null,null,null,null,null,null,null,null,null,null,null,null,null,null,null,null,null,null,"Ghet Ionut","Gheraesti"]
[null,null,null,null,null,null,null,null,null,null,null,null,null,null,null,null,null,null,null,"Ghete Alexandru","Timisoara"]
[null,null,null,null,null,null,null,null,null,null,null,null,null,null,null,null,null,null,null,"Ghica Marius","Craiova"]
[null,null,null,null,null,null,null,null,null,null,null,null,null,null,null,null,null,null,null,"Ghica Nicolae","Gornet Cricov"]
[null,null,null,null,null,null,null,null,null,null,null,null,null,null,null,null,null,null,null,"Ghidiu Valer","Sighisoara"]
[null,null,null,null,null,null,null,null,null,null,null,null,null,null,null,null,null,null,null,"Ghilan Romeo","Targu Neamt"]
[null,null,null,null,null,null,null,null,null,null,null,null,null,null,null,null,null,null,null,"Ghimpau Stefan","Bucuresti"]
[null,null,null,null,null,null,null,null,null,null,null,null,null,null,null,null,null,null,null,"Ghinda Mihai","Iasi"]
[null,null,null,null,null,null,null,null,null,null,null,null,null,null,null,null,null,null,null,"Ghinea Costin","Moinesti"]
[null,null,null,null,null,null,null,null,null,null,null,null,null,null,null,null,null,null,null,"Ghinea Dragos","Moinesti"]
[null,null,null,null,null,null,null,null,null,null,null,null,null,null,null,null,null,null,null,"Ghiorghiu Dragos","Iasi"]
[null,null,null,null,null,null,null,null,null,null,null,null,null,null,null,null,null,null,null,"Ghita Dobre","Ograda"]
[null,null,null,null,null,null,null,null,null,null,null,null,null,null,null,null,null,null,null,"Ghita Eric","Sibiu"]
[null,null,null,null,null,null,null,null,null,null,null,null,null,null,null,null,null,null,null,"Ghita Mihai","Bucuresti"]
[null,null,null,null,null,null,null,null,null,null,null,null,null,null,null,null,null,null,null,"Ghitu Liviu","Onesti"]
[null,null,null,null,null,null,null,null,null,null,null,null,null,null,null,null,null,null,null,"Ghiurca Gabriel","Bucuresti"]
[null,null,null,null,null,null,null,null,null,null,null,null,null,null,null,null,null,null,null,"Ghiurutan Razvan","Bucuresti"]
[null,null,null,null,null,null,null,null,null,null,null,null,null,null,null,null,null,null,null,"Ghizdavescu Adrian","Navodari"]
[null,null,null,null,null,null,null,null,null,null,null,null,null,null,null,null,null,null,null,"Gihan Sefcati","Popesti Leordeni"]
[null,null,null,null,null,null,null,null,null,null,null,null,null,null,null,null,null,null,null,"Gindele Szilard","Carei"]
[null,null,null,null,null,null,null,null,null,null,null,null,null,null,null,null,null,null,null,"Giol Mihai","Braila"]
[null,null,null,null,null,null,null,null,null,null,null,null,null,null,null,null,null,null,null,"Giosan Adrian","Campulung Mold"]
[null,null,null,null,null,null,null,null,null,null,null,null,null,null,null,null,null,null,null,"Gipsy King","Hunedoara"]
[null,null,null,null,null,null,null,null,null,null,null,null,null,null,null,null,null,null,null,"Girboni Adrian Iacob","Timisoara"]
[null,null,null,null,null,null,null,null,null,null,null,null,null,null,null,null,null,null,null,"Gita Dan","Sfantu Gheorghe"]
[null,null,null,null,null,null,null,null,null,null,null,null,null,null,null,null,null,null,null,"Giubila Alessandro","Popesti Leordeni"]
[null,null,null,null,null,null,null,null,null,null,null,null,null,null,null,null,null,null,null,"Giurgiu Andrei","Sibiu"]
[null,null,null,null,null,null,null,null,null,null,null,null,null,null,null,null,null,null,null,"Giuseppe Brancati","Bucuresti"]
[null,null,null,null,null,null,null,null,null,null,null,null,null,null,null,null,null,null,null,"Glavan Niculae","Constanta"]
[null,null,null,null,null,null,null,null,null,null,null,null,null,null,null,null,null,null,null,"Glavan Radu","Timisoara"]
[null,null,null,null,null,null,null,null,null,null,null,null,null,null,null,null,null,null,null,"Glogogeanu Nicolae","Craiova"]
[null,null,null,null,null,null,null,null,null,null,null,null,null,null,null,null,null,null,null,"Gog Vasile","Salciua"]
[null,null,null,null,null,null,null,null,null,null,null,null,null,null,null,null,null,null,null,"Gogu Gabriel","Cluj Napoca"]
[null,null,null,null,null,null,null,null,null,null,null,null,null,null,null,null,null,null,null,"Gogu Ionut","Roman"]
[null,null,null,null,null,null,null,null,null,null,null,null,null,null,null,null,null,null,null,"Gojkov Milan","Varset"]
[null,null,null,null,null,null,null,null,null,null,null,null,null,null,null,null,null,null,null,"Gojkov Teodora","Varset"]
[null,null,null,null,null,null,null,null,null,null,null,null,null,null,null,null,null,null,null,"Golai Gheorghe","Piatra Neamt"]
[null,null,null,null,null,null,null,null,null,null,null,null,null,null,null,null,null,null,null,"Golban Nicolae","Alba Iulia"]
[null,null,null,null,null,null,null,null,null,null,null,null,null,null,null,null,null,null,null,"Goldis Robert","Stei"]
[null,null,null,null,null,null,null,null,null,null,null,null,null,null,null,null,null,null,null,"Goleanu Remus","Marginea"]
[null,null,null,null,null,null,null,null,null,null,null,null,null,null,null,null,null,null,null,"Gologan Vlad","Faurei"]
[null,null,null,null,null,null,null,null,null,null,null,null,null,null,null,null,null,null,null,"Gonta Viorel","Tecuci"]
[null,null,null,null,null,null,null,null,null,null,null,null,null,null,null,null,null,null,null,"Gonzales Levi","Deva"]
[null,null,null,null,null,null,null,null,null,null,null,null,null,null,null,null,null,null,null,"Gora Madalin","Radauti"]
[null,null,null,null,null,null,null,null,null,null,null,null,null,null,null,null,null,null,null,"Gorbatiuc Alexandr","Ucraina-Odessa"]
[null,null,null,null,null,null,null,null,null,null,null,null,null,null,null,null,null,null,null,"Gorbe David","Satu Mare"]
[null,null,null,null,null,null,null,null,null,null,null,null,null,null,null,null,null,null,null,"Gorneanu Andrei","Bucuresti"]
[null,null,null,null,null,null,null,null,null,null,null,null,null,null,null,null,null,null,null,"Gorum Adrian","Topoloveni"]
[null,null,null,null,null,null,null,null,null,null,null,null,null,null,null,null,null,null,null,"Gota Adrian","Santimbru AB"]
[null,null,null,null,null,null,null,null,null,null,null,null,null,null,null,null,null,null,null,"Gota Florin","Santimbru AB"]
[null,null,null,null,null,null,null,null,null,null,null,null,null,null,null,null,null,null,null,"Gotea Denis","Hateg"]
[null,null,null,null,null,null,null,null,null,null,null,null,null,null,null,null,null,null,null,"Govoreanu Florin","Cisnadie"]
[null,null,null,null,null,null,null,null,null,null,null,null,null,null,null,null,null,null,null,"Grajdianu Constantin","Oniceni"]
[null,null,null,null,null,null,null,null,null,null,null,null,null,null,null,null,null,null,null,"Grama Aurel","Bistrita"]
[null,null,null,null,null,null,null,null,null,null,null,null,null,null,null,null,null,null,null,"Grancea Rares","Sibiu"]
[null,null,null,null,null,null,null,null,null,null,null,null,null,null,null,null,null,null,null,"Graniceru Andra","Buzau"]
[null,null,null,null,null,null,null,null,null,null,null,null,null,null,null,null,null,null,null,"Grapina Florin","Roman"]
[null,null,null,null,null,null,null,null,null,null,null,null,null,null,null,null,null,null,null,"Graur Robert","Lombardia Italia"]
[null,null,null,null,null,null,null,null,null,null,null,null,null,null,null,null,null,null,null,"Greceanu Alezandru","Macin"]
[null,null,null,null,null,null,null,null,null,null,null,null,null,null,null,null,null,null,null,"Grecu Adelin","Bucuresti"]
[null,null,null,null,null,null,null,null,null,null,null,null,null,null,null,null,null,null,null,"Grecu Costel","Harsova"]
[null,null,null,null,null,null,null,null,null,null,null,null,null,null,null,null,null,null,null,"Grecu Gheorghe","Bistrita"]
[null,null,null,null,null,null,null,null,null,null,null,null,null,null,null,null,null,null,null,"Grecu Radu","Iasi"]
[null,null,null,null,null,null,null,null,null,null,null,null,null,null,null,null,null,null,null,"Greonjanc Marinel","Vlajkovac"]
[null,null,null,null,null,null,null,null,null,null,null,null,null,null,null,null,null,null,null,"Grigoras Andrei","Cluj Napoca"]
[null,null,null,null,null,null,null,null,null,null,null,null,null,null,null,null,null,null,null,"Grigoras Dinu","Pascani"]
[null,null,null,null,null,null,null,null,null,null,null,null,null,null,null,null,null,null,null,"Grigore Bogdan","Ramnicu Valcea"]
[null,null,null,null,null,null,null,null,null,null,null,null,null,null,null,null,null,null,null,"Grigore Catalin","Cocorastii Mislii"]
[null,null,null,null,null,null,null,null,null,null,null,null,null,null,null,null,null,null,null,"Grigore Dumitru Valentin","Ramnicu Sarat"]
[null,null,null,null,null,null,null,null,null,null,null,null,null,null,null,null,null,null,null,"Grigore Madalin","Cocorastii Mislii"]
[null,null,null,null,null,null,null,null,null,null,null,null,null,null,null,null,null,null,null,"Grigore Mihai","Bucuresti"]
[null,null,null,null,null,null,null,null,null,null,null,null,null,null,null,null,null,null,null,"Grigorean Costel","Marginea"]
[null,null,null,null,null,null,null,null,null,null,null,null,null,null,null,null,null,null,null,"Grigoriu Vlad","Suceava"]
[null,null,null,null,null,null,null,null,null,null,null,null,null,null,null,null,null,null,null,"Gritto Daniel","Medias"]
[null,null,null,null,null,null,null,null,null,null,null,null,null,null,null,null,null,null,null,"Groapa Fane","Galati"]
[null,null,null,null,null,null,null,null,null,null,null,null,null,null,null,null,null,null,null,"Grosan Mircea","Dej"]
[null,null,null,null,null,null,null,null,null,null,null,null,null,null,null,null,null,null,null,"Grosu Alexandru","Botosani"]
[null,null,null,null,null,null,null,null,null,null,null,null,null,null,null,null,null,null,null,"Grosu Alexandru","Brasov"]
[null,null,null,null,null,null,null,null,null,null,null,null,null,null,null,null,null,null,null,"Grosu Gheorghita","Targu Neamt"]
[null,null,null,null,null,null,null,null,null,null,null,null,null,null,null,null,null,null,null,"Grosu Octavian","Botosani"]
[null,null,null,null,null,null,null,null,null,null,null,null,null,null,null,null,null,null,null,"Groza Florin","Cluj Napoca"]
[null,null,null,null,null,null,null,null,null,null,null,null,null,null,null,null,null,null,null,"Grozavu Alexandru","Rovinari"]
[null,null,null,null,null,null,null,null,null,null,null,null,null,null,null,null,null,null,null,"Grumeza Lucian","Bucuresti"]
[null,null,null,null,null,null,null,null,null,null,null,null,null,null,null,null,null,null,null,"Grunfeld Tomy","Israel"]
[null,null,null,null,null,null,null,null,null,null,null,null,null,null,null,null,null,null,null,"Grusca Narcis","Gura Humorului"]
[null,null,null,null,null,null,null,null,null,null,null,null,null,null,null,null,null,null,null,"Guita Robert","Cluj Napoca"]
[null,null,null,null,null,null,null,null,null,null,null,null,null,null,null,null,null,null,null,"Gules Florin","Brasov"]
[null,null,null,null,null,null,null,null,null,null,null,null,null,null,null,null,null,null,null,"Guluta Florin","Bucuresti"]
[null,null,null,null,null,null,null,null,null,null,null,null,null,null,null,null,null,null,null,"Gurau Dan","Urlati"]
[null,null,null,null,null,null,null,null,null,null,null,null,null,null,null,null,null,null,null,"Gurau Florin Catalin","Urlati"]
[null,null,null,null,null,null,null,null,null,null,null,null,null,null,null,null,null,null,null,"Gurita Ionut","Tulcea"]
[null,null,null,null,null,null,null,null,null,null,null,null,null,null,null,null,null,null,null,"Gurzun Mihai","Cristesti"]
[null,null,null,null,null,null,null,null,null,null,null,null,null,null,null,null,null,null,null,"Gutiu Adrian","Satu Mare"]
[null,null,null,null,null,null,null,null,null,null,null,null,null,null,null,null,null,null,null,"Gutulescu Marian","Drobeta Tr Severin"]
[null,null,null,null,null,null,null,null,null,null,null,null,null,null,null,null,null,null,null,"Gyorfi Szabolcs","Gheorgheni"]
[null,null,null,null,null,null,null,null,null,null,null,null,null,null,null,null,null,null,null,"Gyorgy Adrienn","Targu Mures"]
[null,null,null,null,null,null,null,null,null,null,null,null,null,null,null,null,null,null,null,"Gyorgy Nicolett","Targu Mures"]
[null,null,null,null,null,null,null,null,null,null,null,null,null,null,null,null,null,null,null,"Hadar Onisim","Chiuza"]
[null,null,null,null,null,null,null,null,null,null,null,null,null,null,null,null,null,null,null,"Haidarli Ion","Moldova-Straseni"]
[null,null,null,null,null,null,null,null,null,null,null,null,null,null,null,null,null,null,null,"Haidau Alin","Cluj Napoca"]
[null,null,null,null,null,null,null,null,null,null,null,null,null,null,null,null,null,null,null,"Halamaghe Dan Catalin","Tulcea"]
[null,null,null,null,null,null,null,null,null,null,null,null,null,null,null,null,null,null,null,"Halasz Levente","Cluj Napoca"]
[null,null,null,null,null,null,null,null,null,null,null,null,null,null,null,null,null,null,null,"Halasz Peter","Oradea"]
[null,null,null,null,null,null,null,null,null,null,null,null,null,null,null,null,null,null,null,"Hales Teodor","Bistrita"]
[null,null,null,null,null,null,null,null,null,null,null,null,null,null,null,null,null,null,null,"Hamza Catalin","Satu Mare"]
[null,null,null,null,null,null,null,null,null,null,null,null,null,null,null,null,null,null,null,"Hamza Yanis","Targoviste"]
[null,null,null,null,null,null,null,null,null,null,null,null,null,null,null,null,null,null,null,"Hancig Mircea","Timisoara"]
[null,null,null,null,null,null,null,null,null,null,null,null,null,null,null,null,null,null,null,"Handlery Viktor","Oradea"]
[null,null,null,null,null,null,null,null,null,null,null,null,null,null,null,null,null,null,null,"Hanu Viorel","Moreni"]
[null,null,null,null,null,null,null,null,null,null,null,null,null,null,null,null,null,null,null,"Hanuleac Tamas","Joseni"]
[null,null,null,null,null,null,null,null,null,null,null,null,null,null,null,null,null,null,null,"Harabagiu Tudor","Botosani"]
[null,null,null,null,null,null,null,null,null,null,null,null,null,null,null,null,null,null,null,"Haralambescu Andrei","Bucuresti"]
[null,null,null,null,null,null,null,null,null,null,null,null,null,null,null,null,null,null,null,"Hariuc Costica","Vaslui"]
[null,null,null,null,null,null,null,null,null,null,null,null,null,null,null,null,null,null,null,"Harmanescu Petrus","Falticeni"]
[null,null,null,null,null,null,null,null,null,null,null,null,null,null,null,null,null,null,null,"Has Alin","Drobeta Tr Severin"]
[null,null,null,null,null,null,null,null,null,null,null,null,null,null,null,null,null,null,null,"Hasna Cosmin","Straja"]
[null,null,null,null,null,null,null,null,null,null,null,null,null,null,null,null,null,null,null,"Hategan Vlad","Cluj Napoca"]
[null,null,null,null,null,null,null,null,null,null,null,null,null,null,null,null,null,null,null,"Hauptkorn Martin","Germania"]
[null,null,null,null,null,null,null,null,null,null,null,null,null,null,null,null,null,null,null,"Havas Peter","Targu Mures"]
[null,null,null,null,null,null,null,null,null,null,null,null,null,null,null,null,null,null,null,"Havris Marius","Botosani"]
[null,null,null,null,null,null,null,null,null,null,null,null,null,null,null,null,null,null,null,"Hegedus Simon","Brasov"]
[null,null,null,null,null,null,null,null,null,null,null,null,null,null,null,null,null,null,null,"Heghedus Dumitru","Cicarlau"]
[null,null,null,null,null,null,null,null,null,null,null,null,null,null,null,null,null,null,null,"Heja Zoltan","Ditrau"]
[null,null,null,null,null,null,null,null,null,null,null,null,null,null,null,null,null,null,null,"Heja Zsolt","Ditrau"]
[null,null,null,null,null,null,null,null,null,null,null,null,null,null,null,null,null,null,null,"Herban Cosmin","Hunedoara"]
[null,null,null,null,null,null,null,null,null,null,null,null,null,null,null,null,null,null,null,"Herbei Tudor","Dumbravita"]
[null,null,null,null,null,null,null,null,null,null,null,null,null,null,null,null,null,null,null,"Heresanu Dumitru","Sibiu"]
[null,null,null,null,null,null,null,null,null,null,null,null,null,null,null,null,null,null,null,"Heresanu Mihai","Ludus"]
[null,null,null,null,null,null,null,null,null,null,null,null,null,null,null,null,null,null,null,"Herghelegiu Silviu","Bucuresti"]
[null,null,null,null,null,null,null,null,null,null,null,null,null,null,null,null,null,null,null,"Herlo Ioan","Arad"]
[null,null,null,null,null,null,null,null,null,null,null,null,null,null,null,null,null,null,null,"Herteg Dorinel","Arad"]
[null,null,null,null,null,null,null,null,null,null,null,null,null,null,null,null,null,null,null,"Hidi Zoltan","Oradea"]
[null,null,null,null,null,null,null,null,null,null,null,null,null,null,null,null,null,null,null,"Hidisan Cornel","Campia Turzii"]
[null,null,null,null,null,null,null,null,null,null,null,null,null,null,null,null,null,null,null,"Hidisan Ioan Lucian","Campia Turzii"]
[null,null,null,null,null,null,null,null,null,null,null,null,null,null,null,null,null,null,null,"Hirleata Andrei","Bucuresti"]
[null,null,null,null,null,null,null,null,null,null,null,null,null,null,null,null,null,null,null,"Hirsescu Cosmin","Bucuresti"]
[null,null,null,null,null,null,null,null,null,null,null,null,null,null,null,null,null,null,null,"Hobinca Cezar","Iasi"]
[null,null,null,null,null,null,null,null,null,null,null,null,null,null,null,null,null,null,null,"Hoca Bogdan","Lunca Muresului"]
[null,null,null,null,null,null,null,null,null,null,null,null,null,null,null,null,null,null,null,"Hoca Daniel","Lunca Muresului"]
[null,null,null,null,null,null,null,null,null,null,null,null,null,null,null,null,null,null,null,"Hoca Lucas","Lunca Muresului"]
[null,null,null,null,null,null,null,null,null,null,null,null,null,null,null,null,null,null,null,"Hodis Tudor","Bucuresti"]
[null,null,null,null,null,null,null,null,null,null,null,null,null,null,null,null,null,null,null,"Hodivoianu Marius","Bucuresti"]
[null,null,null,null,null,null,null,null,null,null,null,null,null,null,null,null,null,null,null,"Hogas Flaviu Alexandru","Barlad"]
[null,null,null,null,null,null,null,null,null,null,null,null,null,null,null,null,null,null,null,"Hogea Cristi","Piatra Neamt"]
[null,null,null,null,null,null,null,null,null,null,null,null,null,null,null,null,null,null,null,"Holban Dumitru","Buzau"]
[null,null,null,null,null,null,null,null,null,null,null,null,null,null,null,null,null,null,null,"Holban Ionut","Harsova"]
[null,null,null,null,null,null,null,null,null,null,null,null,null,null,null,null,null,null,null,"Homana Ioan","Stremt"]
[null,null,null,null,null,null,null,null,null,null,null,null,null,null,null,null,null,null,null,"Homana Marius","Stremt"]
[null,null,null,null,null,null,null,null,null,null,null,null,null,null,null,null,null,null,null,"Hontaru Dan","Galati"]
[null,null,null,null,null,null,null,null,null,null,null,null,null,null,null,null,null,null,null,"Hopirtean Remus","Alba Iulia"]
[null,null,null,null,null,null,null,null,null,null,null,null,null,null,null,null,null,null,null,"Hortolomei Andrei","Husi"]
[null,null,null,null,null,null,null,null,null,null,null,null,null,null,null,null,null,null,null,"Horvath Mircea","Orastie"]
[null,null,null,null,null,null,null,null,null,null,null,null,null,null,null,null,null,null,null,"Horvath Tibor","Oradea"]
[null,null,null,null,null,null,null,null,null,null,null,null,null,null,null,null,null,null,null,"Hostiuc Mitica","Botosani"]
[null,null,null,null,null,null,null,null,null,null,null,null,null,null,null,null,null,null,null,"Hotico Ciprian","Sighetu Marmatiei"]
[null,null,null,null,null,null,null,null,null,null,null,null,null,null,null,null,null,null,null,"Hradszki Sebastian","Sannicolau Mare"]
[null,null,null,null,null,null,null,null,null,null,null,null,null,null,null,null,null,null,null,"Hrehoret Adrian","Ramnicu Valcea"]
[null,null,null,null,null,null,null,null,null,null,null,null,null,null,null,null,null,null,null,"Hriban Stefan","Viseu"]
[null,null,null,null,null,null,null,null,null,null,null,null,null,null,null,null,null,null,null,"Hritcu Alin","Targu Mures"]
[null,null,null,null,null,null,null,null,null,null,null,null,null,null,null,null,null,null,null,"Hruban Andrei","Dej"]
[null,null,null,null,null,null,null,null,null,null,null,null,null,null,null,null,null,null,null,"Hui Horatiu","Cluj Napoca"]
[null,null,null,null,null,null,null,null,null,null,null,null,null,null,null,null,null,null,null,"Huica Petre","Bucuresti"]
[null,null,null,null,null,null,null,null,null,null,null,null,null,null,null,null,null,null,null,"Hupca Ricardo","Straoane"]
[null,null,null,null,null,null,null,null,null,null,null,null,null,null,null,null,null,null,null,"Hurduc Virgil","Barlad"]
[null,null,null,null,null,null,null,null,null,null,null,null,null,null,null,null,null,null,null,"Huruba Cristian","Targu Mures"]
[null,null,null,null,null,null,null,null,null,null,null,null,null,null,null,null,null,null,null,"Huruba Ilie","Targu Mures"]
[null,null,null,null,null,null,null,null,null,null,null,null,null,null,null,null,null,null,null,"Huruiala Andrei","Ramnicu Valcea"]
[null,null,null,null,null,null,null,null,null,null,null,null,null,null,null,null,null,null,null,"Husa Gelu","Zalau"]
[null,null,null,null,null,null,null,null,null,null,null,null,null,null,null,null,null,null,null,"Husarciuc Beniamin","Suceava"]
[null,null,null,null,null,null,null,null,null,null,null,null,null,null,null,null,null,null,null,"Husarciuc Marc","Suceava"]
[null,null,null,null,null,null,null,null,null,null,null,null,null,null,null,null,null,null,null,"Hutan Cosmin","Salcea"]
[null,null,null,null,null,null,null,null,null,null,null,null,null,null,null,null,null,null,null,"Hutanu Adrian","Slobozia"]
[null,null,null,null,null,null,null,null,null,null,null,null,null,null,null,null,null,null,null,"Hutanu Alin","Brasov"]
[null,null,null,null,null,null,null,null,null,null,null,null,null,null,null,null,null,null,null,"Hutanu Daniel","Iasi"]
[null,null,null,null,null,null,null,null,null,null,null,null,null,null,null,null,null,null,null,"Huza Noris","Targu Mures"]
[null,null,null,null,null,null,null,null,null,null,null,null,null,null,null,null,null,null,null,"Huzoni Viorel","Jibou"]
[null,null,null,null,null,null,null,null,null,null,null,null,null,null,null,null,null,null,null,"Iacob Augustin","Piatra Neamt"]
[null,null,null,null,null,null,null,null,null,null,null,null,null,null,null,null,null,null,null,"Iacob Gabriel","Iasi"]
[null,null,null,null,null,null,null,null,null,null,null,null,null,null,null,null,null,null,null,"Iacoban Beniamin","Cajvana"]
[null,null,null,null,null,null,null,null,null,null,null,null,null,null,null,null,null,null,null,"Iacobut Catalin","Bacau"]
[null,null,null,null,null,null,null,null,null,null,null,null,null,null,null,null,null,null,null,"Iacubenco Arsenii","Moldova-Balti"]
[null,null,null,null,null,null,null,null,null,null,null,null,null,null,null,null,null,null,null,"Iacubenco Artemii","Moldova-Balti"]
[null,null,null,null,null,null,null,null,null,null,null,null,null,null,null,null,null,null,null,"Iana Remus","Timisoara"]
[null,null,null,null,null,null,null,null,null,null,null,null,null,null,null,null,null,null,null,"Ianc Adrian","Floresti"]
[null,null,null,null,null,null,null,null,null,null,null,null,null,null,null,null,null,null,null,"Iancu George","Ploiesti"]
[null,null,null,null,null,null,null,null,null,null,null,null,null,null,null,null,null,null,null,"Iancu Laurentiu","Constanta"]
[null,null,null,null,null,null,null,null,null,null,null,null,null,null,null,null,null,null,null,"Iancu Marius","Brasov"]
[null,null,null,null,null,null,null,null,null,null,null,null,null,null,null,null,null,null,null,"Iancu Marius","Videle"]
[null,null,null,null,null,null,null,null,null,null,null,null,null,null,null,null,null,null,null,"Iancu Stefan","Hateg"]
[null,null,null,null,null,null,null,null,null,null,null,null,null,null,null,null,null,null,null,"Iancu Vasile","Zalau"]
[null,null,null,null,null,null,null,null,null,null,null,null,null,null,null,null,null,null,null,"Ianev Ivan","Moldova-Ceadir-Lunga"]
[null,null,null,null,null,null,null,null,null,null,null,null,null,null,null,null,null,null,null,"Ianos Valentin","Suceava"]
[null,null,null,null,null,null,null,null,null,null,null,null,null,null,null,null,null,null,null,"Ianos Vlad","Bucuresti"]
[null,null,null,null,null,null,null,null,null,null,null,null,null,null,null,null,null,null,null,"Ianovici Florin","Brasov"]
[null,null,null,null,null,null,null,null,null,null,null,null,null,null,null,null,null,null,null,"Iavorenciuc Matei","Suceava"]
[null,null,null,null,null,null,null,null,null,null,null,null,null,null,null,null,null,null,null,"Ichim Andrei","Iasi"]
[null,null,null,null,null,null,null,null,null,null,null,null,null,null,null,null,null,null,null,"Ichim David","Buhusi"]
[null,null,null,null,null,null,null,null,null,null,null,null,null,null,null,null,null,null,null,"Iconaru Madalin","Alexandria"]
[null,null,null,null,null,null,null,null,null,null,null,null,null,null,null,null,null,null,null,"Ido Moshe","Israel"]
[null,null,null,null,null,null,null,null,null,null,null,null,null,null,null,null,null,null,null,"Ido Shmuel Moshe","Israel"]
[null,null,null,null,null,null,null,null,null,null,null,null,null,null,null,null,null,null,null,"Ielciu Stefan","Cluj Napoca"]
[null,null,null,null,null,null,null,null,null,null,null,null,null,null,null,null,null,null,null,"Ienci Daniel","Targu Mures"]
[null,null,null,null,null,null,null,null,null,null,null,null,null,null,null,null,null,null,null,"Ifrim Alexandru","Navodari"]
[null,null,null,null,null,null,null,null,null,null,null,null,null,null,null,null,null,null,null,"Ifrim Dragos","Navodari"]
[null,null,null,null,null,null,null,null,null,null,null,null,null,null,null,null,null,null,null,"Ifrosa Ciprian","Cluj Napoca"]
[null,null,null,null,null,null,null,null,null,null,null,null,null,null,null,null,null,null,null,"Ifrosa Petru","Cluj Napoca"]
[null,null,null,null,null,null,null,null,null,null,null,null,null,null,null,null,null,null,null,"Ifrosa Rebeca","Cluj Napoca"]
[null,null,null,null,null,null,null,null,null,null,null,null,null,null,null,null,null,null,null,"Iftime Costel","Arad"]
[null,null,null,null,null,null,null,null,null,null,null,null,null,null,null,null,null,null,null,"Ignatescu Bogdan Ionut","Iasi"]
[null,null,null,null,null,null,null,null,null,null,null,null,null,null,null,null,null,null,null,"Ignuta Sebastian","Voiteg"]
[null,null,null,null,null,null,null,null,null,null,null,null,null,null,null,null,null,null,null,"Ilea Dorin","Oradea"]
[null,null,null,null,null,null,null,null,null,null,null,null,null,null,null,null,null,null,null,"Ileanu Bogdan","Targu Jiu"]
[null,null,null,null,null,null,null,null,null,null,null,null,null,null,null,null,null,null,null,"Ilie Alexandra","Voluntari"]
[null,null,null,null,null,null,null,null,null,null,null,null,null,null,null,null,null,null,null,"Ilie Andreea","Voluntari"]
[null,null,null,null,null,null,null,null,null,null,null,null,null,null,null,null,null,null,null,"Ilie Aurelian","Botosani"]
[null,null,null,null,null,null,null,null,null,null,null,null,null,null,null,null,null,null,null,"Ilie Costin","Bucuresti"]
[null,null,null,null,null,null,null,null,null,null,null,null,null,null,null,null,null,null,null,"Ilie Florian","Voluntari"]
[null,null,null,null,null,null,null,null,null,null,null,null,null,null,null,null,null,null,null,"Ilie Gheorghe Eugen","Timisoara"]
[null,null,null,null,null,null,null,null,null,null,null,null,null,null,null,null,null,null,null,"Ilie Marius Viorel","Brasov"]
[null,null,null,null,null,null,null,null,null,null,null,null,null,null,null,null,null,null,null,"Ilie Mihai Serban","Sibiu"]
[null,null,null,null,null,null,null,null,null,null,null,null,null,null,null,null,null,null,null,"Ilie Octavian Marius","Brasov"]
[null,null,null,null,null,null,null,null,null,null,null,null,null,null,null,null,null,null,null,"Ilie Radu","Iasi"]
[null,null,null,null,null,null,null,null,null,null,null,null,null,null,null,null,null,null,null,"Ilie Sebastian","Bucuresti"]
[null,null,null,null,null,null,null,null,null,null,null,null,null,null,null,null,null,null,null,"Ilie Victor","Medias"]
[null,null,null,null,null,null,null,null,null,null,null,null,null,null,null,null,null,null,null,"Ilies Ioan","Radauti"]
[null,null,null,null,null,null,null,null,null,null,null,null,null,null,null,null,null,null,null,"Iliescu Ion","Bucuresti"]
[null,null,null,null,null,null,null,null,null,null,null,null,null,null,null,null,null,null,null,"Iliescu Patricia","Snagov"]
[null,null,null,null,null,null,null,null,null,null,null,null,null,null,null,null,null,null,null,"Ilinca Gabriel","Drobeta Tr Severin"]
[null,null,null,null,null,null,null,null,null,null,null,null,null,null,null,null,null,null,null,"Ilisan Costina","Toplita"]
[null,null,null,null,null,null,null,null,null,null,null,null,null,null,null,null,null,null,null,"Iliuta Adrian","Sannicolau Mare"]
[null,null,null,null,null,null,null,null,null,null,null,null,null,null,null,null,null,null,null,"Illes Akos","Gheorgheni"]
[null,null,null,null,null,null,null,null,null,null,null,null,null,null,null,null,null,null,null,"Illes Kalman","Targu Mures"]
[null,null,null,null,null,null,null,null,null,null,null,null,null,null,null,null,null,null,null,"Illyes Elemer","Ditrau"]
[null,null,null,null,null,null,null,null,null,null,null,null,null,null,null,null,null,null,null,"Imre David","Cluj Napoca"]
[null,null,null,null,null,null,null,null,null,null,null,null,null,null,null,null,null,null,null,"Incze Geza","Targu Mures"]
[null,null,null,null,null,null,null,null,null,null,null,null,null,null,null,null,null,null,null,"Incze Levente","Miercurea Ciuc"]
[null,null,null,null,null,null,null,null,null,null,null,null,null,null,null,null,null,null,null,"Ioan Filip","Bucuresti"]
[null,null,null,null,null,null,null,null,null,null,null,null,null,null,null,null,null,null,null,"Ioana Mihai","Bucuresti"]
[null,null,null,null,null,null,null,null,null,null,null,null,null,null,null,null,null,null,null,"Ioja Danut","Calan"]
[null,null,null,null,null,null,null,null,null,null,null,null,null,null,null,null,null,null,null,"Iojiban Gheorghe","Balan"]
[null,null,null,null,null,null,null,null,null,null,null,null,null,null,null,null,null,null,null,"Iojiban Victor","Balan"]
[null,null,null,null,null,null,null,null,null,null,null,null,null,null,null,null,null,null,null,"Ion Alexandru","Darmanesti"]
[null,null,null,null,null,null,null,null,null,null,null,null,null,null,null,null,null,null,null,"Ion Ion","Ploiesti"]
[null,null,null,null,null,null,null,null,null,null,null,null,null,null,null,null,null,null,null,"Ion Marius","Braila"]
[null,null,null,null,null,null,null,null,null,null,null,null,null,null,null,null,null,null,null,"Ion Radu","Slobozia"]
[null,null,null,null,null,null,null,null,null,null,null,null,null,null,null,null,null,null,null,"Ion Radu Bogdan","Bucuresti"]
[null,null,null,null,null,null,null,null,null,null,null,null,null,null,null,null,null,null,null,"Ionas Maria","Sibiu"]
[null,null,null,null,null,null,null,null,null,null,null,null,null,null,null,null,null,null,null,"Ionas Radu","Sibiu"]
[null,null,null,null,null,null,null,null,null,null,null,null,null,null,null,null,null,null,null,"Ionascu Gabriel","Bucuresti"]
[null,null,null,null,null,null,null,null,null,null,null,null,null,null,null,null,null,null,null,"Ionel Alexandru","Bistrita"]
[null,null,null,null,null,null,null,null,null,null,null,null,null,null,null,null,null,null,null,"Ionel Ovidiu","Bistrita"]
[null,null,null,null,null,null,null,null,null,null,null,null,null,null,null,null,null,null,null,"Ionescu Alexandru","Bucuresti"]
[null,null,null,null,null,null,null,null,null,null,null,null,null,null,null,null,null,null,null,"Ionescu Aurelian","Campulung Mold"]
[null,null,null,null,null,null,null,null,null,null,null,null,null,null,null,null,null,null,null,"Ionescu Bogdan","Buzau"]
[null,null,null,null,null,null,null,null,null,null,null,null,null,null,null,null,null,null,null,"Ionescu Cristi","Ploiesti"]
[null,null,null,null,null,null,null,null,null,null,null,null,null,null,null,null,null,null,null,"Ionescu Cristian","Ulmi"]
[null,null,null,null,null,null,null,null,null,null,null,null,null,null,null,null,null,null,null,"Ionescu Dragos","Buhusi"]
[null,null,null,null,null,null,null,null,null,null,null,null,null,null,null,null,null,null,null,"Ionescu Dumitru","Bucuresti"]
[null,null,null,null,null,null,null,null,null,null,null,null,null,null,null,null,null,null,null,"Ionescu Ioana","Bucuresti"]
[null,null,null,null,null,null,null,null,null,null,null,null,null,null,null,null,null,null,null,"Ionescu Mihai","Bucuresti"]
[null,null,null,null,null,null,null,null,null,null,null,null,null,null,null,null,null,null,null,"Ionescu Sebastian","Buzau"]
[null,null,null,null,null,null,null,null,null,null,null,null,null,null,null,null,null,null,null,"Ionescu Traian","Galati"]
[null,null,null,null,null,null,null,null,null,null,null,null,null,null,null,null,null,null,null,"Ionescu Vlad","Buzau"]
[null,null,null,null,null,null,null,null,null,null,null,null,null,null,null,null,null,null,null,"Ionescu Vlad Alex","Brasov"]
[null,null,null,null,null,null,null,null,null,null,null,null,null,null,null,null,null,null,null,"Ionica Marian","Curtea de Arges"]
[null,null,null,null,null,null,null,null,null,null,null,null,null,null,null,null,null,null,null,"Ionica Marius","Comanesti"]
[null,null,null,null,null,null,null,null,null,null,null,null,null,null,null,null,null,null,null,"Ionita Alexandru","Ploiesti"]
[null,null,null,null,null,null,null,null,null,null,null,null,null,null,null,null,null,null,null,"Ionita Cristian","Ploiesti"]
[null,null,null,null,null,null,null,null,null,null,null,null,null,null,null,null,null,null,null,"Ionita Dan","Bucuresti"]
[null,null,null,null,null,null,null,null,null,null,null,null,null,null,null,null,null,null,null,"Ionita Daniel","Berceni"]
[null,null,null,null,null,null,null,null,null,null,null,null,null,null,null,null,null,null,null,"Ionita Marian","Bucuresti"]
[null,null,null,null,null,null,null,null,null,null,null,null,null,null,null,null,null,null,null,"Ionita Mihai","Lipanesti"]
[null,null,null,null,null,null,null,null,null,null,null,null,null,null,null,null,null,null,null,"Ionita Stefan","Macin"]
[null,null,null,null,null,null,null,null,null,null,null,null,null,null,null,null,null,null,null,"Ionita Valentin","Galati"]
[null,null,null,null,null,null,null,null,null,null,null,null,null,null,null,null,null,null,null,"Iordache Alexandru","Bucuresti"]
[null,null,null,null,null,null,null,null,null,null,null,null,null,null,null,null,null,null,null,"Iordache Catalin","Comanesti"]
[null,null,null,null,null,null,null,null,null,null,null,null,null,null,null,null,null,null,null,"Iordache Eugen","Braila"]
[null,null,null,null,null,null,null,null,null,null,null,null,null,null,null,null,null,null,null,"Iordache Valentin","Iasi"]
[null,null,null,null,null,null,null,null,null,null,null,null,null,null,null,null,null,null,null,"Iordachi Adrian","Adjud"]
[null,null,null,null,null,null,null,null,null,null,null,null,null,null,null,null,null,null,null,"Iordachi Adrian Stanga","Adjud"]
[null,null,null,null,null,null,null,null,null,null,null,null,null,null,null,null,null,null,null,"Iordan Eduard","Bucuresti"]
[null,null,null,null,null,null,null,null,null,null,null,null,null,null,null,null,null,null,null,"Iordan Marc Gabriel","Bucuresti"]
[null,null,null,null,null,null,null,null,null,null,null,null,null,null,null,null,null,null,null,"Iordan Marius","Bucuresti"]
[null,null,null,null,null,null,null,null,null,null,null,null,null,null,null,null,null,null,null,"Iordan Mihai","Bucuresti"]
[null,null,null,null,null,null,null,null,null,null,null,null,null,null,null,null,null,null,null,"Iorga Adrian","Videle"]
[null,null,null,null,null,null,null,null,null,null,null,null,null,null,null,null,null,null,null,"Iorgoiu Constantin","Drajna de Jos"]
[null,null,null,null,null,null,null,null,null,null,null,null,null,null,null,null,null,null,null,"Iosca Sandu","Bucuresti"]
[null,null,null,null,null,null,null,null,null,null,null,null,null,null,null,null,null,null,null,"Iosim Dumitru","Slatina"]
[null,null,null,null,null,null,null,null,null,null,null,null,null,null,null,null,null,null,null,"Iosip Radu Gabriel","Barlad"]
[null,null,null,null,null,null,null,null,null,null,null,null,null,null,null,null,null,null,null,"Iotu Mihaita Sorin","Alexandria"]
[null,null,null,null,null,null,null,null,null,null,null,null,null,null,null,null,null,null,null,"Ipate Bogdan","Pascani"]
[null,null,null,null,null,null,null,null,null,null,null,null,null,null,null,null,null,null,null,"Ipate Virgil","Bucuresti"]
[null,null,null,null,null,null,null,null,null,null,null,null,null,null,null,null,null,null,null,"Irimia Silviu Marius","Cernavoda"]
[null,null,null,null,null,null,null,null,null,null,null,null,null,null,null,null,null,null,null,"Irimia Sorin","Moinesti"]
[null,null,null,null,null,null,null,null,null,null,null,null,null,null,null,null,null,null,null,"Irimia Tudorel","Onesti"]
[null,null,null,null,null,null,null,null,null,null,null,null,null,null,null,null,null,null,null,"Irimia Viorel","Comanesti"]
[null,null,null,null,null,null,null,null,null,null,null,null,null,null,null,null,null,null,null,"Irinariu Bianca","Vatra Dornei"]
[null,null,null,null,null,null,null,null,null,null,null,null,null,null,null,null,null,null,null,"Irini Florin Lutu","Fratautii Vechi"]
[null,null,null,null,null,null,null,null,null,null,null,null,null,null,null,null,null,null,null,"Ischimgi Ivan","Moldova-Cantemir"]
[null,null,null,null,null,null,null,null,null,null,null,null,null,null,null,null,null,null,null,"Isopescu Ionut","Fratautii Noi"]
[null,null,null,null,null,null,null,null,null,null,null,null,null,null,null,null,null,null,null,"Ispas Cristian","Sebes"]
[null,null,null,null,null,null,null,null,null,null,null,null,null,null,null,null,null,null,null,"Ispas Emil","Alba Iulia"]
[null,null,null,null,null,null,null,null,null,null,null,null,null,null,null,null,null,null,null,"Ispas Marius","Sebes"]
[null,null,null,null,null,null,null,null,null,null,null,null,null,null,null,null,null,null,null,"Ispas Victor","Turnu Magurele"]
[null,null,null,null,null,null,null,null,null,null,null,null,null,null,null,null,null,null,null,"Istrate Adrian","Bistrita"]
[null,null,null,null,null,null,null,null,null,null,null,null,null,null,null,null,null,null,null,"Istrate Cristian","Bucuresti"]
[null,null,null,null,null,null,null,null,null,null,null,null,null,null,null,null,null,null,null,"Istrate Robert","Alexandria"]
[null,null,null,null,null,null,null,null,null,null,null,null,null,null,null,null,null,null,null,"Istrate Victor","Barlad"]
[null,null,null,null,null,null,null,null,null,null,null,null,null,null,null,null,null,null,null,"Isumbeli Afanasii","Moldova-Cahul"]
[null,null,null,null,null,null,null,null,null,null,null,null,null,null,null,null,null,null,null,"Itcus Marian","Sucevita"]
[null,null,null,null,null,null,null,null,null,null,null,null,null,null,null,null,null,null,null,"Iulian Cristian Mihai","Cluj Napoca"]
[null,null,null,null,null,null,null,null,null,null,null,null,null,null,null,null,null,null,null,"Ivan Adrian","Tulcea"]
[null,null,null,null,null,null,null,null,null,null,null,null,null,null,null,null,null,null,null,"Ivan Cristina","Iasi"]
[null,null,null,null,null,null,null,null,null,null,null,null,null,null,null,null,null,null,null,"Ivan Ioan","Medias"]
[null,null,null,null,null,null,null,null,null,null,null,null,null,null,null,null,null,null,null,"Ivan Sorin Ioan","Targoviste"]
[null,null,null,null,null,null,null,null,null,null,null,null,null,null,null,null,null,null,null,"Ivan Tiberiu","Bucuresti"]
[null,null,null,null,null,null,null,null,null,null,null,null,null,null,null,null,null,null,null,"Ivan Valentin","Campina"]
[null,null,null,null,null,null,null,null,null,null,null,null,null,null,null,null,null,null,null,"Ivancea Iustin","Videle"]
[null,null,null,null,null,null,null,null,null,null,null,null,null,null,null,null,null,null,null,"Ivanoschi Simion","Timisoara"]
[null,null,null,null,null,null,null,null,null,null,null,null,null,null,null,null,null,null,null,"Ivanov Alexandru","Cluj Napoca"]
[null,null,null,null,null,null,null,null,null,null,null,null,null,null,null,null,null,null,null,"Ivanov Sorin","Piatra Neamt"]
[null,null,null,null,null,null,null,null,null,null,null,null,null,null,null,null,null,null,null,"Ivascu Cosmin","Viseu"]
[null,null,null,null,null,null,null,null,null,null,null,null,null,null,null,null,null,null,null,"Ivascu Gavrila","Viseu"]
[null,null,null,null,null,null,null,null,null,null,null,null,null,null,null,null,null,null,null,"Ivascu Ioan","Viseu"]
[null,null,null,null,null,null,null,null,null,null,null,null,null,null,null,null,null,null,null,"Janosi Attila","Targu Mures"]
[null,null,null,null,null,null,null,null,null,null,null,null,null,null,null,null,null,null,null,"Janosi Levente","Ciumani"]
[null,null,null,null,null,null,null,null,null,null,null,null,null,null,null,null,null,null,null,"Jaouir Khaled","Bucuresti"]
[null,null,null,null,null,null,null,null,null,null,null,null,null,null,null,null,null,null,null,"Jarebe Massimo","Iasi"]
[null,null,null,null,null,null,null,null,null,null,null,null,null,null,null,null,null,null,null,"Jeflea Calin","Sibiu"]
[null,null,null,null,null,null,null,null,null,null,null,null,null,null,null,null,null,null,null,"Jelea Iulian","Aroneanu"]
[null,null,null,null,null,null,null,null,null,null,null,null,null,null,null,null,null,null,null,"Jeler Nicolae","Orastie"]
[null,null,null,null,null,null,null,null,null,null,null,null,null,null,null,null,null,null,null,"Jerebetchi Dumitru","Moldova-Cahul"]
[null,null,null,null,null,null,null,null,null,null,null,null,null,null,null,null,null,null,null,"Jianu Florin","Constanta"]
[null,null,null,null,null,null,null,null,null,null,null,null,null,null,null,null,null,null,null,"Jichici Svetozar","Timisoara"]
[null,null,null,null,null,null,null,null,null,null,null,null,null,null,null,null,null,null,null,"Jimmy Lu","Bucuresti"]
[null,null,null,null,null,null,null,null,null,null,null,null,null,null,null,null,null,null,null,"Jinga Vlad","Bucuresti"]
[null,null,null,null,null,null,null,null,null,null,null,null,null,null,null,null,null,null,null,"Jitaru Stefan","Piatra Neamt"]
[null,null,null,null,null,null,null,null,null,null,null,null,null,null,null,null,null,null,null,"Joarza Constantin","Sibiu"]
[null,null,null,null,null,null,null,null,null,null,null,null,null,null,null,null,null,null,null,"Joghiu Ovidiu","Focsani"]
[null,null,null,null,null,null,null,null,null,null,null,null,null,null,null,null,null,null,null,"Joldes Adrian","Bistrita"]
[null,null,null,null,null,null,null,null,null,null,null,null,null,null,null,null,null,null,null,"Jora Daria","Barlad"]
[null,null,null,null,null,null,null,null,null,null,null,null,null,null,null,null,null,null,null,"Jorga Viktorija","Vlajkovac"]
[null,null,null,null,null,null,null,null,null,null,null,null,null,null,null,null,null,null,null,"Jovanovic Slobodan","Zajecar Serbia"]
[null,null,null,null,null,null,null,null,null,null,null,null,null,null,null,null,null,null,null,"Jozsa Zoltan","Odorheiu Secuiesc"]
[null,null,null,null,null,null,null,null,null,null,null,null,null,null,null,null,null,null,null,"Juganaru Valentin","Bucuresti"]
[null,null,null,null,null,null,null,null,null,null,null,null,null,null,null,null,null,null,null,"Jujonescu Paul","Nadrag"]
[null,null,null,null,null,null,null,null,null,null,null,null,null,null,null,null,null,null,null,"Jurchita Ovidiu","Mosnita Veche"]
[null,null,null,null,null,null,null,null,null,null,null,null,null,null,null,null,null,null,null,"Jurchita Paul Ionut","Mosnita Veche"]
[null,null,null,null,null,null,null,null,null,null,null,null,null,null,null,null,null,null,null,"Jurgiu Marian","Botosani"]
[null,null,null,null,null,null,null,null,null,null,null,null,null,null,null,null,null,null,null,"Jurj Sorin","Calan"]
[null,null,null,null,null,null,null,null,null,null,null,null,null,null,null,null,null,null,null,"Jurje Alex Doru","Almasu Mare"]
[null,null,null,null,null,null,null,null,null,null,null,null,null,null,null,null,null,null,null,"Jurovschi Andrei","Satumare"]
[null,null,null,null,null,null,null,null,null,null,null,null,null,null,null,null,null,null,null,"Kadar Josif","Oradea"]
[null,null,null,null,null,null,null,null,null,null,null,null,null,null,null,null,null,null,null,"Kadar Levente","Odorheiu Secuiesc"]
[null,null,null,null,null,null,null,null,null,null,null,null,null,null,null,null,null,null,null,"Kalinsky Victor","Ucraina"]
[null,null,null,null,null,null,null,null,null,null,null,null,null,null,null,null,null,null,null,"Kalman Csaba","Timisoara"]
[null,null,null,null,null,null,null,null,null,null,null,null,null,null,null,null,null,null,null,"Kantor Imre Zoltan","Reghin"]
[null,null,null,null,null,null,null,null,null,null,null,null,null,null,null,null,null,null,null,"Kaposta Dominic","Arad"]
[null,null,null,null,null,null,null,null,null,null,null,null,null,null,null,null,null,null,null,"Kaposta Victor","Arad"]
[null,null,null,null,null,null,null,null,null,null,null,null,null,null,null,null,null,null,null,"Katona Gellert","Targu Mures"]
[null,null,null,null,null,null,null,null,null,null,null,null,null,null,null,null,null,null,null,"Kelemen Miklos","Miercurea Ciuc"]
[null,null,null,null,null,null,null,null,null,null,null,null,null,null,null,null,null,null,null,"Kercedi Catalin","Tarnaveni"]
[null,null,null,null,null,null,null,null,null,null,null,null,null,null,null,null,null,null,null,"Kerekes Tibor","Bretcu"]
[null,null,null,null,null,null,null,null,null,null,null,null,null,null,null,null,null,null,null,"Keresztes Attila","Micfalau"]
[null,null,null,null,null,null,null,null,null,null,null,null,null,null,null,null,null,null,null,"Kertesz Csaba","Uriu"]
[null,null,null,null,null,null,null,null,null,null,null,null,null,null,null,null,null,null,null,"Kesmarki Laszlo","Tarnaveni"]
[null,null,null,null,null,null,null,null,null,null,null,null,null,null,null,null,null,null,null,"Khashan Salem","Bucuresti"]
[null,null,null,null,null,null,null,null,null,null,null,null,null,null,null,null,null,null,null,"Kifor Razvan","Bran"]
[null,null,null,null,null,null,null,null,null,null,null,null,null,null,null,null,null,null,null,"Kiraly Florin","Satu Mare"]
[null,null,null,null,null,null,null,null,null,null,null,null,null,null,null,null,null,null,null,"Kiraly Pongratz","Salonta"]
[null,null,null,null,null,null,null,null,null,null,null,null,null,null,null,null,null,null,null,"Kis Istvan","Brasov"]
[null,null,null,null,null,null,null,null,null,null,null,null,null,null,null,null,null,null,null,"Kis Jancsi","Cluj Napoca"]
[null,null,null,null,null,null,null,null,null,null,null,null,null,null,null,null,null,null,null,"Kis Valentin","Cluj Napoca"]
[null,null,null,null,null,null,null,null,null,null,null,null,null,null,null,null,null,null,null,"Kiss Attila","Crasna"]
[null,null,null,null,null,null,null,null,null,null,null,null,null,null,null,null,null,null,null,"Kiss Janos","Miercurea Ciuc"]
[null,null,null,null,null,null,null,null,null,null,null,null,null,null,null,null,null,null,null,"Kiss Teofil","Oradea"]
[null,null,null,null,null,null,null,null,null,null,null,null,null,null,null,null,null,null,null,"Klein Ferenc","Reghin"]
[null,null,null,null,null,null,null,null,null,null,null,null,null,null,null,null,null,null,null,"Klepp Lucas","Lipova"]
[null,null,null,null,null,null,null,null,null,null,null,null,null,null,null,null,null,null,null,"Kolumban David","Targu Mures"]
[null,null,null,null,null,null,null,null,null,null,null,null,null,null,null,null,null,null,null,"Kolumban Elek","Targu Mures"]
[null,null,null,null,null,null,null,null,null,null,null,null,null,null,null,null,null,null,null,"Koncsag Csaba","Joseni"]
[null,null,null,null,null,null,null,null,null,null,null,null,null,null,null,null,null,null,null,"Kondort Arpad","Agnita"]
[null,null,null,null,null,null,null,null,null,null,null,null,null,null,null,null,null,null,null,"Konti Darius","Apahida"]
[null,null,null,null,null,null,null,null,null,null,null,null,null,null,null,null,null,null,null,"Konti Florin","Apahida"]
[null,null,null,null,null,null,null,null,null,null,null,null,null,null,null,null,null,null,null,"Kopka David","Arad"]
[null,null,null,null,null,null,null,null,null,null,null,null,null,null,null,null,null,null,null,"Korodi Csaba","Aita Mare"]
[null,null,null,null,null,null,null,null,null,null,null,null,null,null,null,null,null,null,null,"Kosa Laszlo","Alesd"]
[null,null,null,null,null,null,null,null,null,null,null,null,null,null,null,null,null,null,null,"Koteles Antonio","Cluj Napoca"]
[null,null,null,null,null,null,null,null,null,null,null,null,null,null,null,null,null,null,null,"Kovacs Attila","Covasna"]
[null,null,null,null,null,null,null,null,null,null,null,null,null,null,null,null,null,null,null,"Kovacs Dorel","Remetea Mare"]
[null,null,null,null,null,null,null,null,null,null,null,null,null,null,null,null,null,null,null,"Kovacs Iosif","Arad"]
[null,null,null,null,null,null,null,null,null,null,null,null,null,null,null,null,null,null,null,"Kovacs Istvan","Miercurea Ciuc"]
[null,null,null,null,null,null,null,null,null,null,null,null,null,null,null,null,null,null,null,"Kovacs Istvan","Cristuru Secuiesc"]
[null,null,null,null,null,null,null,null,null,null,null,null,null,null,null,null,null,null,null,"Kovacs Lajos","Odorheiu Secuiesc"]
[null,null,null,null,null,null,null,null,null,null,null,null,null,null,null,null,null,null,null,"Kovacs Levente","Oradea"]
[null,null,null,null,null,null,null,null,null,null,null,null,null,null,null,null,null,null,null,"Kovacs Paul","Apahida"]
[null,null,null,null,null,null,null,null,null,null,null,null,null,null,null,null,null,null,null,"Kozi Zoltan Szabolcs","Brasov"]
[null,null,null,null,null,null,null,null,null,null,null,null,null,null,null,null,null,null,null,"Kraider Helmutâ€‹â€‹","Resita"]
[null,null,null,null,null,null,null,null,null,null,null,null,null,null,null,null,null,null,null,"Kramarsic Milos","Belgrad"]
[null,null,null,null,null,null,null,null,null,null,null,null,null,null,null,null,null,null,null,"Kravchenko Daniel Mark","Israel"]
[null,null,null,null,null,null,null,null,null,null,null,null,null,null,null,null,null,null,null,"Kreitler Zoltan","Arad"]
[null,null,null,null,null,null,null,null,null,null,null,null,null,null,null,null,null,null,null,"Krempels Peter","Bucuresti"]
[null,null,null,null,null,null,null,null,null,null,null,null,null,null,null,null,null,null,null,"Kristof Daniel","Oradea"]
[null,null,null,null,null,null,null,null,null,null,null,null,null,null,null,null,null,null,null,"Kriszta Arpad Lorand","Sanpaul"]
[null,null,null,null,null,null,null,null,null,null,null,null,null,null,null,null,null,null,null,"Kromek Iulian","Cugir"]
[null,null,null,null,null,null,null,null,null,null,null,null,null,null,null,null,null,null,null,"Kupan David","Lunca Muresului"]
[null,null,null,null,null,null,null,null,null,null,null,null,null,null,null,null,null,null,null,"Kuti Istvan","Targu Mures"]
[null,null,null,null,null,null,null,null,null,null,null,null,null,null,null,null,null,null,null,"Labo Alexandru","Zalau"]
[null,null,null,null,null,null,null,null,null,null,null,null,null,null,null,null,null,null,null,"Lacatis Ghita","Maderat"]
[null,null,null,null,null,null,null,null,null,null,null,null,null,null,null,null,null,null,null,"Lacatusu Aurelian","Iasi"]
[null,null,null,null,null,null,null,null,null,null,null,null,null,null,null,null,null,null,null,"Lajos Mozes","Odorheiu Secuiesc"]
[null,null,null,null,null,null,null,null,null,null,null,null,null,null,null,null,null,null,null,"Lako Valentin","Targu Mures"]
[null,null,null,null,null,null,null,null,null,null,null,null,null,null,null,null,null,null,null,"Lambru Cristian","Slobozia"]
[null,null,null,null,null,null,null,null,null,null,null,null,null,null,null,null,null,null,null,"Langa Timotei","Dumbraveni SV"]
[null,null,null,null,null,null,null,null,null,null,null,null,null,null,null,null,null,null,null,"Lapadat Claudia","Hunedoara"]
[null,null,null,null,null,null,null,null,null,null,null,null,null,null,null,null,null,null,null,"Larion Alexandru","Suceava"]
[null,null,null,null,null,null,null,null,null,null,null,null,null,null,null,null,null,null,null,"Lascu Mihai","Timisoara"]
[null,null,null,null,null,null,null,null,null,null,null,null,null,null,null,null,null,null,null,"Laszlo Barna","Cristuru Secuiesc"]
[null,null,null,null,null,null,null,null,null,null,null,null,null,null,null,null,null,null,null,"Laszlo Cristina","Arad"]
[null,null,null,null,null,null,null,null,null,null,null,null,null,null,null,null,null,null,null,"Laszlo Levente","Miercurea Ciuc"]
[null,null,null,null,null,null,null,null,null,null,null,null,null,null,null,null,null,null,null,"Layis Rita","Sighetu Marmatiei"]
[null,null,null,null,null,null,null,null,null,null,null,null,null,null,null,null,null,null,null,"Laza Gabriel","Piatra Neamt"]
[null,null,null,null,null,null,null,null,null,null,null,null,null,null,null,null,null,null,null,"Lazar Bogdan","Nasaud"]
[null,null,null,null,null,null,null,null,null,null,null,null,null,null,null,null,null,null,null,"Lazar Catalin","Brasov"]
[null,null,null,null,null,null,null,null,null,null,null,null,null,null,null,null,null,null,null,"Lazar Dumitru","Mizil"]
[null,null,null,null,null,null,null,null,null,null,null,null,null,null,null,null,null,null,null,"Lazar Emil","Ocna Mures"]
[null,null,null,null,null,null,null,null,null,null,null,null,null,null,null,null,null,null,null,"Lazar Emilian","Navodari"]
[null,null,null,null,null,null,null,null,null,null,null,null,null,null,null,null,null,null,null,"Lazar Ionel","Pufesti"]
[null,null,null,null,null,null,null,null,null,null,null,null,null,null,null,null,null,null,null,"Lazar Vasile","Pufesti"]
[null,null,null,null,null,null,null,null,null,null,null,null,null,null,null,null,null,null,null,"Lazar Viorel","Botosani"]
[null,null,null,null,null,null,null,null,null,null,null,null,null,null,null,null,null,null,null,"Lazarescu Ioan","Caransebes"]
[null,null,null,null,null,null,null,null,null,null,null,null,null,null,null,null,null,null,null,"Lazaroiu Adrian","Lucieni"]
[null,null,null,null,null,null,null,null,null,null,null,null,null,null,null,null,null,null,null,"Lebada Doru","Arad"]
[null,null,null,null,null,null,null,null,null,null,null,null,null,null,null,null,null,null,null,"Lehel Csiki","Brasov"]
[null,null,null,null,null,null,null,null,null,null,null,null,null,null,null,null,null,null,null,"Lele Mihai","Alesd"]
[null,null,null,null,null,null,null,null,null,null,null,null,null,null,null,null,null,null,null,"Lemhenyi Tamas","Gheorgheni"]
[null,null,null,null,null,null,null,null,null,null,null,null,null,null,null,null,null,null,null,"Lengenfelder Johan","Giroc"]
[null,null,null,null,null,null,null,null,null,null,null,null,null,null,null,null,null,null,null,"Leolea Andrei","Constanta"]
[null,null,null,null,null,null,null,null,null,null,null,null,null,null,null,null,null,null,null,"Leon Dumitru","Moldova-Cahul"]
[null,null,null,null,null,null,null,null,null,null,null,null,null,null,null,null,null,null,null,"Leon Victor","Galati"]
[null,null,null,null,null,null,null,null,null,null,null,null,null,null,null,null,null,null,null,"Leonard Iulian","Arad"]
[null,null,null,null,null,null,null,null,null,null,null,null,null,null,null,null,null,null,null,"Leonescu David","Alesd"]
[null,null,null,null,null,null,null,null,null,null,null,null,null,null,null,null,null,null,null,"Leonte Vlad","Suceava"]
[null,null,null,null,null,null,null,null,null,null,null,null,null,null,null,null,null,null,null,"Leorda Rares","Reghin"]
[null,null,null,null,null,null,null,null,null,null,null,null,null,null,null,null,null,null,null,"Lepadatu Gheorghe","Priboieni"]
[null,null,null,null,null,null,null,null,null,null,null,null,null,null,null,null,null,null,null,"Lepadatu Gheorghe","Pascani"]
[null,null,null,null,null,null,null,null,null,null,null,null,null,null,null,null,null,null,null,"Lepadatu Marius","Priboieni"]
[null,null,null,null,null,null,null,null,null,null,null,null,null,null,null,null,null,null,null,"Lepadatu Robert","Priboieni"]
[null,null,null,null,null,null,null,null,null,null,null,null,null,null,null,null,null,null,null,"Lescinscaia Inna","Moldova-Balti"]
[null,null,null,null,null,null,null,null,null,null,null,null,null,null,null,null,null,null,null,"Leseanu Mihaita","Alexandria"]
[null,null,null,null,null,null,null,null,null,null,null,null,null,null,null,null,null,null,null,"Lesnic Bogdan","Moldova-Briceni"]
[null,null,null,null,null,null,null,null,null,null,null,null,null,null,null,null,null,null,null,"Leteanu Marius","Bacau"]
[null,null,null,null,null,null,null,null,null,null,null,null,null,null,null,null,null,null,null,"Leurzeanu George","Bucuresti"]
[null,null,null,null,null,null,null,null,null,null,null,null,null,null,null,null,null,null,null,"Levinta Iurie","Moldova-Leova"]
[null,null,null,null,null,null,null,null,null,null,null,null,null,null,null,null,null,null,null,"Lica George","Eforie"]
[null,null,null,null,null,null,null,null,null,null,null,null,null,null,null,null,null,null,null,"Liculescu Vlad","Bucuresti"]
[null,null,null,null,null,null,null,null,null,null,null,null,null,null,null,null,null,null,null,"Lienerth Markus","Sibiu"]
[null,null,null,null,null,null,null,null,null,null,null,null,null,null,null,null,null,null,null,"Lilea Edi","Targoviste"]
[null,null,null,null,null,null,null,null,null,null,null,null,null,null,null,null,null,null,null,"Linoiu Alexandru","Constanta"]
[null,null,null,null,null,null,null,null,null,null,null,null,null,null,null,null,null,null,null,"Linoiu Mircea","Constanta"]
[null,null,null,null,null,null,null,null,null,null,null,null,null,null,null,null,null,null,null,"Lipovanu Stefan","Buhusi"]
[null,null,null,null,null,null,null,null,null,null,null,null,null,null,null,null,null,null,null,"Lita Gabriel","Bucuresti"]
[null,null,null,null,null,null,null,null,null,null,null,null,null,null,null,null,null,null,null,"Litovcenco Gheorghe","Iasi"]
[null,null,null,null,null,null,null,null,null,null,null,null,null,null,null,null,null,null,null,"Liuba Alin","Oravita"]
[null,null,null,null,null,null,null,null,null,null,null,null,null,null,null,null,null,null,null,"Loghin Cristian","Pascani"]
[null,null,null,null,null,null,null,null,null,null,null,null,null,null,null,null,null,null,null,"Loghin Dumitru","Pascani"]
[null,null,null,null,null,null,null,null,null,null,null,null,null,null,null,null,null,null,null,"Loghin Florin","Brasov"]
[null,null,null,null,null,null,null,null,null,null,null,null,null,null,null,null,null,null,null,"Loghin Sergiu","Pascani"]
[null,null,null,null,null,null,null,null,null,null,null,null,null,null,null,null,null,null,null,"Longauer Tiberiu","Brasov"]
[null,null,null,null,null,null,null,null,null,null,null,null,null,null,null,null,null,null,null,"Lopadean Daria","Aiud"]
[null,null,null,null,null,null,null,null,null,null,null,null,null,null,null,null,null,null,null,"Lorinczi Bela","Gheorgheni"]
[null,null,null,null,null,null,null,null,null,null,null,null,null,null,null,null,null,null,null,"Lovasz Vilmos","Gheorgheni"]
[null,null,null,null,null,null,null,null,null,null,null,null,null,null,null,null,null,null,null,"Lozneanu Mihai","Iasi"]
[null,null,null,null,null,null,null,null,null,null,null,null,null,null,null,null,null,null,null,"Lozov Dima","Moldova-Avdarma"]
[null,null,null,null,null,null,null,null,null,null,null,null,null,null,null,null,null,null,null,"Luca Eugen","Aiud"]
[null,null,null,null,null,null,null,null,null,null,null,null,null,null,null,null,null,null,null,"Luca Ioan","Bucuresti"]
[null,null,null,null,null,null,null,null,null,null,null,null,null,null,null,null,null,null,null,"Luca Ioan","Sibiu"]
[null,null,null,null,null,null,null,null,null,null,null,null,null,null,null,null,null,null,null,"Luca Ionut","Sibiu"]
[null,null,null,null,null,null,null,null,null,null,null,null,null,null,null,null,null,null,null,"Luca Iulian","Bucuresti"]
[null,null,null,null,null,null,null,null,null,null,null,null,null,null,null,null,null,null,null,"Luca Maria","Lunca Muresului"]
[null,null,null,null,null,null,null,null,null,null,null,null,null,null,null,null,null,null,null,"Luca Octavian","Tulcea"]
[null,null,null,null,null,null,null,null,null,null,null,null,null,null,null,null,null,null,null,"Luca Sorin","Arad"]
[null,null,null,null,null,null,null,null,null,null,null,null,null,null,null,null,null,null,null,"Lucaciu Raul","Oradea"]
[null,null,null,null,null,null,null,null,null,null,null,null,null,null,null,null,null,null,null,"Lucan Alex","Tisauti"]
[null,null,null,null,null,null,null,null,null,null,null,null,null,null,null,null,null,null,null,"Lucian Peter","Sighetu Marmatiei"]
[null,null,null,null,null,null,null,null,null,null,null,null,null,null,null,null,null,null,null,"Lucic Corneliu","Suceava"]
[null,null,null,null,null,null,null,null,null,null,null,null,null,null,null,null,null,null,null,"Lucky Cristina","Comanesti"]
[null,null,null,null,null,null,null,null,null,null,null,null,null,null,null,null,null,null,null,"Lulciuc Dumitru","Timisoara"]
[null,null,null,null,null,null,null,null,null,null,null,null,null,null,null,null,null,null,null,"Lulciuc Dumitru Cosmin","Timisoara"]
[null,null,null,null,null,null,null,null,null,null,null,null,null,null,null,null,null,null,null,"Lumezeanu Adelina","Bucuresti"]
[null,null,null,null,null,null,null,null,null,null,null,null,null,null,null,null,null,null,null,"Lungan Mihai","Bucuresti"]
[null,null,null,null,null,null,null,null,null,null,null,null,null,null,null,null,null,null,null,"Lungeanu Cezar","Targoviste"]
[null,null,null,null,null,null,null,null,null,null,null,null,null,null,null,null,null,null,null,"Lungu Adrian","Nasaud"]
[null,null,null,null,null,null,null,null,null,null,null,null,null,null,null,null,null,null,null,"Lungu Andrei George","Roman"]
[null,null,null,null,null,null,null,null,null,null,null,null,null,null,null,null,null,null,null,"Lungu Cristian","Oradea"]
[null,null,null,null,null,null,null,null,null,null,null,null,null,null,null,null,null,null,null,"Lungu Doru","Drobeta Tr Severin"]
[null,null,null,null,null,null,null,null,null,null,null,null,null,null,null,null,null,null,null,"Lungu Lucian","Onesti"]
[null,null,null,null,null,null,null,null,null,null,null,null,null,null,null,null,null,null,null,"Lungu Marius","Oravita"]
[null,null,null,null,null,null,null,null,null,null,null,null,null,null,null,null,null,null,null,"Lungu Mihai","Iasi"]
[null,null,null,null,null,null,null,null,null,null,null,null,null,null,null,null,null,null,null,"Lungu Raul","Tecuci"]
[null,null,null,null,null,null,null,null,null,null,null,null,null,null,null,null,null,null,null,"Lungu Tatiana","Moldova-Balti"]
[null,null,null,null,null,null,null,null,null,null,null,null,null,null,null,null,null,null,null,"Lungu Tudorel","Tecuci"]
[null,null,null,null,null,null,null,null,null,null,null,null,null,null,null,null,null,null,null,"Luntraru Mihai","Iasi"]
[null,null,null,null,null,null,null,null,null,null,null,null,null,null,null,null,null,null,null,"Lup Claudiu","Bistrita"]
[null,null,null,null,null,null,null,null,null,null,null,null,null,null,null,null,null,null,null,"Lup Silviu","Oradea"]
[null,null,null,null,null,null,null,null,null,null,null,null,null,null,null,null,null,null,null,"Lupchian Alin","Suceava"]
[null,null,null,null,null,null,null,null,null,null,null,null,null,null,null,null,null,null,null,"Lupean Dumitru","Alba Iulia"]
[null,null,null,null,null,null,null,null,null,null,null,null,null,null,null,null,null,null,null,"Lupescu Nicolae","Reghin"]
[null,null,null,null,null,null,null,null,null,null,null,null,null,null,null,null,null,null,null,"Lupse Cezara","Baia Mare"]
[null,null,null,null,null,null,null,null,null,null,null,null,null,null,null,null,null,null,null,"Lupse Sorin","Baia Mare"]
[null,null,null,null,null,null,null,null,null,null,null,null,null,null,null,null,null,null,null,"Lupu Cristian","Botosani"]
[null,null,null,null,null,null,null,null,null,null,null,null,null,null,null,null,null,null,null,"Lupu Dan","Pascani"]
[null,null,null,null,null,null,null,null,null,null,null,null,null,null,null,null,null,null,null,"Lupu Gabriel Ionel","Piatra Neamt"]
[null,null,null,null,null,null,null,null,null,null,null,null,null,null,null,null,null,null,null,"Lupu Gheorghe","Navodari"]
[null,null,null,null,null,null,null,null,null,null,null,null,null,null,null,null,null,null,null,"Lupu Marius","Bucuresti"]
[null,null,null,null,null,null,null,null,null,null,null,null,null,null,null,null,null,null,null,"Lupu Mihai","Bucuresti"]
[null,null,null,null,null,null,null,null,null,null,null,null,null,null,null,null,null,null,null,"Lupu Vasile","Cluj Napoca"]
[null,null,null,null,null,null,null,null,null,null,null,null,null,null,null,null,null,null,null,"Lupu Vladimir Nicolas","Brasov"]
[null,null,null,null,null,null,null,null,null,null,null,null,null,null,null,null,null,null,null,"Macari Ion","Iasi"]
[null,null,null,null,null,null,null,null,null,null,null,null,null,null,null,null,null,null,null,"Macarie Ovidiu","Turda"]
[null,null,null,null,null,null,null,null,null,null,null,null,null,null,null,null,null,null,null,"Maciuc Sorin","Suceava"]
[null,null,null,null,null,null,null,null,null,null,null,null,null,null,null,null,null,null,null,"Macovei Costel","Iasi"]
[null,null,null,null,null,null,null,null,null,null,null,null,null,null,null,null,null,null,null,"Macovei Liviu","Brasov"]
[null,null,null,null,null,null,null,null,null,null,null,null,null,null,null,null,null,null,null,"Macovei Tudor","Bucuresti"]
[null,null,null,null,null,null,null,null,null,null,null,null,null,null,null,null,null,null,null,"Macuc Adrian","Bucuresti"]
[null,null,null,null,null,null,null,null,null,null,null,null,null,null,null,null,null,null,null,"Mada Razvan","Oradea"]
[null,null,null,null,null,null,null,null,null,null,null,null,null,null,null,null,null,null,null,"Maerean Claudiu","Bistrita"]
[null,null,null,null,null,null,null,null,null,null,null,null,null,null,null,null,null,null,null,"Maftei Catalin Doru","Asau"]
[null,null,null,null,null,null,null,null,null,null,null,null,null,null,null,null,null,null,null,"Maftei Danut","Buzau"]
[null,null,null,null,null,null,null,null,null,null,null,null,null,null,null,null,null,null,null,"Maftei Ervin","Iasi"]
[null,null,null,null,null,null,null,null,null,null,null,null,null,null,null,null,null,null,null,"Maftei Robert","Brasov"]
[null,null,null,null,null,null,null,null,null,null,null,null,null,null,null,null,null,null,null,"Maftei Ticu","Iasi"]
[null,null,null,null,null,null,null,null,null,null,null,null,null,null,null,null,null,null,null,"Magercu Alexandru","Bucuresti"]
[null,null,null,null,null,null,null,null,null,null,null,null,null,null,null,null,null,null,null,"Magura Casian","Constanta"]
[null,null,null,null,null,null,null,null,null,null,null,null,null,null,null,null,null,null,null,"Mahu Bogdan","Pascani"]
[null,null,null,null,null,null,null,null,null,null,null,null,null,null,null,null,null,null,null,"Maican Atanase Marian","Brasov"]
[null,null,null,null,null,null,null,null,null,null,null,null,null,null,null,null,null,null,null,"Maier Ciprian","Sebes"]
[null,null,null,null,null,null,null,null,null,null,null,null,null,null,null,null,null,null,null,"Majai Lehel","Sovata"]
[null,null,null,null,null,null,null,null,null,null,null,null,null,null,null,null,null,null,null,"Majeru Gabriel","Radauti"]
[null,null,null,null,null,null,null,null,null,null,null,null,null,null,null,null,null,null,null,"Majnita Andrei","Viseu"]
[null,null,null,null,null,null,null,null,null,null,null,null,null,null,null,null,null,null,null,"Makszem Szabolcs","Gheorgheni"]
[null,null,null,null,null,null,null,null,null,null,null,null,null,null,null,null,null,null,null,"Mal Calin","Baia Mare"]
[null,null,null,null,null,null,null,null,null,null,null,null,null,null,null,null,null,null,null,"Malacopol Tatiana","Bucuresti"]
[null,null,null,null,null,null,null,null,null,null,null,null,null,null,null,null,null,null,null,"Maladoi George","Tulcea"]
[null,null,null,null,null,null,null,null,null,null,null,null,null,null,null,null,null,null,null,"Malama Robert","Slobozia"]
[null,null,null,null,null,null,null,null,null,null,null,null,null,null,null,null,null,null,null,"Maldaianu Stefan","Alexandria"]
[null,null,null,null,null,null,null,null,null,null,null,null,null,null,null,null,null,null,null,"Mali Robert","Vama"]
[null,null,null,null,null,null,null,null,null,null,null,null,null,null,null,null,null,null,null,"Malureanu Grigore","Focsani"]
[null,null,null,null,null,null,null,null,null,null,null,null,null,null,null,null,null,null,null,"Malutan Corneliu","Chiuza"]
[null,null,null,null,null,null,null,null,null,null,null,null,null,null,null,null,null,null,null,"Mamaliga Robert","Tulcea"]
[null,null,null,null,null,null,null,null,null,null,null,null,null,null,null,null,null,null,null,"Man Alexandru","Dej"]
[null,null,null,null,null,null,null,null,null,null,null,null,null,null,null,null,null,null,null,"Man Cristina","Targu Mures"]
[null,null,null,null,null,null,null,null,null,null,null,null,null,null,null,null,null,null,null,"Man Florin","Dej"]
[null,null,null,null,null,null,null,null,null,null,null,null,null,null,null,null,null,null,null,"Man Ionut","Dej"]
[null,null,null,null,null,null,null,null,null,null,null,null,null,null,null,null,null,null,null,"Manastireanu Andrei","Botosani"]
[null,null,null,null,null,null,null,null,null,null,null,null,null,null,null,null,null,null,null,"Manciu Adrian","Cluj Napoca"]
[null,null,null,null,null,null,null,null,null,null,null,null,null,null,null,null,null,null,null,"Manciu George","Cluj Napoca"]
[null,null,null,null,null,null,null,null,null,null,null,null,null,null,null,null,null,null,null,"Manda Florin","Arad"]
[null,null,null,null,null,null,null,null,null,null,null,null,null,null,null,null,null,null,null,"Mandrean Gabriel","Hunedoara"]
[null,null,null,null,null,null,null,null,null,null,null,null,null,null,null,null,null,null,null,"Mandrescu Catalin","Buhusi"]
[null,null,null,null,null,null,null,null,null,null,null,null,null,null,null,null,null,null,null,"Mandru Bogdan","Hunedoara"]
[null,null,null,null,null,null,null,null,null,null,null,null,null,null,null,null,null,null,null,"Mandru Ionel","Calarasi"]
[null,null,null,null,null,null,null,null,null,null,null,null,null,null,null,null,null,null,null,"Manea Alexandru","Comarnic"]
[null,null,null,null,null,null,null,null,null,null,null,null,null,null,null,null,null,null,null,"Manea Dorinel","Tecuci"]
[null,null,null,null,null,null,null,null,null,null,null,null,null,null,null,null,null,null,null,"Manea Florin","Fetesti"]
[null,null,null,null,null,null,null,null,null,null,null,null,null,null,null,null,null,null,null,"Manea Ionel","Barlad"]
[null,null,null,null,null,null,null,null,null,null,null,null,null,null,null,null,null,null,null,"Manea Patricia","Baia Mare"]
[null,null,null,null,null,null,null,null,null,null,null,null,null,null,null,null,null,null,null,"Manescu Alexandru","Slatina"]
[null,null,null,null,null,null,null,null,null,null,null,null,null,null,null,null,null,null,null,"Mania Gabriel","Paunesti"]
[null,null,null,null,null,null,null,null,null,null,null,null,null,null,null,null,null,null,null,"Manita Claudiu","Santamaria Orlea"]
[null,null,null,null,null,null,null,null,null,null,null,null,null,null,null,null,null,null,null,"Manitiu Florin","Sibiu"]
[null,null,null,null,null,null,null,null,null,null,null,null,null,null,null,null,null,null,null,"Manoila Adrian","Iasi"]
[null,null,null,null,null,null,null,null,null,null,null,null,null,null,null,null,null,null,null,"Manoiu Nicolae Sebastian","Fieni"]
[null,null,null,null,null,null,null,null,null,null,null,null,null,null,null,null,null,null,null,"Manolache Andrei","Iasi"]
[null,null,null,null,null,null,null,null,null,null,null,null,null,null,null,null,null,null,null,"Manolache Stefan","Boldesti Scaeni"]
[null,null,null,null,null,null,null,null,null,null,null,null,null,null,null,null,null,null,null,"Manole Dan","Braila"]
[null,null,null,null,null,null,null,null,null,null,null,null,null,null,null,null,null,null,null,"Manole Daria","Bucuresti"]
[null,null,null,null,null,null,null,null,null,null,null,null,null,null,null,null,null,null,null,"Manoliu Cristian","Bucuresti"]
[null,null,null,null,null,null,null,null,null,null,null,null,null,null,null,null,null,null,null,"Mantoiu Daniel","Pucioasa"]
[null,null,null,null,null,null,null,null,null,null,null,null,null,null,null,null,null,null,null,"Manu Flaviu","Ploiesti"]
[null,null,null,null,null,null,null,null,null,null,null,null,null,null,null,null,null,null,null,"Manzala Catalin","Buzau"]
[null,null,null,null,null,null,null,null,null,null,null,null,null,null,null,null,null,null,null,"Manzat Dan","Cluj Napoca"]
[null,null,null,null,null,null,null,null,null,null,null,null,null,null,null,null,null,null,null,"Maran Alin","Faget"]
[null,null,null,null,null,null,null,null,null,null,null,null,null,null,null,null,null,null,null,"Maran Petru","Sighetu Marmatiei"]
[null,null,null,null,null,null,null,null,null,null,null,null,null,null,null,null,null,null,null,"Maranceac Victoria","Moldova-Balti"]
[null,null,null,null,null,null,null,null,null,null,null,null,null,null,null,null,null,null,null,"Marandici Adrian","Brasov"]
[null,null,null,null,null,null,null,null,null,null,null,null,null,null,null,null,null,null,null,"Marchis Alexandra","Cluj Napoca"]
[null,null,null,null,null,null,null,null,null,null,null,null,null,null,null,null,null,null,null,"Marchis Maximilian","Cluj Napoca"]
[null,null,null,null,null,null,null,null,null,null,null,null,null,null,null,null,null,null,null,"Marcoci Andrei","Brasov"]
[null,null,null,null,null,null,null,null,null,null,null,null,null,null,null,null,null,null,null,"Marcu Alexandru","Sebes"]
[null,null,null,null,null,null,null,null,null,null,null,null,null,null,null,null,null,null,null,"Marcu Bogdan Alexandru","Bucuresti"]
[null,null,null,null,null,null,null,null,null,null,null,null,null,null,null,null,null,null,null,"Marcu Catalin","Moinesti"]
[null,null,null,null,null,null,null,null,null,null,null,null,null,null,null,null,null,null,null,"Marcu Cristian","Alba Iulia"]
[null,null,null,null,null,null,null,null,null,null,null,null,null,null,null,null,null,null,null,"Marcu Dan Florin","Sibiu"]
[null,null,null,null,null,null,null,null,null,null,null,null,null,null,null,null,null,null,null,"Marcu Florin Radu","Manasturu Romanesc"]
[null,null,null,null,null,null,null,null,null,null,null,null,null,null,null,null,null,null,null,"Marcu Mario","Bucovat"]
[null,null,null,null,null,null,null,null,null,null,null,null,null,null,null,null,null,null,null,"Marcu Nicolae","Bucuresti"]
[null,null,null,null,null,null,null,null,null,null,null,null,null,null,null,null,null,null,null,"Marcu Paul","Sibiu"]
[null,null,null,null,null,null,null,null,null,null,null,null,null,null,null,null,null,null,null,"Marcu Vasile","Vatra Dornei"]
[null,null,null,null,null,null,null,null,null,null,null,null,null,null,null,null,null,null,null,"Marcus Mihai","Zalau"]
[null,null,null,null,null,null,null,null,null,null,null,null,null,null,null,null,null,null,null,"Mardare Adrian","Tulcea"]
[null,null,null,null,null,null,null,null,null,null,null,null,null,null,null,null,null,null,null,"Mares Andrei","Bucuresti"]
[null,null,null,null,null,null,null,null,null,null,null,null,null,null,null,null,null,null,null,"Mares Ionel","Blaj"]
[null,null,null,null,null,null,null,null,null,null,null,null,null,null,null,null,null,null,null,"Maresi Cristian","Targu Jiu"]
[null,null,null,null,null,null,null,null,null,null,null,null,null,null,null,null,null,null,null,"Margin Andrei","Cluj Napoca"]
[null,null,null,null,null,null,null,null,null,null,null,null,null,null,null,null,null,null,null,"Marginean Catalin","Aiud"]
[null,null,null,null,null,null,null,null,null,null,null,null,null,null,null,null,null,null,null,"Marginean Mihai","Luna CJ"]
[null,null,null,null,null,null,null,null,null,null,null,null,null,null,null,null,null,null,null,"Marginean Ovidiu","Aiud"]
[null,null,null,null,null,null,null,null,null,null,null,null,null,null,null,null,null,null,null,"Marian Bogdan","Ploiesti"]
[null,null,null,null,null,null,null,null,null,null,null,null,null,null,null,null,null,null,null,"Marian Calin","Reghin"]
[null,null,null,null,null,null,null,null,null,null,null,null,null,null,null,null,null,null,null,"Marian Florin","Reghin"]
[null,null,null,null,null,null,null,null,null,null,null,null,null,null,null,null,null,null,null,"Marian Ioan","Alba Iulia"]
[null,null,null,null,null,null,null,null,null,null,null,null,null,null,null,null,null,null,null,"Marian Ovidiu","Reghin"]
[null,null,null,null,null,null,null,null,null,null,null,null,null,null,null,null,null,null,null,"Marias Laurentiu","Ploiesti"]
[null,null,null,null,null,null,null,null,null,null,null,null,null,null,null,null,null,null,null,"Marin Albert","Bucuresti"]
[null,null,null,null,null,null,null,null,null,null,null,null,null,null,null,null,null,null,null,"Marin Alexandru","Bucuresti"]
[null,null,null,null,null,null,null,null,null,null,null,null,null,null,null,null,null,null,null,"Marin Bogdan","Iasi"]
[null,null,null,null,null,null,null,null,null,null,null,null,null,null,null,null,null,null,null,"Marin Bogdan Mihail","Bacau"]
[null,null,null,null,null,null,null,null,null,null,null,null,null,null,null,null,null,null,null,"Marin Catalin","Fenes"]
[null,null,null,null,null,null,null,null,null,null,null,null,null,null,null,null,null,null,null,"Marin Catalin","Targoviste"]
[null,null,null,null,null,null,null,null,null,null,null,null,null,null,null,null,null,null,null,"Marin Costel","Cateasca"]
[null,null,null,null,null,null,null,null,null,null,null,null,null,null,null,null,null,null,null,"Marin Doru","Iasi"]
[null,null,null,null,null,null,null,null,null,null,null,null,null,null,null,null,null,null,null,"Marin George Remus","Tulcea"]
[null,null,null,null,null,null,null,null,null,null,null,null,null,null,null,null,null,null,null,"Marin Goran","Varset"]
[null,null,null,null,null,null,null,null,null,null,null,null,null,null,null,null,null,null,null,"Marin Iulian","Campina"]
[null,null,null,null,null,null,null,null,null,null,null,null,null,null,null,null,null,null,null,"Marin Marcel","Fenes"]
[null,null,null,null,null,null,null,null,null,null,null,null,null,null,null,null,null,null,null,"Marin Mihai","Ploiesti"]
[null,null,null,null,null,null,null,null,null,null,null,null,null,null,null,null,null,null,null,"Marin Mircea","Bucuresti"]
[null,null,null,null,null,null,null,null,null,null,null,null,null,null,null,null,null,null,null,"Marin Robert","Pitesti"]
[null,null,null,null,null,null,null,null,null,null,null,null,null,null,null,null,null,null,null,"Marinescu Bogdan","Bucuresti"]
[null,null,null,null,null,null,null,null,null,null,null,null,null,null,null,null,null,null,null,"Marinescu Ioana","Bucuresti"]
[null,null,null,null,null,null,null,null,null,null,null,null,null,null,null,null,null,null,null,"Marinescu Marius","Craiova"]
[null,null,null,null,null,null,null,null,null,null,null,null,null,null,null,null,null,null,null,"Marinescu Nelu","Targoviste"]
[null,null,null,null,null,null,null,null,null,null,null,null,null,null,null,null,null,null,null,"Marinescu Razvan","Cluj Napoca"]
[null,null,null,null,null,null,null,null,null,null,null,null,null,null,null,null,null,null,null,"Marinescu Stefan","Bucuresti"]
[null,null,null,null,null,null,null,null,null,null,null,null,null,null,null,null,null,null,null,"Maris Andrei","Piatra Neamt"]
[null,null,null,null,null,null,null,null,null,null,null,null,null,null,null,null,null,null,null,"Marko Gabor","Sibiu"]
[null,null,null,null,null,null,null,null,null,null,null,null,null,null,null,null,null,null,null,"Markos Hunor","Targu Mures"]
[null,null,null,null,null,null,null,null,null,null,null,null,null,null,null,null,null,null,null,"Maroccoli Gaia","Lombardia Italia"]
[null,null,null,null,null,null,null,null,null,null,null,null,null,null,null,null,null,null,null,"Marola Mihai","Bacau"]
[null,null,null,null,null,null,null,null,null,null,null,null,null,null,null,null,null,null,null,"Marta Silviu","Husi"]
[null,null,null,null,null,null,null,null,null,null,null,null,null,null,null,null,null,null,null,"Martin Sergiu","Buhusi"]
[null,null,null,null,null,null,null,null,null,null,null,null,null,null,null,null,null,null,null,"Martinescu Alessio","Barlad"]
[null,null,null,null,null,null,null,null,null,null,null,null,null,null,null,null,null,null,null,"Martiniuc Cosmin","Viseu"]
[null,null,null,null,null,null,null,null,null,null,null,null,null,null,null,null,null,null,null,"Martoiu Gabriel","Targu Jiu"]
[null,null,null,null,null,null,null,null,null,null,null,null,null,null,null,null,null,null,null,"Marton Adam","Sfantu Gheorghe"]
[null,null,null,null,null,null,null,null,null,null,null,null,null,null,null,null,null,null,null,"Maslennicov Anatolie","Moldova-Cahul"]
[null,null,null,null,null,null,null,null,null,null,null,null,null,null,null,null,null,null,null,"Maslincov Iuri","Moldova-Cantemir"]
[null,null,null,null,null,null,null,null,null,null,null,null,null,null,null,null,null,null,null,"Mate David","Timisoara"]
[null,null,null,null,null,null,null,null,null,null,null,null,null,null,null,null,null,null,null,"Mate Gellert Gergo","Micfalau"]
[null,null,null,null,null,null,null,null,null,null,null,null,null,null,null,null,null,null,null,"Matei Alexandru","Focsani"]
[null,null,null,null,null,null,null,null,null,null,null,null,null,null,null,null,null,null,null,"Matei Alexandru","Iasi"]
[null,null,null,null,null,null,null,null,null,null,null,null,null,null,null,null,null,null,null,"Matei Alexandru","Pitesti"]
[null,null,null,null,null,null,null,null,null,null,null,null,null,null,null,null,null,null,null,"Matei Alin","Arad"]
[null,null,null,null,null,null,null,null,null,null,null,null,null,null,null,null,null,null,null,"Matei Catalin","Sibiu"]
[null,null,null,null,null,null,null,null,null,null,null,null,null,null,null,null,null,null,null,"Matei Daniel","Pitesti"]
[null,null,null,null,null,null,null,null,null,null,null,null,null,null,null,null,null,null,null,"Matei Dumitru","Deva"]
[null,null,null,null,null,null,null,null,null,null,null,null,null,null,null,null,null,null,null,"Matei Eugen","Barlad"]
[null,null,null,null,null,null,null,null,null,null,null,null,null,null,null,null,null,null,null,"Matei Marius","Galati"]
[null,null,null,null,null,null,null,null,null,null,null,null,null,null,null,null,null,null,null,"Matei Mircea","Targoviste"]
[null,null,null,null,null,null,null,null,null,null,null,null,null,null,null,null,null,null,null,"Matei Razvan","Sibiu"]
[null,null,null,null,null,null,null,null,null,null,null,null,null,null,null,null,null,null,null,"Matei Sorin","Buzau"]
[null,null,null,null,null,null,null,null,null,null,null,null,null,null,null,null,null,null,null,"Matei Vlad","Alexandria"]
[null,null,null,null,null,null,null,null,null,null,null,null,null,null,null,null,null,null,null,"Mates Flavius","Arad"]
[null,null,null,null,null,null,null,null,null,null,null,null,null,null,null,null,null,null,null,"Mateut David Jr","Apahida"]
[null,null,null,null,null,null,null,null,null,null,null,null,null,null,null,null,null,null,null,"Mateut Ionut","Zalau"]
[null,null,null,null,null,null,null,null,null,null,null,null,null,null,null,null,null,null,null,"Mateut Vasile","Zalau"]
[null,null,null,null,null,null,null,null,null,null,null,null,null,null,null,null,null,null,null,"Mathe Attila","Bistrita"]
[null,null,null,null,null,null,null,null,null,null,null,null,null,null,null,null,null,null,null,"Mato Petru","Timisoara"]
[null,null,null,null,null,null,null,null,null,null,null,null,null,null,null,null,null,null,null,"Matsumoto Paul","Brasov"]
[null,null,null,null,null,null,null,null,null,null,null,null,null,null,null,null,null,null,null,"Matyas Balazs","Bretcu"]
[null,null,null,null,null,null,null,null,null,null,null,null,null,null,null,null,null,null,null,"Mavrodin Cristian","Oltenita"]
[null,null,null,null,null,null,null,null,null,null,null,null,null,null,null,null,null,null,null,"Mavrodineanu Gabriel","Alexandria"]
[null,null,null,null,null,null,null,null,null,null,null,null,null,null,null,null,null,null,null,"Maxim Alexandru","Oradea"]
[null,null,null,null,null,null,null,null,null,null,null,null,null,null,null,null,null,null,null,"Maxim Costel","Moinesti"]
[null,null,null,null,null,null,null,null,null,null,null,null,null,null,null,null,null,null,null,"Maxim Cristian","Bistrita"]
[null,null,null,null,null,null,null,null,null,null,null,null,null,null,null,null,null,null,null,"Maximciuc Felix","Baia Mare"]
[null,null,null,null,null,null,null,null,null,null,null,null,null,null,null,null,null,null,null,"Mazilu Dumitru","Bucuresti"]
[null,null,null,null,null,null,null,null,null,null,null,null,null,null,null,null,null,null,null,"Mechetiuc Daniel","Viseu"]
[null,null,null,null,null,null,null,null,null,null,null,null,null,null,null,null,null,null,null,"Medve Mihai","Reghin"]
[null,null,null,null,null,null,null,null,null,null,null,null,null,null,null,null,null,null,null,"Meggyes Andras","Sovata"]
[null,null,null,null,null,null,null,null,null,null,null,null,null,null,null,null,null,null,null,"Melicut Sarmis","Hunedoara"]
[null,null,null,null,null,null,null,null,null,null,null,null,null,null,null,null,null,null,null,"Melintii Victoria","Moldova-Avdarma"]
[null,null,null,null,null,null,null,null,null,null,null,null,null,null,null,null,null,null,null,"Melintii Vladimir","Moldova-Comrat"]
[null,null,null,null,null,null,null,null,null,null,null,null,null,null,null,null,null,null,null,"Melniciuc Elena","Vatra Dornei"]
[null,null,null,null,null,null,null,null,null,null,null,null,null,null,null,null,null,null,null,"Meltschoh Marius Ionut","Timisoara"]
[null,null,null,null,null,null,null,null,null,null,null,null,null,null,null,null,null,null,null,"Mentel Nicole","Constanta"]
[null,null,null,null,null,null,null,null,null,null,null,null,null,null,null,null,null,null,null,"Merai Janos","Oradea"]
[null,null,null,null,null,null,null,null,null,null,null,null,null,null,null,null,null,null,null,"Merezeanu Gabriel","Bucuresti"]
[null,null,null,null,null,null,null,null,null,null,null,null,null,null,null,null,null,null,null,"Merlici Daniel","Bucuresti"]
[null,null,null,null,null,null,null,null,null,null,null,null,null,null,null,null,null,null,null,"Mesaros Horea Cristin","Ludus"]
[null,null,null,null,null,null,null,null,null,null,null,null,null,null,null,null,null,null,null,"Mesaros Ovidiu","Valenii de Munte"]
[null,null,null,null,null,null,null,null,null,null,null,null,null,null,null,null,null,null,null,"Mesca Dorel","Matca"]
[null,null,null,null,null,null,null,null,null,null,null,null,null,null,null,null,null,null,null,"Meszaros Mircea","Oradea"]
[null,null,null,null,null,null,null,null,null,null,null,null,null,null,null,null,null,null,null,"Metes Doru","Cluj Napoca"]
[null,null,null,null,null,null,null,null,null,null,null,null,null,null,null,null,null,null,null,"Meyndt Alexander","Sighisoara"]
[null,null,null,null,null,null,null,null,null,null,null,null,null,null,null,null,null,null,null,"Mialau Marius","Zalau"]
[null,null,null,null,null,null,null,null,null,null,null,null,null,null,null,null,null,null,null,"Mican Nicolae","Dej"]
[null,null,null,null,null,null,null,null,null,null,null,null,null,null,null,null,null,null,null,"Michis Razvan","Baia Mare"]
[null,null,null,null,null,null,null,null,null,null,null,null,null,null,null,null,null,null,null,"Miclea Bogdan","Cluj Napoca"]
[null,null,null,null,null,null,null,null,null,null,null,null,null,null,null,null,null,null,null,"Miclos Andrei","Dej"]
[null,null,null,null,null,null,null,null,null,null,null,null,null,null,null,null,null,null,null,"Micu Catalin","Valenii de Munte"]
[null,null,null,null,null,null,null,null,null,null,null,null,null,null,null,null,null,null,null,"Miculaiciuc Daniel Ioan","Ileanda"]
[null,null,null,null,null,null,null,null,null,null,null,null,null,null,null,null,null,null,null,"Miculescu Alexandru","Iasi"]
[null,null,null,null,null,null,null,null,null,null,null,null,null,null,null,null,null,null,null,"Miculit Alberto","Lipova"]
[null,null,null,null,null,null,null,null,null,null,null,null,null,null,null,null,null,null,null,"Miculita Ovidiu","Lipova"]
[null,null,null,null,null,null,null,null,null,null,null,null,null,null,null,null,null,null,null,"Migea Cornel","Sibiu"]
[null,null,null,null,null,null,null,null,null,null,null,null,null,null,null,null,null,null,null,"Migliaccio Antonello","Italia"]
[null,null,null,null,null,null,null,null,null,null,null,null,null,null,null,null,null,null,null,"Mihai Adrian","Botosani"]
[null,null,null,null,null,null,null,null,null,null,null,null,null,null,null,null,null,null,null,"Mihai Alexandru","Braila"]
[null,null,null,null,null,null,null,null,null,null,null,null,null,null,null,null,null,null,null,"Mihai Gabriel","Galati"]
[null,null,null,null,null,null,null,null,null,null,null,null,null,null,null,null,null,null,null,"Mihai Ion","Bucuresti"]
[null,null,null,null,null,null,null,null,null,null,null,null,null,null,null,null,null,null,null,"Mihail Dragos","Constanta"]
[null,null,null,null,null,null,null,null,null,null,null,null,null,null,null,null,null,null,null,"Mihaila Gabriel","Radauti"]
[null,null,null,null,null,null,null,null,null,null,null,null,null,null,null,null,null,null,null,"Mihaila George","Bucuresti"]
[null,null,null,null,null,null,null,null,null,null,null,null,null,null,null,null,null,null,null,"Mihaila George","Vulcana Pandele"]
[null,null,null,null,null,null,null,null,null,null,null,null,null,null,null,null,null,null,null,"Mihaila Mihai","Radauti"]
[null,null,null,null,null,null,null,null,null,null,null,null,null,null,null,null,null,null,null,"Mihaila Nicolae","Breaza"]
[null,null,null,null,null,null,null,null,null,null,null,null,null,null,null,null,null,null,null,"Mihaila Robert","Breaza"]
[null,null,null,null,null,null,null,null,null,null,null,null,null,null,null,null,null,null,null,"Mihaila Romeo","Pucioasa"]
[null,null,null,null,null,null,null,null,null,null,null,null,null,null,null,null,null,null,null,"Mihailescu Andrei","Bucuresti"]
[null,null,null,null,null,null,null,null,null,null,null,null,null,null,null,null,null,null,null,"Mihailescu Antonel","Slobozia"]
[null,null,null,null,null,null,null,null,null,null,null,null,null,null,null,null,null,null,null,"Mihailov Valentin","Moldova-Balti"]
[null,null,null,null,null,null,null,null,null,null,null,null,null,null,null,null,null,null,null,"Mihailov Victoria","Moldova-Balti"]
[null,null,null,null,null,null,null,null,null,null,null,null,null,null,null,null,null,null,null,"Mihaiuc Beniamin","Radauti"]
[null,null,null,null,null,null,null,null,null,null,null,null,null,null,null,null,null,null,null,"Mihaiuc Matei","Radauti"]
[null,null,null,null,null,null,null,null,null,null,null,null,null,null,null,null,null,null,null,"Mihalache Andrei","Buzau"]
[null,null,null,null,null,null,null,null,null,null,null,null,null,null,null,null,null,null,null,"Mihalache Antonia","Ludus"]
[null,null,null,null,null,null,null,null,null,null,null,null,null,null,null,null,null,null,null,"Mihalache Dario","Plopeni SV"]
[null,null,null,null,null,null,null,null,null,null,null,null,null,null,null,null,null,null,null,"Mihalache Luca","Mogosesti"]
[null,null,null,null,null,null,null,null,null,null,null,null,null,null,null,null,null,null,null,"Mihalachi Luca","Mogosesti"]
[null,null,null,null,null,null,null,null,null,null,null,null,null,null,null,null,null,null,null,"Mihalca Claudiu","Cluj Napoca"]
[null,null,null,null,null,null,null,null,null,null,null,null,null,null,null,null,null,null,null,"Mihalcea Iulian","Galati"]
[null,null,null,null,null,null,null,null,null,null,null,null,null,null,null,null,null,null,null,"Mihalcea Stefan Tiberiu","Snagov"]
[null,null,null,null,null,null,null,null,null,null,null,null,null,null,null,null,null,null,null,"Mihalescu Dinu","Timisoara"]
[null,null,null,null,null,null,null,null,null,null,null,null,null,null,null,null,null,null,null,"Mihali Fabian","Timisoara"]
[null,null,null,null,null,null,null,null,null,null,null,null,null,null,null,null,null,null,null,"Mihordea Marius","Bucuresti"]
[null,null,null,null,null,null,null,null,null,null,null,null,null,null,null,null,null,null,null,"Mihu Dorel","Medias"]
[null,null,null,null,null,null,null,null,null,null,null,null,null,null,null,null,null,null,null,"Mihut Benone","Pascani"]
[null,null,null,null,null,null,null,null,null,null,null,null,null,null,null,null,null,null,null,"Mihut Doru","Dej"]
[null,null,null,null,null,null,null,null,null,null,null,null,null,null,null,null,null,null,null,"Milas Andrei","Zalau"]
[null,null,null,null,null,null,null,null,null,null,null,null,null,null,null,null,null,null,null,"Milcica Andrei","Brasov"]
[null,null,null,null,null,null,null,null,null,null,null,null,null,null,null,null,null,null,null,"Milentijevic Isidora","Vlajkovac"]
[null,null,null,null,null,null,null,null,null,null,null,null,null,null,null,null,null,null,null,"Milian Iulian","Hunedoara"]
[null,null,null,null,null,null,null,null,null,null,null,null,null,null,null,null,null,null,null,"Milojkovic Matija","Novi Sad"]
[null,null,null,null,null,null,null,null,null,null,null,null,null,null,null,null,null,null,null,"Milos Adrian","Bocsa"]
[null,null,null,null,null,null,null,null,null,null,null,null,null,null,null,null,null,null,null,"Milos Andrei","Bocsa"]
[null,null,null,null,null,null,null,null,null,null,null,null,null,null,null,null,null,null,null,"Milos Cristian","Alexandria"]
[null,null,null,null,null,null,null,null,null,null,null,null,null,null,null,null,null,null,null,"Milos Eugen","Alexandria"]
[null,null,null,null,null,null,null,null,null,null,null,null,null,null,null,null,null,null,null,"Milos Gianni","Alexandria"]
[null,null,null,null,null,null,null,null,null,null,null,null,null,null,null,null,null,null,null,"Milosevic Goran","Zajecar Serbia"]
[null,null,null,null,null,null,null,null,null,null,null,null,null,null,null,null,null,null,null,"Minca Gabriel","Videle"]
[null,null,null,null,null,null,null,null,null,null,null,null,null,null,null,null,null,null,null,"Minca Paul","Comanesti"]
[null,null,null,null,null,null,null,null,null,null,null,null,null,null,null,null,null,null,null,"Mincu Marian","Tulcea"]
[null,null,null,null,null,null,null,null,null,null,null,null,null,null,null,null,null,null,null,"Mincu Theodor","Craiova"]
[null,null,null,null,null,null,null,null,null,null,null,null,null,null,null,null,null,null,null,"Mindru Marin","Sarmas"]
[null,null,null,null,null,null,null,null,null,null,null,null,null,null,null,null,null,null,null,"Minecan Flavius","Falticeni"]
[null,null,null,null,null,null,null,null,null,null,null,null,null,null,null,null,null,null,null,"Minghiras Anamaria","Constanta"]
[null,null,null,null,null,null,null,null,null,null,null,null,null,null,null,null,null,null,null,"Minica Rares","Giurgiu"]
[null,null,null,null,null,null,null,null,null,null,null,null,null,null,null,null,null,null,null,"Minu Cristian","Onesti"]
[null,null,null,null,null,null,null,null,null,null,null,null,null,null,null,null,null,null,null,"Minzat Mircea","Saliste"]
[null,null,null,null,null,null,null,null,null,null,null,null,null,null,null,null,null,null,null,"Mirauta Mihai","Moinesti"]
[null,null,null,null,null,null,null,null,null,null,null,null,null,null,null,null,null,null,null,"Mircea Florin","Harsova"]
[null,null,null,null,null,null,null,null,null,null,null,null,null,null,null,null,null,null,null,"Mircescu Alexandru","Bucuresti"]
[null,null,null,null,null,null,null,null,null,null,null,null,null,null,null,null,null,null,null,"Mirea George","Bucuresti"]
[null,null,null,null,null,null,null,null,null,null,null,null,null,null,null,null,null,null,null,"Mirisan Dorin","Baia Mare"]
[null,null,null,null,null,null,null,null,null,null,null,null,null,null,null,null,null,null,null,"Miron Andrei","Campina"]
[null,null,null,null,null,null,null,null,null,null,null,null,null,null,null,null,null,null,null,"Miron Cristi","Onesti"]
[null,null,null,null,null,null,null,null,null,null,null,null,null,null,null,null,null,null,null,"Miron Gheorghe","Bucuresti"]
[null,null,null,null,null,null,null,null,null,null,null,null,null,null,null,null,null,null,null,"Miron Liviu","Campina"]
[null,null,null,null,null,null,null,null,null,null,null,null,null,null,null,null,null,null,null,"Miron Stefan","Resita"]
[null,null,null,null,null,null,null,null,null,null,null,null,null,null,null,null,null,null,null,"Miron Viorel","Iasi"]
[null,null,null,null,null,null,null,null,null,null,null,null,null,null,null,null,null,null,null,"Mirt Alexandru","Pascani"]
[null,null,null,null,null,null,null,null,null,null,null,null,null,null,null,null,null,null,null,"Mirutoi Toader","Campulung Mold"]
[null,null,null,null,null,null,null,null,null,null,null,null,null,null,null,null,null,null,null,"Mirza Sorin","Arad"]
[null,null,null,null,null,null,null,null,null,null,null,null,null,null,null,null,null,null,null,"Mita Augustin","Dorohoi"]
[null,null,null,null,null,null,null,null,null,null,null,null,null,null,null,null,null,null,null,"Mitar Marius Tiberiu","Sannicolau Mare"]
[null,null,null,null,null,null,null,null,null,null,null,null,null,null,null,null,null,null,null,"Mititelu Daniel","Botosani"]
[null,null,null,null,null,null,null,null,null,null,null,null,null,null,null,null,null,null,null,"Mitrache Simion","Timisoara"]
[null,null,null,null,null,null,null,null,null,null,null,null,null,null,null,null,null,null,null,"Mitrea Madalina","Bucuresti"]
[null,null,null,null,null,null,null,null,null,null,null,null,null,null,null,null,null,null,null,"Mitrica Gheorghe","Gostavatu"]
[null,null,null,null,null,null,null,null,null,null,null,null,null,null,null,null,null,null,null,"Mitrofan Petrica","Brasov"]
[null,null,null,null,null,null,null,null,null,null,null,null,null,null,null,null,null,null,null,"Mitroi Florin","Bucuresti"]
[null,null,null,null,null,null,null,null,null,null,null,null,null,null,null,null,null,null,null,"Mitu Claudiu","Bucuresti"]
[null,null,null,null,null,null,null,null,null,null,null,null,null,null,null,null,null,null,null,"Miu Maria","Bucuresti"]
[null,null,null,null,null,null,null,null,null,null,null,null,null,null,null,null,null,null,null,"Mladin Rahela","Valenii de Munte"]
[null,null,null,null,null,null,null,null,null,null,null,null,null,null,null,null,null,null,null,"Mladin Stelian","Calan"]
[null,null,null,null,null,null,null,null,null,null,null,null,null,null,null,null,null,null,null,"Mladin Vasile","Calan"]
[null,null,null,null,null,null,null,null,null,null,null,null,null,null,null,null,null,null,null,"Mladinoi Ion","Iasi"]
[null,null,null,null,null,null,null,null,null,null,null,null,null,null,null,null,null,null,null,"Moanta Andrei","Bucuresti"]
[null,null,null,null,null,null,null,null,null,null,null,null,null,null,null,null,null,null,null,"Moca Alexandru","Ludus"]
[null,null,null,null,null,null,null,null,null,null,null,null,null,null,null,null,null,null,null,"Mocan Betuel","Stei"]
[null,null,null,null,null,null,null,null,null,null,null,null,null,null,null,null,null,null,null,"Mocan Marius","Cluj Napoca"]
[null,null,null,null,null,null,null,null,null,null,null,null,null,null,null,null,null,null,null,"Mocanu Adrian","Targoviste"]
[null,null,null,null,null,null,null,null,null,null,null,null,null,null,null,null,null,null,null,"Mocanu David","Bucuresti"]
[null,null,null,null,null,null,null,null,null,null,null,null,null,null,null,null,null,null,null,"Mocanu Gabriel Iustin","Bacau"]
[null,null,null,null,null,null,null,null,null,null,null,null,null,null,null,null,null,null,null,"Mocanu Georgian","Filipestii de Targ"]
[null,null,null,null,null,null,null,null,null,null,null,null,null,null,null,null,null,null,null,"Mocanu Luca","Filipestii de Targ"]
[null,null,null,null,null,null,null,null,null,null,null,null,null,null,null,null,null,null,null,"Mocanu Marius","Baicoi"]
[null,null,null,null,null,null,null,null,null,null,null,null,null,null,null,null,null,null,null,"Mocanu Mihai","Halaucesti"]
[null,null,null,null,null,null,null,null,null,null,null,null,null,null,null,null,null,null,null,"Mocean Dan","Cluj Napoca"]
[null,null,null,null,null,null,null,null,null,null,null,null,null,null,null,null,null,null,null,"Mocondoi Gheorghita","Moinesti"]
[null,null,null,null,null,null,null,null,null,null,null,null,null,null,null,null,null,null,null,"Modiga Patrick","Arad"]
[null,null,null,null,null,null,null,null,null,null,null,null,null,null,null,null,null,null,null,"Modirca Daniel","Ucraina"]
[null,null,null,null,null,null,null,null,null,null,null,null,null,null,null,null,null,null,null,"Mohonea Angel","Braila"]
[null,null,null,null,null,null,null,null,null,null,null,null,null,null,null,null,null,null,null,"Moian Calin","Sighisoara"]
[null,null,null,null,null,null,null,null,null,null,null,null,null,null,null,null,null,null,null,"Moise Bianca","Ploiesti"]
[null,null,null,null,null,null,null,null,null,null,null,null,null,null,null,null,null,null,null,"Moise Daniel","Mioveni"]
[null,null,null,null,null,null,null,null,null,null,null,null,null,null,null,null,null,null,null,"Moise Silviu","Timisoara"]
[null,null,null,null,null,null,null,null,null,null,null,null,null,null,null,null,null,null,null,"Moise Valentin","Ploiesti"]
[null,null,null,null,null,null,null,null,null,null,null,null,null,null,null,null,null,null,null,"Moise Vasile","Bucuresti"]
[null,null,null,null,null,null,null,null,null,null,null,null,null,null,null,null,null,null,null,"Moise Viorel","Braila"]
[null,null,null,null,null,null,null,null,null,null,null,null,null,null,null,null,null,null,null,"Moisuc Alexandru","Radauti"]
[null,null,null,null,null,null,null,null,null,null,null,null,null,null,null,null,null,null,null,"Moisuc Catalin","Fratautii Noi"]
[null,null,null,null,null,null,null,null,null,null,null,null,null,null,null,null,null,null,null,"Moldovan Alexandru","Nasaud"]
[null,null,null,null,null,null,null,null,null,null,null,null,null,null,null,null,null,null,null,"Moldovan Alexandru Radu","Cluj Napoca"]
[null,null,null,null,null,null,null,null,null,null,null,null,null,null,null,null,null,null,null,"Moldovan Alin","Bistrita"]
[null,null,null,null,null,null,null,null,null,null,null,null,null,null,null,null,null,null,null,"Moldovan Andrei","Oradea"]
[null,null,null,null,null,null,null,null,null,null,null,null,null,null,null,null,null,null,null,"Moldovan Aurel","Timisoara"]
[null,null,null,null,null,null,null,null,null,null,null,null,null,null,null,null,null,null,null,"Moldovan Claudiu","Dej"]
[null,null,null,null,null,null,null,null,null,null,null,null,null,null,null,null,null,null,null,"Moldovan Cristian","Tarnaveni"]
[null,null,null,null,null,null,null,null,null,null,null,null,null,null,null,null,null,null,null,"Moldovan Cristian","Alba Iulia"]
[null,null,null,null,null,null,null,null,null,null,null,null,null,null,null,null,null,null,null,"Moldovan Darian","Nasaud"]
[null,null,null,null,null,null,null,null,null,null,null,null,null,null,null,null,null,null,null,"Moldovan Dorel","Bistrita"]
[null,null,null,null,null,null,null,null,null,null,null,null,null,null,null,null,null,null,null,"Moldovan Flavia","Tarnaveni"]
[null,null,null,null,null,null,null,null,null,null,null,null,null,null,null,null,null,null,null,"Moldovan Horvath Csaba","Targu Mures"]
[null,null,null,null,null,null,null,null,null,null,null,null,null,null,null,null,null,null,null,"Moldovan Laszlo","Praid"]
[null,null,null,null,null,null,null,null,null,null,null,null,null,null,null,null,null,null,null,"Moldovan Matei","Cluj Napoca"]
[null,null,null,null,null,null,null,null,null,null,null,null,null,null,null,null,null,null,null,"Moldovan Nicolae Ioan","Poienita"]
[null,null,null,null,null,null,null,null,null,null,null,null,null,null,null,null,null,null,null,"Moldovan Nicu","Orastie"]
[null,null,null,null,null,null,null,null,null,null,null,null,null,null,null,null,null,null,null,"Moldovan Petrut Sorin","Beclean"]
[null,null,null,null,null,null,null,null,null,null,null,null,null,null,null,null,null,null,null,"Moldovan Radu","Alba Iulia"]
[null,null,null,null,null,null,null,null,null,null,null,null,null,null,null,null,null,null,null,"Moldovan Tudor","Cluj Napoca"]
[null,null,null,null,null,null,null,null,null,null,null,null,null,null,null,null,null,null,null,"Moldovean Valer","Calan"]
[null,null,null,null,null,null,null,null,null,null,null,null,null,null,null,null,null,null,null,"Moldoveanu Sorin Florian","Hunedoara"]
[null,null,null,null,null,null,null,null,null,null,null,null,null,null,null,null,null,null,null,"Molnar Tihamer","Tarnaveni"]
[null,null,null,null,null,null,null,null,null,null,null,null,null,null,null,null,null,null,null,"Monciu Florin","Greci"]
[null,null,null,null,null,null,null,null,null,null,null,null,null,null,null,null,null,null,null,"Mondoaca Matteo","Rosiori de Vede"]
[null,null,null,null,null,null,null,null,null,null,null,null,null,null,null,null,null,null,null,"Morar Alin","Alba Iulia"]
[null,null,null,null,null,null,null,null,null,null,null,null,null,null,null,null,null,null,null,"Morar Aurel Ovidiu","Tarnaveni"]
[null,null,null,null,null,null,null,null,null,null,null,null,null,null,null,null,null,null,null,"Morar Marcel","Campulung Mold"]
[null,null,null,null,null,null,null,null,null,null,null,null,null,null,null,null,null,null,null,"Morar Ovidiu","Tarnaveni"]
[null,null,null,null,null,null,null,null,null,null,null,null,null,null,null,null,null,null,null,"Morariu Costel","Gherla"]
[null,null,null,null,null,null,null,null,null,null,null,null,null,null,null,null,null,null,null,"Morariu Ioan","Saliste"]
[null,null,null,null,null,null,null,null,null,null,null,null,null,null,null,null,null,null,null,"Morariu Marius","Sibiu"]
[null,null,null,null,null,null,null,null,null,null,null,null,null,null,null,null,null,null,null,"Morariu Mircea","Iasi"]
[null,null,null,null,null,null,null,null,null,null,null,null,null,null,null,null,null,null,null,"Moraru David","Constanta"]
[null,null,null,null,null,null,null,null,null,null,null,null,null,null,null,null,null,null,null,"Moraru Dumitru","Moldova-Cahul"]
[null,null,null,null,null,null,null,null,null,null,null,null,null,null,null,null,null,null,null,"Moraru Marius","Bucuresti"]
[null,null,null,null,null,null,null,null,null,null,null,null,null,null,null,null,null,null,null,"Moraru Ramona Cosmina","Drobeta Tr Severin"]
[null,null,null,null,null,null,null,null,null,null,null,null,null,null,null,null,null,null,null,"Moreno Valentin","Bucuresti"]
[null,null,null,null,null,null,null,null,null,null,null,null,null,null,null,null,null,null,null,"Moroldi Antonio","Targu Mures"]
[null,null,null,null,null,null,null,null,null,null,null,null,null,null,null,null,null,null,null,"Morosan Alexandru","Horodnic de Sus"]
[null,null,null,null,null,null,null,null,null,null,null,null,null,null,null,null,null,null,null,"Morosan Dana","Vatra Dornei"]
[null,null,null,null,null,null,null,null,null,null,null,null,null,null,null,null,null,null,null,"Morosan Ionel","Granicesti"]
[null,null,null,null,null,null,null,null,null,null,null,null,null,null,null,null,null,null,null,"Morosan Ionel","Radauti"]
[null,null,null,null,null,null,null,null,null,null,null,null,null,null,null,null,null,null,null,"Morosan Mihai","Granicesti"]
[null,null,null,null,null,null,null,null,null,null,null,null,null,null,null,null,null,null,null,"Morosan Sara","Horodnic de Sus"]
[null,null,null,null,null,null,null,null,null,null,null,null,null,null,null,null,null,null,null,"Morosanu Dan","Targu Neamt"]
[null,null,null,null,null,null,null,null,null,null,null,null,null,null,null,null,null,null,null,"Morosanu Vasile","Suceava"]
[null,null,null,null,null,null,null,null,null,null,null,null,null,null,null,null,null,null,null,"Morut Sebastian","Oradea"]
[null,null,null,null,null,null,null,null,null,null,null,null,null,null,null,null,null,null,null,"Mos Cristian","Tampa"]
[null,null,null,null,null,null,null,null,null,null,null,null,null,null,null,null,null,null,null,"Mosgoreanu Codrut","Bucuresti"]
[null,null,null,null,null,null,null,null,null,null,null,null,null,null,null,null,null,null,null,"Mosneagu Maia","Falticeni"]
[null,null,null,null,null,null,null,null,null,null,null,null,null,null,null,null,null,null,null,"Mosneagu Mario","Partestii de Jos"]
[null,null,null,null,null,null,null,null,null,null,null,null,null,null,null,null,null,null,null,"Mosneagu Marius","Falticeni"]
[null,null,null,null,null,null,null,null,null,null,null,null,null,null,null,null,null,null,null,"Mosnegutu Laurentiu","Dorohoi"]
[null,null,null,null,null,null,null,null,null,null,null,null,null,null,null,null,null,null,null,"Mosteanu Luca","Navodari"]
[null,null,null,null,null,null,null,null,null,null,null,null,null,null,null,null,null,null,null,"Motica Dumitru Ion","Cicarlau"]
[null,null,null,null,null,null,null,null,null,null,null,null,null,null,null,null,null,null,null,"Motorga Dorin","Targu Mures"]
[null,null,null,null,null,null,null,null,null,null,null,null,null,null,null,null,null,null,null,"Movila Agata","Moldova-Balti"]
[null,null,null,null,null,null,null,null,null,null,null,null,null,null,null,null,null,null,null,"Movileanu Neculae","Brasov"]
[null,null,null,null,null,null,null,null,null,null,null,null,null,null,null,null,null,null,null,"Mozes Florin","Sibiu"]
[null,null,null,null,null,null,null,null,null,null,null,null,null,null,null,null,null,null,null,"Muhammad Shehzad","Sibiu"]
[null,null,null,null,null,null,null,null,null,null,null,null,null,null,null,null,null,null,null,"Muntean Atila","Hunedoara"]
[null,null,null,null,null,null,null,null,null,null,null,null,null,null,null,null,null,null,null,"Muntean Gabriel","Dorohoi"]
[null,null,null,null,null,null,null,null,null,null,null,null,null,null,null,null,null,null,null,"Muntean Radu","Floresti"]
[null,null,null,null,null,null,null,null,null,null,null,null,null,null,null,null,null,null,null,"Muntean Tudor","Floresti"]
[null,null,null,null,null,null,null,null,null,null,null,null,null,null,null,null,null,null,null,"Munteanu Constantin","Ramnicu Sarat"]
[null,null,null,null,null,null,null,null,null,null,null,null,null,null,null,null,null,null,null,"Munteanu Constantin","Resita"]
[null,null,null,null,null,null,null,null,null,null,null,null,null,null,null,null,null,null,null,"Munteanu Corneliu","Harlau"]
[null,null,null,null,null,null,null,null,null,null,null,null,null,null,null,null,null,null,null,"Munteanu Dragos","Bucuresti"]
[null,null,null,null,null,null,null,null,null,null,null,null,null,null,null,null,null,null,null,"Munteanu Elisei","Moldova-Cahul"]
[null,null,null,null,null,null,null,null,null,null,null,null,null,null,null,null,null,null,null,"Munteanu Ion","Comanesti"]
[null,null,null,null,null,null,null,null,null,null,null,null,null,null,null,null,null,null,null,"Munteanu Ion","Brasov"]
[null,null,null,null,null,null,null,null,null,null,null,null,null,null,null,null,null,null,null,"Munteanu Mariana","Moldova-Cahul"]
[null,null,null,null,null,null,null,null,null,null,null,null,null,null,null,null,null,null,null,"Munteanu Petrisor","Iasi"]
[null,null,null,null,null,null,null,null,null,null,null,null,null,null,null,null,null,null,null,"Munteanu Sebastian","Bacau"]
[null,null,null,null,null,null,null,null,null,null,null,null,null,null,null,null,null,null,null,"Munteanu Sorin","Baia Mare"]
[null,null,null,null,null,null,null,null,null,null,null,null,null,null,null,null,null,null,null,"Munteanu Stefan","Piatra Neamt"]
[null,null,null,null,null,null,null,null,null,null,null,null,null,null,null,null,null,null,null,"Murariu Miruna","Moinesti"]
[null,null,null,null,null,null,null,null,null,null,null,null,null,null,null,null,null,null,null,"Muraru Ioana","Vatra Dornei"]
[null,null,null,null,null,null,null,null,null,null,null,null,null,null,null,null,null,null,null,"Muresan Adrian","Brasov"]
[null,null,null,null,null,null,null,null,null,null,null,null,null,null,null,null,null,null,null,"Muresan Alexandra","Cluj Napoca"]
[null,null,null,null,null,null,null,null,null,null,null,null,null,null,null,null,null,null,null,"Muresan Ana Maria","Cluj Napoca"]
[null,null,null,null,null,null,null,null,null,null,null,null,null,null,null,null,null,null,null,"Muresan Aris","Gherla"]
[null,null,null,null,null,null,null,null,null,null,null,null,null,null,null,null,null,null,null,"Muresan Codrean","Targu Mures"]
[null,null,null,null,null,null,null,null,null,null,null,null,null,null,null,null,null,null,null,"Muresan Cristian","Cluj Napoca"]
[null,null,null,null,null,null,null,null,null,null,null,null,null,null,null,null,null,null,null,"Muresan Dorel","Cluj Napoca"]
[null,null,null,null,null,null,null,null,null,null,null,null,null,null,null,null,null,null,null,"Muresan Florin","Deva"]
[null,null,null,null,null,null,null,null,null,null,null,null,null,null,null,null,null,null,null,"Muresan Marian","Dej"]
[null,null,null,null,null,null,null,null,null,null,null,null,null,null,null,null,null,null,null,"Muresan Mihai","Malut"]
[null,null,null,null,null,null,null,null,null,null,null,null,null,null,null,null,null,null,null,"Muresan Nicolaie","Cluj Napoca"]
[null,null,null,null,null,null,null,null,null,null,null,null,null,null,null,null,null,null,null,"Muresan Ovidiu","Caransebes"]
[null,null,null,null,null,null,null,null,null,null,null,null,null,null,null,null,null,null,null,"Muresan Paul","Uriu"]
[null,null,null,null,null,null,null,null,null,null,null,null,null,null,null,null,null,null,null,"Muresan Robert","Surduc"]
[null,null,null,null,null,null,null,null,null,null,null,null,null,null,null,null,null,null,null,"Murgu Ioan","Oravita"]
[null,null,null,null,null,null,null,null,null,null,null,null,null,null,null,null,null,null,null,"Murvai Bela","Delenii"]
[null,null,null,null,null,null,null,null,null,null,null,null,null,null,null,null,null,null,null,"Musat Catalin","Alexandria"]
[null,null,null,null,null,null,null,null,null,null,null,null,null,null,null,null,null,null,null,"Musat Filip","Lipanesti"]
[null,null,null,null,null,null,null,null,null,null,null,null,null,null,null,null,null,null,null,"Musat Mihai","Lipanesti"]
[null,null,null,null,null,null,null,null,null,null,null,null,null,null,null,null,null,null,null,"Musat Tudor","Lipanesti"]
[null,null,null,null,null,null,null,null,null,null,null,null,null,null,null,null,null,null,null,"Musceleanu Stefan","Buftea"]
[null,null,null,null,null,null,null,null,null,null,null,null,null,null,null,null,null,null,null,"Mutrescu Eugen","Timisoara"]
[null,null,null,null,null,null,null,null,null,null,null,null,null,null,null,null,null,null,null,"Nacu Iustinian Andrei","Piatra Neamt"]
[null,null,null,null,null,null,null,null,null,null,null,null,null,null,null,null,null,null,null,"Nadejde Andrei","Cluj Napoca"]
[null,null,null,null,null,null,null,null,null,null,null,null,null,null,null,null,null,null,null,"Nadejde Mihai","Cluj Napoca"]
[null,null,null,null,null,null,null,null,null,null,null,null,null,null,null,null,null,null,null,"Nadoleanu Pavel","Tulcea"]
[null,null,null,null,null,null,null,null,null,null,null,null,null,null,null,null,null,null,null,"Naghi Bianca","Lunca Muresului"]
[null,null,null,null,null,null,null,null,null,null,null,null,null,null,null,null,null,null,null,"Naghi Vlad","Hunedoara"]
[null,null,null,null,null,null,null,null,null,null,null,null,null,null,null,null,null,null,null,"Naghiu Raluca","Cluj Napoca"]
[null,null,null,null,null,null,null,null,null,null,null,null,null,null,null,null,null,null,null,"Nagy Arpad","Suseni"]
[null,null,null,null,null,null,null,null,null,null,null,null,null,null,null,null,null,null,null,"Nagy Eduard","Deva"]
[null,null,null,null,null,null,null,null,null,null,null,null,null,null,null,null,null,null,null,"Nagy Iosif","Arad"]
[null,null,null,null,null,null,null,null,null,null,null,null,null,null,null,null,null,null,null,"Nagy Kristof","Targu Mures"]
[null,null,null,null,null,null,null,null,null,null,null,null,null,null,null,null,null,null,null,"Nagy Robert","Odorheiu Secuiesc"]
[null,null,null,null,null,null,null,null,null,null,null,null,null,null,null,null,null,null,null,"Nalboiu David","Craiova"]
[null,null,null,null,null,null,null,null,null,null,null,null,null,null,null,null,null,null,null,"Nan Luca","Oradea"]
[null,null,null,null,null,null,null,null,null,null,null,null,null,null,null,null,null,null,null,"Nanu Ingrid","Botosani"]
[null,null,null,null,null,null,null,null,null,null,null,null,null,null,null,null,null,null,null,"Nascu Horea","Cluj Napoca"]
[null,null,null,null,null,null,null,null,null,null,null,null,null,null,null,null,null,null,null,"Nastaca Catalin","Falticeni"]
[null,null,null,null,null,null,null,null,null,null,null,null,null,null,null,null,null,null,null,"Nastasa Sergiu","Iasi"]
[null,null,null,null,null,null,null,null,null,null,null,null,null,null,null,null,null,null,null,"Nastase George","Bucuresti"]
[null,null,null,null,null,null,null,null,null,null,null,null,null,null,null,null,null,null,null,"Nastase Laurentiu","Arad"]
[null,null,null,null,null,null,null,null,null,null,null,null,null,null,null,null,null,null,null,"Nastic Branko","Ilandza"]
[null,null,null,null,null,null,null,null,null,null,null,null,null,null,null,null,null,null,null,"Nasui Gavrila","Cluj Napoca"]
[null,null,null,null,null,null,null,null,null,null,null,null,null,null,null,null,null,null,null,"Neacsu Cristian","Bucuresti"]
[null,null,null,null,null,null,null,null,null,null,null,null,null,null,null,null,null,null,null,"Neacsu Radu","Bucuresti"]
[null,null,null,null,null,null,null,null,null,null,null,null,null,null,null,null,null,null,null,"Neagoe Catalin","Timisoara"]
[null,null,null,null,null,null,null,null,null,null,null,null,null,null,null,null,null,null,null,"Neagoe Costin","Bucuresti"]
[null,null,null,null,null,null,null,null,null,null,null,null,null,null,null,null,null,null,null,"Neagoie Adrian","Timisoara"]
[null,null,null,null,null,null,null,null,null,null,null,null,null,null,null,null,null,null,null,"Neagu Alexandru","Targoviste"]
[null,null,null,null,null,null,null,null,null,null,null,null,null,null,null,null,null,null,null,"Neagu Costin","Targoviste"]
[null,null,null,null,null,null,null,null,null,null,null,null,null,null,null,null,null,null,null,"Neagu Darius","Bucuresti"]
[null,null,null,null,null,null,null,null,null,null,null,null,null,null,null,null,null,null,null,"Neagu Dumitru","Branceni"]
[null,null,null,null,null,null,null,null,null,null,null,null,null,null,null,null,null,null,null,"Neagu George","Cernavoda"]
[null,null,null,null,null,null,null,null,null,null,null,null,null,null,null,null,null,null,null,"Neagu Ioan Adrian","Slatina Timis"]
[null,null,null,null,null,null,null,null,null,null,null,null,null,null,null,null,null,null,null,"Neagu Mihai","Iasi"]
[null,null,null,null,null,null,null,null,null,null,null,null,null,null,null,null,null,null,null,"Neagu Mircea","Iasi"]
[null,null,null,null,null,null,null,null,null,null,null,null,null,null,null,null,null,null,null,"Neagu Nicolae Valentin","Alexandria"]
[null,null,null,null,null,null,null,null,null,null,null,null,null,null,null,null,null,null,null,"Neamt Doru","Arad"]
[null,null,null,null,null,null,null,null,null,null,null,null,null,null,null,null,null,null,null,"Neamtu Alin","Arad"]
[null,null,null,null,null,null,null,null,null,null,null,null,null,null,null,null,null,null,null,"Neamtu Marius","Campia Turzii"]
[null,null,null,null,null,null,null,null,null,null,null,null,null,null,null,null,null,null,null,"Nebesnai Mihail","Moldova-Chisinau"]
[null,null,null,null,null,null,null,null,null,null,null,null,null,null,null,null,null,null,null,"Nechita Tudor","Cluj Napoca"]
[null,null,null,null,null,null,null,null,null,null,null,null,null,null,null,null,null,null,null,"Nechita Victor","Pascani"]
[null,null,null,null,null,null,null,null,null,null,null,null,null,null,null,null,null,null,null,"Necula Andrei","Arad"]
[null,null,null,null,null,null,null,null,null,null,null,null,null,null,null,null,null,null,null,"Necula Florin","Straoane"]
[null,null,null,null,null,null,null,null,null,null,null,null,null,null,null,null,null,null,null,"Neculaes Francisc","Halaucesti"]
[null,null,null,null,null,null,null,null,null,null,null,null,null,null,null,null,null,null,null,"Neculai Alexandru","Videle"]
[null,null,null,null,null,null,null,null,null,null,null,null,null,null,null,null,null,null,null,"Neculai Robert Haisuc","Iasi"]
[null,null,null,null,null,null,null,null,null,null,null,null,null,null,null,null,null,null,null,"Neculai Valentin","Focsani"]
[null,null,null,null,null,null,null,null,null,null,null,null,null,null,null,null,null,null,null,"Neculcea Alexandru","Moreni"]
[null,null,null,null,null,null,null,null,null,null,null,null,null,null,null,null,null,null,null,"Neda Cosmin","Lipova"]
[null,null,null,null,null,null,null,null,null,null,null,null,null,null,null,null,null,null,null,"Nedelcu Daniel","Timisoara"]
[null,null,null,null,null,null,null,null,null,null,null,null,null,null,null,null,null,null,null,"Nedelcu Florin","Bucuresti"]
[null,null,null,null,null,null,null,null,null,null,null,null,null,null,null,null,null,null,null,"Nedelcu Marian","Sinaia"]
[null,null,null,null,null,null,null,null,null,null,null,null,null,null,null,null,null,null,null,"Nedescu Adrian","Ramnicu Valcea"]
[null,null,null,null,null,null,null,null,null,null,null,null,null,null,null,null,null,null,null,"Negoita Gheorghe","Marasesti"]
[null,null,null,null,null,null,null,null,null,null,null,null,null,null,null,null,null,null,null,"Negoita Ionut Silviu","Bucuresti"]
[null,null,null,null,null,null,null,null,null,null,null,null,null,null,null,null,null,null,null,"Negrea Petrut","Comanesti"]
[null,null,null,null,null,null,null,null,null,null,null,null,null,null,null,null,null,null,null,"Negrean Ioan","Sibiu"]
[null,null,null,null,null,null,null,null,null,null,null,null,null,null,null,null,null,null,null,"Negrila Marius","Mioveni"]
[null,null,null,null,null,null,null,null,null,null,null,null,null,null,null,null,null,null,null,"Negru Marius","Deva"]
[null,null,null,null,null,null,null,null,null,null,null,null,null,null,null,null,null,null,null,"Negulescu Cristi","Sinaia"]
[null,null,null,null,null,null,null,null,null,null,null,null,null,null,null,null,null,null,null,"Negulescu Florin Adrian","Bucuresti"]
[null,null,null,null,null,null,null,null,null,null,null,null,null,null,null,null,null,null,null,"Neica Sorin","Brasov"]
[null,null,null,null,null,null,null,null,null,null,null,null,null,null,null,null,null,null,null,"Neiconi Florin","Hateg"]
[null,null,null,null,null,null,null,null,null,null,null,null,null,null,null,null,null,null,null,"Neicu Gheorghe","Bucuresti"]
[null,null,null,null,null,null,null,null,null,null,null,null,null,null,null,null,null,null,null,"Nemes Calin","Cluj Napoca"]
[null,null,null,null,null,null,null,null,null,null,null,null,null,null,null,null,null,null,null,"Nemes Iasmina","Lunca Muresului"]
[null,null,null,null,null,null,null,null,null,null,null,null,null,null,null,null,null,null,null,"Nemet Istvan Levente","Delenii"]
[null,null,null,null,null,null,null,null,null,null,null,null,null,null,null,null,null,null,null,"Nemeti Zoltan","Oradea"]
[null,null,null,null,null,null,null,null,null,null,null,null,null,null,null,null,null,null,null,"Nenestean Raul","Iasi"]
[null,null,null,null,null,null,null,null,null,null,null,null,null,null,null,null,null,null,null,"Nesterov Roman","Moldova-Drochia"]
[null,null,null,null,null,null,null,null,null,null,null,null,null,null,null,null,null,null,null,"Nestor Dragos","Bucuresti"]
[null,null,null,null,null,null,null,null,null,null,null,null,null,null,null,null,null,null,null,"Nica Sebastian","Bucuresti"]
[null,null,null,null,null,null,null,null,null,null,null,null,null,null,null,null,null,null,null,"Nica Vladimir","Branesti DB"]
[null,null,null,null,null,null,null,null,null,null,null,null,null,null,null,null,null,null,null,"Nichifor Dorin","Bucuresti"]
[null,null,null,null,null,null,null,null,null,null,null,null,null,null,null,null,null,null,null,"Nichifor Ianis","Bucuresti"]
[null,null,null,null,null,null,null,null,null,null,null,null,null,null,null,null,null,null,null,"Nichitean Narcis","Cluj Napoca"]
[null,null,null,null,null,null,null,null,null,null,null,null,null,null,null,null,null,null,null,"Nicik Ilia","Moldova-Balti"]
[null,null,null,null,null,null,null,null,null,null,null,null,null,null,null,null,null,null,null,"Nicoara Ovidiu","Curtea de Arges"]
[null,null,null,null,null,null,null,null,null,null,null,null,null,null,null,null,null,null,null,"Nicola Gabriela","Timisoara"]
[null,null,null,null,null,null,null,null,null,null,null,null,null,null,null,null,null,null,null,"Nicola Marian","Constanta"]
[null,null,null,null,null,null,null,null,null,null,null,null,null,null,null,null,null,null,null,"Nicolae Alyn","Bucuresti"]
[null,null,null,null,null,null,null,null,null,null,null,null,null,null,null,null,null,null,null,"Nicolae Daniel","Bucuresti"]
[null,null,null,null,null,null,null,null,null,null,null,null,null,null,null,null,null,null,null,"Nicolae Darius","Bucuresti"]
[null,null,null,null,null,null,null,null,null,null,null,null,null,null,null,null,null,null,null,"Nicolae Sorin","Targoviste"]
[null,null,null,null,null,null,null,null,null,null,null,null,null,null,null,null,null,null,null,"Nicolae Sorinel","Targoviste"]
[null,null,null,null,null,null,null,null,null,null,null,null,null,null,null,null,null,null,null,"Nicolaev Toma","Bulgaria"]
[null,null,null,null,null,null,null,null,null,null,null,null,null,null,null,null,null,null,null,"Nicolaev Valerii","Moldova-Taraclia"]
[null,null,null,null,null,null,null,null,null,null,null,null,null,null,null,null,null,null,null,"Nicu Constantin","Iasi"]
[null,null,null,null,null,null,null,null,null,null,null,null,null,null,null,null,null,null,null,"Nicu Daniel","Ramnicu Valcea"]
[null,null,null,null,null,null,null,null,null,null,null,null,null,null,null,null,null,null,null,"Nicula Florin","Constanta"]
[null,null,null,null,null,null,null,null,null,null,null,null,null,null,null,null,null,null,null,"Niculache Chirica","Tulcea"]
[null,null,null,null,null,null,null,null,null,null,null,null,null,null,null,null,null,null,null,"Niculescu Marin","Bucuresti"]
[null,null,null,null,null,null,null,null,null,null,null,null,null,null,null,null,null,null,null,"Nicusan Claudiu","Sibiu"]
[null,null,null,null,null,null,null,null,null,null,null,null,null,null,null,null,null,null,null,"Nicusan Razvan","Targu Mures"]
[null,null,null,null,null,null,null,null,null,null,null,null,null,null,null,null,null,null,null,"Nicusor Dan","Bucuresti"]
[null,null,null,null,null,null,null,null,null,null,null,null,null,null,null,null,null,null,null,"Nicut Valentin","Curtea de Arges"]
[null,null,null,null,null,null,null,null,null,null,null,null,null,null,null,null,null,null,null,"Nierges Athanasie","Cluj Napoca"]
[null,null,null,null,null,null,null,null,null,null,null,null,null,null,null,null,null,null,null,"Nierges Pavel","Cluj Napoca"]
[null,null,null,null,null,null,null,null,null,null,null,null,null,null,null,null,null,null,null,"Niga Corneliu Filaret","Campulung Mold"]
[null,null,null,null,null,null,null,null,null,null,null,null,null,null,null,null,null,null,null,"Nistor Alexandru","Sighetu Marmatiei"]
[null,null,null,null,null,null,null,null,null,null,null,null,null,null,null,null,null,null,null,"Nistor Costel","Galati"]
[null,null,null,null,null,null,null,null,null,null,null,null,null,null,null,null,null,null,null,"Nistor Florin","Comanesti"]
[null,null,null,null,null,null,null,null,null,null,null,null,null,null,null,null,null,null,null,"Nistor Iosif","Miercurea Ciuc"]
[null,null,null,null,null,null,null,null,null,null,null,null,null,null,null,null,null,null,null,"Nita Alin","Bucuresti"]
[null,null,null,null,null,null,null,null,null,null,null,null,null,null,null,null,null,null,null,"Nita Darius","Videle"]
[null,null,null,null,null,null,null,null,null,null,null,null,null,null,null,null,null,null,null,"Nita Maria","Buzau"]
[null,null,null,null,null,null,null,null,null,null,null,null,null,null,null,null,null,null,null,"Nita Matei","Buzau"]
[null,null,null,null,null,null,null,null,null,null,null,null,null,null,null,null,null,null,null,"Nitescu Maria Tereza","Jucu"]
[null,null,null,null,null,null,null,null,null,null,null,null,null,null,null,null,null,null,null,"Nitu Adrian","Sibiu"]
[null,null,null,null,null,null,null,null,null,null,null,null,null,null,null,null,null,null,null,"Nitu Serban","Ploiesti"]
[null,null,null,null,null,null,null,null,null,null,null,null,null,null,null,null,null,null,null,"Nitu Victor","Slobozia"]
[null,null,null,null,null,null,null,null,null,null,null,null,null,null,null,null,null,null,null,"Nitulescu Matei","Bucuresti"]
[null,null,null,null,null,null,null,null,null,null,null,null,null,null,null,null,null,null,null,"Nopcea Marius","Hateg"]
[null,null,null,null,null,null,null,null,null,null,null,null,null,null,null,null,null,null,null,"Noragiu Paul","Targoviste"]
[null,null,null,null,null,null,null,null,null,null,null,null,null,null,null,null,null,null,null,"Novac Brani","Drobeta Tr Severin"]
[null,null,null,null,null,null,null,null,null,null,null,null,null,null,null,null,null,null,null,"Novitchi Daniel","Moldova-Cahul"]
[null,null,null,null,null,null,null,null,null,null,null,null,null,null,null,null,null,null,null,"Nuta Mario","Pitesti"]
[null,null,null,null,null,null,null,null,null,null,null,null,null,null,null,null,null,null,null,"Nutiu Alexandru","Oradea"]
[null,null,null,null,null,null,null,null,null,null,null,null,null,null,null,null,null,null,null,"Nutu Catalin","Targu Neamt"]
[null,null,null,null,null,null,null,null,null,null,null,null,null,null,null,null,null,null,null,"Nyaradi Attila","Sighisoara"]
[null,null,null,null,null,null,null,null,null,null,null,null,null,null,null,null,null,null,null,"Oana Alexandru","Barlad"]
[null,null,null,null,null,null,null,null,null,null,null,null,null,null,null,null,null,null,null,"Oana Ion","Bucuresti"]
[null,null,null,null,null,null,null,null,null,null,null,null,null,null,null,null,null,null,null,"Oana Ion Petru","Cernavoda"]
[null,null,null,null,null,null,null,null,null,null,null,null,null,null,null,null,null,null,null,"Oancea Marian","Bacau"]
[null,null,null,null,null,null,null,null,null,null,null,null,null,null,null,null,null,null,null,"Oancea Vasile","Buzau"]
[null,null,null,null,null,null,null,null,null,null,null,null,null,null,null,null,null,null,null,"Oanta Flavian","Alexandria"]
[null,null,null,null,null,null,null,null,null,null,null,null,null,null,null,null,null,null,null,"Obis Akos","Berveni"]
[null,null,null,null,null,null,null,null,null,null,null,null,null,null,null,null,null,null,null,"Ochian Andrei","Botosani"]
[null,null,null,null,null,null,null,null,null,null,null,null,null,null,null,null,null,null,null,"Ocu Ioan","Botosani"]
[null,null,null,null,null,null,null,null,null,null,null,null,null,null,null,null,null,null,null,"Ogrinji Nicu","Iasi"]
[null,null,null,null,null,null,null,null,null,null,null,null,null,null,null,null,null,null,null,"Ogrutan Marius","Cluj Napoca"]
[null,null,null,null,null,null,null,null,null,null,null,null,null,null,null,null,null,null,null,"Ojog Petrisor","Bacau"]
[null,null,null,null,null,null,null,null,null,null,null,null,null,null,null,null,null,null,null,"Olah Remus","Arad"]
[null,null,null,null,null,null,null,null,null,null,null,null,null,null,null,null,null,null,null,"Olaru Aurel","Medias"]
[null,null,null,null,null,null,null,null,null,null,null,null,null,null,null,null,null,null,null,"Olaru Costin","Filipestii de Targ"]
[null,null,null,null,null,null,null,null,null,null,null,null,null,null,null,null,null,null,null,"Olaru Cristian","Targoviste"]
[null,null,null,null,null,null,null,null,null,null,null,null,null,null,null,null,null,null,null,"Olaru Dragos","Bucuresti"]
[null,null,null,null,null,null,null,null,null,null,null,null,null,null,null,null,null,null,null,"Olaru Mara","Cluj Napoca"]
[null,null,null,null,null,null,null,null,null,null,null,null,null,null,null,null,null,null,null,"Olaru Miruna Andreea","Comanesti"]
[null,null,null,null,null,null,null,null,null,null,null,null,null,null,null,null,null,null,null,"Oleinic Denis","Moldova-Edinet"]
[null,null,null,null,null,null,null,null,null,null,null,null,null,null,null,null,null,null,null,"Oliusceac Arina","Moldova-Balti"]
[null,null,null,null,null,null,null,null,null,null,null,null,null,null,null,null,null,null,null,"Oliva Ioan David","Bulgaria"]
[null,null,null,null,null,null,null,null,null,null,null,null,null,null,null,null,null,null,null,"Oltean Octavian","Targu Mures"]
[null,null,null,null,null,null,null,null,null,null,null,null,null,null,null,null,null,null,null,"Oltean Tudor","Zalau"]
[null,null,null,null,null,null,null,null,null,null,null,null,null,null,null,null,null,null,null,"Olteanu Claudiu","Galati"]
[null,null,null,null,null,null,null,null,null,null,null,null,null,null,null,null,null,null,null,"Olteanu Gabriel","Vaslui"]
[null,null,null,null,null,null,null,null,null,null,null,null,null,null,null,null,null,null,null,"Olteanu Stefan","Sighisoara"]
[null,null,null,null,null,null,null,null,null,null,null,null,null,null,null,null,null,null,null,"Omeliciuc Anastasia","Ucraina-Umani"]
[null,null,null,null,null,null,null,null,null,null,null,null,null,null,null,null,null,null,null,"Onet Denis","Utvin"]
[null,null,null,null,null,null,null,null,null,null,null,null,null,null,null,null,null,null,null,"Oniga Constantin","Iasi"]
[null,null,null,null,null,null,null,null,null,null,null,null,null,null,null,null,null,null,null,"Oniga Florin","Alba Iulia"]
[null,null,null,null,null,null,null,null,null,null,null,null,null,null,null,null,null,null,null,"Oniscu Amalia","Constanta"]
[null,null,null,null,null,null,null,null,null,null,null,null,null,null,null,null,null,null,null,"Onofrei Andrei","Medgidia"]
[null,null,null,null,null,null,null,null,null,null,null,null,null,null,null,null,null,null,null,"Onofrei Ionut","Iasi"]
[null,null,null,null,null,null,null,null,null,null,null,null,null,null,null,null,null,null,null,"Onofrei Petru","Gherla"]
[null,null,null,null,null,null,null,null,null,null,null,null,null,null,null,null,null,null,null,"Onose Iulian","Galati"]
[null,null,null,null,null,null,null,null,null,null,null,null,null,null,null,null,null,null,null,"Ontoiu Catalin","Pitesti"]
[null,null,null,null,null,null,null,null,null,null,null,null,null,null,null,null,null,null,null,"Onute Marius","Zalau"]
[null,null,null,null,null,null,null,null,null,null,null,null,null,null,null,null,null,null,null,"Opran Gavril","Bucuresti"]
[null,null,null,null,null,null,null,null,null,null,null,null,null,null,null,null,null,null,null,"Oprea Adrian","Bucuresti"]
[null,null,null,null,null,null,null,null,null,null,null,null,null,null,null,null,null,null,null,"Oprea Bogdan","Videle"]
[null,null,null,null,null,null,null,null,null,null,null,null,null,null,null,null,null,null,null,"Oprea Bogdan Andrei","Cluj Napoca"]
[null,null,null,null,null,null,null,null,null,null,null,null,null,null,null,null,null,null,null,"Oprea Cosmin","Calan"]
[null,null,null,null,null,null,null,null,null,null,null,null,null,null,null,null,null,null,null,"Oprea David","Constanta"]
[null,null,null,null,null,null,null,null,null,null,null,null,null,null,null,null,null,null,null,"Oprea Emanuel","Bucuresti"]
[null,null,null,null,null,null,null,null,null,null,null,null,null,null,null,null,null,null,null,"Oprea Marian","Bucuresti"]
[null,null,null,null,null,null,null,null,null,null,null,null,null,null,null,null,null,null,null,"Oprea Mihai","Cluj Napoca"]
[null,null,null,null,null,null,null,null,null,null,null,null,null,null,null,null,null,null,null,"Oprea Ramona","Brasov"]
[null,null,null,null,null,null,null,null,null,null,null,null,null,null,null,null,null,null,null,"Oprea Raul","Dobrotesti"]
[null,null,null,null,null,null,null,null,null,null,null,null,null,null,null,null,null,null,null,"Oprea Sorin","Galati"]
[null,null,null,null,null,null,null,null,null,null,null,null,null,null,null,null,null,null,null,"Oprea Tiberiu","Brasov"]
[null,null,null,null,null,null,null,null,null,null,null,null,null,null,null,null,null,null,null,"Oprica Robert","Cristian SB"]
[null,null,null,null,null,null,null,null,null,null,null,null,null,null,null,null,null,null,null,"Oprica Stefan","Sibiu"]
[null,null,null,null,null,null,null,null,null,null,null,null,null,null,null,null,null,null,null,"Opris Andrei","Zalau"]
[null,null,null,null,null,null,null,null,null,null,null,null,null,null,null,null,null,null,null,"Oprita Miruna","Nasaud"]
[null,null,null,null,null,null,null,null,null,null,null,null,null,null,null,null,null,null,null,"Oproi Eugen","Sannicolau Mare"]
[null,null,null,null,null,null,null,null,null,null,null,null,null,null,null,null,null,null,null,"Orac Teodor","Slobozia"]
[null,null,null,null,null,null,null,null,null,null,null,null,null,null,null,null,null,null,null,"Orban Adrian","Apahida"]
[null,null,null,null,null,null,null,null,null,null,null,null,null,null,null,null,null,null,null,"Orban Alexandru","Lugoj"]
[null,null,null,null,null,null,null,null,null,null,null,null,null,null,null,null,null,null,null,"Orban Koppany","Sovata"]
[null,null,null,null,null,null,null,null,null,null,null,null,null,null,null,null,null,null,null,"Orban Levente","Sovata"]
[null,null,null,null,null,null,null,null,null,null,null,null,null,null,null,null,null,null,null,"Orban Madalina","Siret"]
[null,null,null,null,null,null,null,null,null,null,null,null,null,null,null,null,null,null,null,"Orban Marius","Lugoj"]
[null,null,null,null,null,null,null,null,null,null,null,null,null,null,null,null,null,null,null,"Orbocea Alesia","Navodari"]
[null,null,null,null,null,null,null,null,null,null,null,null,null,null,null,null,null,null,null,"Orga Adrian","Ludus"]
[null,null,null,null,null,null,null,null,null,null,null,null,null,null,null,null,null,null,null,"Orha Andrei","Targu Mures"]
[null,null,null,null,null,null,null,null,null,null,null,null,null,null,null,null,null,null,null,"Orosan Vasile","Ludus"]
[null,null,null,null,null,null,null,null,null,null,null,null,null,null,null,null,null,null,null,"Orosz Attila","Miercurea Ciuc"]
[null,null,null,null,null,null,null,null,null,null,null,null,null,null,null,null,null,null,null,"Orosz Silviu","Dumbraveni SB"]
[null,null,null,null,null,null,null,null,null,null,null,null,null,null,null,null,null,null,null,"Orza Catalin","Suceava"]
[null,null,null,null,null,null,null,null,null,null,null,null,null,null,null,null,null,null,null,"Orza Razvan","Suceava"]
[null,null,null,null,null,null,null,null,null,null,null,null,null,null,null,null,null,null,null,"Osipov Dmitrii","Moldova-Comrat"]
[null,null,null,null,null,null,null,null,null,null,null,null,null,null,null,null,null,null,null,"Osman Levent","Constanta"]
[null,null,null,null,null,null,null,null,null,null,null,null,null,null,null,null,null,null,null,"Ostrovanu Cosmin","Suceava"]
[null,null,null,null,null,null,null,null,null,null,null,null,null,null,null,null,null,null,null,"Oteleanu Aurel","Bucuresti"]
[null,null,null,null,null,null,null,null,null,null,null,null,null,null,null,null,null,null,null,"Ovidiu Luca","Cluj Napoca"]
[null,null,null,null,null,null,null,null,null,null,null,null,null,null,null,null,null,null,null,"Pacurar Cosmin","Blaj"]
[null,null,null,null,null,null,null,null,null,null,null,null,null,null,null,null,null,null,null,"Pacurar Teodor","Gherla"]
[null,null,null,null,null,null,null,null,null,null,null,null,null,null,null,null,null,null,null,"Pacuraru Cristian","Suceava"]
[null,null,null,null,null,null,null,null,null,null,null,null,null,null,null,null,null,null,null,"Padurariu Ciprian","Roman"]
[null,null,null,null,null,null,null,null,null,null,null,null,null,null,null,null,null,null,null,"Padurariu Costel","Brasov"]
[null,null,null,null,null,null,null,null,null,null,null,null,null,null,null,null,null,null,null,"Paduraru Mihnea","Brasov"]
[null,null,null,null,null,null,null,null,null,null,null,null,null,null,null,null,null,null,null,"Paduraru Riana","Bacau"]
[null,null,null,null,null,null,null,null,null,null,null,null,null,null,null,null,null,null,null,"Padure Andrei","Agnita"]
[null,null,null,null,null,null,null,null,null,null,null,null,null,null,null,null,null,null,null,"Padureanu Costi","Craiova"]
[null,null,null,null,null,null,null,null,null,null,null,null,null,null,null,null,null,null,null,"Paius Vlad","Hunedoara"]
[null,null,null,null,null,null,null,null,null,null,null,null,null,null,null,null,null,null,null,"Pal Abel","Sfantu Gheorghe"]
[null,null,null,null,null,null,null,null,null,null,null,null,null,null,null,null,null,null,null,"Pal Attila","Sfantu Gheorghe"]
[null,null,null,null,null,null,null,null,null,null,null,null,null,null,null,null,null,null,null,"Pal Marius","Halaucesti"]
[null,null,null,null,null,null,null,null,null,null,null,null,null,null,null,null,null,null,null,"Pal Norbert","Joseni"]
[null,null,null,null,null,null,null,null,null,null,null,null,null,null,null,null,null,null,null,"Palade Victor","Bucuresti"]
[null,null,null,null,null,null,null,null,null,null,null,null,null,null,null,null,null,null,null,"Palagheanu Elvis","Plopeni SV"]
[null,null,null,null,null,null,null,null,null,null,null,null,null,null,null,null,null,null,null,"Palagheanu Luis","Plopeni SV"]
[null,null,null,null,null,null,null,null,null,null,null,null,null,null,null,null,null,null,null,"Palaghianu Mattia","Salcea"]
[null,null,null,null,null,null,null,null,null,null,null,null,null,null,null,null,null,null,null,"Palaina Nicolae","Curtea de Arges"]
[null,null,null,null,null,null,null,null,null,null,null,null,null,null,null,null,null,null,null,"Palangean Iris","Giurgiu"]
[null,null,null,null,null,null,null,null,null,null,null,null,null,null,null,null,null,null,null,"Palencsar Nicolae","Satu Mare"]
[null,null,null,null,null,null,null,null,null,null,null,null,null,null,null,null,null,null,null,"Palfi Zsolt","Oradea"]
[null,null,null,null,null,null,null,null,null,null,null,null,null,null,null,null,null,null,null,"Palici Eduard","Cluj Napoca"]
[null,null,null,null,null,null,null,null,null,null,null,null,null,null,null,null,null,null,null,"Pamfilie Horatiu","Ludus"]
[null,null,null,null,null,null,null,null,null,null,null,null,null,null,null,null,null,null,null,"Panait Adrian","Braila"]
[null,null,null,null,null,null,null,null,null,null,null,null,null,null,null,null,null,null,null,"Panaitescu Stefan","Izvoarele"]
[null,null,null,null,null,null,null,null,null,null,null,null,null,null,null,null,null,null,null,"Pancaricean Emil","Sibiu"]
[null,null,null,null,null,null,null,null,null,null,null,null,null,null,null,null,null,null,null,"Pancevac Ivan","Pancevo"]
[null,null,null,null,null,null,null,null,null,null,null,null,null,null,null,null,null,null,null,"Pancrat Cristian","Tulcea"]
[null,null,null,null,null,null,null,null,null,null,null,null,null,null,null,null,null,null,null,"Pandele Ionel","Giurgiu"]
[null,null,null,null,null,null,null,null,null,null,null,null,null,null,null,null,null,null,null,"Panduru Liviu","Calarasi"]
[null,null,null,null,null,null,null,null,null,null,null,null,null,null,null,null,null,null,null,"Panic Dejan","Ram"]
[null,null,null,null,null,null,null,null,null,null,null,null,null,null,null,null,null,null,null,"Pantea Erik","Cluj Napoca"]
[null,null,null,null,null,null,null,null,null,null,null,null,null,null,null,null,null,null,null,"Pantea Gratian","Arad"]
[null,null,null,null,null,null,null,null,null,null,null,null,null,null,null,null,null,null,null,"Pantecan Alex","Bucuresti"]
[null,null,null,null,null,null,null,null,null,null,null,null,null,null,null,null,null,null,null,"Pantelimon Sorin","Craiova"]
[null,null,null,null,null,null,null,null,null,null,null,null,null,null,null,null,null,null,null,"Pap Gyula","Gheorgheni"]
[null,null,null,null,null,null,null,null,null,null,null,null,null,null,null,null,null,null,null,"Pap Teteny","Targu Mures"]
[null,null,null,null,null,null,null,null,null,null,null,null,null,null,null,null,null,null,null,"Papacu Bejoli","Bucuresti"]
[null,null,null,null,null,null,null,null,null,null,null,null,null,null,null,null,null,null,null,"Papiu Lucian","Cluj Napoca"]
[null,null,null,null,null,null,null,null,null,null,null,null,null,null,null,null,null,null,null,"Papuc David","Bucuresti"]
[null,null,null,null,null,null,null,null,null,null,null,null,null,null,null,null,null,null,null,"Paran Alex","Hateg"]
[null,null,null,null,null,null,null,null,null,null,null,null,null,null,null,null,null,null,null,"Parasca Dumitru","Radauti"]
[null,null,null,null,null,null,null,null,null,null,null,null,null,null,null,null,null,null,null,"Paraschiv Mihai","Targu Neamt"]
[null,null,null,null,null,null,null,null,null,null,null,null,null,null,null,null,null,null,null,"Parcalab Mihai","Bistrita"]
[null,null,null,null,null,null,null,null,null,null,null,null,null,null,null,null,null,null,null,"Paris Ianis Nicolas","Navodari"]
[null,null,null,null,null,null,null,null,null,null,null,null,null,null,null,null,null,null,null,"Parjol Rares","Cluj Napoca"]
[null,null,null,null,null,null,null,null,null,null,null,null,null,null,null,null,null,null,null,"Parlog Florin","Bucuresti"]
[null,null,null,null,null,null,null,null,null,null,null,null,null,null,null,null,null,null,null,"Parnica Leonid","Moinesti"]
[null,null,null,null,null,null,null,null,null,null,null,null,null,null,null,null,null,null,null,"Parpauta Gabriel","Iasi"]
[null,null,null,null,null,null,null,null,null,null,null,null,null,null,null,null,null,null,null,"Partene Andrei","Iasi"]
[null,null,null,null,null,null,null,null,null,null,null,null,null,null,null,null,null,null,null,"Parvan Dumitru","Deva"]
[null,null,null,null,null,null,null,null,null,null,null,null,null,null,null,null,null,null,null,"Parvu Nicolae","Resita"]
[null,null,null,null,null,null,null,null,null,null,null,null,null,null,null,null,null,null,null,"Pasca Lucian","Targu Mures"]
[null,null,null,null,null,null,null,null,null,null,null,null,null,null,null,null,null,null,null,"Pasca Nelu","Oradea"]
[null,null,null,null,null,null,null,null,null,null,null,null,null,null,null,null,null,null,null,"Pasca Vlad","Targu Mures"]
[null,null,null,null,null,null,null,null,null,null,null,null,null,null,null,null,null,null,null,"Pascal Igor","Moldova"]
[null,null,null,null,null,null,null,null,null,null,null,null,null,null,null,null,null,null,null,"Pascalau Cristian","Huedin"]
[null,null,null,null,null,null,null,null,null,null,null,null,null,null,null,null,null,null,null,"Pascariu Andrei Razvan","Iasi"]
[null,null,null,null,null,null,null,null,null,null,null,null,null,null,null,null,null,null,null,"Pascaru Mihai","Barlad"]
[null,null,null,null,null,null,null,null,null,null,null,null,null,null,null,null,null,null,null,"Pascaru Tudor Andrei","Iasi"]
[null,null,null,null,null,null,null,null,null,null,null,null,null,null,null,null,null,null,null,"Pascov Stepan","Moldova-Tvardita"]
[null,null,null,null,null,null,null,null,null,null,null,null,null,null,null,null,null,null,null,"Pascu Alin","Drobeta Tr Severin"]
[null,null,null,null,null,null,null,null,null,null,null,null,null,null,null,null,null,null,null,"Pascu Ioan","Targu Mures"]
[null,null,null,null,null,null,null,null,null,null,null,null,null,null,null,null,null,null,null,"Pascu Marian","Bucuresti"]
[null,null,null,null,null,null,null,null,null,null,null,null,null,null,null,null,null,null,null,"Pascu Mihai","Arad"]
[null,null,null,null,null,null,null,null,null,null,null,null,null,null,null,null,null,null,null,"Pascu Paul","Tecuci"]
[null,null,null,null,null,null,null,null,null,null,null,null,null,null,null,null,null,null,null,"Pascu Rares","Targu Mures"]
[null,null,null,null,null,null,null,null,null,null,null,null,null,null,null,null,null,null,null,"Pascu Razvan","Magureni"]
[null,null,null,null,null,null,null,null,null,null,null,null,null,null,null,null,null,null,null,"Pastor Marius","Tarnaveni"]
[null,null,null,null,null,null,null,null,null,null,null,null,null,null,null,null,null,null,null,"Pastrama Tudor","Medgidia"]
[null,null,null,null,null,null,null,null,null,null,null,null,null,null,null,null,null,null,null,"Pastusoc Cristi","Moldova-Edinet"]
[null,null,null,null,null,null,null,null,null,null,null,null,null,null,null,null,null,null,null,"Pasztor Gyorgy","Sovata"]
[null,null,null,null,null,null,null,null,null,null,null,null,null,null,null,null,null,null,null,"Patapi Alexandru","Moldova-Balti"]
[null,null,null,null,null,null,null,null,null,null,null,null,null,null,null,null,null,null,null,"Patapi Alexandru Sr","Moldova-Edinet"]
[null,null,null,null,null,null,null,null,null,null,null,null,null,null,null,null,null,null,null,"Patras Claudiu","Iasi"]
[null,null,null,null,null,null,null,null,null,null,null,null,null,null,null,null,null,null,null,"Patrascu Alin","Slatina"]
[null,null,null,null,null,null,null,null,null,null,null,null,null,null,null,null,null,null,null,"Patrascu Dorin","Pitesti"]
[null,null,null,null,null,null,null,null,null,null,null,null,null,null,null,null,null,null,null,"Patrascu Erik","Navodari"]
[null,null,null,null,null,null,null,null,null,null,null,null,null,null,null,null,null,null,null,"Patrascu Marius","Piatra Neamt"]
[null,null,null,null,null,null,null,null,null,null,null,null,null,null,null,null,null,null,null,"Patrascuta Octavian","Drobeta Tr Severin"]
[null,null,null,null,null,null,null,null,null,null,null,null,null,null,null,null,null,null,null,"Patrascuta Tiberiu","Drobeta Tr Severin"]
[null,null,null,null,null,null,null,null,null,null,null,null,null,null,null,null,null,null,null,"Patric Filip","Cluj Napoca"]
[null,null,null,null,null,null,null,null,null,null,null,null,null,null,null,null,null,null,null,"Patru Gabriel","Popesti Leordeni"]
[null,null,null,null,null,null,null,null,null,null,null,null,null,null,null,null,null,null,null,"Patulea Mirel","Bucuresti"]
[null,null,null,null,null,null,null,null,null,null,null,null,null,null,null,null,null,null,null,"Paul Alin Sabin","Sandra"]
[null,null,null,null,null,null,null,null,null,null,null,null,null,null,null,null,null,null,null,"Paul Cosmin Sebastian","Bucuresti"]
[null,null,null,null,null,null,null,null,null,null,null,null,null,null,null,null,null,null,null,"Paul Marian","Gherla"]
[null,null,null,null,null,null,null,null,null,null,null,null,null,null,null,null,null,null,null,"Paulette Briana","Blaj"]
[null,null,null,null,null,null,null,null,null,null,null,null,null,null,null,null,null,null,null,"Paulette Radu","Blaj"]
[null,null,null,null,null,null,null,null,null,null,null,null,null,null,null,null,null,null,null,"Pauliuc Alesia","Timisoara"]
[null,null,null,null,null,null,null,null,null,null,null,null,null,null,null,null,null,null,null,"Paun Daniel","Bucuresti"]
[null,null,null,null,null,null,null,null,null,null,null,null,null,null,null,null,null,null,null,"Pauna Bogdan","Craiova"]
[null,null,null,null,null,null,null,null,null,null,null,null,null,null,null,null,null,null,null,"Paunescu Antonia","Giarmata"]
[null,null,null,null,null,null,null,null,null,null,null,null,null,null,null,null,null,null,null,"Paunescu David","Bucuresti"]
[null,null,null,null,null,null,null,null,null,null,null,null,null,null,null,null,null,null,null,"Paunescu David Stefan","Bucuresti"]
[null,null,null,null,null,null,null,null,null,null,null,null,null,null,null,null,null,null,null,"Pausian Claudiu","Cluj Napoca"]
[null,null,null,null,null,null,null,null,null,null,null,null,null,null,null,null,null,null,null,"Paval Tudor","Iasi"]
[null,null,null,null,null,null,null,null,null,null,null,null,null,null,null,null,null,null,null,"Pavaliceanu David","Botosani"]
[null,null,null,null,null,null,null,null,null,null,null,null,null,null,null,null,null,null,null,"Pavel Catalin","Iasi"]
[null,null,null,null,null,null,null,null,null,null,null,null,null,null,null,null,null,null,null,"Pavel Nicolae","Braila"]
[null,null,null,null,null,null,null,null,null,null,null,null,null,null,null,null,null,null,null,"Pavlov Valentin","Moldova-Cahul"]
[null,null,null,null,null,null,null,null,null,null,null,null,null,null,null,null,null,null,null,"Pavunev Dan","Bucuresti"]
[null,null,null,null,null,null,null,null,null,null,null,null,null,null,null,null,null,null,null,"Peiciu Vasile","Tulcea"]
[null,null,null,null,null,null,null,null,null,null,null,null,null,null,null,null,null,null,null,"Peiu Cosmin","Babadag"]
[null,null,null,null,null,null,null,null,null,null,null,null,null,null,null,null,null,null,null,"Pelcea Alexandru","Bucuresti"]
[null,null,null,null,null,null,null,null,null,null,null,null,null,null,null,null,null,null,null,"Pena Marian","Bucuresti"]
[null,null,null,null,null,null,null,null,null,null,null,null,null,null,null,null,null,null,null,"Pentescu Adrian","Constanta"]
[null,null,null,null,null,null,null,null,null,null,null,null,null,null,null,null,null,null,null,"Peptea Ionut","Bucuresti"]
[null,null,null,null,null,null,null,null,null,null,null,null,null,null,null,null,null,null,null,"Perju Cosmin","Constanta"]
[null,null,null,null,null,null,null,null,null,null,null,null,null,null,null,null,null,null,null,"Persa Florin","Sfantu Gheorghe"]
[null,null,null,null,null,null,null,null,null,null,null,null,null,null,null,null,null,null,null,"Peta Octavian","Cluj Napoca"]
[null,null,null,null,null,null,null,null,null,null,null,null,null,null,null,null,null,null,null,"Petcu Marius","Bucuresti"]
[null,null,null,null,null,null,null,null,null,null,null,null,null,null,null,null,null,null,null,"Petcu Nicolas","Buhusi"]
[null,null,null,null,null,null,null,null,null,null,null,null,null,null,null,null,null,null,null,"Petcu Sorin","Sibiu"]
[null,null,null,null,null,null,null,null,null,null,null,null,null,null,null,null,null,null,null,"Petculescu Giani","Ploiesti"]
[null,null,null,null,null,null,null,null,null,null,null,null,null,null,null,null,null,null,null,"Peter Laszlo","Brasov"]
[null,null,null,null,null,null,null,null,null,null,null,null,null,null,null,null,null,null,null,"Petersi Nuri","Varset"]
[null,null,null,null,null,null,null,null,null,null,null,null,null,null,null,null,null,null,null,"Petho Katalin","Racosu de Sus"]
[null,null,null,null,null,null,null,null,null,null,null,null,null,null,null,null,null,null,null,"Petho Mihaly Jr","Racosu de Sus"]
[null,null,null,null,null,null,null,null,null,null,null,null,null,null,null,null,null,null,null,"Petkovic Momcilo","Kovin"]
[null,null,null,null,null,null,null,null,null,null,null,null,null,null,null,null,null,null,null,"Petrache Claudiu","Branesti"]
[null,null,null,null,null,null,null,null,null,null,null,null,null,null,null,null,null,null,null,"Petrache Codrut Costin","Ploiesti"]
[null,null,null,null,null,null,null,null,null,null,null,null,null,null,null,null,null,null,null,"Petrache Lucian","Bucuresti"]
[null,null,null,null,null,null,null,null,null,null,null,null,null,null,null,null,null,null,null,"Petrache Matei","Buzau"]
[null,null,null,null,null,null,null,null,null,null,null,null,null,null,null,null,null,null,null,"Petrache Stefan","Blaj"]
[null,null,null,null,null,null,null,null,null,null,null,null,null,null,null,null,null,null,null,"Petrariu Sorin","Brasov"]
[null,null,null,null,null,null,null,null,null,null,null,null,null,null,null,null,null,null,null,"Petre Catalin","Bucuresti"]
[null,null,null,null,null,null,null,null,null,null,null,null,null,null,null,null,null,null,null,"Petre Cristian","Bucuresti"]
[null,null,null,null,null,null,null,null,null,null,null,null,null,null,null,null,null,null,null,"Petre Gabriel","Bucuresti"]
[null,null,null,null,null,null,null,null,null,null,null,null,null,null,null,null,null,null,null,"Petre Viorel","Bucuresti"]
[null,null,null,null,null,null,null,null,null,null,null,null,null,null,null,null,null,null,null,"Petrean Calin Filip","Arad"]
[null,null,null,null,null,null,null,null,null,null,null,null,null,null,null,null,null,null,null,"Petrean Liviu","Zalau"]
[null,null,null,null,null,null,null,null,null,null,null,null,null,null,null,null,null,null,null,"Petrescu Claudiu","Putna"]
[null,null,null,null,null,null,null,null,null,null,null,null,null,null,null,null,null,null,null,"Petrescu Liviu","Pitesti"]
[null,null,null,null,null,null,null,null,null,null,null,null,null,null,null,null,null,null,null,"Petric David","Timisoara"]
[null,null,null,null,null,null,null,null,null,null,null,null,null,null,null,null,null,null,null,"Petrici Sergiu","Calan"]
[null,null,null,null,null,null,null,null,null,null,null,null,null,null,null,null,null,null,null,"Petrisor Alexandru","Craiova"]
[null,null,null,null,null,null,null,null,null,null,null,null,null,null,null,null,null,null,null,"Petrisor Mihai Marinel","Sibiu"]
[null,null,null,null,null,null,null,null,null,null,null,null,null,null,null,null,null,null,null,"Petrov Dan","Dobroesti"]
[null,null,null,null,null,null,null,null,null,null,null,null,null,null,null,null,null,null,null,"Petrov Marius","Lovrin"]
[null,null,null,null,null,null,null,null,null,null,null,null,null,null,null,null,null,null,null,"Petrovic Zeljko","Belgrad"]
[null,null,null,null,null,null,null,null,null,null,null,null,null,null,null,null,null,null,null,"Petrus Florin","Zalau"]
[null,null,null,null,null,null,null,null,null,null,null,null,null,null,null,null,null,null,null,"Petrus Florin","Alba Iulia"]
[null,null,null,null,null,null,null,null,null,null,null,null,null,null,null,null,null,null,null,"Petruse Adrian","Zalau"]
[null,null,null,null,null,null,null,null,null,null,null,null,null,null,null,null,null,null,null,"Petrut Luminita","Targu Mures"]
[null,null,null,null,null,null,null,null,null,null,null,null,null,null,null,null,null,null,null,"Petrut Patrick","Aiud"]
[null,null,null,null,null,null,null,null,null,null,null,null,null,null,null,null,null,null,null,"Pich Ioan","Viseu"]
[null,null,null,null,null,null,null,null,null,null,null,null,null,null,null,null,null,null,null,"Picioroga Lucian","Galati"]
[null,null,null,null,null,null,null,null,null,null,null,null,null,null,null,null,null,null,null,"Pietraru Dorian","Victoria"]
[null,null,null,null,null,null,null,null,null,null,null,null,null,null,null,null,null,null,null,"Piliponcic Vadim","Moldova-Chisinau"]
[null,null,null,null,null,null,null,null,null,null,null,null,null,null,null,null,null,null,null,"Pintea Larisa","Deva"]
[null,null,null,null,null,null,null,null,null,null,null,null,null,null,null,null,null,null,null,"Pintilie Carol","Iasi"]
[null,null,null,null,null,null,null,null,null,null,null,null,null,null,null,null,null,null,null,"Pintilie Maria","Iasi"]
[null,null,null,null,null,null,null,null,null,null,null,null,null,null,null,null,null,null,null,"Pintilie Vlad","Iasi"]
[null,null,null,null,null,null,null,null,null,null,null,null,null,null,null,null,null,null,null,"Pinzaru Gabriel","Botosani"]
[null,null,null,null,null,null,null,null,null,null,null,null,null,null,null,null,null,null,null,"Piper Mirel","Luna CJ"]
[null,null,null,null,null,null,null,null,null,null,null,null,null,null,null,null,null,null,null,"Piper Petru","Luna CJ"]
[null,null,null,null,null,null,null,null,null,null,null,null,null,null,null,null,null,null,null,"Piper Romeo","Luna CJ"]
[null,null,null,null,null,null,null,null,null,null,null,null,null,null,null,null,null,null,null,"Pirlea Dorin","Hunedoara"]
[null,null,null,null,null,null,null,null,null,null,null,null,null,null,null,null,null,null,null,"Pirta Sara","Oradea"]
[null,null,null,null,null,null,null,null,null,null,null,null,null,null,null,null,null,null,null,"Pirvu Marian","Caracal"]
[null,null,null,null,null,null,null,null,null,null,null,null,null,null,null,null,null,null,null,"Pirvulescu Catalin","Rovinari"]
[null,null,null,null,null,null,null,null,null,null,null,null,null,null,null,null,null,null,null,"Piscoiu Viorel","Buzias"]
[null,null,null,null,null,null,null,null,null,null,null,null,null,null,null,null,null,null,null,"Piscoran Alexander","Baia Mare"]
[null,null,null,null,null,null,null,null,null,null,null,null,null,null,null,null,null,null,null,"Pislari Nicolae","Moldova-Drochia"]
[null,null,null,null,null,null,null,null,null,null,null,null,null,null,null,null,null,null,null,"Pislaru George Eduard","Iasi"]
[null,null,null,null,null,null,null,null,null,null,null,null,null,null,null,null,null,null,null,"Pizlaru Ionel","Focsani"]
[null,null,null,null,null,null,null,null,null,null,null,null,null,null,null,null,null,null,null,"Plaias Krisztian","Targu Mures"]
[null,null,null,null,null,null,null,null,null,null,null,null,null,null,null,null,null,null,null,"Plamada Aurelian","Botosani"]
[null,null,null,null,null,null,null,null,null,null,null,null,null,null,null,null,null,null,null,"Plamada Iulian","Putna"]
[null,null,null,null,null,null,null,null,null,null,null,null,null,null,null,null,null,null,null,"Plamada Lucian","Iasi"]
[null,null,null,null,null,null,null,null,null,null,null,null,null,null,null,null,null,null,null,"Platon Dan","Beclean"]
[null,null,null,null,null,null,null,null,null,null,null,null,null,null,null,null,null,null,null,"Plesa Sorin","Targoviste"]
[null,null,null,null,null,null,null,null,null,null,null,null,null,null,null,null,null,null,null,"Plesca Andrei","Vicovu de Sus"]
[null,null,null,null,null,null,null,null,null,null,null,null,null,null,null,null,null,null,null,"Plescan Dan","Aroneanu"]
[null,null,null,null,null,null,null,null,null,null,null,null,null,null,null,null,null,null,null,"Plesoianu Stefan","Constanta"]
[null,null,null,null,null,null,null,null,null,null,null,null,null,null,null,null,null,null,null,"Pletea Mihaela","Sibiu"]
[null,null,null,null,null,null,null,null,null,null,null,null,null,null,null,null,null,null,null,"Pletea Octavian","Sibiu"]
[null,null,null,null,null,null,null,null,null,null,null,null,null,null,null,null,null,null,null,"Ploia Tudor","Sibiu"]
[null,null,null,null,null,null,null,null,null,null,null,null,null,null,null,null,null,null,null,"Plopisan Liviu","Sighetu Marmatiei"]
[null,null,null,null,null,null,null,null,null,null,null,null,null,null,null,null,null,null,null,"Plumb Gabriel","Comarnic"]
[null,null,null,null,null,null,null,null,null,null,null,null,null,null,null,null,null,null,null,"Pnacsek Alex","Lunca Muresului"]
[null,null,null,null,null,null,null,null,null,null,null,null,null,null,null,null,null,null,null,"Podar Horatiu","Turda"]
[null,null,null,null,null,null,null,null,null,null,null,null,null,null,null,null,null,null,null,"Podean Ion","Foeni"]
[null,null,null,null,null,null,null,null,null,null,null,null,null,null,null,null,null,null,null,"Podhora Cristina","Alesd"]
[null,null,null,null,null,null,null,null,null,null,null,null,null,null,null,null,null,null,null,"Podrumar Casian","Arad"]
[null,null,null,null,null,null,null,null,null,null,null,null,null,null,null,null,null,null,null,"Pogorevici Mircea","Gura Humorului"]
[null,null,null,null,null,null,null,null,null,null,null,null,null,null,null,null,null,null,null,"Pohrib Danut","Matca"]
[null,null,null,null,null,null,null,null,null,null,null,null,null,null,null,null,null,null,null,"Polen Costin","Comarnic"]
[null,null,null,null,null,null,null,null,null,null,null,null,null,null,null,null,null,null,null,"Polocoser Cristian","Suceava"]
[null,null,null,null,null,null,null,null,null,null,null,null,null,null,null,null,null,null,null,"Polotca Stefan","Sangeorgiu de Padure"]
[null,null,null,null,null,null,null,null,null,null,null,null,null,null,null,null,null,null,null,"Pomirleanu Radu","Iasi"]
[null,null,null,null,null,null,null,null,null,null,null,null,null,null,null,null,null,null,null,"Pop Alexandru","Bucuresti"]
[null,null,null,null,null,null,null,null,null,null,null,null,null,null,null,null,null,null,null,"Pop Alexandru","Viseu"]
[null,null,null,null,null,null,null,null,null,null,null,null,null,null,null,null,null,null,null,"Pop Claudiu","Arad"]
[null,null,null,null,null,null,null,null,null,null,null,null,null,null,null,null,null,null,null,"Pop Cornel","Zalau"]
[null,null,null,null,null,null,null,null,null,null,null,null,null,null,null,null,null,null,null,"Pop Crina Julieta","Cluj Napoca"]
[null,null,null,null,null,null,null,null,null,null,null,null,null,null,null,null,null,null,null,"Pop Dan","Targu Mures"]
[null,null,null,null,null,null,null,null,null,null,null,null,null,null,null,null,null,null,null,"Pop Daniel","Cluj Napoca"]
[null,null,null,null,null,null,null,null,null,null,null,null,null,null,null,null,null,null,null,"Pop Daniel Ghe","Cluj Napoca"]
[null,null,null,null,null,null,null,null,null,null,null,null,null,null,null,null,null,null,null,"Pop Dumitru","Oradea"]
[null,null,null,null,null,null,null,null,null,null,null,null,null,null,null,null,null,null,null,"Pop Emanuel","Alesd"]
[null,null,null,null,null,null,null,null,null,null,null,null,null,null,null,null,null,null,null,"Pop Florian Iustin","Constanta"]
[null,null,null,null,null,null,null,null,null,null,null,null,null,null,null,null,null,null,null,"Pop Gabriel","Oradea"]
[null,null,null,null,null,null,null,null,null,null,null,null,null,null,null,null,null,null,null,"Pop Gabriel","Eforie"]
[null,null,null,null,null,null,null,null,null,null,null,null,null,null,null,null,null,null,null,"Pop George","Sibiu"]
[null,null,null,null,null,null,null,null,null,null,null,null,null,null,null,null,null,null,null,"Pop Ioan","Giroc"]
[null,null,null,null,null,null,null,null,null,null,null,null,null,null,null,null,null,null,null,"Pop Ioan","Bistrita"]
[null,null,null,null,null,null,null,null,null,null,null,null,null,null,null,null,null,null,null,"Pop Ioan Sorin","Dej"]
[null,null,null,null,null,null,null,null,null,null,null,null,null,null,null,null,null,null,null,"Pop Ionut","Cicarlau"]
[null,null,null,null,null,null,null,null,null,null,null,null,null,null,null,null,null,null,null,"Pop Nicolae","Orastie"]
[null,null,null,null,null,null,null,null,null,null,null,null,null,null,null,null,null,null,null,"Pop Norbert","Cluj Napoca"]
[null,null,null,null,null,null,null,null,null,null,null,null,null,null,null,null,null,null,null,"Pop Raul","Zalau"]
[null,null,null,null,null,null,null,null,null,null,null,null,null,null,null,null,null,null,null,"Pop Sorin","Bistrita"]
[null,null,null,null,null,null,null,null,null,null,null,null,null,null,null,null,null,null,null,"Pop Stefan","Zalau"]
[null,null,null,null,null,null,null,null,null,null,null,null,null,null,null,null,null,null,null,"Pop Stefan","Bistrita"]
[null,null,null,null,null,null,null,null,null,null,null,null,null,null,null,null,null,null,null,"Pop Victor","Bucuresti"]
[null,null,null,null,null,null,null,null,null,null,null,null,null,null,null,null,null,null,null,"Pop Virgil","Cluj Napoca"]
[null,null,null,null,null,null,null,null,null,null,null,null,null,null,null,null,null,null,null,"Pop Vlad","Viseu"]
[null,null,null,null,null,null,null,null,null,null,null,null,null,null,null,null,null,null,null,"Pop Zoltan","Dej"]
[null,null,null,null,null,null,null,null,null,null,null,null,null,null,null,null,null,null,null,"Popa Alexandra","Sibiu"]
[null,null,null,null,null,null,null,null,null,null,null,null,null,null,null,null,null,null,null,"Popa Alexandru Arthur","Arad"]
[null,null,null,null,null,null,null,null,null,null,null,null,null,null,null,null,null,null,null,"Popa Alin","Drobeta Tr Severin"]
[null,null,null,null,null,null,null,null,null,null,null,null,null,null,null,null,null,null,null,"Popa Alin Andrei","Bacau"]
[null,null,null,null,null,null,null,null,null,null,null,null,null,null,null,null,null,null,null,"Popa Andrei Mihai","Ploiesti"]
[null,null,null,null,null,null,null,null,null,null,null,null,null,null,null,null,null,null,null,"Popa Bogdan","Bucuresti"]
[null,null,null,null,null,null,null,null,null,null,null,null,null,null,null,null,null,null,null,"Popa Bogdan","Navodari"]
[null,null,null,null,null,null,null,null,null,null,null,null,null,null,null,null,null,null,null,"Popa Catalin","Roman"]
[null,null,null,null,null,null,null,null,null,null,null,null,null,null,null,null,null,null,null,"Popa Cosmin","Lipova"]
[null,null,null,null,null,null,null,null,null,null,null,null,null,null,null,null,null,null,null,"Popa Cristian Gabriel","Craiova"]
[null,null,null,null,null,null,null,null,null,null,null,null,null,null,null,null,null,null,null,"Popa Dan Teodor","Tecuci"]
[null,null,null,null,null,null,null,null,null,null,null,null,null,null,null,null,null,null,null,"Popa David","Aiud"]
[null,null,null,null,null,null,null,null,null,null,null,null,null,null,null,null,null,null,null,"Popa Florin","Medias"]
[null,null,null,null,null,null,null,null,null,null,null,null,null,null,null,null,null,null,null,"Popa Florin","Oradea"]
[null,null,null,null,null,null,null,null,null,null,null,null,null,null,null,null,null,null,null,"Popa Gheorghe","Medias"]
[null,null,null,null,null,null,null,null,null,null,null,null,null,null,null,null,null,null,null,"Popa Gheorghe","Brasov"]
[null,null,null,null,null,null,null,null,null,null,null,null,null,null,null,null,null,null,null,"Popa Liviu","Bucuresti"]
[null,null,null,null,null,null,null,null,null,null,null,null,null,null,null,null,null,null,null,"Popa Luca","Floresti"]
[null,null,null,null,null,null,null,null,null,null,null,null,null,null,null,null,null,null,null,"Popa Marius","Brasov"]
[null,null,null,null,null,null,null,null,null,null,null,null,null,null,null,null,null,null,null,"Popa Mihai","Sibiu"]
[null,null,null,null,null,null,null,null,null,null,null,null,null,null,null,null,null,null,null,"Popa Mihail","Bucuresti"]
[null,null,null,null,null,null,null,null,null,null,null,null,null,null,null,null,null,null,null,"Popa Mircea","Brasov"]
[null,null,null,null,null,null,null,null,null,null,null,null,null,null,null,null,null,null,null,"Popa Paul","Sibiu"]
[null,null,null,null,null,null,null,null,null,null,null,null,null,null,null,null,null,null,null,"Popa Radu","Deva"]
[null,null,null,null,null,null,null,null,null,null,null,null,null,null,null,null,null,null,null,"Popa Robert","Targoviste"]
[null,null,null,null,null,null,null,null,null,null,null,null,null,null,null,null,null,null,null,"Popa Romica","Pascani"]
[null,null,null,null,null,null,null,null,null,null,null,null,null,null,null,null,null,null,null,"Popa Vasile","Vaslui"]
[null,null,null,null,null,null,null,null,null,null,null,null,null,null,null,null,null,null,null,"Popa Vlad","Piatra Neamt"]
[null,null,null,null,null,null,null,null,null,null,null,null,null,null,null,null,null,null,null,"Popescu Adrian","Dumbravita"]
[null,null,null,null,null,null,null,null,null,null,null,null,null,null,null,null,null,null,null,"Popescu Adrian","Pitesti"]
[null,null,null,null,null,null,null,null,null,null,null,null,null,null,null,null,null,null,null,"Popescu Alex","Hateg"]
[null,null,null,null,null,null,null,null,null,null,null,null,null,null,null,null,null,null,null,"Popescu Andrei","Constanta"]
[null,null,null,null,null,null,null,null,null,null,null,null,null,null,null,null,null,null,null,"Popescu Andrei","Curtea de Arges"]
[null,null,null,null,null,null,null,null,null,null,null,null,null,null,null,null,null,null,null,"Popescu Apreotesei Mihai","Straoane"]
[null,null,null,null,null,null,null,null,null,null,null,null,null,null,null,null,null,null,null,"Popescu Cristina","Boldesti Scaeni"]
[null,null,null,null,null,null,null,null,null,null,null,null,null,null,null,null,null,null,null,"Popescu Dan","Craiova"]
[null,null,null,null,null,null,null,null,null,null,null,null,null,null,null,null,null,null,null,"Popescu Florian Catalin","Bucuresti"]
[null,null,null,null,null,null,null,null,null,null,null,null,null,null,null,null,null,null,null,"Popescu George","Bucuresti"]
[null,null,null,null,null,null,null,null,null,null,null,null,null,null,null,null,null,null,null,"Popescu Horia","Sinaia"]
[null,null,null,null,null,null,null,null,null,null,null,null,null,null,null,null,null,null,null,"Popescu Ionut","Bucuresti"]
[null,null,null,null,null,null,null,null,null,null,null,null,null,null,null,null,null,null,null,"Popescu Mariana","Radauti"]
[null,null,null,null,null,null,null,null,null,null,null,null,null,null,null,null,null,null,null,"Popescu Marius","Suceava"]
[null,null,null,null,null,null,null,null,null,null,null,null,null,null,null,null,null,null,null,"Popescu Mihai Sorin","Straja"]
[null,null,null,null,null,null,null,null,null,null,null,null,null,null,null,null,null,null,null,"Popescu Petre","Bucuresti"]
[null,null,null,null,null,null,null,null,null,null,null,null,null,null,null,null,null,null,null,"Popescu Razvan","Dumbravita"]
[null,null,null,null,null,null,null,null,null,null,null,null,null,null,null,null,null,null,null,"Popescu Remus","Ramnicu Valcea"]
[null,null,null,null,null,null,null,null,null,null,null,null,null,null,null,null,null,null,null,"Popescu Sorin","Ploiesti"]
[null,null,null,null,null,null,null,null,null,null,null,null,null,null,null,null,null,null,null,"Popescu Theo","Bucuresti"]
[null,null,null,null,null,null,null,null,null,null,null,null,null,null,null,null,null,null,null,"Popescu Tudor","Cluj Napoca"]
[null,null,null,null,null,null,null,null,null,null,null,null,null,null,null,null,null,null,null,"Popet Doru","Timisoara"]
[null,null,null,null,null,null,null,null,null,null,null,null,null,null,null,null,null,null,null,"Popoiu Ion","Motaieni"]
[null,null,null,null,null,null,null,null,null,null,null,null,null,null,null,null,null,null,null,"Popov Alexandr","Moldova-Balti"]
[null,null,null,null,null,null,null,null,null,null,null,null,null,null,null,null,null,null,null,"Popov Iurie","Moldova-Balti"]
[null,null,null,null,null,null,null,null,null,null,null,null,null,null,null,null,null,null,null,"Popovici Ciprian","Hunedoara"]
[null,null,null,null,null,null,null,null,null,null,null,null,null,null,null,null,null,null,null,"Popovici Mircea","Caracal"]
[null,null,null,null,null,null,null,null,null,null,null,null,null,null,null,null,null,null,null,"Popovici Rares Andrei","Brasov"]
[null,null,null,null,null,null,null,null,null,null,null,null,null,null,null,null,null,null,null,"Popovici Sandu","Sibiu"]
[null,null,null,null,null,null,null,null,null,null,null,null,null,null,null,null,null,null,null,"Popute Remus","Oradea"]
[null,null,null,null,null,null,null,null,null,null,null,null,null,null,null,null,null,null,null,"Porcariu Gabriel","Barlad"]
[null,null,null,null,null,null,null,null,null,null,null,null,null,null,null,null,null,null,null,"Porojan Florin","Bucuresti"]
[null,null,null,null,null,null,null,null,null,null,null,null,null,null,null,null,null,null,null,"Porosnicu Catalin","Onesti"]
[null,null,null,null,null,null,null,null,null,null,null,null,null,null,null,null,null,null,null,"Portase Daria","Galati"]
[null,null,null,null,null,null,null,null,null,null,null,null,null,null,null,null,null,null,null,"Portik Matyas","Miercurea Ciuc"]
[null,null,null,null,null,null,null,null,null,null,null,null,null,null,null,null,null,null,null,"Porumb Alexandru","Sibiu"]
[null,null,null,null,null,null,null,null,null,null,null,null,null,null,null,null,null,null,null,"Postelnicu Ciprian","Tecuci"]
[null,null,null,null,null,null,null,null,null,null,null,null,null,null,null,null,null,null,null,"Postelnicu Mihai","Sibiu"]
[null,null,null,null,null,null,null,null,null,null,null,null,null,null,null,null,null,null,null,"Postolache Valeriu","Pufesti"]
[null,null,null,null,null,null,null,null,null,null,null,null,null,null,null,null,null,null,null,"Postole Aurel","Buzau"]
[null,null,null,null,null,null,null,null,null,null,null,null,null,null,null,null,null,null,null,"Postudor Andreea","Iasi"]
[null,null,null,null,null,null,null,null,null,null,null,null,null,null,null,null,null,null,null,"Potarniche Bianca","Buzau"]
[null,null,null,null,null,null,null,null,null,null,null,null,null,null,null,null,null,null,null,"Potoroaca Dragos","Valea Lupului"]
[null,null,null,null,null,null,null,null,null,null,null,null,null,null,null,null,null,null,null,"Prahoveanu Nicolae","Constanta"]
[null,null,null,null,null,null,null,null,null,null,null,null,null,null,null,null,null,null,null,"Pralea David Constantin","Alba Iulia"]
[null,null,null,null,null,null,null,null,null,null,null,null,null,null,null,null,null,null,null,"Pralea Eric","Vatra Dornei"]
[null,null,null,null,null,null,null,null,null,null,null,null,null,null,null,null,null,null,null,"Preda Antonia","Bals"]
[null,null,null,null,null,null,null,null,null,null,null,null,null,null,null,null,null,null,null,"Preda Codrin","Piatra Neamt"]
[null,null,null,null,null,null,null,null,null,null,null,null,null,null,null,null,null,null,null,"Preda Filip","Bucuresti"]
[null,null,null,null,null,null,null,null,null,null,null,null,null,null,null,null,null,null,null,"Preda Ion","Targoviste"]
[null,null,null,null,null,null,null,null,null,null,null,null,null,null,null,null,null,null,null,"Preda Mark","Slatina"]
[null,null,null,null,null,null,null,null,null,null,null,null,null,null,null,null,null,null,null,"Preda Nicolae","Curtea de Arges"]
[null,null,null,null,null,null,null,null,null,null,null,null,null,null,null,null,null,null,null,"Preda Rares","Bals"]
[null,null,null,null,null,null,null,null,null,null,null,null,null,null,null,null,null,null,null,"Predoi Bogdan","Rosiori de Vede"]
[null,null,null,null,null,null,null,null,null,null,null,null,null,null,null,null,null,null,null,"Predutoiu Andrei","Pitesti"]
[null,null,null,null,null,null,null,null,null,null,null,null,null,null,null,null,null,null,null,"Prelipceanu Ciprian","Iasi"]
[null,null,null,null,null,null,null,null,null,null,null,null,null,null,null,null,null,null,null,"Pribeagu Bianca","Pitesti"]
[null,null,null,null,null,null,null,null,null,null,null,null,null,null,null,null,null,null,null,"Pribeagu Sebastian","Pitesti"]
[null,null,null,null,null,null,null,null,null,null,null,null,null,null,null,null,null,null,null,"Pricop Lucian","Stolniceni"]
[null,null,null,null,null,null,null,null,null,null,null,null,null,null,null,null,null,null,null,"Pricop Stefan","Suceava"]
[null,null,null,null,null,null,null,null,null,null,null,null,null,null,null,null,null,null,null,"Prisacaru Razvan","Iasi"]
[null,null,null,null,null,null,null,null,null,null,null,null,null,null,null,null,null,null,null,"Prisecariu Darius","Moinesti"]
[null,null,null,null,null,null,null,null,null,null,null,null,null,null,null,null,null,null,null,"Prodan Alexandru","Tarnaveni"]
[null,null,null,null,null,null,null,null,null,null,null,null,null,null,null,null,null,null,null,"Prodan Daniel","Campia Turzii"]
[null,null,null,null,null,null,null,null,null,null,null,null,null,null,null,null,null,null,null,"Prodan Iosif Lucian","Tarnaveni"]
[null,null,null,null,null,null,null,null,null,null,null,null,null,null,null,null,null,null,null,"Profir Alexandru","Tecuci"]
[null,null,null,null,null,null,null,null,null,null,null,null,null,null,null,null,null,null,null,"Profiroiu Dorel","Sfantu Gheorghe"]
[null,null,null,null,null,null,null,null,null,null,null,null,null,null,null,null,null,null,null,"Pruna Cristian","Ploiesti"]
[null,null,null,null,null,null,null,null,null,null,null,null,null,null,null,null,null,null,null,"Pruna Stefan Cristian","Pitesti"]
[null,null,null,null,null,null,null,null,null,null,null,null,null,null,null,null,null,null,null,"Prundeanu Ovidiu","Drobeta Tr Severin"]
[null,null,null,null,null,null,null,null,null,null,null,null,null,null,null,null,null,null,null,"Pufulete Andrei Razvan","Bucuresti"]
[null,null,null,null,null,null,null,null,null,null,null,null,null,null,null,null,null,null,null,"Puia Darius","Stremt"]
[null,null,null,null,null,null,null,null,null,null,null,null,null,null,null,null,null,null,null,"Puiac Elvis","Apahida"]
[null,null,null,null,null,null,null,null,null,null,null,null,null,null,null,null,null,null,null,"Puisoru Victor","Bucuresti"]
[null,null,null,null,null,null,null,null,null,null,null,null,null,null,null,null,null,null,null,"Puiu Dragos","Ploiesti"]
[null,null,null,null,null,null,null,null,null,null,null,null,null,null,null,null,null,null,null,"Puiu Viorel","Moldova-Balti"]
[null,null,null,null,null,null,null,null,null,null,null,null,null,null,null,null,null,null,null,"Purcarea Radu","Constanta"]
[null,null,null,null,null,null,null,null,null,null,null,null,null,null,null,null,null,null,null,"Purendea Olimpia","Bucuresti"]
[null,null,null,null,null,null,null,null,null,null,null,null,null,null,null,null,null,null,null,"Puscas Gabriel","Oradea"]
[null,null,null,null,null,null,null,null,null,null,null,null,null,null,null,null,null,null,null,"Pusceddu Celestino","Italia"]
[null,null,null,null,null,null,null,null,null,null,null,null,null,null,null,null,null,null,null,"Puscovici Matei","Sibiu"]
[null,null,null,null,null,null,null,null,null,null,null,null,null,null,null,null,null,null,null,"Puskas Attila","Sovata"]
[null,null,null,null,null,null,null,null,null,null,null,null,null,null,null,null,null,null,null,"Pustianu Raul","Lunca Muresului"]
[null,null,null,null,null,null,null,null,null,null,null,null,null,null,null,null,null,null,null,"Put Gabriel","Oravita"]
[null,null,null,null,null,null,null,null,null,null,null,null,null,null,null,null,null,null,null,"Putineanu Gabriel","Alexandria"]
[null,null,null,null,null,null,null,null,null,null,null,null,null,null,null,null,null,null,null,"Putnik Tiberiu","Varset"]
[null,null,null,null,null,null,null,null,null,null,null,null,null,null,null,null,null,null,null,"Pylypenko Vladyslav","Ucraina"]
[null,null,null,null,null,null,null,null,null,null,null,null,null,null,null,null,null,null,null,"Racean Claudiu","Sibiu"]
[null,null,null,null,null,null,null,null,null,null,null,null,null,null,null,null,null,null,null,"Racz Peter","Targu Mures"]
[null,null,null,null,null,null,null,null,null,null,null,null,null,null,null,null,null,null,null,"Rad Solomon","Viseu"]
[null,null,null,null,null,null,null,null,null,null,null,null,null,null,null,null,null,null,null,"Rada Matei","Oradea"]
[null,null,null,null,null,null,null,null,null,null,null,null,null,null,null,null,null,null,null,"Radief Cristian Dan","Constanta"]
[null,null,null,null,null,null,null,null,null,null,null,null,null,null,null,null,null,null,null,"Radoi Ianis","Alexandria"]
[null,null,null,null,null,null,null,null,null,null,null,null,null,null,null,null,null,null,null,"Radoi Marius","Bals"]
[null,null,null,null,null,null,null,null,null,null,null,null,null,null,null,null,null,null,null,"Radovan Dusan","Timisoara"]
[null,null,null,null,null,null,null,null,null,null,null,null,null,null,null,null,null,null,null,"Radovan Goran","Timisoara"]
[null,null,null,null,null,null,null,null,null,null,null,null,null,null,null,null,null,null,null,"Radu Adrian","Ploiesti"]
[null,null,null,null,null,null,null,null,null,null,null,null,null,null,null,null,null,null,null,"Radu Adrian","Bucuresti"]
[null,null,null,null,null,null,null,null,null,null,null,null,null,null,null,null,null,null,null,"Radu Aurel","Bucuresti"]
[null,null,null,null,null,null,null,null,null,null,null,null,null,null,null,null,null,null,null,"Radu Ciprian","Brasov"]
[null,null,null,null,null,null,null,null,null,null,null,null,null,null,null,null,null,null,null,"Radu Constantin","Sibiu"]
[null,null,null,null,null,null,null,null,null,null,null,null,null,null,null,null,null,null,null,"Radu Corvin","Sibiu"]
[null,null,null,null,null,null,null,null,null,null,null,null,null,null,null,null,null,null,null,"Radu Costica","Galati"]
[null,null,null,null,null,null,null,null,null,null,null,null,null,null,null,null,null,null,null,"Radu Daniel","Bucuresti"]
[null,null,null,null,null,null,null,null,null,null,null,null,null,null,null,null,null,null,null,"Radu Eric","Brasov"]
[null,null,null,null,null,null,null,null,null,null,null,null,null,null,null,null,null,null,null,"Radu Florin","Ploiesti"]
[null,null,null,null,null,null,null,null,null,null,null,null,null,null,null,null,null,null,null,"Radu Gabriel Bogdan","Sibiu"]
[null,null,null,null,null,null,null,null,null,null,null,null,null,null,null,null,null,null,null,"Radu George","Targoviste"]
[null,null,null,null,null,null,null,null,null,null,null,null,null,null,null,null,null,null,null,"Radu Liviu","Bucov"]
[null,null,null,null,null,null,null,null,null,null,null,null,null,null,null,null,null,null,null,"Radu Lucian","Bucuresti"]
[null,null,null,null,null,null,null,null,null,null,null,null,null,null,null,null,null,null,null,"Raducan Adrian","Sibiu"]
[null,null,null,null,null,null,null,null,null,null,null,null,null,null,null,null,null,null,null,"Raducan Florian","Calarasi"]
[null,null,null,null,null,null,null,null,null,null,null,null,null,null,null,null,null,null,null,"Raducanu Ioana","Bucuresti"]
[null,null,null,null,null,null,null,null,null,null,null,null,null,null,null,null,null,null,null,"Raducanu Kevin Ionut","Targoviste"]
[null,null,null,null,null,null,null,null,null,null,null,null,null,null,null,null,null,null,null,"Raducioiu Daniel","Bucuresti"]
[null,null,null,null,null,null,null,null,null,null,null,null,null,null,null,null,null,null,null,"Radulescu Bogdan","Iedera"]
[null,null,null,null,null,null,null,null,null,null,null,null,null,null,null,null,null,null,null,"Radulescu Dan","Bucuresti"]
[null,null,null,null,null,null,null,null,null,null,null,null,null,null,null,null,null,null,null,"Radulescu Eugeniu","Turda"]
[null,null,null,null,null,null,null,null,null,null,null,null,null,null,null,null,null,null,null,"Radulescu Marian","Bucuresti"]
[null,null,null,null,null,null,null,null,null,null,null,null,null,null,null,null,null,null,null,"Radulescu Marius","Iasi"]
[null,null,null,null,null,null,null,null,null,null,null,null,null,null,null,null,null,null,null,"Raduly Eduard","Sfantu Gheorghe"]
[null,null,null,null,null,null,null,null,null,null,null,null,null,null,null,null,null,null,null,"Raduly Marius","Sfantu Gheorghe"]
[null,null,null,null,null,null,null,null,null,null,null,null,null,null,null,null,null,null,null,"Raduta Alexandra","Targoviste"]
[null,null,null,null,null,null,null,null,null,null,null,null,null,null,null,null,null,null,null,"Raduta Luis","Darmanesti"]
[null,null,null,null,null,null,null,null,null,null,null,null,null,null,null,null,null,null,null,"Raicu David","Filipestii de Targ"]
[null,null,null,null,null,null,null,null,null,null,null,null,null,null,null,null,null,null,null,"Raicu Ion","Alexandria"]
[null,null,null,null,null,null,null,null,null,null,null,null,null,null,null,null,null,null,null,"Railean Robert","Moldova-Balti"]
[null,null,null,null,null,null,null,null,null,null,null,null,null,null,null,null,null,null,null,"Raileanu Raissa","Bucuresti"]
[null,null,null,null,null,null,null,null,null,null,null,null,null,null,null,null,null,null,null,"Rajic Borislav","Novi Sad"]
[null,null,null,null,null,null,null,null,null,null,null,null,null,null,null,null,null,null,null,"Rajic Dalibor","Novi Sad"]
[null,null,null,null,null,null,null,null,null,null,null,null,null,null,null,null,null,null,null,"Rakosi Adrian","Floresti"]
[null,null,null,null,null,null,null,null,null,null,null,null,null,null,null,null,null,null,null,"Rakosi Istvan","Zalau"]
[null,null,null,null,null,null,null,null,null,null,null,null,null,null,null,null,null,null,null,"Rapan Mihai","Bucuresti"]
[null,null,null,null,null,null,null,null,null,null,null,null,null,null,null,null,null,null,null,"Rarinca Claudiu","Matca"]
[null,null,null,null,null,null,null,null,null,null,null,null,null,null,null,null,null,null,null,"Rasid Aihan","Constanta"]
[null,null,null,null,null,null,null,null,null,null,null,null,null,null,null,null,null,null,null,"Rasnoveanu Daniel","Slobozia"]
[null,null,null,null,null,null,null,null,null,null,null,null,null,null,null,null,null,null,null,"Rastoaca Victor","Bucuresti"]
[null,null,null,null,null,null,null,null,null,null,null,null,null,null,null,null,null,null,null,"Ratiu Adrian","Oradea"]
[null,null,null,null,null,null,null,null,null,null,null,null,null,null,null,null,null,null,null,"Rauh Victor","Moldova-Balti"]
[null,null,null,null,null,null,null,null,null,null,null,null,null,null,null,null,null,null,null,"Rausche Valentin","Tulcea"]
[null,null,null,null,null,null,null,null,null,null,null,null,null,null,null,null,null,null,null,"Razgradschii Dmitrii","Moldova-Cazaclia"]
[null,null,null,null,null,null,null,null,null,null,null,null,null,null,null,null,null,null,null,"Rebegea Vasile","Barlad"]
[null,null,null,null,null,null,null,null,null,null,null,null,null,null,null,null,null,null,null,"Redkov Oleksandr","Ucraina"]
[null,null,null,null,null,null,null,null,null,null,null,null,null,null,null,null,null,null,null,"Repede Calin","Cluj Napoca"]
[null,null,null,null,null,null,null,null,null,null,null,null,null,null,null,null,null,null,null,"Retegan Cosmin","Ploiesti"]
[null,null,null,null,null,null,null,null,null,null,null,null,null,null,null,null,null,null,null,"Rezus Oana","Sibiu"]
[null,null,null,null,null,null,null,null,null,null,null,null,null,null,null,null,null,null,null,"Richea Adela","Sibiu"]
[null,null,null,null,null,null,null,null,null,null,null,null,null,null,null,null,null,null,null,"Riclea George Eusebiu","Barlad"]
[null,null,null,null,null,null,null,null,null,null,null,null,null,null,null,null,null,null,null,"Rifat Bislimi","Alibunar"]
[null,null,null,null,null,null,null,null,null,null,null,null,null,null,null,null,null,null,null,"Ripan Vasile","Targu Mures"]
[null,null,null,null,null,null,null,null,null,null,null,null,null,null,null,null,null,null,null,"Ristica Alexandru","Craiova"]
[null,null,null,null,null,null,null,null,null,null,null,null,null,null,null,null,null,null,null,"Rizea Doru","Bucuresti"]
[null,null,null,null,null,null,null,null,null,null,null,null,null,null,null,null,null,null,null,"Roatis Gheorghe","Oradea"]
[null,null,null,null,null,null,null,null,null,null,null,null,null,null,null,null,null,null,null,"Robu Mihai","Mogosesti"]
[null,null,null,null,null,null,null,null,null,null,null,null,null,null,null,null,null,null,null,"Robu Sergiu","Iasi"]
[null,null,null,null,null,null,null,null,null,null,null,null,null,null,null,null,null,null,null,"Roca Claudiu","Satu Mare"]
[null,null,null,null,null,null,null,null,null,null,null,null,null,null,null,null,null,null,null,"Rochian Andrei","Giroc"]
[null,null,null,null,null,null,null,null,null,null,null,null,null,null,null,null,null,null,null,"Roghina Cosmin","Sibiu"]
[null,null,null,null,null,null,null,null,null,null,null,null,null,null,null,null,null,null,null,"Rognean Rafael Alex","Oravita"]
[null,null,null,null,null,null,null,null,null,null,null,null,null,null,null,null,null,null,null,"Rogojina Titus","Cosna"]
[null,null,null,null,null,null,null,null,null,null,null,null,null,null,null,null,null,null,null,"Roi Itzic","Israel"]
[null,null,null,null,null,null,null,null,null,null,null,null,null,null,null,null,null,null,null,"Rojnita Sebastian","Bacau"]
[null,null,null,null,null,null,null,null,null,null,null,null,null,null,null,null,null,null,null,"Roman Bogdan","Arad"]
[null,null,null,null,null,null,null,null,null,null,null,null,null,null,null,null,null,null,null,"Roman David","Arad"]
[null,null,null,null,null,null,null,null,null,null,null,null,null,null,null,null,null,null,null,"Roman Jon","Vlajkovac"]
[null,null,null,null,null,null,null,null,null,null,null,null,null,null,null,null,null,null,null,"Roman Lionel","Vlajkovac"]
[null,null,null,null,null,null,null,null,null,null,null,null,null,null,null,null,null,null,null,"Roman Nesterov","Moldova-Drochia"]
[null,null,null,null,null,null,null,null,null,null,null,null,null,null,null,null,null,null,null,"Roman Ovidiu","Maieru"]
[null,null,null,null,null,null,null,null,null,null,null,null,null,null,null,null,null,null,null,"Roman Radu Dan","Arad"]
[null,null,null,null,null,null,null,null,null,null,null,null,null,null,null,null,null,null,null,"Roman Raisa","Alexandria"]
[null,null,null,null,null,null,null,null,null,null,null,null,null,null,null,null,null,null,null,"Ropotan Iulian","Bucuresti"]
[null,null,null,null,null,null,null,null,null,null,null,null,null,null,null,null,null,null,null,"Rosa Vasile","Salciua"]
[null,null,null,null,null,null,null,null,null,null,null,null,null,null,null,null,null,null,null,"Rosenbaum Vladimir","Timisoara"]
[null,null,null,null,null,null,null,null,null,null,null,null,null,null,null,null,null,null,null,"Rosioara Razvan","Alexandria"]
[null,null,null,null,null,null,null,null,null,null,null,null,null,null,null,null,null,null,null,"Rosu Adrian","Timisoara"]
[null,null,null,null,null,null,null,null,null,null,null,null,null,null,null,null,null,null,null,"Rosu David Mugurel","Comanesti"]
[null,null,null,null,null,null,null,null,null,null,null,null,null,null,null,null,null,null,null,"Rosu Gabriel","Comanesti"]
[null,null,null,null,null,null,null,null,null,null,null,null,null,null,null,null,null,null,null,"Rosu Ioan","Sibiu"]
[null,null,null,null,null,null,null,null,null,null,null,null,null,null,null,null,null,null,null,"Rosu Nicolae","Sibiu"]
[null,null,null,null,null,null,null,null,null,null,null,null,null,null,null,null,null,null,null,"Rosu Victor","Nasaud"]
[null,null,null,null,null,null,null,null,null,null,null,null,null,null,null,null,null,null,null,"Rotari Mihai","Moldova-Chisinau"]
[null,null,null,null,null,null,null,null,null,null,null,null,null,null,null,null,null,null,null,"Rotaru Ianis","Galati"]
[null,null,null,null,null,null,null,null,null,null,null,null,null,null,null,null,null,null,null,"Roventa Dan","Bucuresti"]
[null,null,null,null,null,null,null,null,null,null,null,null,null,null,null,null,null,null,null,"Roxin Andrei","Arad"]
[null,null,null,null,null,null,null,null,null,null,null,null,null,null,null,null,null,null,null,"Rugina Adrian","Botosani"]
[null,null,null,null,null,null,null,null,null,null,null,null,null,null,null,null,null,null,null,"Rugina Ionut Mihai","Ciobanu"]
[null,null,null,null,null,null,null,null,null,null,null,null,null,null,null,null,null,null,null,"Rujan Paul Adrian","Braila"]
[null,null,null,null,null,null,null,null,null,null,null,null,null,null,null,null,null,null,null,"Runceanu David","Pitesti"]
[null,null,null,null,null,null,null,null,null,null,null,null,null,null,null,null,null,null,null,"Rus Mihai","Bistrita"]
[null,null,null,null,null,null,null,null,null,null,null,null,null,null,null,null,null,null,null,"Rus Nicolae","Oradea"]
[null,null,null,null,null,null,null,null,null,null,null,null,null,null,null,null,null,null,null,"Rus Teofil","Jibou"]
[null,null,null,null,null,null,null,null,null,null,null,null,null,null,null,null,null,null,null,"Rus Traian","Cluj Napoca"]
[null,null,null,null,null,null,null,null,null,null,null,null,null,null,null,null,null,null,null,"Rusanovschi Andrei","Moldova-Edinet"]
[null,null,null,null,null,null,null,null,null,null,null,null,null,null,null,null,null,null,null,"Rusea Gheorghe","Breaza"]
[null,null,null,null,null,null,null,null,null,null,null,null,null,null,null,null,null,null,null,"Ruslan Borsci","Moldova-Drochia"]
[null,null,null,null,null,null,null,null,null,null,null,null,null,null,null,null,null,null,null,"Rusti Andrei","Bucuresti"]
[null,null,null,null,null,null,null,null,null,null,null,null,null,null,null,null,null,null,null,"Rusti Catalin","Suceava"]
[null,null,null,null,null,null,null,null,null,null,null,null,null,null,null,null,null,null,null,"Rusti Denis","Arad"]
[null,null,null,null,null,null,null,null,null,null,null,null,null,null,null,null,null,null,null,"Rusu Adrian","Aiud"]
[null,null,null,null,null,null,null,null,null,null,null,null,null,null,null,null,null,null,null,"Rusu Alexandru","Bistrita"]
[null,null,null,null,null,null,null,null,null,null,null,null,null,null,null,null,null,null,null,"Rusu Anatol","Moldova-Briceni"]
[null,null,null,null,null,null,null,null,null,null,null,null,null,null,null,null,null,null,null,"Rusu Andreea","Bucuresti"]
[null,null,null,null,null,null,null,null,null,null,null,null,null,null,null,null,null,null,null,"Rusu Andrei","Cluj Napoca"]
[null,null,null,null,null,null,null,null,null,null,null,null,null,null,null,null,null,null,null,"Rusu Andrei","Strejnicu"]
[null,null,null,null,null,null,null,null,null,null,null,null,null,null,null,null,null,null,null,"Rusu Bogdan","Cluj Napoca"]
[null,null,null,null,null,null,null,null,null,null,null,null,null,null,null,null,null,null,null,"Rusu Discultu Ion","Iasi"]
[null,null,null,null,null,null,null,null,null,null,null,null,null,null,null,null,null,null,null,"Rusu Lucian","Suceava"]
[null,null,null,null,null,null,null,null,null,null,null,null,null,null,null,null,null,null,null,"Rusu Lucian","Iasi"]
[null,null,null,null,null,null,null,null,null,null,null,null,null,null,null,null,null,null,null,"Rusu Paul","Cluj Napoca"]
[null,null,null,null,null,null,null,null,null,null,null,null,null,null,null,null,null,null,null,"Rusu Paul Iulian","Bilca"]
[null,null,null,null,null,null,null,null,null,null,null,null,null,null,null,null,null,null,null,"Rusu Radu","Falticeni"]
[null,null,null,null,null,null,null,null,null,null,null,null,null,null,null,null,null,null,null,"Rusu Stefan","Deva"]
[null,null,null,null,null,null,null,null,null,null,null,null,null,null,null,null,null,null,null,"Rusu Victor","Suceava"]
[null,null,null,null,null,null,null,null,null,null,null,null,null,null,null,null,null,null,null,"Sabadas Dinu","Oradea"]
[null,null,null,null,null,null,null,null,null,null,null,null,null,null,null,null,null,null,null,"Sabau Claudiu","Bistrita"]
[null,null,null,null,null,null,null,null,null,null,null,null,null,null,null,null,null,null,null,"Sabau Florin","Oradea"]
[null,null,null,null,null,null,null,null,null,null,null,null,null,null,null,null,null,null,null,"Sabau Gheorghe","Tarnaveni"]
[null,null,null,null,null,null,null,null,null,null,null,null,null,null,null,null,null,null,null,"Sabau Liviu","Oradea"]
[null,null,null,null,null,null,null,null,null,null,null,null,null,null,null,null,null,null,null,"Sabau Radu","Cluj Napoca"]
[null,null,null,null,null,null,null,null,null,null,null,null,null,null,null,null,null,null,null,"Sabo Ioan","Alba Iulia"]
[null,null,null,null,null,null,null,null,null,null,null,null,null,null,null,null,null,null,null,"Sabou Edmond","Cluj Napoca"]
[null,null,null,null,null,null,null,null,null,null,null,null,null,null,null,null,null,null,null,"Sacadat Marcel","Ludus"]
[null,null,null,null,null,null,null,null,null,null,null,null,null,null,null,null,null,null,null,"Safta Marius","Pitesti"]
[null,null,null,null,null,null,null,null,null,null,null,null,null,null,null,null,null,null,null,"Saftoiu Claudiu","Bucuresti"]
[null,null,null,null,null,null,null,null,null,null,null,null,null,null,null,null,null,null,null,"Sagau Damian","Brasov"]
[null,null,null,null,null,null,null,null,null,null,null,null,null,null,null,null,null,null,null,"Saitan Claudiu","Bucuresti"]
[null,null,null,null,null,null,null,null,null,null,null,null,null,null,null,null,null,null,null,"Salari Mihai","Iasi"]
[null,null,null,null,null,null,null,null,null,null,null,null,null,null,null,null,null,null,null,"Salavastru Petru","Botosani"]
[null,null,null,null,null,null,null,null,null,null,null,null,null,null,null,null,null,null,null,"Salmanov Serghei","Moldova-Balti"]
[null,null,null,null,null,null,null,null,null,null,null,null,null,null,null,null,null,null,null,"Saloman David","Pitesti"]
[null,null,null,null,null,null,null,null,null,null,null,null,null,null,null,null,null,null,null,"Salvan Horatiu","Cluj Napoca"]
[null,null,null,null,null,null,null,null,null,null,null,null,null,null,null,null,null,null,null,"Salvari Marcel","Campulung Mold"]
[null,null,null,null,null,null,null,null,null,null,null,null,null,null,null,null,null,null,null,"Samoila Georgel","Bucuresti"]
[null,null,null,null,null,null,null,null,null,null,null,null,null,null,null,null,null,null,null,"Samoila Ion","Babadag"]
[null,null,null,null,null,null,null,null,null,null,null,null,null,null,null,null,null,null,null,"Sancu Ianis","Dumbraveni SB"]
[null,null,null,null,null,null,null,null,null,null,null,null,null,null,null,null,null,null,null,"Sandescu Florin","Bucuresti"]
[null,null,null,null,null,null,null,null,null,null,null,null,null,null,null,null,null,null,null,"Sandor Bela","Sfantu Gheorghe"]
[null,null,null,null,null,null,null,null,null,null,null,null,null,null,null,null,null,null,null,"Sandru Aurel","Calarasi"]
[null,null,null,null,null,null,null,null,null,null,null,null,null,null,null,null,null,null,null,"Sandu Adrian","Calarasi"]
[null,null,null,null,null,null,null,null,null,null,null,null,null,null,null,null,null,null,null,"Sandu Adrian","Sfantu Gheorghe"]
[null,null,null,null,null,null,null,null,null,null,null,null,null,null,null,null,null,null,null,"Sandu Andrei","Sibiu"]
[null,null,null,null,null,null,null,null,null,null,null,null,null,null,null,null,null,null,null,"Sandu Danut","Cluj Napoca"]
[null,null,null,null,null,null,null,null,null,null,null,null,null,null,null,null,null,null,null,"Sandu Emanuel","Husi"]
[null,null,null,null,null,null,null,null,null,null,null,null,null,null,null,null,null,null,null,"Sandu Eugen","Husi"]
[null,null,null,null,null,null,null,null,null,null,null,null,null,null,null,null,null,null,null,"Sandu Gheorghe","Nasaud"]
[null,null,null,null,null,null,null,null,null,null,null,null,null,null,null,null,null,null,null,"Sandu Ionut","Moinesti"]
[null,null,null,null,null,null,null,null,null,null,null,null,null,null,null,null,null,null,null,"Sandu Liviu Sorinel","Alexandria"]
[null,null,null,null,null,null,null,null,null,null,null,null,null,null,null,null,null,null,null,"Sandu Marcel","Sighisoara"]
[null,null,null,null,null,null,null,null,null,null,null,null,null,null,null,null,null,null,null,"Sandu Nicolae","Videle"]
[null,null,null,null,null,null,null,null,null,null,null,null,null,null,null,null,null,null,null,"Sandu Octav Emilian","Cluj Napoca"]
[null,null,null,null,null,null,null,null,null,null,null,null,null,null,null,null,null,null,null,"Sandu Petru Adrian","Buhusi"]
[null,null,null,null,null,null,null,null,null,null,null,null,null,null,null,null,null,null,null,"Santa Robert","Miercurea Ciuc"]
[null,null,null,null,null,null,null,null,null,null,null,null,null,null,null,null,null,null,null,"Sarandi Ion","Moldova-Avdarma"]
[null,null,null,null,null,null,null,null,null,null,null,null,null,null,null,null,null,null,null,"Sarbu Bogdan","Gligoresti"]
[null,null,null,null,null,null,null,null,null,null,null,null,null,null,null,null,null,null,null,"Sarca Ovidiu","Marghita"]
[null,null,null,null,null,null,null,null,null,null,null,null,null,null,null,null,null,null,null,"Sarcani Andrei","Targu Mures"]
[null,null,null,null,null,null,null,null,null,null,null,null,null,null,null,null,null,null,null,"Sargu David","Moldova-Balti"]
[null,null,null,null,null,null,null,null,null,null,null,null,null,null,null,null,null,null,null,"Saric Artiom","Moldova-Balti"]
[null,null,null,null,null,null,null,null,null,null,null,null,null,null,null,null,null,null,null,"Saric Leonid","Moldova-Balti"]
[null,null,null,null,null,null,null,null,null,null,null,null,null,null,null,null,null,null,null,"Sarlea Tiberiu","Blaj"]
[null,null,null,null,null,null,null,null,null,null,null,null,null,null,null,null,null,null,null,"Sas Florin","Oradea"]
[null,null,null,null,null,null,null,null,null,null,null,null,null,null,null,null,null,null,null,"Sas Gabriel","Timisoara"]
[null,null,null,null,null,null,null,null,null,null,null,null,null,null,null,null,null,null,null,"Sass Imre","Miercurea Ciuc"]
[null,null,null,null,null,null,null,null,null,null,null,null,null,null,null,null,null,null,null,"Saucan Victor","Timisoara"]
[null,null,null,null,null,null,null,null,null,null,null,null,null,null,null,null,null,null,null,"Sauciuc Cosmin","Barlad"]
[null,null,null,null,null,null,null,null,null,null,null,null,null,null,null,null,null,null,null,"Sauciuc Eduard","Barlad"]
[null,null,null,null,null,null,null,null,null,null,null,null,null,null,null,null,null,null,null,"Sava Andrei","Cluj Napoca"]
[null,null,null,null,null,null,null,null,null,null,null,null,null,null,null,null,null,null,null,"Sava Catalin","Pascani"]
[null,null,null,null,null,null,null,null,null,null,null,null,null,null,null,null,null,null,null,"Sava Dumitru","Fetesti"]
[null,null,null,null,null,null,null,null,null,null,null,null,null,null,null,null,null,null,null,"Sava Elena","Bucuresti"]
[null,null,null,null,null,null,null,null,null,null,null,null,null,null,null,null,null,null,null,"Sava Harold","Bucuresti"]
[null,null,null,null,null,null,null,null,null,null,null,null,null,null,null,null,null,null,null,"Sava Ionut","Bacau"]
[null,null,null,null,null,null,null,null,null,null,null,null,null,null,null,null,null,null,null,"Sava Marian","Harsova"]
[null,null,null,null,null,null,null,null,null,null,null,null,null,null,null,null,null,null,null,"Sava Mihai Andrei","Malaiesti"]
[null,null,null,null,null,null,null,null,null,null,null,null,null,null,null,null,null,null,null,"Sava Sinel","Focsani"]
[null,null,null,null,null,null,null,null,null,null,null,null,null,null,null,null,null,null,null,"Savciuc Alexandru","Moldova-Balti"]
[null,null,null,null,null,null,null,null,null,null,null,null,null,null,null,null,null,null,null,"Savin Medeea","Plopeni SV"]
[null,null,null,null,null,null,null,null,null,null,null,null,null,null,null,null,null,null,null,"Savina Dan","Piatra Neamt"]
[null,null,null,null,null,null,null,null,null,null,null,null,null,null,null,null,null,null,null,"Savu Andrei","Targoviste"]
[null,null,null,null,null,null,null,null,null,null,null,null,null,null,null,null,null,null,null,"Savu Cristian","Oradea"]
[null,null,null,null,null,null,null,null,null,null,null,null,null,null,null,null,null,null,null,"Savu Ionut","Bilca"]
[null,null,null,null,null,null,null,null,null,null,null,null,null,null,null,null,null,null,null,"Savu Maria Cornelia","Bilca"]
[null,null,null,null,null,null,null,null,null,null,null,null,null,null,null,null,null,null,null,"Scerra Ercole","Agnita"]
[null,null,null,null,null,null,null,null,null,null,null,null,null,null,null,null,null,null,null,"Schemel Mihai","Bistrita"]
[null,null,null,null,null,null,null,null,null,null,null,null,null,null,null,null,null,null,null,"Schiau Dan","Hunedoara"]
[null,null,null,null,null,null,null,null,null,null,null,null,null,null,null,null,null,null,null,"Schibinschi Artiom","Bucuresti"]
[null,null,null,null,null,null,null,null,null,null,null,null,null,null,null,null,null,null,null,"Schiopulescu Ion","Lugoj"]
[null,null,null,null,null,null,null,null,null,null,null,null,null,null,null,null,null,null,null,"Schmidt Miroslav","Bulgaria"]
[null,null,null,null,null,null,null,null,null,null,null,null,null,null,null,null,null,null,null,"Scirlet Stelian","Jaristea"]
[null,null,null,null,null,null,null,null,null,null,null,null,null,null,null,null,null,null,null,"Scraba Marius","Alexandria"]
[null,null,null,null,null,null,null,null,null,null,null,null,null,null,null,null,null,null,null,"Scurtu Nicolae","Bistrita"]
[null,null,null,null,null,null,null,null,null,null,null,null,null,null,null,null,null,null,null,"Scutaru Iulian","Bucuresti"]
[null,null,null,null,null,null,null,null,null,null,null,null,null,null,null,null,null,null,null,"Scutaru Marius","Cernavoda"]
[null,null,null,null,null,null,null,null,null,null,null,null,null,null,null,null,null,null,null,"Sebestyen Tiberiu","Deva"]
[null,null,null,null,null,null,null,null,null,null,null,null,null,null,null,null,null,null,null,"Sechel Vasile","Viseu"]
[null,null,null,null,null,null,null,null,null,null,null,null,null,null,null,null,null,null,null,"Secu Alexandru","Sibiu"]
[null,null,null,null,null,null,null,null,null,null,null,null,null,null,null,null,null,null,null,"Secu Virgil","Drobeta Tr Severin"]
[null,null,null,null,null,null,null,null,null,null,null,null,null,null,null,null,null,null,null,"Segall Dan","Iasi"]
[null,null,null,null,null,null,null,null,null,null,null,null,null,null,null,null,null,null,null,"Seica Gheorghe","Oradea"]
[null,null,null,null,null,null,null,null,null,null,null,null,null,null,null,null,null,null,null,"Seiche Lucian","Oravita"]
[null,null,null,null,null,null,null,null,null,null,null,null,null,null,null,null,null,null,null,"Selaru Victoras","Adjud"]
[null,null,null,null,null,null,null,null,null,null,null,null,null,null,null,null,null,null,null,"Selejan Cristian","Timisoara"]
[null,null,null,null,null,null,null,null,null,null,null,null,null,null,null,null,null,null,null,"Sencu Victor","Targoviste"]
[null,null,null,null,null,null,null,null,null,null,null,null,null,null,null,null,null,null,null,"Seniuc Radu","Arad"]
[null,null,null,null,null,null,null,null,null,null,null,null,null,null,null,null,null,null,null,"Senturk Barboros","Germania"]
[null,null,null,null,null,null,null,null,null,null,null,null,null,null,null,null,null,null,null,"Serban Adi Iulian","Ramnicu Sarat"]
[null,null,null,null,null,null,null,null,null,null,null,null,null,null,null,null,null,null,null,"Serban Andrei","Bucuresti"]
[null,null,null,null,null,null,null,null,null,null,null,null,null,null,null,null,null,null,null,"Serban Bogdan","Bucuresti"]
[null,null,null,null,null,null,null,null,null,null,null,null,null,null,null,null,null,null,null,"Serban Dumitru","Tulcea"]
[null,null,null,null,null,null,null,null,null,null,null,null,null,null,null,null,null,null,null,"Serban Felix","Panciu"]
[null,null,null,null,null,null,null,null,null,null,null,null,null,null,null,null,null,null,null,"Serban Leonard","Bucuresti"]
[null,null,null,null,null,null,null,null,null,null,null,null,null,null,null,null,null,null,null,"Serban Liviu","Onesti"]
[null,null,null,null,null,null,null,null,null,null,null,null,null,null,null,null,null,null,null,"Serban Lucian Gabriel","Bucuresti"]
[null,null,null,null,null,null,null,null,null,null,null,null,null,null,null,null,null,null,null,"Serban Marian","Orastie"]
[null,null,null,null,null,null,null,null,null,null,null,null,null,null,null,null,null,null,null,"Serban Marius","Vaslui"]
[null,null,null,null,null,null,null,null,null,null,null,null,null,null,null,null,null,null,null,"Serban Marius Catalin","Barlad"]
[null,null,null,null,null,null,null,null,null,null,null,null,null,null,null,null,null,null,null,"Serban Mircea","Harsova"]
[null,null,null,null,null,null,null,null,null,null,null,null,null,null,null,null,null,null,null,"Serbanescu Bogdan","Bucuresti"]
[null,null,null,null,null,null,null,null,null,null,null,null,null,null,null,null,null,null,null,"Serbanovici Milen","Braila"]
[null,null,null,null,null,null,null,null,null,null,null,null,null,null,null,null,null,null,null,"Seres Szabolcs","Crasna"]
[null,null,null,null,null,null,null,null,null,null,null,null,null,null,null,null,null,null,null,"Sexton Antonio Sorin","Kentucky USA"]
[null,null,null,null,null,null,null,null,null,null,null,null,null,null,null,null,null,null,null,"Sfera Mihai","Lokve"]
[null,null,null,null,null,null,null,null,null,null,null,null,null,null,null,null,null,null,null,"Shon Eiikhenbaum","Israel"]
[null,null,null,null,null,null,null,null,null,null,null,null,null,null,null,null,null,null,null,"Sibotean Calin","Sibot"]
[null,null,null,null,null,null,null,null,null,null,null,null,null,null,null,null,null,null,null,"Silaghi Adrian","Dumbravita"]
[null,null,null,null,null,null,null,null,null,null,null,null,null,null,null,null,null,null,null,"Silaghi Marc","Dumbravita"]
[null,null,null,null,null,null,null,null,null,null,null,null,null,null,null,null,null,null,null,"Silaghi Matei","Dumbravita"]
[null,null,null,null,null,null,null,null,null,null,null,null,null,null,null,null,null,null,null,"Silivestru Nicu","Tulcea"]
[null,null,null,null,null,null,null,null,null,null,null,null,null,null,null,null,null,null,null,"Silobad Marko","Belgrad"]
[null,null,null,null,null,null,null,null,null,null,null,null,null,null,null,null,null,null,null,"Silviu Niculae","Bucuresti"]
[null,null,null,null,null,null,null,null,null,null,null,null,null,null,null,null,null,null,null,"Sima Daniel","Mioveni"]
[null,null,null,null,null,null,null,null,null,null,null,null,null,null,null,null,null,null,null,"Sima Vlad","Giurgiu"]
[null,null,null,null,null,null,null,null,null,null,null,null,null,null,null,null,null,null,null,"Simandi Cosmin","Alba Iulia"]
[null,null,null,null,null,null,null,null,null,null,null,null,null,null,null,null,null,null,null,"Simic Milovan","Belgrad"]
[null,null,null,null,null,null,null,null,null,null,null,null,null,null,null,null,null,null,null,"Similean Alexandru","Bucuresti"]
[null,null,null,null,null,null,null,null,null,null,null,null,null,null,null,null,null,null,null,"Simion Boby","Cluj Napoca"]
[null,null,null,null,null,null,null,null,null,null,null,null,null,null,null,null,null,null,null,"Simion Dan","Resita"]
[null,null,null,null,null,null,null,null,null,null,null,null,null,null,null,null,null,null,null,"Simion Ionut","Bucuresti"]
[null,null,null,null,null,null,null,null,null,null,null,null,null,null,null,null,null,null,null,"Simion Mircea","Targu Jiu"]
[null,null,null,null,null,null,null,null,null,null,null,null,null,null,null,null,null,null,null,"Simion Robert","Bucuresti"]
[null,null,null,null,null,null,null,null,null,null,null,null,null,null,null,null,null,null,null,"Simion Silviu","Cocorastii Mislii"]
[null,null,null,null,null,null,null,null,null,null,null,null,null,null,null,null,null,null,null,"Simionescu Robert","Alexandria"]
[null,null,null,null,null,null,null,null,null,null,null,null,null,null,null,null,null,null,null,"Simionov Eduard","Navodari"]
[null,null,null,null,null,null,null,null,null,null,null,null,null,null,null,null,null,null,null,"Simionov Iura","Hunedoara"]
[null,null,null,null,null,null,null,null,null,null,null,null,null,null,null,null,null,null,null,"Simo Elias Mate","Miercurea Ciuc"]
[null,null,null,null,null,null,null,null,null,null,null,null,null,null,null,null,null,null,null,"Simo Jozsef Tibor","Miercurea Ciuc"]
[null,null,null,null,null,null,null,null,null,null,null,null,null,null,null,null,null,null,null,"Simo Pal Levente","Sighisoara"]
[null,null,null,null,null,null,null,null,null,null,null,null,null,null,null,null,null,null,null,"Simoc Paul","Stei"]
[null,null,null,null,null,null,null,null,null,null,null,null,null,null,null,null,null,null,null,"Simon Andrei","Popesti Leordeni"]
[null,null,null,null,null,null,null,null,null,null,null,null,null,null,null,null,null,null,null,"Simon Bence","Targu Mures"]
[null,null,null,null,null,null,null,null,null,null,null,null,null,null,null,null,null,null,null,"Simon Dani","Arad"]
[null,null,null,null,null,null,null,null,null,null,null,null,null,null,null,null,null,null,null,"Simon Gheorghe","Roman"]
[null,null,null,null,null,null,null,null,null,null,null,null,null,null,null,null,null,null,null,"Simon Razvan","Arad"]
[null,null,null,null,null,null,null,null,null,null,null,null,null,null,null,null,null,null,null,"Simon Robert","Cluj Napoca"]
[null,null,null,null,null,null,null,null,null,null,null,null,null,null,null,null,null,null,null,"Simonfi Maghiar","Jibou"]
[null,null,null,null,null,null,null,null,null,null,null,null,null,null,null,null,null,null,null,"Simota Florin","Radauti"]
[null,null,null,null,null,null,null,null,null,null,null,null,null,null,null,null,null,null,null,"Simulescu Adrian","Focsani"]
[null,null,null,null,null,null,null,null,null,null,null,null,null,null,null,null,null,null,null,"Simulescu Dumitru","Craiova"]
[null,null,null,null,null,null,null,null,null,null,null,null,null,null,null,null,null,null,null,"Sinpetrean Comsa Gheorghe","Cluj Napoca"]
[null,null,null,null,null,null,null,null,null,null,null,null,null,null,null,null,null,null,null,"Sipos Claudiu","Gherla"]
[null,null,null,null,null,null,null,null,null,null,null,null,null,null,null,null,null,null,null,"Sirbu David Alexandru","Targoviste"]
[null,null,null,null,null,null,null,null,null,null,null,null,null,null,null,null,null,null,null,"Sirbu Ion","Bucuresti"]
[null,null,null,null,null,null,null,null,null,null,null,null,null,null,null,null,null,null,null,"Sirbu Moise","Baile Herculane"]
[null,null,null,null,null,null,null,null,null,null,null,null,null,null,null,null,null,null,null,"Sirbu Nicolae","Aiud"]
[null,null,null,null,null,null,null,null,null,null,null,null,null,null,null,null,null,null,null,"Sisak Francisc","Brasov"]
[null,null,null,null,null,null,null,null,null,null,null,null,null,null,null,null,null,null,null,"Sisu Florian","Alexandria"]
[null,null,null,null,null,null,null,null,null,null,null,null,null,null,null,null,null,null,null,"Sitarciuc Alexandr","Moldova-Balti"]
[null,null,null,null,null,null,null,null,null,null,null,null,null,null,null,null,null,null,null,"Sivu Cosmin","Bucuresti"]
[null,null,null,null,null,null,null,null,null,null,null,null,null,null,null,null,null,null,null,"Slupetchi Victor Gabriel","Brasov"]
[null,null,null,null,null,null,null,null,null,null,null,null,null,null,null,null,null,null,null,"Smadici Adrian","Milisauti"]
[null,null,null,null,null,null,null,null,null,null,null,null,null,null,null,null,null,null,null,"Smisleaeva Liudmila","Moldova-Balti"]
[null,null,null,null,null,null,null,null,null,null,null,null,null,null,null,null,null,null,null,"Smit Aurel","Craiova"]
[null,null,null,null,null,null,null,null,null,null,null,null,null,null,null,null,null,null,null,"Soare Aurel","Targoviste"]
[null,null,null,null,null,null,null,null,null,null,null,null,null,null,null,null,null,null,null,"Soare Bogdan","Targoviste"]
[null,null,null,null,null,null,null,null,null,null,null,null,null,null,null,null,null,null,null,"Soare Sorin","Slobozia"]
[null,null,null,null,null,null,null,null,null,null,null,null,null,null,null,null,null,null,null,"Soare Valentin","Valenii de Munte"]
[null,null,null,null,null,null,null,null,null,null,null,null,null,null,null,null,null,null,null,"Sobetkii Arcadii","Bucuresti"]
[null,null,null,null,null,null,null,null,null,null,null,null,null,null,null,null,null,null,null,"Socaci Marian","Braila"]
[null,null,null,null,null,null,null,null,null,null,null,null,null,null,null,null,null,null,null,"Socaci Sorin","Panciu"]
[null,null,null,null,null,null,null,null,null,null,null,null,null,null,null,null,null,null,null,"Socaci Valentin","Lugoj"]
[null,null,null,null,null,null,null,null,null,null,null,null,null,null,null,null,null,null,null,"Socaciu Dan Catalin","Floresti"]
[null,null,null,null,null,null,null,null,null,null,null,null,null,null,null,null,null,null,null,"Soceanu Bogdan","Bucuresti"]
[null,null,null,null,null,null,null,null,null,null,null,null,null,null,null,null,null,null,null,"Soficaru George","Brasov"]
[null,null,null,null,null,null,null,null,null,null,null,null,null,null,null,null,null,null,null,"Sofronie Robert Cristian","Sibiu"]
[null,null,null,null,null,null,null,null,null,null,null,null,null,null,null,null,null,null,null,"Soki Viktor","Arad"]
[null,null,null,null,null,null,null,null,null,null,null,null,null,null,null,null,null,null,null,"Solcan Florin","Constanta"]
[null,null,null,null,null,null,null,null,null,null,null,null,null,null,null,null,null,null,null,"Soldan Gica","Cajvana"]
[null,null,null,null,null,null,null,null,null,null,null,null,null,null,null,null,null,null,null,"Soldan Ionatan","Cajvana"]
[null,null,null,null,null,null,null,null,null,null,null,null,null,null,null,null,null,null,null,"Soldan Maxim","Cajvana"]
[null,null,null,null,null,null,null,null,null,null,null,null,null,null,null,null,null,null,null,"Solomon David","Cluj Napoca"]
[null,null,null,null,null,null,null,null,null,null,null,null,null,null,null,null,null,null,null,"Solovastru Gabriel","Gura Humorului"]
[null,null,null,null,null,null,null,null,null,null,null,null,null,null,null,null,null,null,null,"Solyom Sandor","Cluj Napoca"]
[null,null,null,null,null,null,null,null,null,null,null,null,null,null,null,null,null,null,null,"Sopterean Ioan","Bistrita"]
[null,null,null,null,null,null,null,null,null,null,null,null,null,null,null,null,null,null,null,"Sora Sorin","Craiova"]
[null,null,null,null,null,null,null,null,null,null,null,null,null,null,null,null,null,null,null,"Sorescu Deian","Resita"]
[null,null,null,null,null,null,null,null,null,null,null,null,null,null,null,null,null,null,null,"Sorescu Gabriel","Pitesti"]
[null,null,null,null,null,null,null,null,null,null,null,null,null,null,null,null,null,null,null,"Sorin Inu Moise","Stei"]
[null,null,null,null,null,null,null,null,null,null,null,null,null,null,null,null,null,null,null,"Sorin Iulian","Bucuresti"]
[null,null,null,null,null,null,null,null,null,null,null,null,null,null,null,null,null,null,null,"Sosoaca Diana","Ramnicu Valcea"]
[null,null,null,null,null,null,null,null,null,null,null,null,null,null,null,null,null,null,null,"Souca Liviu","Bucuresti"]
[null,null,null,null,null,null,null,null,null,null,null,null,null,null,null,null,null,null,null,"Spaller Teodora","Nasaud"]
[null,null,null,null,null,null,null,null,null,null,null,null,null,null,null,null,null,null,null,"Spaller Tiberiu","Nasaud"]
[null,null,null,null,null,null,null,null,null,null,null,null,null,null,null,null,null,null,null,"Span Adrian","Bistrita"]
[null,null,null,null,null,null,null,null,null,null,null,null,null,null,null,null,null,null,null,"Span Maria","Sibiu"]
[null,null,null,null,null,null,null,null,null,null,null,null,null,null,null,null,null,null,null,"Spanu Vasile","Vicovu de Jos"]
[null,null,null,null,null,null,null,null,null,null,null,null,null,null,null,null,null,null,null,"Spasic Dejan","Belgrad"]
[null,null,null,null,null,null,null,null,null,null,null,null,null,null,null,null,null,null,null,"Spatar Narcis","Dumbraveni SB"]
[null,null,null,null,null,null,null,null,null,null,null,null,null,null,null,null,null,null,null,"Spatar Peter","Agnita"]
[null,null,null,null,null,null,null,null,null,null,null,null,null,null,null,null,null,null,null,"Spatariu Daniel","Arad"]
[null,null,null,null,null,null,null,null,null,null,null,null,null,null,null,null,null,null,null,"Spereatu Darius","Dobrotesti"]
[null,null,null,null,null,null,null,null,null,null,null,null,null,null,null,null,null,null,null,"Spiridonov Kiril","Bulgaria"]
[null,null,null,null,null,null,null,null,null,null,null,null,null,null,null,null,null,null,null,"Spoiala Cristinel","Focsani"]
[null,null,null,null,null,null,null,null,null,null,null,null,null,null,null,null,null,null,null,"Spulber Oana Raluca","Bacau"]
[null,null,null,null,null,null,null,null,null,null,null,null,null,null,null,null,null,null,null,"Srbulj Branislav","Pancevo"]
[null,null,null,null,null,null,null,null,null,null,null,null,null,null,null,null,null,null,null,"Staicu Ovidiu","Targoviste"]
[null,null,null,null,null,null,null,null,null,null,null,null,null,null,null,null,null,null,null,"Staicu Sorin","Dor Marunt"]
[null,null,null,null,null,null,null,null,null,null,null,null,null,null,null,null,null,null,null,"Stamate Eduard","Tecuci"]
[null,null,null,null,null,null,null,null,null,null,null,null,null,null,null,null,null,null,null,"Stamate Eduard","Bucuresti"]
[null,null,null,null,null,null,null,null,null,null,null,null,null,null,null,null,null,null,null,"Stan Adrian","Brasov"]
[null,null,null,null,null,null,null,null,null,null,null,null,null,null,null,null,null,null,null,"Stan Constantin","Caragiale DB"]
[null,null,null,null,null,null,null,null,null,null,null,null,null,null,null,null,null,null,null,"Stan Ionut","Bucuresti"]
[null,null,null,null,null,null,null,null,null,null,null,null,null,null,null,null,null,null,null,"Stan Marius","Galati"]
[null,null,null,null,null,null,null,null,null,null,null,null,null,null,null,null,null,null,null,"Stan Stefan","Mangalia"]
[null,null,null,null,null,null,null,null,null,null,null,null,null,null,null,null,null,null,null,"Stan Tiberiu Dan","Iasi"]
[null,null,null,null,null,null,null,null,null,null,null,null,null,null,null,null,null,null,null,"Stanca Sophia","Navodari"]
[null,null,null,null,null,null,null,null,null,null,null,null,null,null,null,null,null,null,null,"Stancalie Doru","Craiova"]
[null,null,null,null,null,null,null,null,null,null,null,null,null,null,null,null,null,null,null,"Stancila Luca","Iasi"]
[null,null,null,null,null,null,null,null,null,null,null,null,null,null,null,null,null,null,null,"Stanciu Alexander","Vatra Dornei"]
[null,null,null,null,null,null,null,null,null,null,null,null,null,null,null,null,null,null,null,"Stanciu Constantin","Timisoara"]
[null,null,null,null,null,null,null,null,null,null,null,null,null,null,null,null,null,null,null,"Stanciu Constantin","Brasov"]
[null,null,null,null,null,null,null,null,null,null,null,null,null,null,null,null,null,null,null,"Stanciu Dumitru","Simeria"]
[null,null,null,null,null,null,null,null,null,null,null,null,null,null,null,null,null,null,null,"Stanciu Marian","Bucuresti"]
[null,null,null,null,null,null,null,null,null,null,null,null,null,null,null,null,null,null,null,"Stanciu Mugur","Videle"]
[null,null,null,null,null,null,null,null,null,null,null,null,null,null,null,null,null,null,null,"Stanciu Olimpiu","Chitila"]
[null,null,null,null,null,null,null,null,null,null,null,null,null,null,null,null,null,null,null,"Stanciu Stefan","Urlati"]
[null,null,null,null,null,null,null,null,null,null,null,null,null,null,null,null,null,null,null,"Stanciu Stelian","Calarasi"]
[null,null,null,null,null,null,null,null,null,null,null,null,null,null,null,null,null,null,null,"Stanciu Teodor","Sighisoara"]
[null,null,null,null,null,null,null,null,null,null,null,null,null,null,null,null,null,null,null,"Stanciu Viorel","Ploiesti"]
[null,null,null,null,null,null,null,null,null,null,null,null,null,null,null,null,null,null,null,"Stancu Gheorghe","Brazi"]
[null,null,null,null,null,null,null,null,null,null,null,null,null,null,null,null,null,null,null,"Stancu Marian","Constanta"]
[null,null,null,null,null,null,null,null,null,null,null,null,null,null,null,null,null,null,null,"Stancu Octavian","Tulcea"]
[null,null,null,null,null,null,null,null,null,null,null,null,null,null,null,null,null,null,null,"Stancu Tiberiu","Deva"]
[null,null,null,null,null,null,null,null,null,null,null,null,null,null,null,null,null,null,null,"Stanescu Fabian","Hunedoara"]
[null,null,null,null,null,null,null,null,null,null,null,null,null,null,null,null,null,null,null,"Stanescu Ladislau","Hunedoara"]
[null,null,null,null,null,null,null,null,null,null,null,null,null,null,null,null,null,null,null,"Stanescu Romeo","Hunedoara"]
[null,null,null,null,null,null,null,null,null,null,null,null,null,null,null,null,null,null,null,"Stanescu Silviu","Baia Mare"]
[null,null,null,null,null,null,null,null,null,null,null,null,null,null,null,null,null,null,null,"Stanescu Victor","Baia Mare"]
[null,null,null,null,null,null,null,null,null,null,null,null,null,null,null,null,null,null,null,"Stanica Ciprian","Pitesti"]
[null,null,null,null,null,null,null,null,null,null,null,null,null,null,null,null,null,null,null,"Stankovic Marko","Kumane"]
[null,null,null,null,null,null,null,null,null,null,null,null,null,null,null,null,null,null,null,"Stankovic Stefan","Ram"]
[null,null,null,null,null,null,null,null,null,null,null,null,null,null,null,null,null,null,null,"Stankovic Zikica","Kumane"]
[null,null,null,null,null,null,null,null,null,null,null,null,null,null,null,null,null,null,null,"Starcz Adrian","Lupeni"]
[null,null,null,null,null,null,null,null,null,null,null,null,null,null,null,null,null,null,null,"State Malin","Bucuresti"]
[null,null,null,null,null,null,null,null,null,null,null,null,null,null,null,null,null,null,null,"State Orlando","Bucuresti"]
[null,null,null,null,null,null,null,null,null,null,null,null,null,null,null,null,null,null,null,"Stavarache Cornel","Targoviste"]
[null,null,null,null,null,null,null,null,null,null,null,null,null,null,null,null,null,null,null,"Stavarache Florentin","Pascani"]
[null,null,null,null,null,null,null,null,null,null,null,null,null,null,null,null,null,null,null,"Steau Dan","Santimbru AB"]
[null,null,null,null,null,null,null,null,null,null,null,null,null,null,null,null,null,null,null,"Stefan Adrian","Bucuresti"]
[null,null,null,null,null,null,null,null,null,null,null,null,null,null,null,null,null,null,null,"Stefan Frosin","Vaslui"]
[null,null,null,null,null,null,null,null,null,null,null,null,null,null,null,null,null,null,null,"Stefan Mihai","Craiova"]
[null,null,null,null,null,null,null,null,null,null,null,null,null,null,null,null,null,null,null,"Stefan Nicolas","Magurele"]
[null,null,null,null,null,null,null,null,null,null,null,null,null,null,null,null,null,null,null,"Stefan Patrick","Brasov"]
[null,null,null,null,null,null,null,null,null,null,null,null,null,null,null,null,null,null,null,"Stefan Sorin","Brasov"]
[null,null,null,null,null,null,null,null,null,null,null,null,null,null,null,null,null,null,null,"Stefanescu Alin","Sucevita"]
[null,null,null,null,null,null,null,null,null,null,null,null,null,null,null,null,null,null,null,"Stefanescu Serban","Harsova"]
[null,null,null,null,null,null,null,null,null,null,null,null,null,null,null,null,null,null,null,"Stefurac Marius","Ploiesti"]
[null,null,null,null,null,null,null,null,null,null,null,null,null,null,null,null,null,null,null,"Stepanov Petre","Tulcea"]
[null,null,null,null,null,null,null,null,null,null,null,null,null,null,null,null,null,null,null,"Sterczer Sandor","Sanzieni"]
[null,null,null,null,null,null,null,null,null,null,null,null,null,null,null,null,null,null,null,"Sterie Cristian","Bucuresti"]
[null,null,null,null,null,null,null,null,null,null,null,null,null,null,null,null,null,null,null,"Sterpu Gabriel","Navodari"]
[null,null,null,null,null,null,null,null,null,null,null,null,null,null,null,null,null,null,null,"Stetco Teodor","Sighetu Marmatiei"]
[null,null,null,null,null,null,null,null,null,null,null,null,null,null,null,null,null,null,null,"Stinea Adrian","Sibiu"]
[null,null,null,null,null,null,null,null,null,null,null,null,null,null,null,null,null,null,null,"Stinga Ion","Ploiesti"]
[null,null,null,null,null,null,null,null,null,null,null,null,null,null,null,null,null,null,null,"Stinga Ovidiu","Tecuci"]
[null,null,null,null,null,null,null,null,null,null,null,null,null,null,null,null,null,null,null,"Stir Andrei","Baicoi"]
[null,null,null,null,null,null,null,null,null,null,null,null,null,null,null,null,null,null,null,"Stir Andrei","Hunedoara"]
[null,null,null,null,null,null,null,null,null,null,null,null,null,null,null,null,null,null,null,"Stir Bogdan","Telega"]
[null,null,null,null,null,null,null,null,null,null,null,null,null,null,null,null,null,null,null,"Stirbu Daniel","Braila"]
[null,null,null,null,null,null,null,null,null,null,null,null,null,null,null,null,null,null,null,"Stoean Filip","Calarasi"]
[null,null,null,null,null,null,null,null,null,null,null,null,null,null,null,null,null,null,null,"Stoean Mircea","Bacau"]
[null,null,null,null,null,null,null,null,null,null,null,null,null,null,null,null,null,null,null,"Stoia Alesia","Timisoara"]
[null,null,null,null,null,null,null,null,null,null,null,null,null,null,null,null,null,null,null,"Stoia Florin","Timisoara"]
[null,null,null,null,null,null,null,null,null,null,null,null,null,null,null,null,null,null,null,"Stoian Gabriel","Alexandria"]
[null,null,null,null,null,null,null,null,null,null,null,null,null,null,null,null,null,null,null,"Stoian Mihaita Cezar","Navodari"]
[null,null,null,null,null,null,null,null,null,null,null,null,null,null,null,null,null,null,null,"Stoian Mihnea","Alexandria"]
[null,null,null,null,null,null,null,null,null,null,null,null,null,null,null,null,null,null,null,"Stoian Narcis","Braila"]
[null,null,null,null,null,null,null,null,null,null,null,null,null,null,null,null,null,null,null,"Stoian Sebastian","Slobozia"]
[null,null,null,null,null,null,null,null,null,null,null,null,null,null,null,null,null,null,null,"Stoian Sorin","Curtea de Arges"]
[null,null,null,null,null,null,null,null,null,null,null,null,null,null,null,null,null,null,null,"Stoica Ayana Maria","Slobozia"]
[null,null,null,null,null,null,null,null,null,null,null,null,null,null,null,null,null,null,null,"Stoica Carmen","Lunca Muresului"]
[null,null,null,null,null,null,null,null,null,null,null,null,null,null,null,null,null,null,null,"Stoica Dan","Galati"]
[null,null,null,null,null,null,null,null,null,null,null,null,null,null,null,null,null,null,null,"Stoica Denis Andrei","Alexandria"]
[null,null,null,null,null,null,null,null,null,null,null,null,null,null,null,null,null,null,null,"Stoica Flavia","Lunca Muresului"]
[null,null,null,null,null,null,null,null,null,null,null,null,null,null,null,null,null,null,null,"Stoica Florin","Bucuresti"]
[null,null,null,null,null,null,null,null,null,null,null,null,null,null,null,null,null,null,null,"Stoica Ioan Cristian","Targoviste"]
[null,null,null,null,null,null,null,null,null,null,null,null,null,null,null,null,null,null,null,"Stoica Ion","Slobozia"]
[null,null,null,null,null,null,null,null,null,null,null,null,null,null,null,null,null,null,null,"Stoica Kewin","Dumbraveni SB"]
[null,null,null,null,null,null,null,null,null,null,null,null,null,null,null,null,null,null,null,"Stoica Laura","Bucuresti"]
[null,null,null,null,null,null,null,null,null,null,null,null,null,null,null,null,null,null,null,"Stoica Liviu Andrei","Slobozia"]
[null,null,null,null,null,null,null,null,null,null,null,null,null,null,null,null,null,null,null,"Stoica Liviu Gabriel","Slobozia"]
[null,null,null,null,null,null,null,null,null,null,null,null,null,null,null,null,null,null,null,"Stoica Maxim","Moldova-Cahul"]
[null,null,null,null,null,null,null,null,null,null,null,null,null,null,null,null,null,null,null,"Stoica Mihai","Hateg"]
[null,null,null,null,null,null,null,null,null,null,null,null,null,null,null,null,null,null,null,"Stoica Nicolae","Hunedoara"]
[null,null,null,null,null,null,null,null,null,null,null,null,null,null,null,null,null,null,null,"Stoica Ovidiu","Bucuresti"]
[null,null,null,null,null,null,null,null,null,null,null,null,null,null,null,null,null,null,null,"Stoica Patricia","Bucuresti"]
[null,null,null,null,null,null,null,null,null,null,null,null,null,null,null,null,null,null,null,"Stoica Pedro","Cluj Napoca"]
[null,null,null,null,null,null,null,null,null,null,null,null,null,null,null,null,null,null,null,"Stoica Rares","Ludus"]
[null,null,null,null,null,null,null,null,null,null,null,null,null,null,null,null,null,null,null,"Stoica Sandel","Focsani"]
[null,null,null,null,null,null,null,null,null,null,null,null,null,null,null,null,null,null,null,"Stoiciuc Codrin","Botosani"]
[null,null,null,null,null,null,null,null,null,null,null,null,null,null,null,null,null,null,null,"Stoinea Iulian","Bucuresti"]
[null,null,null,null,null,null,null,null,null,null,null,null,null,null,null,null,null,null,null,"Stoinea Mihai","Alexandria"]
[null,null,null,null,null,null,null,null,null,null,null,null,null,null,null,null,null,null,null,"Stolearenco Igor","Galati"]
[null,null,null,null,null,null,null,null,null,null,null,null,null,null,null,null,null,null,null,"Stoli Nicu","Tulcea"]
[null,null,null,null,null,null,null,null,null,null,null,null,null,null,null,null,null,null,null,"Stratiev Ivan","Moldova-Taraclia"]
[null,null,null,null,null,null,null,null,null,null,null,null,null,null,null,null,null,null,null,"Strinu Paul","Drobeta Tr Severin"]
[null,null,null,null,null,null,null,null,null,null,null,null,null,null,null,null,null,null,null,"Stroe Florin","Brasov"]
[null,null,null,null,null,null,null,null,null,null,null,null,null,null,null,null,null,null,null,"Strugar Ioan","Deda"]
[null,null,null,null,null,null,null,null,null,null,null,null,null,null,null,null,null,null,null,"Strugariu Ciprian","Radauti"]
[null,null,null,null,null,null,null,null,null,null,null,null,null,null,null,null,null,null,null,"Strugariu Ioan","Campulung Mold"]
[null,null,null,null,null,null,null,null,null,null,null,null,null,null,null,null,null,null,null,"Stupinean Mircea","Calan"]
[null,null,null,null,null,null,null,null,null,null,null,null,null,null,null,null,null,null,null,"Subtirelu Marius","Onesti"]
[null,null,null,null,null,null,null,null,null,null,null,null,null,null,null,null,null,null,null,"Suceava Raul","Targu Mures"]
[null,null,null,null,null,null,null,null,null,null,null,null,null,null,null,null,null,null,null,"Sucilea Adrian","Cluj Napoca"]
[null,null,null,null,null,null,null,null,null,null,null,null,null,null,null,null,null,null,null,"Sucilea Victor","Cluj Napoca"]
[null,null,null,null,null,null,null,null,null,null,null,null,null,null,null,null,null,null,null,"Suciu Andrei","Borsec"]
[null,null,null,null,null,null,null,null,null,null,null,null,null,null,null,null,null,null,null,"Suciu Cristian","Dej"]
[null,null,null,null,null,null,null,null,null,null,null,null,null,null,null,null,null,null,null,"Suciu Dragos","Constanta"]
[null,null,null,null,null,null,null,null,null,null,null,null,null,null,null,null,null,null,null,"Suciu Florin","Sibiu"]
[null,null,null,null,null,null,null,null,null,null,null,null,null,null,null,null,null,null,null,"Suciu Iacob","Blaj"]
[null,null,null,null,null,null,null,null,null,null,null,null,null,null,null,null,null,null,null,"Suciu Mihai","Borsec"]
[null,null,null,null,null,null,null,null,null,null,null,null,null,null,null,null,null,null,null,"Suhan George","Curtea de Arges"]
[null,null,null,null,null,null,null,null,null,null,null,null,null,null,null,null,null,null,null,"Suliman Florin","Lumina"]
[null,null,null,null,null,null,null,null,null,null,null,null,null,null,null,null,null,null,null,"Sultan Valentin","Craiova"]
[null,null,null,null,null,null,null,null,null,null,null,null,null,null,null,null,null,null,null,"Sumanaru Catalin","Iasi"]
[null,null,null,null,null,null,null,null,null,null,null,null,null,null,null,null,null,null,null,"Suptirel Narcis","Agnita"]
[null,null,null,null,null,null,null,null,null,null,null,null,null,null,null,null,null,null,null,"Surdan Viorel","Oradea"]
[null,null,null,null,null,null,null,null,null,null,null,null,null,null,null,null,null,null,null,"Surdu Marcel","Iasi"]
[null,null,null,null,null,null,null,null,null,null,null,null,null,null,null,null,null,null,null,"Sursilov Constantin","Bucuresti"]
[null,null,null,null,null,null,null,null,null,null,null,null,null,null,null,null,null,null,null,"Suru Mihai","Hunedoara"]
[null,null,null,null,null,null,null,null,null,null,null,null,null,null,null,null,null,null,null,"Susan Mircea","Alba Iulia"]
[null,null,null,null,null,null,null,null,null,null,null,null,null,null,null,null,null,null,null,"Susman Alexandru","Alba Iulia"]
[null,null,null,null,null,null,null,null,null,null,null,null,null,null,null,null,null,null,null,"Susman Dan","Alba Iulia"]
[null,null,null,null,null,null,null,null,null,null,null,null,null,null,null,null,null,null,null,"Suteu Bela","Sovata"]
[null,null,null,null,null,null,null,null,null,null,null,null,null,null,null,null,null,null,null,"Sutoris Cornel","Medias"]
[null,null,null,null,null,null,null,null,null,null,null,null,null,null,null,null,null,null,null,"Suvei Ioan","Bistrita"]
[null,null,null,null,null,null,null,null,null,null,null,null,null,null,null,null,null,null,null,"Svaia Bianca","Timisoara"]
[null,null,null,null,null,null,null,null,null,null,null,null,null,null,null,null,null,null,null,"Symeonidis Alex","Brasov"]
[null,null,null,null,null,null,null,null,null,null,null,null,null,null,null,null,null,null,null,"Symonenko Yaroslav","Odesa"]
[null,null,null,null,null,null,null,null,null,null,null,null,null,null,null,null,null,null,null,"Szabo Luka Kazmer","Miercurea Ciuc"]
[null,null,null,null,null,null,null,null,null,null,null,null,null,null,null,null,null,null,null,"Szabo Ovidiu","Dej"]
[null,null,null,null,null,null,null,null,null,null,null,null,null,null,null,null,null,null,null,"Szabo Zoltan","Cristuru Secuiesc"]
[null,null,null,null,null,null,null,null,null,null,null,null,null,null,null,null,null,null,null,"Szakacs Attila","Corunca"]
[null,null,null,null,null,null,null,null,null,null,null,null,null,null,null,null,null,null,null,"Szakacs Sandor","Sfantu Gheorghe"]
[null,null,null,null,null,null,null,null,null,null,null,null,null,null,null,null,null,null,null,"Szalay Liviu","Oradea"]
[null,null,null,null,null,null,null,null,null,null,null,null,null,null,null,null,null,null,null,"Szalos Pal Ionut","Timisoara"]
[null,null,null,null,null,null,null,null,null,null,null,null,null,null,null,null,null,null,null,"Szanto Lajos","Miercurea Ciuc"]
[null,null,null,null,null,null,null,null,null,null,null,null,null,null,null,null,null,null,null,"Szasz Csongor","Gheorgheni"]
[null,null,null,null,null,null,null,null,null,null,null,null,null,null,null,null,null,null,null,"Szasz Zoltan","Gheorgheni"]
[null,null,null,null,null,null,null,null,null,null,null,null,null,null,null,null,null,null,null,"Szekely Attila","Arad"]
[null,null,null,null,null,null,null,null,null,null,null,null,null,null,null,null,null,null,null,"Szekely Claudia","Targu Mures"]
[null,null,null,null,null,null,null,null,null,null,null,null,null,null,null,null,null,null,null,"Szekely Karoly","Sangeorgiu de Mures"]
[null,null,null,null,null,null,null,null,null,null,null,null,null,null,null,null,null,null,null,"Szekely Zoltan","Gheorgheni"]
[null,null,null,null,null,null,null,null,null,null,null,null,null,null,null,null,null,null,null,"Szekeres Zoltan","Timisoara"]
[null,null,null,null,null,null,null,null,null,null,null,null,null,null,null,null,null,null,null,"Szemciuk Istvan","Deva"]
[null,null,null,null,null,null,null,null,null,null,null,null,null,null,null,null,null,null,null,"Szep Carolina","Nasaud"]
[null,null,null,null,null,null,null,null,null,null,null,null,null,null,null,null,null,null,null,"Szep Octavian","Nasaud"]
[null,null,null,null,null,null,null,null,null,null,null,null,null,null,null,null,null,null,null,"Szilagyi Attila","Targu Mures"]
[null,null,null,null,null,null,null,null,null,null,null,null,null,null,null,null,null,null,null,"Szilagyi Bencze","Dumbravita"]
[null,null,null,null,null,null,null,null,null,null,null,null,null,null,null,null,null,null,null,"Szivery Adrian","Arad"]
[null,null,null,null,null,null,null,null,null,null,null,null,null,null,null,null,null,null,null,"Szocs Gaspar","Gheorgheni"]
[null,null,null,null,null,null,null,null,null,null,null,null,null,null,null,null,null,null,null,"Sztan Eric Traian","Buzau"]
[null,null,null,null,null,null,null,null,null,null,null,null,null,null,null,null,null,null,null,"Tabacaru Ciprian","Vaslui"]
[null,null,null,null,null,null,null,null,null,null,null,null,null,null,null,null,null,null,null,"Tabacaru Constantin","Piatra Neamt"]
[null,null,null,null,null,null,null,null,null,null,null,null,null,null,null,null,null,null,null,"Tabacaru Jenica","Focsani"]
[null,null,null,null,null,null,null,null,null,null,null,null,null,null,null,null,null,null,null,"Tabacu Alexandra","Giarmata"]
[null,null,null,null,null,null,null,null,null,null,null,null,null,null,null,null,null,null,null,"Tabara Lucian","Valenii de Munte"]
[null,null,null,null,null,null,null,null,null,null,null,null,null,null,null,null,null,null,null,"Taga Mario","Barlad"]
[null,null,null,null,null,null,null,null,null,null,null,null,null,null,null,null,null,null,null,"Tailbot Francois","Oradea"]
[null,null,null,null,null,null,null,null,null,null,null,null,null,null,null,null,null,null,null,"Tala Lenard","Micfalau"]
[null,null,null,null,null,null,null,null,null,null,null,null,null,null,null,null,null,null,null,"Tala Medard","Micfalau"]
[null,null,null,null,null,null,null,null,null,null,null,null,null,null,null,null,null,null,null,"Talaba Mihai","Tecuci"]
[null,null,null,null,null,null,null,null,null,null,null,null,null,null,null,null,null,null,null,"Talalai Igor","Ucraina"]
[null,null,null,null,null,null,null,null,null,null,null,null,null,null,null,null,null,null,null,"Talos Cristian","Malut"]
[null,null,null,null,null,null,null,null,null,null,null,null,null,null,null,null,null,null,null,"Talos Ioan","Malut"]
[null,null,null,null,null,null,null,null,null,null,null,null,null,null,null,null,null,null,null,"Talpa Gheorghe","Moldova-Drochia"]
[null,null,null,null,null,null,null,null,null,null,null,null,null,null,null,null,null,null,null,"Taman Ioan","Cugir"]
[null,null,null,null,null,null,null,null,null,null,null,null,null,null,null,null,null,null,null,"Tamas Szilard","Miercurea Ciuc"]
[null,null,null,null,null,null,null,null,null,null,null,null,null,null,null,null,null,null,null,"Tamas Vivien","Miercurea Ciuc"]
[null,null,null,null,null,null,null,null,null,null,null,null,null,null,null,null,null,null,null,"Tanasa Adrian","Resita"]
[null,null,null,null,null,null,null,null,null,null,null,null,null,null,null,null,null,null,null,"Tanasa Gabriel","Suceava"]
[null,null,null,null,null,null,null,null,null,null,null,null,null,null,null,null,null,null,null,"Tanase Adrian","Harsova"]
[null,null,null,null,null,null,null,null,null,null,null,null,null,null,null,null,null,null,null,"Tanase Antonia","Bucuresti"]
[null,null,null,null,null,null,null,null,null,null,null,null,null,null,null,null,null,null,null,"Tanase Constantin","Slatina"]
[null,null,null,null,null,null,null,null,null,null,null,null,null,null,null,null,null,null,null,"Tanase Horia","Bucuresti"]
[null,null,null,null,null,null,null,null,null,null,null,null,null,null,null,null,null,null,null,"Tanase Valentin","Piatra Neamt"]
[null,null,null,null,null,null,null,null,null,null,null,null,null,null,null,null,null,null,null,"Tanasov Marius","Tulcea"]
[null,null,null,null,null,null,null,null,null,null,null,null,null,null,null,null,null,null,null,"Tanca Paul","Floresti"]
[null,null,null,null,null,null,null,null,null,null,null,null,null,null,null,null,null,null,null,"Tanu Mihai","Tecuci"]
[null,null,null,null,null,null,null,null,null,null,null,null,null,null,null,null,null,null,null,"Taranu Nicusor","Tulcea"]
[null,null,null,null,null,null,null,null,null,null,null,null,null,null,null,null,null,null,null,"Tarlev Roman","Moldova-Comrat"]
[null,null,null,null,null,null,null,null,null,null,null,null,null,null,null,null,null,null,null,"Tarnavean Robert","Cluj Napoca"]
[null,null,null,null,null,null,null,null,null,null,null,null,null,null,null,null,null,null,null,"Tarnavean Sorin","Cluj Napoca"]
[null,null,null,null,null,null,null,null,null,null,null,null,null,null,null,null,null,null,null,"Taschina Petru","Barlad"]
[null,null,null,null,null,null,null,null,null,null,null,null,null,null,null,null,null,null,null,"Tascianu Cristian","Oradea"]
[null,null,null,null,null,null,null,null,null,null,null,null,null,null,null,null,null,null,null,"Tasedan Marcel","Arad"]
[null,null,null,null,null,null,null,null,null,null,null,null,null,null,null,null,null,null,null,"Tatar Dorel","Calan"]
[null,null,null,null,null,null,null,null,null,null,null,null,null,null,null,null,null,null,null,"Tatar Iosua","Jimbolia"]
[null,null,null,null,null,null,null,null,null,null,null,null,null,null,null,null,null,null,null,"Tatar Mihai","Simleu Silvaniei"]
[null,null,null,null,null,null,null,null,null,null,null,null,null,null,null,null,null,null,null,"Tataru Alexandru","Vaslui"]
[null,null,null,null,null,null,null,null,null,null,null,null,null,null,null,null,null,null,null,"Tataru Nicolae","Vaslui"]
[null,null,null,null,null,null,null,null,null,null,null,null,null,null,null,null,null,null,null,"Tatarus Andrei","Bucuresti"]
[null,null,null,null,null,null,null,null,null,null,null,null,null,null,null,null,null,null,null,"Tatu Bogdan","Sanpetru"]
[null,null,null,null,null,null,null,null,null,null,null,null,null,null,null,null,null,null,null,"Taucci Anastasia","Moldova-Avdarma"]
[null,null,null,null,null,null,null,null,null,null,null,null,null,null,null,null,null,null,null,"Tauciuc Edi","Suceava"]
[null,null,null,null,null,null,null,null,null,null,null,null,null,null,null,null,null,null,null,"Taut Ciprian","Cluj Napoca"]
[null,null,null,null,null,null,null,null,null,null,null,null,null,null,null,null,null,null,null,"Taut Stefan","Cluj Napoca"]
[null,null,null,null,null,null,null,null,null,null,null,null,null,null,null,null,null,null,null,"Teaca Andrei","Rosiori de Vede"]
[null,null,null,null,null,null,null,null,null,null,null,null,null,null,null,null,null,null,null,"Teaca Gabriel","Rosiori de Vede"]
[null,null,null,null,null,null,null,null,null,null,null,null,null,null,null,null,null,null,null,"Teaca Vladimir","Moldova-Balti"]
[null,null,null,null,null,null,null,null,null,null,null,null,null,null,null,null,null,null,null,"Tebeica Ionut","Bucuresti"]
[null,null,null,null,null,null,null,null,null,null,null,null,null,null,null,null,null,null,null,"Tedi Ioja","Calan"]
[null,null,null,null,null,null,null,null,null,null,null,null,null,null,null,null,null,null,null,"Tegher Tiberiu","Apahida"]
[null,null,null,null,null,null,null,null,null,null,null,null,null,null,null,null,null,null,null,"Tegzes Robert","Stejeris"]
[null,null,null,null,null,null,null,null,null,null,null,null,null,null,null,null,null,null,null,"Teica Radu","Targu Jiu"]
[null,null,null,null,null,null,null,null,null,null,null,null,null,null,null,null,null,null,null,"Teleki Zsolt","Cluj Napoca"]
[null,null,null,null,null,null,null,null,null,null,null,null,null,null,null,null,null,null,null,"Telespan Elena","Sibiu"]
[null,null,null,null,null,null,null,null,null,null,null,null,null,null,null,null,null,null,null,"Telespan Konstantin","Sibiu"]
[null,null,null,null,null,null,null,null,null,null,null,null,null,null,null,null,null,null,null,"Telman Matei","Deva"]
[null,null,null,null,null,null,null,null,null,null,null,null,null,null,null,null,null,null,null,"Teodor Cata","Baia Mare"]
[null,null,null,null,null,null,null,null,null,null,null,null,null,null,null,null,null,null,null,"Teodor Cristian","Bucuresti"]
[null,null,null,null,null,null,null,null,null,null,null,null,null,null,null,null,null,null,null,"Teodorescu Andu","Curtea de Arges"]
[null,null,null,null,null,null,null,null,null,null,null,null,null,null,null,null,null,null,null,"Teodorescu Cosmin","Bucuresti"]
[null,null,null,null,null,null,null,null,null,null,null,null,null,null,null,null,null,null,null,"Teodorescu Marian","Bucuresti"]
[null,null,null,null,null,null,null,null,null,null,null,null,null,null,null,null,null,null,null,"Teodorescu Ovidiu","Sighisoara"]
[null,null,null,null,null,null,null,null,null,null,null,null,null,null,null,null,null,null,null,"Teodorescu Robert","Bucuresti"]
[null,null,null,null,null,null,null,null,null,null,null,null,null,null,null,null,null,null,null,"Teodorescu Sandica","Ramnicu Sarat"]
[null,null,null,null,null,null,null,null,null,null,null,null,null,null,null,null,null,null,null,"Teodoru Pavel","Buzau"]
[null,null,null,null,null,null,null,null,null,null,null,null,null,null,null,null,null,null,null,"Tepelea Ioana","Bucuresti"]
[null,null,null,null,null,null,null,null,null,null,null,null,null,null,null,null,null,null,null,"Terente Catalin","Piatra Neamt"]
[null,null,null,null,null,null,null,null,null,null,null,null,null,null,null,null,null,null,null,"Terentii Cristian","Bucuresti"]
[null,null,null,null,null,null,null,null,null,null,null,null,null,null,null,null,null,null,null,"Terhes George","Zalau"]
[null,null,null,null,null,null,null,null,null,null,null,null,null,null,null,null,null,null,null,"Teris Valeriu","Comanesti"]
[null,null,null,null,null,null,null,null,null,null,null,null,null,null,null,null,null,null,null,"Terna David","Moldova-Balti"]
[null,null,null,null,null,null,null,null,null,null,null,null,null,null,null,null,null,null,null,"Ternauciuc Adrian","Nadrag"]
[null,null,null,null,null,null,null,null,null,null,null,null,null,null,null,null,null,null,null,"Ternauciuc Octavian","Nadrag"]
[null,null,null,null,null,null,null,null,null,null,null,null,null,null,null,null,null,null,null,"Tertea Andrei","Moldova-Balti"]
[null,null,null,null,null,null,null,null,null,null,null,null,null,null,null,null,null,null,null,"Terteci Ilie Lucian","Ramnicu Valcea"]
[null,null,null,null,null,null,null,null,null,null,null,null,null,null,null,null,null,null,null,"Terzi Vasili","Moldova-Ceadir-Lunga"]
[null,null,null,null,null,null,null,null,null,null,null,null,null,null,null,null,null,null,null,"Terzinov Dmitri","Moldova-Cazaclia"]
[null,null,null,null,null,null,null,null,null,null,null,null,null,null,null,null,null,null,null,"Tesleanu Catalin","Bucuresti"]
[null,null,null,null,null,null,null,null,null,null,null,null,null,null,null,null,null,null,null,"Thouzard Adrian","Drobeta Tr Severin"]
[null,null,null,null,null,null,null,null,null,null,null,null,null,null,null,null,null,null,null,"Tianu Calin","Bucuresti"]
[null,null,null,null,null,null,null,null,null,null,null,null,null,null,null,null,null,null,null,"Tibirna Andrei","Iasi"]
[null,null,null,null,null,null,null,null,null,null,null,null,null,null,null,null,null,null,null,"Tibirna Petru","Iasi"]
[null,null,null,null,null,null,null,null,null,null,null,null,null,null,null,null,null,null,null,"Tiboaca Daniel","Galati"]
[null,null,null,null,null,null,null,null,null,null,null,null,null,null,null,null,null,null,null,"Tibor Matei","Borla"]
[null,null,null,null,null,null,null,null,null,null,null,null,null,null,null,null,null,null,null,"Tibre Lucian","Cluj Napoca"]
[null,null,null,null,null,null,null,null,null,null,null,null,null,null,null,null,null,null,null,"Tibu Stefania","Scheia SV"]
[null,null,null,null,null,null,null,null,null,null,null,null,null,null,null,null,null,null,null,"Tical Nicusor","Otopeni"]
[null,null,null,null,null,null,null,null,null,null,null,null,null,null,null,null,null,null,null,"Ticala Sorin","Aiud"]
[null,null,null,null,null,null,null,null,null,null,null,null,null,null,null,null,null,null,null,"Ticala Vasile Jr","Viseu"]
[null,null,null,null,null,null,null,null,null,null,null,null,null,null,null,null,null,null,null,"Ticlete Stefan Cosmin","Drobeta Tr Severin"]
[null,null,null,null,null,null,null,null,null,null,null,null,null,null,null,null,null,null,null,"Ticlos Cristian","Iasi"]
[null,null,null,null,null,null,null,null,null,null,null,null,null,null,null,null,null,null,null,"Ticu Dorin","Bacau"]
[null,null,null,null,null,null,null,null,null,null,null,null,null,null,null,null,null,null,null,"Ticu Mihai","Focsani"]
[null,null,null,null,null,null,null,null,null,null,null,null,null,null,null,null,null,null,null,"Ticu Razvan","Bucuresti"]
[null,null,null,null,null,null,null,null,null,null,null,null,null,null,null,null,null,null,null,"Tiganescu Ionut","Stulpicani"]
[null,null,null,null,null,null,null,null,null,null,null,null,null,null,null,null,null,null,null,"Tigau Dan","Bucuresti"]
[null,null,null,null,null,null,null,null,null,null,null,null,null,null,null,null,null,null,null,"Tilica Gabriel","Targoviste"]
[null,null,null,null,null,null,null,null,null,null,null,null,null,null,null,null,null,null,null,"Timar Alex","Targu Mures"]
[null,null,null,null,null,null,null,null,null,null,null,null,null,null,null,null,null,null,null,"Timaru Ilie","Sibiu"]
[null,null,null,null,null,null,null,null,null,null,null,null,null,null,null,null,null,null,null,"Timis Sandu","Vizejdia"]
[null,null,null,null,null,null,null,null,null,null,null,null,null,null,null,null,null,null,null,"Timoc Bogdan","Cluj Napoca"]
[null,null,null,null,null,null,null,null,null,null,null,null,null,null,null,null,null,null,null,"Timofei Alberto","Tulcea"]
[null,null,null,null,null,null,null,null,null,null,null,null,null,null,null,null,null,null,null,"Timofte Razvan","Hunedoara"]
[null,null,null,null,null,null,null,null,null,null,null,null,null,null,null,null,null,null,null,"Timplaru Catalin","Galati"]
[null,null,null,null,null,null,null,null,null,null,null,null,null,null,null,null,null,null,null,"Tin Catalin","Bucuresti"]
[null,null,null,null,null,null,null,null,null,null,null,null,null,null,null,null,null,null,null,"Tincu Adrian","Bucuresti"]
[null,null,null,null,null,null,null,null,null,null,null,null,null,null,null,null,null,null,null,"Tincu Catalin","Hunedoara"]
[null,null,null,null,null,null,null,null,null,null,null,null,null,null,null,null,null,null,null,"Tincu Laurentiu","Sibiu"]
[null,null,null,null,null,null,null,null,null,null,null,null,null,null,null,null,null,null,null,"Tini Alina Stefania","Constanta"]
[null,null,null,null,null,null,null,null,null,null,null,null,null,null,null,null,null,null,null,"Tintarcu Gabriel","Bucuresti"]
[null,null,null,null,null,null,null,null,null,null,null,null,null,null,null,null,null,null,null,"Tintas Adrian","Sighetu Marmatiei"]
[null,null,null,null,null,null,null,null,null,null,null,null,null,null,null,null,null,null,null,"Tiosea Nicolae","Bucuresti"]
[null,null,null,null,null,null,null,null,null,null,null,null,null,null,null,null,null,null,null,"Tipa Aurel Maxim","Solonet"]
[null,null,null,null,null,null,null,null,null,null,null,null,null,null,null,null,null,null,null,"Tipser Gabriel","Sighisoara"]
[null,null,null,null,null,null,null,null,null,null,null,null,null,null,null,null,null,null,null,"Tipu Vlad","Iasi"]
[null,null,null,null,null,null,null,null,null,null,null,null,null,null,null,null,null,null,null,"Tira Viorel","Bistrita"]
[null,null,null,null,null,null,null,null,null,null,null,null,null,null,null,null,null,null,null,"Tirc Stelian","Apahida"]
[null,null,null,null,null,null,null,null,null,null,null,null,null,null,null,null,null,null,null,"Tirdea Ionut","Tecuci"]
[null,null,null,null,null,null,null,null,null,null,null,null,null,null,null,null,null,null,null,"Tirizica Ioan","Zalau"]
[null,null,null,null,null,null,null,null,null,null,null,null,null,null,null,null,null,null,null,"Tirla Madalin","Stei"]
[null,null,null,null,null,null,null,null,null,null,null,null,null,null,null,null,null,null,null,"Tirlea Gheorghe","Brasov"]
[null,null,null,null,null,null,null,null,null,null,null,null,null,null,null,null,null,null,null,"Tirnoveanu Robert","Cluj Napoca"]
[null,null,null,null,null,null,null,null,null,null,null,null,null,null,null,null,null,null,null,"Tirnoveanu Sorin","Cluj Napoca"]
[null,null,null,null,null,null,null,null,null,null,null,null,null,null,null,null,null,null,null,"Tiron Marian","Iasi"]
[null,null,null,null,null,null,null,null,null,null,null,null,null,null,null,null,null,null,null,"Tirulnic Evgheni","Bucuresti"]
[null,null,null,null,null,null,null,null,null,null,null,null,null,null,null,null,null,null,null,"Tita Dan","Domnesti"]
[null,null,null,null,null,null,null,null,null,null,null,null,null,null,null,null,null,null,null,"Titiliuc Alesia","Dersca"]
[null,null,null,null,null,null,null,null,null,null,null,null,null,null,null,null,null,null,null,"Titiliuc Costel","Dersca"]
[null,null,null,null,null,null,null,null,null,null,null,null,null,null,null,null,null,null,null,"Titirig Corneliu","Gura Humorului"]
[null,null,null,null,null,null,null,null,null,null,null,null,null,null,null,null,null,null,null,"Toader Andrei","Bucuresti"]
[null,null,null,null,null,null,null,null,null,null,null,null,null,null,null,null,null,null,null,"Toader Daniel Mihai","Alba Iulia"]
[null,null,null,null,null,null,null,null,null,null,null,null,null,null,null,null,null,null,null,"Toader George","Agnita"]
[null,null,null,null,null,null,null,null,null,null,null,null,null,null,null,null,null,null,null,"Toader Nicolae","Tulcea"]
[null,null,null,null,null,null,null,null,null,null,null,null,null,null,null,null,null,null,null,"Toader Ovidiu","Balan"]
[null,null,null,null,null,null,null,null,null,null,null,null,null,null,null,null,null,null,null,"Toader Petru","Mogosoaia"]
[null,null,null,null,null,null,null,null,null,null,null,null,null,null,null,null,null,null,null,"Toader Valentin","Agnita"]
[null,null,null,null,null,null,null,null,null,null,null,null,null,null,null,null,null,null,null,"Tobol Arsenii","Moldova-Balti"]
[null,null,null,null,null,null,null,null,null,null,null,null,null,null,null,null,null,null,null,"Tobosaru Gheorghe","Brasov"]
[null,null,null,null,null,null,null,null,null,null,null,null,null,null,null,null,null,null,null,"Tobosaru Stefan","Brasov"]
[null,null,null,null,null,null,null,null,null,null,null,null,null,null,null,null,null,null,null,"Tocaciu Septimiu","Beclean"]
[null,null,null,null,null,null,null,null,null,null,null,null,null,null,null,null,null,null,null,"Todarcea Ioan","Sibiu"]
[null,null,null,null,null,null,null,null,null,null,null,null,null,null,null,null,null,null,null,"Todea Adrian","Apahida"]
[null,null,null,null,null,null,null,null,null,null,null,null,null,null,null,null,null,null,null,"Todea Alexandru","Cluj Napoca"]
[null,null,null,null,null,null,null,null,null,null,null,null,null,null,null,null,null,null,null,"Todea Ioan","Rasca"]
[null,null,null,null,null,null,null,null,null,null,null,null,null,null,null,null,null,null,null,"Todea Mircea","Cluj Napoca"]
[null,null,null,null,null,null,null,null,null,null,null,null,null,null,null,null,null,null,null,"Toderita Catalina","Bucuresti"]
[null,null,null,null,null,null,null,null,null,null,null,null,null,null,null,null,null,null,null,"Todi Dumitru","Slobozia"]
[null,null,null,null,null,null,null,null,null,null,null,null,null,null,null,null,null,null,null,"Todireanu Valentin","Iasi"]
[null,null,null,null,null,null,null,null,null,null,null,null,null,null,null,null,null,null,null,"Todor Cristian","Oradea"]
[null,null,null,null,null,null,null,null,null,null,null,null,null,null,null,null,null,null,null,"Todor Csaba","Gheorgheni"]
[null,null,null,null,null,null,null,null,null,null,null,null,null,null,null,null,null,null,null,"Todorova Margarita","Moldova-Cahul"]
[null,null,null,null,null,null,null,null,null,null,null,null,null,null,null,null,null,null,null,"Todos Alexandru","Moldova-Cahul"]
[null,null,null,null,null,null,null,null,null,null,null,null,null,null,null,null,null,null,null,"Todos Dumitru","Moldova-Cahul"]
[null,null,null,null,null,null,null,null,null,null,null,null,null,null,null,null,null,null,null,"Tofalvi Erzsebet","Odorheiu Secuiesc"]
[null,null,null,null,null,null,null,null,null,null,null,null,null,null,null,null,null,null,null,"Tofan Sebastian","Lipova"]
[null,null,null,null,null,null,null,null,null,null,null,null,null,null,null,null,null,null,null,"Tofeni Florin","Nasaud"]
[null,null,null,null,null,null,null,null,null,null,null,null,null,null,null,null,null,null,null,"Tofeni Ovidiu","Cluj Napoca"]
[null,null,null,null,null,null,null,null,null,null,null,null,null,null,null,null,null,null,null,"Tokai Laszlo","Oradea"]
[null,null,null,null,null,null,null,null,null,null,null,null,null,null,null,null,null,null,null,"Toma Adrian","Sfantu Gheorghe"]
[null,null,null,null,null,null,null,null,null,null,null,null,null,null,null,null,null,null,null,"Toma Adrian","Bucuresti"]
[null,null,null,null,null,null,null,null,null,null,null,null,null,null,null,null,null,null,null,"Toma Alexandru","Bucuresti"]
[null,null,null,null,null,null,null,null,null,null,null,null,null,null,null,null,null,null,null,"Toma Andrei","Reghin"]
[null,null,null,null,null,null,null,null,null,null,null,null,null,null,null,null,null,null,null,"Toma Aniela","Targoviste"]
[null,null,null,null,null,null,null,null,null,null,null,null,null,null,null,null,null,null,null,"Toma Calaraseanu","Bucuresti"]
[null,null,null,null,null,null,null,null,null,null,null,null,null,null,null,null,null,null,null,"Toma Casian","Targu Mures"]
[null,null,null,null,null,null,null,null,null,null,null,null,null,null,null,null,null,null,null,"Toma Cristian","Oradea"]
[null,null,null,null,null,null,null,null,null,null,null,null,null,null,null,null,null,null,null,"Toma Cristian","Balotesti"]
[null,null,null,null,null,null,null,null,null,null,null,null,null,null,null,null,null,null,null,"Toma Dan","Sfantu Gheorghe"]
[null,null,null,null,null,null,null,null,null,null,null,null,null,null,null,null,null,null,null,"Toma David","Bucuresti"]
[null,null,null,null,null,null,null,null,null,null,null,null,null,null,null,null,null,null,null,"Toma Florin","Pitesti"]
[null,null,null,null,null,null,null,null,null,null,null,null,null,null,null,null,null,null,null,"Toma Florin Augustin","Slobozia"]
[null,null,null,null,null,null,null,null,null,null,null,null,null,null,null,null,null,null,null,"Toma Iulian","Braila"]
[null,null,null,null,null,null,null,null,null,null,null,null,null,null,null,null,null,null,null,"Toma Sebastian","Ramnicu Sarat"]
[null,null,null,null,null,null,null,null,null,null,null,null,null,null,null,null,null,null,null,"Toma Viorel","Giurgiu"]
[null,null,null,null,null,null,null,null,null,null,null,null,null,null,null,null,null,null,null,"Tomer Hadar","Sofia"]
[null,null,null,null,null,null,null,null,null,null,null,null,null,null,null,null,null,null,null,"Tomoiaga Cosmin","Viseu"]
[null,null,null,null,null,null,null,null,null,null,null,null,null,null,null,null,null,null,null,"Tomoiaga Daniel","Viseu"]
[null,null,null,null,null,null,null,null,null,null,null,null,null,null,null,null,null,null,null,"Tomoiu Stefan","Hunedoara"]
[null,null,null,null,null,null,null,null,null,null,null,null,null,null,null,null,null,null,null,"Toncean Claudiu","Reghin"]
[null,null,null,null,null,null,null,null,null,null,null,null,null,null,null,null,null,null,null,"Tonciu Costin","Branesti"]
[null,null,null,null,null,null,null,null,null,null,null,null,null,null,null,null,null,null,null,"Tonciu Mihai","Branesti"]
[null,null,null,null,null,null,null,null,null,null,null,null,null,null,null,null,null,null,null,"Tonghioiu Stefan","Campulung Muscel"]
[null,null,null,null,null,null,null,null,null,null,null,null,null,null,null,null,null,null,null,"Tonu Pavel","Moldova-Balti"]
[null,null,null,null,null,null,null,null,null,null,null,null,null,null,null,null,null,null,null,"Topala Alexandru","Moldova-Balti"]
[null,null,null,null,null,null,null,null,null,null,null,null,null,null,null,null,null,null,null,"Topciu David","Targu Mures"]
[null,null,null,null,null,null,null,null,null,null,null,null,null,null,null,null,null,null,null,"Toplician Mihai","Hunedoara"]
[null,null,null,null,null,null,null,null,null,null,null,null,null,null,null,null,null,null,null,"Topoleanu Dan","Bucuresti"]
[null,null,null,null,null,null,null,null,null,null,null,null,null,null,null,null,null,null,null,"Topsaneanu Valentin","Chitila"]
[null,null,null,null,null,null,null,null,null,null,null,null,null,null,null,null,null,null,null,"Toric Constantin","Bucuresti"]
[null,null,null,null,null,null,null,null,null,null,null,null,null,null,null,null,null,null,null,"Tose Cristian","Oradea"]
[null,null,null,null,null,null,null,null,null,null,null,null,null,null,null,null,null,null,null,"Tose Petre","Oradea"]
[null,null,null,null,null,null,null,null,null,null,null,null,null,null,null,null,null,null,null,"Tosu Alexandru","Floresti"]
[null,null,null,null,null,null,null,null,null,null,null,null,null,null,null,null,null,null,null,"Toth Attila","Sfantu Gheorghe"]
[null,null,null,null,null,null,null,null,null,null,null,null,null,null,null,null,null,null,null,"Toth Geza","Sfantu Gheorghe"]
[null,null,null,null,null,null,null,null,null,null,null,null,null,null,null,null,null,null,null,"Toth Rezso","Sovata"]
[null,null,null,null,null,null,null,null,null,null,null,null,null,null,null,null,null,null,null,"Totos Ludovic","Marghita"]
[null,null,null,null,null,null,null,null,null,null,null,null,null,null,null,null,null,null,null,"Totpal Marius","Busteni"]
[null,null,null,null,null,null,null,null,null,null,null,null,null,null,null,null,null,null,null,"Tovis Levente","Cluj Napoca"]
[null,null,null,null,null,null,null,null,null,null,null,null,null,null,null,null,null,null,null,"Trajicevski Nikola","Pancevo"]
[null,null,null,null,null,null,null,null,null,null,null,null,null,null,null,null,null,null,null,"Trandafir Catalin","Slobozia"]
[null,null,null,null,null,null,null,null,null,null,null,null,null,null,null,null,null,null,null,"Trandafir Iosif","Galati"]
[null,null,null,null,null,null,null,null,null,null,null,null,null,null,null,null,null,null,null,"Trandafir Mirel","Valea Lunga"]
[null,null,null,null,null,null,null,null,null,null,null,null,null,null,null,null,null,null,null,"Trandafir Radu Catalin","Giurgiu"]
[null,null,null,null,null,null,null,null,null,null,null,null,null,null,null,null,null,null,null,"Trandafir Raul","Bucuresti"]
[null,null,null,null,null,null,null,null,null,null,null,null,null,null,null,null,null,null,null,"Trandafir Vasile","Targu Mures"]
[null,null,null,null,null,null,null,null,null,null,null,null,null,null,null,null,null,null,null,"Traneci Andrei Valentin","Bucuresti"]
[null,null,null,null,null,null,null,null,null,null,null,null,null,null,null,null,null,null,null,"Tranoiu Sandel","Hateg"]
[null,null,null,null,null,null,null,null,null,null,null,null,null,null,null,null,null,null,null,"Trascau Ovidiu","Bucuresti"]
[null,null,null,null,null,null,null,null,null,null,null,null,null,null,null,null,null,null,null,"Trebel Robert","Bocsa"]
[null,null,null,null,null,null,null,null,null,null,null,null,null,null,null,null,null,null,null,"Tremurici Marian","Tulcea"]
[null,null,null,null,null,null,null,null,null,null,null,null,null,null,null,null,null,null,null,"Tricolici Anton","Bistrita"]
[null,null,null,null,null,null,null,null,null,null,null,null,null,null,null,null,null,null,null,"Trif Claudiu","Sebes"]
[null,null,null,null,null,null,null,null,null,null,null,null,null,null,null,null,null,null,null,"Trif Florin","Cocorastii Mislii"]
[null,null,null,null,null,null,null,null,null,null,null,null,null,null,null,null,null,null,null,"Trif Marius","Atintis"]
[null,null,null,null,null,null,null,null,null,null,null,null,null,null,null,null,null,null,null,"Trif Mihai","Cluj Napoca"]
[null,null,null,null,null,null,null,null,null,null,null,null,null,null,null,null,null,null,null,"Trif Radu","Ludus"]
[null,null,null,null,null,null,null,null,null,null,null,null,null,null,null,null,null,null,null,"Trifan Stefan","Galati"]
[null,null,null,null,null,null,null,null,null,null,null,null,null,null,null,null,null,null,null,"Trifan Valentin","Galati"]
[null,null,null,null,null,null,null,null,null,null,null,null,null,null,null,null,null,null,null,"Triff Raul","Deva"]
[null,null,null,null,null,null,null,null,null,null,null,null,null,null,null,null,null,null,null,"Trifon Sara","Lokve"]
[null,null,null,null,null,null,null,null,null,null,null,null,null,null,null,null,null,null,null,"Trip Darius","Oradea"]
[null,null,null,null,null,null,null,null,null,null,null,null,null,null,null,null,null,null,null,"Triteanu Ovidiu","Cluj Napoca"]
[null,null,null,null,null,null,null,null,null,null,null,null,null,null,null,null,null,null,null,"Trocan Nicolae","Mioveni"]
[null,null,null,null,null,null,null,null,null,null,null,null,null,null,null,null,null,null,null,"Trocaru Remus","Tulcea"]
[null,null,null,null,null,null,null,null,null,null,null,null,null,null,null,null,null,null,null,"Trofin Cristian","Brasov"]
[null,null,null,null,null,null,null,null,null,null,null,null,null,null,null,null,null,null,null,"Trohonel Daniel","Bucuresti"]
[null,null,null,null,null,null,null,null,null,null,null,null,null,null,null,null,null,null,null,"Tronciu Gabriel","Roman"]
[null,null,null,null,null,null,null,null,null,null,null,null,null,null,null,null,null,null,null,"Trusca Claudiu","Drobeta Tr Severin"]
[null,null,null,null,null,null,null,null,null,null,null,null,null,null,null,null,null,null,null,"Trusculescu Anastasia","Drobeta Tr Severin"]
[null,null,null,null,null,null,null,null,null,null,null,null,null,null,null,null,null,null,null,"Trusculescu Iarina","Drobeta Tr Severin"]
[null,null,null,null,null,null,null,null,null,null,null,null,null,null,null,null,null,null,null,"Truta Andrei","Bucuresti"]
[null,null,null,null,null,null,null,null,null,null,null,null,null,null,null,null,null,null,null,"Truta Andrei","Reghin"]
[null,null,null,null,null,null,null,null,null,null,null,null,null,null,null,null,null,null,null,"Truta Ioan","Cluj Napoca"]
[null,null,null,null,null,null,null,null,null,null,null,null,null,null,null,null,null,null,null,"Tsubera Ion","Sighetu Marmatiei"]
[null,null,null,null,null,null,null,null,null,null,null,null,null,null,null,null,null,null,null,"Tuca Cristi","Slatina"]
[null,null,null,null,null,null,null,null,null,null,null,null,null,null,null,null,null,null,null,"Tuchiulus Emanoil","Galati"]
[null,null,null,null,null,null,null,null,null,null,null,null,null,null,null,null,null,null,null,"Tucuina Dragos","Dumbravita"]
[null,null,null,null,null,null,null,null,null,null,null,null,null,null,null,null,null,null,null,"Tudor Aurel","Harsova"]
[null,null,null,null,null,null,null,null,null,null,null,null,null,null,null,null,null,null,null,"Tudor Cosmin","Buzau"]
[null,null,null,null,null,null,null,null,null,null,null,null,null,null,null,null,null,null,null,"Tudor Emil","Bucuresti"]
[null,null,null,null,null,null,null,null,null,null,null,null,null,null,null,null,null,null,null,"Tudor Florian","Bucuresti"]
[null,null,null,null,null,null,null,null,null,null,null,null,null,null,null,null,null,null,null,"Tudor Mihai Maximilian","Alexandria"]
[null,null,null,null,null,null,null,null,null,null,null,null,null,null,null,null,null,null,null,"Tudor Raisa","Pitesti"]
[null,null,null,null,null,null,null,null,null,null,null,null,null,null,null,null,null,null,null,"Tudor Razvan","Botosani"]
[null,null,null,null,null,null,null,null,null,null,null,null,null,null,null,null,null,null,null,"Tudor Theodor","Roman"]
[null,null,null,null,null,null,null,null,null,null,null,null,null,null,null,null,null,null,null,"Tudor Valeriu","Ploiesti"]
[null,null,null,null,null,null,null,null,null,null,null,null,null,null,null,null,null,null,null,"Tudorache Ciprian","Ploiesti"]
[null,null,null,null,null,null,null,null,null,null,null,null,null,null,null,null,null,null,null,"Tudorache Constantin","Targoviste"]
[null,null,null,null,null,null,null,null,null,null,null,null,null,null,null,null,null,null,null,"Tudorache Cornel","Bucuresti"]
[null,null,null,null,null,null,null,null,null,null,null,null,null,null,null,null,null,null,null,"Tudoran Catalin","Timisoara"]
[null,null,null,null,null,null,null,null,null,null,null,null,null,null,null,null,null,null,null,"Tudorascu Mircea","Orastie"]
[null,null,null,null,null,null,null,null,null,null,null,null,null,null,null,null,null,null,null,"Tudorica Ionut","Bucuresti"]
[null,null,null,null,null,null,null,null,null,null,null,null,null,null,null,null,null,null,null,"Tudose David","Boldesti Scaeni"]
[null,null,null,null,null,null,null,null,null,null,null,null,null,null,null,null,null,null,null,"Tudose Ilariu","Dragasani"]
[null,null,null,null,null,null,null,null,null,null,null,null,null,null,null,null,null,null,null,"Tudose Iulian","Galati"]
[null,null,null,null,null,null,null,null,null,null,null,null,null,null,null,null,null,null,null,"Tudose Laurentiu","Comanesti"]
[null,null,null,null,null,null,null,null,null,null,null,null,null,null,null,null,null,null,null,"Tudose Marius","Galati"]
[null,null,null,null,null,null,null,null,null,null,null,null,null,null,null,null,null,null,null,"Tudosi Petru","Suceava"]
[null,null,null,null,null,null,null,null,null,null,null,null,null,null,null,null,null,null,null,"Tudosie David","Ploiesti"]
[null,null,null,null,null,null,null,null,null,null,null,null,null,null,null,null,null,null,null,"Tudosie Marcel","Ploiesti"]
[null,null,null,null,null,null,null,null,null,null,null,null,null,null,null,null,null,null,null,"Tudureanu Ioan","Navodari"]
[null,null,null,null,null,null,null,null,null,null,null,null,null,null,null,null,null,null,null,"Tufeanu Bogdan","Slatina"]
[null,null,null,null,null,null,null,null,null,null,null,null,null,null,null,null,null,null,null,"Tufis Razvan","Bucuresti"]
[null,null,null,null,null,null,null,null,null,null,null,null,null,null,null,null,null,null,null,"Tulburi Ion","Moldova-Balti"]
[null,null,null,null,null,null,null,null,null,null,null,null,null,null,null,null,null,null,null,"Tulei Marius","Iasi"]
[null,null,null,null,null,null,null,null,null,null,null,null,null,null,null,null,null,null,null,"Tulei Stefan","Iasi"]
[null,null,null,null,null,null,null,null,null,null,null,null,null,null,null,null,null,null,null,"Tulpan George Laurentiu","Targu Jiu"]
[null,null,null,null,null,null,null,null,null,null,null,null,null,null,null,null,null,null,null,"Turbatu Rares","Fieni"]
[null,null,null,null,null,null,null,null,null,null,null,null,null,null,null,null,null,null,null,"Turburan Ion","Resita"]
[null,null,null,null,null,null,null,null,null,null,null,null,null,null,null,null,null,null,null,"Turcescu Stefan","Pitesti"]
[null,null,null,null,null,null,null,null,null,null,null,null,null,null,null,null,null,null,null,"Turcinschi Serghei","Moldova-Balti"]
[null,null,null,null,null,null,null,null,null,null,null,null,null,null,null,null,null,null,null,"Turcu Alexandru","Craiova"]
[null,null,null,null,null,null,null,null,null,null,null,null,null,null,null,null,null,null,null,"Turcu Viorel","Piatra Neamt"]
[null,null,null,null,null,null,null,null,null,null,null,null,null,null,null,null,null,null,null,"Turcut Radu","Cluj Napoca"]
[null,null,null,null,null,null,null,null,null,null,null,null,null,null,null,null,null,null,null,"Turlui Rares","Bals"]
[null,null,null,null,null,null,null,null,null,null,null,null,null,null,null,null,null,null,null,"Turtoi Costin","Tulcea"]
[null,null,null,null,null,null,null,null,null,null,null,null,null,null,null,null,null,null,null,"Tuta Radu Ionut","Pitesti"]
[null,null,null,null,null,null,null,null,null,null,null,null,null,null,null,null,null,null,null,"Tutos Csaba","Oradea"]
[null,null,null,null,null,null,null,null,null,null,null,null,null,null,null,null,null,null,null,"Tutoveanu Razvan","Brasov"]
[null,null,null,null,null,null,null,null,null,null,null,null,null,null,null,null,null,null,null,"Tutuianu Radu","Timisoara"]
[null,null,null,null,null,null,null,null,null,null,null,null,null,null,null,null,null,null,null,"Ublodi Mellissa","Lombardia Italia"]
[null,null,null,null,null,null,null,null,null,null,null,null,null,null,null,null,null,null,null,"Udila Emanuel","Bucuresti"]
[null,null,null,null,null,null,null,null,null,null,null,null,null,null,null,null,null,null,null,"Udrea Valentin","Bucuresti"]
[null,null,null,null,null,null,null,null,null,null,null,null,null,null,null,null,null,null,null,"Udvari Zoltan","Delenii"]
[null,null,null,null,null,null,null,null,null,null,null,null,null,null,null,null,null,null,null,"Uglea Mihai","Cluj Napoca"]
[null,null,null,null,null,null,null,null,null,null,null,null,null,null,null,null,null,null,null,"Ulea Andrei","Moinesti"]
[null,null,null,null,null,null,null,null,null,null,null,null,null,null,null,null,null,null,null,"Ulesan Alexandru","Sibiu"]
[null,null,null,null,null,null,null,null,null,null,null,null,null,null,null,null,null,null,null,"Ulesan Traian","Sibiu"]
[null,null,null,null,null,null,null,null,null,null,null,null,null,null,null,null,null,null,null,"Ulman Tudor","Bucuresti"]
[null,null,null,null,null,null,null,null,null,null,null,null,null,null,null,null,null,null,null,"Unciuleac Alin","Iasi"]
[null,null,null,null,null,null,null,null,null,null,null,null,null,null,null,null,null,null,null,"Ungur Florin Tiberiu","Fundu Moldovei"]
[null,null,null,null,null,null,null,null,null,null,null,null,null,null,null,null,null,null,null,"Ungureanu Adrian","Piatra Neamt"]
[null,null,null,null,null,null,null,null,null,null,null,null,null,null,null,null,null,null,null,"Ungureanu Costinel","Drobeta Tr Severin"]
[null,null,null,null,null,null,null,null,null,null,null,null,null,null,null,null,null,null,null,"Ungureanu David","Pitesti"]
[null,null,null,null,null,null,null,null,null,null,null,null,null,null,null,null,null,null,null,"Ungureanu Doru","Focsani"]
[null,null,null,null,null,null,null,null,null,null,null,null,null,null,null,null,null,null,null,"Ungureanu Gheorghita","Focsani"]
[null,null,null,null,null,null,null,null,null,null,null,null,null,null,null,null,null,null,null,"Ungureanu Petrica","Pascani"]
[null,null,null,null,null,null,null,null,null,null,null,null,null,null,null,null,null,null,null,"Ungureanu Rares","Pascani"]
[null,null,null,null,null,null,null,null,null,null,null,null,null,null,null,null,null,null,null,"Ungureanu Stefan Radu","Ploiesti"]
[null,null,null,null,null,null,null,null,null,null,null,null,null,null,null,null,null,null,null,"Ungvari Kriszta","Targu Mures"]
[null,null,null,null,null,null,null,null,null,null,null,null,null,null,null,null,null,null,null,"Untea Costel","Ramnicu Sarat"]
[null,null,null,null,null,null,null,null,null,null,null,null,null,null,null,null,null,null,null,"Untu Adrian","Iasi"]
[null,null,null,null,null,null,null,null,null,null,null,null,null,null,null,null,null,null,null,"Uram Mihai","Tulcea"]
[null,null,null,null,null,null,null,null,null,null,null,null,null,null,null,null,null,null,null,"Urcan Lucian","Timisoara"]
[null,null,null,null,null,null,null,null,null,null,null,null,null,null,null,null,null,null,null,"Urdes Florentina Ruxandra","Tulcea"]
[null,null,null,null,null,null,null,null,null,null,null,null,null,null,null,null,null,null,null,"Ureche Vasi","Cajvana"]
[null,null,null,null,null,null,null,null,null,null,null,null,null,null,null,null,null,null,null,"Urian Nicusor","Alba Iulia"]
[null,null,null,null,null,null,null,null,null,null,null,null,null,null,null,null,null,null,null,"Urs Lucian","Nasaud"]
[null,null,null,null,null,null,null,null,null,null,null,null,null,null,null,null,null,null,null,"Ursache Ciprian Jean","Focsani"]
[null,null,null,null,null,null,null,null,null,null,null,null,null,null,null,null,null,null,null,"Ursan Stefan","Manastireni"]
[null,null,null,null,null,null,null,null,null,null,null,null,null,null,null,null,null,null,null,"Ursescu Iuliu","Radauti"]
[null,null,null,null,null,null,null,null,null,null,null,null,null,null,null,null,null,null,null,"Ursu Ciprian","Calan"]
[null,null,null,null,null,null,null,null,null,null,null,null,null,null,null,null,null,null,null,"Ursu Silviu","Timisoara"]
[null,null,null,null,null,null,null,null,null,null,null,null,null,null,null,null,null,null,null,"Ursu Teodor","Bucuresti"]
[null,null,null,null,null,null,null,null,null,null,null,null,null,null,null,null,null,null,null,"Ursulean Vasile","Straja"]
[null,null,null,null,null,null,null,null,null,null,null,null,null,null,null,null,null,null,null,"Ursulescu Ioan","Bacau"]
[null,null,null,null,null,null,null,null,null,null,null,null,null,null,null,null,null,null,null,"Ursulescu Octavian","Curtea"]
[null,null,null,null,null,null,null,null,null,null,null,null,null,null,null,null,null,null,null,"Urus Kristof","Sfantu Gheorghe"]
[null,null,null,null,null,null,null,null,null,null,null,null,null,null,null,null,null,null,null,"Urzica Ioan","Toplita"]
[null,null,null,null,null,null,null,null,null,null,null,null,null,null,null,null,null,null,null,"Urzica Ionut","Piatra Neamt"]
[null,null,null,null,null,null,null,null,null,null,null,null,null,null,null,null,null,null,null,"Urzica Pavel","Piatra Neamt"]
[null,null,null,null,null,null,null,null,null,null,null,null,null,null,null,null,null,null,null,"Usatenco Igori","Ucraina"]
[null,null,null,null,null,null,null,null,null,null,null,null,null,null,null,null,null,null,null,"Usatenco Lev","Ucraina"]
[null,null,null,null,null,null,null,null,null,null,null,null,null,null,null,null,null,null,null,"Uscatu Adelina","Floresti"]
[null,null,null,null,null,null,null,null,null,null,null,null,null,null,null,null,null,null,null,"Uta David","Bucuresti"]
[null,null,null,null,null,null,null,null,null,null,null,null,null,null,null,null,null,null,null,"Uta Gheorghe","Bucuresti"]
[null,null,null,null,null,null,null,null,null,null,null,null,null,null,null,null,null,null,null,"Uzun Alexandr","Moldova-Cazaclia"]
[null,null,null,null,null,null,null,null,null,null,null,null,null,null,null,null,null,null,null,"Vacaru Liviu","Victoria"]
[null,null,null,null,null,null,null,null,null,null,null,null,null,null,null,null,null,null,null,"Vaculisteanu Ionut","Botosani"]
[null,null,null,null,null,null,null,null,null,null,null,null,null,null,null,null,null,null,null,"Vaduva David","Bucuresti"]
[null,null,null,null,null,null,null,null,null,null,null,null,null,null,null,null,null,null,null,"Vaduva Filip","Bucuresti"]
[null,null,null,null,null,null,null,null,null,null,null,null,null,null,null,null,null,null,null,"Vaduva Ionut","Pitesti"]
[null,null,null,null,null,null,null,null,null,null,null,null,null,null,null,null,null,null,null,"Vagasi Zoltan","Brasov"]
[null,null,null,null,null,null,null,null,null,null,null,null,null,null,null,null,null,null,null,"Vaida Alin","Cluj Napoca"]
[null,null,null,null,null,null,null,null,null,null,null,null,null,null,null,null,null,null,null,"Vaida Sorin","Oradea"]
[null,null,null,null,null,null,null,null,null,null,null,null,null,null,null,null,null,null,null,"Vaida Szilard","Bistrita"]
[null,null,null,null,null,null,null,null,null,null,null,null,null,null,null,null,null,null,null,"Vaideanu Fabiana","Vatra Dornei"]
[null,null,null,null,null,null,null,null,null,null,null,null,null,null,null,null,null,null,null,"Vaireanu Danut Ionel","Bucuresti"]
[null,null,null,null,null,null,null,null,null,null,null,null,null,null,null,null,null,null,null,"Vajda Erno","Reghin"]
[null,null,null,null,null,null,null,null,null,null,null,null,null,null,null,null,null,null,null,"Vajda Levente","Odorheiu Secuiesc"]
[null,null,null,null,null,null,null,null,null,null,null,null,null,null,null,null,null,null,null,"Vajeu Ionut","Busteni"]
[null,null,null,null,null,null,null,null,null,null,null,null,null,null,null,null,null,null,null,"Valcea Daniel","Pitesti"]
[null,null,null,null,null,null,null,null,null,null,null,null,null,null,null,null,null,null,null,"Valcea Vlad","Constanta"]
[null,null,null,null,null,null,null,null,null,null,null,null,null,null,null,null,null,null,null,"Valcica Antonio","Slatina"]
[null,null,null,null,null,null,null,null,null,null,null,null,null,null,null,null,null,null,null,"Valcica Raul Ginno","Uricani"]
[null,null,null,null,null,null,null,null,null,null,null,null,null,null,null,null,null,null,null,"Valcica Razvan Daniel","Uricani"]
[null,null,null,null,null,null,null,null,null,null,null,null,null,null,null,null,null,null,null,"Valcu Alin","Botosani"]
[null,null,null,null,null,null,null,null,null,null,null,null,null,null,null,null,null,null,null,"Vale Nelu","Zalau"]
[null,null,null,null,null,null,null,null,null,null,null,null,null,null,null,null,null,null,null,"Valea Claudiu","Targu Mures"]
[null,null,null,null,null,null,null,null,null,null,null,null,null,null,null,null,null,null,null,"Valea Valentin","Petrosani"]
[null,null,null,null,null,null,null,null,null,null,null,null,null,null,null,null,null,null,null,"Valean Adrian","Bistrita"]
[null,null,null,null,null,null,null,null,null,null,null,null,null,null,null,null,null,null,null,"Vancsa Zoltan","Miercurea Ciuc"]
[null,null,null,null,null,null,null,null,null,null,null,null,null,null,null,null,null,null,null,"Varachin Vitalie","Moldova-Cahul"]
[null,null,null,null,null,null,null,null,null,null,null,null,null,null,null,null,null,null,null,"Varbanescu Petre","Giurgiu"]
[null,null,null,null,null,null,null,null,null,null,null,null,null,null,null,null,null,null,null,"Varga Bianca","Luna CJ"]
[null,null,null,null,null,null,null,null,null,null,null,null,null,null,null,null,null,null,null,"Varga Codrut","Luna CJ"]
[null,null,null,null,null,null,null,null,null,null,null,null,null,null,null,null,null,null,null,"Varga Cosmina","Ludus"]
[null,null,null,null,null,null,null,null,null,null,null,null,null,null,null,null,null,null,null,"Varga Florian","Gherla"]
[null,null,null,null,null,null,null,null,null,null,null,null,null,null,null,null,null,null,null,"Varga Florin","Cluj Napoca"]
[null,null,null,null,null,null,null,null,null,null,null,null,null,null,null,null,null,null,null,"Varga Istvan","Targu Mures"]
[null,null,null,null,null,null,null,null,null,null,null,null,null,null,null,null,null,null,null,"Varga Mihai","Lugoj"]
[null,null,null,null,null,null,null,null,null,null,null,null,null,null,null,null,null,null,null,"Varga Zoltan","Bucuresti"]
[null,null,null,null,null,null,null,null,null,null,null,null,null,null,null,null,null,null,null,"Vargyas Karoly","Joseni"]
[null,null,null,null,null,null,null,null,null,null,null,null,null,null,null,null,null,null,null,"Varzaru Alexandru","Bucuresti"]
[null,null,null,null,null,null,null,null,null,null,null,null,null,null,null,null,null,null,null,"Vasi Daniel","Arad"]
[null,null,null,null,null,null,null,null,null,null,null,null,null,null,null,null,null,null,null,"Vasilache Geoni","Matca"]
[null,null,null,null,null,null,null,null,null,null,null,null,null,null,null,null,null,null,null,"Vasilache Lucica","Barlad"]
[null,null,null,null,null,null,null,null,null,null,null,null,null,null,null,null,null,null,null,"Vasilache Rafael","Buhusi"]
[null,null,null,null,null,null,null,null,null,null,null,null,null,null,null,null,null,null,null,"Vasile Adrian Cristian","Bucuresti"]
[null,null,null,null,null,null,null,null,null,null,null,null,null,null,null,null,null,null,null,"Vasile Augustin","Brasov"]
[null,null,null,null,null,null,null,null,null,null,null,null,null,null,null,null,null,null,null,"Vasile Cristian","Brasov"]
[null,null,null,null,null,null,null,null,null,null,null,null,null,null,null,null,null,null,null,"Vasile Cristian","Bucuresti"]
[null,null,null,null,null,null,null,null,null,null,null,null,null,null,null,null,null,null,null,"Vasile Gelu Iulian","Bucuresti"]
[null,null,null,null,null,null,null,null,null,null,null,null,null,null,null,null,null,null,null,"Vasile Gica","Vulcana Bai"]
[null,null,null,null,null,null,null,null,null,null,null,null,null,null,null,null,null,null,null,"Vasile Iancu","Navodari"]
[null,null,null,null,null,null,null,null,null,null,null,null,null,null,null,null,null,null,null,"Vasile Marian","Bucuresti"]
[null,null,null,null,null,null,null,null,null,null,null,null,null,null,null,null,null,null,null,"Vasile Marius","Calarasi"]
[null,null,null,null,null,null,null,null,null,null,null,null,null,null,null,null,null,null,null,"Vasile Raducu","Jebel"]
[null,null,null,null,null,null,null,null,null,null,null,null,null,null,null,null,null,null,null,"Vasile Rares","Sibiu"]
[null,null,null,null,null,null,null,null,null,null,null,null,null,null,null,null,null,null,null,"Vasile Victor","Videle"]
[null,null,null,null,null,null,null,null,null,null,null,null,null,null,null,null,null,null,null,"Vasilescu Emil","Calarasi"]
[null,null,null,null,null,null,null,null,null,null,null,null,null,null,null,null,null,null,null,"Vasilescu Florin","Ploiesti"]
[null,null,null,null,null,null,null,null,null,null,null,null,null,null,null,null,null,null,null,"Vasilescu Remus","Curtea de Arges"]
[null,null,null,null,null,null,null,null,null,null,null,null,null,null,null,null,null,null,null,"Vasiliu Alin","Panciu"]
[null,null,null,null,null,null,null,null,null,null,null,null,null,null,null,null,null,null,null,"Vasiliu Aurel","Barlad"]
[null,null,null,null,null,null,null,null,null,null,null,null,null,null,null,null,null,null,null,"Vasiliu Bogdan","Panciu"]
[null,null,null,null,null,null,null,null,null,null,null,null,null,null,null,null,null,null,null,"Vasiliu Remus","Mioveni"]
[null,null,null,null,null,null,null,null,null,null,null,null,null,null,null,null,null,null,null,"Vasiljevic Jakov","Zajecar Serbia"]
[null,null,null,null,null,null,null,null,null,null,null,null,null,null,null,null,null,null,null,"Vasiloiu Mihai","Focsani"]
[null,null,null,null,null,null,null,null,null,null,null,null,null,null,null,null,null,null,null,"Vasiloiu Sebastian","Pitesti"]
[null,null,null,null,null,null,null,null,null,null,null,null,null,null,null,null,null,null,null,"Vasiloiu Stefan","Pitesti"]
[null,null,null,null,null,null,null,null,null,null,null,null,null,null,null,null,null,null,null,"Vasincu Octavian Laurentiu","Iasi"]
[null,null,null,null,null,null,null,null,null,null,null,null,null,null,null,null,null,null,null,"Vasiu Stefan","Alba Iulia"]
[null,null,null,null,null,null,null,null,null,null,null,null,null,null,null,null,null,null,null,"Vasla Mihai","Constanta"]
[null,null,null,null,null,null,null,null,null,null,null,null,null,null,null,null,null,null,null,"Vass Richard","Sovata"]
[null,null,null,null,null,null,null,null,null,null,null,null,null,null,null,null,null,null,null,"Vass Sandor","Beclean"]
[null,null,null,null,null,null,null,null,null,null,null,null,null,null,null,null,null,null,null,"Vaszi Denes","Miercurea Ciuc"]
[null,null,null,null,null,null,null,null,null,null,null,null,null,null,null,null,null,null,null,"Vatavu Eduard","Coarnele Caprei"]
[null,null,null,null,null,null,null,null,null,null,null,null,null,null,null,null,null,null,null,"Vavura Narcis","Targu Jiu"]
[null,null,null,null,null,null,null,null,null,null,null,null,null,null,null,null,null,null,null,"Vela Gabriel","Timisoara"]
[null,null,null,null,null,null,null,null,null,null,null,null,null,null,null,null,null,null,null,"Velcea George","Bucuresti"]
[null,null,null,null,null,null,null,null,null,null,null,null,null,null,null,null,null,null,null,"Velcea Rebeca","Bucuresti"]
[null,null,null,null,null,null,null,null,null,null,null,null,null,null,null,null,null,null,null,"Velea Alin","Bucuresti"]
[null,null,null,null,null,null,null,null,null,null,null,null,null,null,null,null,null,null,null,"Velicescu Dragos","Pitesti"]
[null,null,null,null,null,null,null,null,null,null,null,null,null,null,null,null,null,null,null,"Velicu Damian Laurentiu","Bucuresti"]
[null,null,null,null,null,null,null,null,null,null,null,null,null,null,null,null,null,null,null,"Venczel Antoniu","Giroc"]
[null,null,null,null,null,null,null,null,null,null,null,null,null,null,null,null,null,null,null,"Venter Liviu","Resita"]
[null,null,null,null,null,null,null,null,null,null,null,null,null,null,null,null,null,null,null,"Venture Taras","Ucraina"]
[null,null,null,null,null,null,null,null,null,null,null,null,null,null,null,null,null,null,null,"Vera Esteban","Sibiu"]
[null,null,null,null,null,null,null,null,null,null,null,null,null,null,null,null,null,null,null,"Verciuc Alexandru","Suceava"]
[null,null,null,null,null,null,null,null,null,null,null,null,null,null,null,null,null,null,null,"Verciuc Florin","Suceava"]
[null,null,null,null,null,null,null,null,null,null,null,null,null,null,null,null,null,null,null,"Verdes Laurentiu","Baia Mare"]
[null,null,null,null,null,null,null,null,null,null,null,null,null,null,null,null,null,null,null,"Verdet Adrian","Timisoara"]
[null,null,null,null,null,null,null,null,null,null,null,null,null,null,null,null,null,null,null,"Veres Adrian","Timisoara"]
[null,null,null,null,null,null,null,null,null,null,null,null,null,null,null,null,null,null,null,"Veres Francisc","Oravita"]
[null,null,null,null,null,null,null,null,null,null,null,null,null,null,null,null,null,null,null,"Veres Iulian Cristian","Petrila"]
[null,null,null,null,null,null,null,null,null,null,null,null,null,null,null,null,null,null,null,"Veres Janos","Targu Mures"]
[null,null,null,null,null,null,null,null,null,null,null,null,null,null,null,null,null,null,null,"Verescu Dumitru","Ianca"]
[null,null,null,null,null,null,null,null,null,null,null,null,null,null,null,null,null,null,null,"Veress Csaba","Sovata"]
[null,null,null,null,null,null,null,null,null,null,null,null,null,null,null,null,null,null,null,"Verman Stefan","Brasov"]
[null,null,null,null,null,null,null,null,null,null,null,null,null,null,null,null,null,null,null,"Vescan Adrian","Cluj Napoca"]
[null,null,null,null,null,null,null,null,null,null,null,null,null,null,null,null,null,null,null,"Vescan Lucian","Cluj Napoca"]
[null,null,null,null,null,null,null,null,null,null,null,null,null,null,null,null,null,null,null,"Vescan Radu","Cluj Napoca"]
[null,null,null,null,null,null,null,null,null,null,null,null,null,null,null,null,null,null,null,"Vestineanu Ionut","Slobozia"]
[null,null,null,null,null,null,null,null,null,null,null,null,null,null,null,null,null,null,null,"Vid Stefan","Zalau"]
[null,null,null,null,null,null,null,null,null,null,null,null,null,null,null,null,null,null,null,"Vidrut Ioan","Apahida"]
[null,null,null,null,null,null,null,null,null,null,null,null,null,null,null,null,null,null,null,"Vieriu Mirel","Focsani"]
[null,null,null,null,null,null,null,null,null,null,null,null,null,null,null,null,null,null,null,"Vieriu Teodora","Vatra Dornei"]
[null,null,null,null,null,null,null,null,null,null,null,null,null,null,null,null,null,null,null,"Vieriu Tudorel","Suceava"]
[null,null,null,null,null,null,null,null,null,null,null,null,null,null,null,null,null,null,null,"Vieru Costica","Botosani"]
[null,null,null,null,null,null,null,null,null,null,null,null,null,null,null,null,null,null,null,"Vig Andrei","Simleu Silvaniei"]
[null,null,null,null,null,null,null,null,null,null,null,null,null,null,null,null,null,null,null,"Vigh Marton","Cluj Napoca"]
[null,null,null,null,null,null,null,null,null,null,null,null,null,null,null,null,null,null,null,"Vigu Cristian","Cluj Napoca"]
[null,null,null,null,null,null,null,null,null,null,null,null,null,null,null,null,null,null,null,"Vigu Emanuel","Cluj Napoca"]
[null,null,null,null,null,null,null,null,null,null,null,null,null,null,null,null,null,null,null,"Vijaica Florin","Drobeta Tr Severin"]
[null,null,null,null,null,null,null,null,null,null,null,null,null,null,null,null,null,null,null,"Vilcea Lucian","Brasov"]
[null,null,null,null,null,null,null,null,null,null,null,null,null,null,null,null,null,null,null,"Vilceanu Andrei","Timisoara"]
[null,null,null,null,null,null,null,null,null,null,null,null,null,null,null,null,null,null,null,"Vilceanu Cosmin","Rovinari"]
[null,null,null,null,null,null,null,null,null,null,null,null,null,null,null,null,null,null,null,"Vilcu Dragos","Bucuresti"]
[null,null,null,null,null,null,null,null,null,null,null,null,null,null,null,null,null,null,null,"Vilcu Viorel","Tulcea"]
[null,null,null,null,null,null,null,null,null,null,null,null,null,null,null,null,null,null,null,"Vilculescu Vlad","Timisoara"]
[null,null,null,null,null,null,null,null,null,null,null,null,null,null,null,null,null,null,null,"Vintila Antonio","Videle"]
[null,null,null,null,null,null,null,null,null,null,null,null,null,null,null,null,null,null,null,"Vintila George Daniel","Braila"]
[null,null,null,null,null,null,null,null,null,null,null,null,null,null,null,null,null,null,null,"Vintila Marius","Sibiu"]
[null,null,null,null,null,null,null,null,null,null,null,null,null,null,null,null,null,null,null,"Vioreanu Cristian","Dumbraveni SB"]
[null,null,null,null,null,null,null,null,null,null,null,null,null,null,null,null,null,null,null,"Virla Teodor","Pitesti"]
[null,null,null,null,null,null,null,null,null,null,null,null,null,null,null,null,null,null,null,"Virlan Liviu","Timisoara"]
[null,null,null,null,null,null,null,null,null,null,null,null,null,null,null,null,null,null,null,"Virtea Gheorghe","Targu Neamt"]
[null,null,null,null,null,null,null,null,null,null,null,null,null,null,null,null,null,null,null,"Virticosu Teodor","Pascani"]
[null,null,null,null,null,null,null,null,null,null,null,null,null,null,null,null,null,null,null,"Virtopeanu Andrei","Bucuresti"]
[null,null,null,null,null,null,null,null,null,null,null,null,null,null,null,null,null,null,null,"Virtopeanu Daniel","Bucuresti"]
[null,null,null,null,null,null,null,null,null,null,null,null,null,null,null,null,null,null,null,"Virvorea Mihai","Sibiu"]
[null,null,null,null,null,null,null,null,null,null,null,null,null,null,null,null,null,null,null,"Visan Bogdan","Targoviste"]
[null,null,null,null,null,null,null,null,null,null,null,null,null,null,null,null,null,null,null,"Visan Daniel","Ploiesti"]
[null,null,null,null,null,null,null,null,null,null,null,null,null,null,null,null,null,null,null,"Visan Daniel Stanga","Ploiesti"]
[null,null,null,null,null,null,null,null,null,null,null,null,null,null,null,null,null,null,null,"Visan Victor","Slobozia"]
[null,null,null,null,null,null,null,null,null,null,null,null,null,null,null,null,null,null,null,"Viski Darius Andrei","Ludus"]
[null,null,null,null,null,null,null,null,null,null,null,null,null,null,null,null,null,null,null,"Visoiu Stefan Eduard","Buzau"]
[null,null,null,null,null,null,null,null,null,null,null,null,null,null,null,null,null,null,null,"Vita Zsolt","Gheorgheni"]
[null,null,null,null,null,null,null,null,null,null,null,null,null,null,null,null,null,null,null,"Vitan Andrei","Giurgiu"]
[null,null,null,null,null,null,null,null,null,null,null,null,null,null,null,null,null,null,null,"Vitan Victor","Giurgiu"]
[null,null,null,null,null,null,null,null,null,null,null,null,null,null,null,null,null,null,null,"Viziniuc Madalin","Bucuresti"]
[null,null,null,null,null,null,null,null,null,null,null,null,null,null,null,null,null,null,null,"Vizitiu David","Botosani"]
[null,null,null,null,null,null,null,null,null,null,null,null,null,null,null,null,null,null,null,"Vizoli Alexandru","Fagaras"]
[null,null,null,null,null,null,null,null,null,null,null,null,null,null,null,null,null,null,null,"Vlad Alexandru","Bucuresti"]
[null,null,null,null,null,null,null,null,null,null,null,null,null,null,null,null,null,null,null,"Vlad Alexandru","Barlad"]
[null,null,null,null,null,null,null,null,null,null,null,null,null,null,null,null,null,null,null,"Vlad Enache","Bucuresti"]
[null,null,null,null,null,null,null,null,null,null,null,null,null,null,null,null,null,null,null,"Vlad Florin","Arad"]
[null,null,null,null,null,null,null,null,null,null,null,null,null,null,null,null,null,null,null,"Vladescu Adrian","Cluj Napoca"]
[null,null,null,null,null,null,null,null,null,null,null,null,null,null,null,null,null,null,null,"Vladescu Oana","Cluj Napoca"]
[null,null,null,null,null,null,null,null,null,null,null,null,null,null,null,null,null,null,null,"Vladianu Marian","Iasi"]
[null,null,null,null,null,null,null,null,null,null,null,null,null,null,null,null,null,null,null,"Vladoiu Gelu","Brasov"]
[null,null,null,null,null,null,null,null,null,null,null,null,null,null,null,null,null,null,null,"Vladu Daniel","Bucuresti"]
[null,null,null,null,null,null,null,null,null,null,null,null,null,null,null,null,null,null,null,"Vladu Nicolae","Pitesti"]
[null,null,null,null,null,null,null,null,null,null,null,null,null,null,null,null,null,null,null,"Vlaicu Daniel","Marghita"]
[null,null,null,null,null,null,null,null,null,null,null,null,null,null,null,null,null,null,null,"Vlaicu Victor","Zalau"]
[null,null,null,null,null,null,null,null,null,null,null,null,null,null,null,null,null,null,null,"Vlaisan Georgica","Vicovu de Jos"]
[null,null,null,null,null,null,null,null,null,null,null,null,null,null,null,null,null,null,null,"Vlaisan Raluca","Vicovu de Jos"]
[null,null,null,null,null,null,null,null,null,null,null,null,null,null,null,null,null,null,null,"Vlaisan Vasile","Vicovu de Jos"]
[null,null,null,null,null,null,null,null,null,null,null,null,null,null,null,null,null,null,null,"Vlasceanu Valentin","Darmanesti"]
[null,null,null,null,null,null,null,null,null,null,null,null,null,null,null,null,null,null,null,"Vlase Adrian","Iasi"]
[null,null,null,null,null,null,null,null,null,null,null,null,null,null,null,null,null,null,null,"Vlase Nicolae","Slobozia"]
[null,null,null,null,null,null,null,null,null,null,null,null,null,null,null,null,null,null,null,"Vlasin Adrian","Viseu"]
[null,null,null,null,null,null,null,null,null,null,null,null,null,null,null,null,null,null,null,"Vlasin Marian","Viseu"]
[null,null,null,null,null,null,null,null,null,null,null,null,null,null,null,null,null,null,null,"Voica Dragos","Timisoara"]
[null,null,null,null,null,null,null,null,null,null,null,null,null,null,null,null,null,null,null,"Voica Larisa","Filipestii de Targ"]
[null,null,null,null,null,null,null,null,null,null,null,null,null,null,null,null,null,null,null,"Voicila Adrian","Ploiesti"]
[null,null,null,null,null,null,null,null,null,null,null,null,null,null,null,null,null,null,null,"Voicila Albertino","Urlati"]
[null,null,null,null,null,null,null,null,null,null,null,null,null,null,null,null,null,null,null,"Voicu Dan","Sibiu"]
[null,null,null,null,null,null,null,null,null,null,null,null,null,null,null,null,null,null,null,"Voicu Denis","Navodari"]
[null,null,null,null,null,null,null,null,null,null,null,null,null,null,null,null,null,null,null,"Voicu Florin","Arad"]
[null,null,null,null,null,null,null,null,null,null,null,null,null,null,null,null,null,null,null,"Voicu Ion","Amarastii de Jos"]
[null,null,null,null,null,null,null,null,null,null,null,null,null,null,null,null,null,null,null,"Voicu Ionut","Ploiesti"]
[null,null,null,null,null,null,null,null,null,null,null,null,null,null,null,null,null,null,null,"Voicu Mihai","Ploiesti"]
[null,null,null,null,null,null,null,null,null,null,null,null,null,null,null,null,null,null,null,"Voicu Mihai","Bucuresti"]
[null,null,null,null,null,null,null,null,null,null,null,null,null,null,null,null,null,null,null,"Voicu Ovidiu","Strejnicu"]
[null,null,null,null,null,null,null,null,null,null,null,null,null,null,null,null,null,null,null,"Voicu Sergiu","Bucuresti"]
[null,null,null,null,null,null,null,null,null,null,null,null,null,null,null,null,null,null,null,"Voin Doru","Bucuresti"]
[null,null,null,null,null,null,null,null,null,null,null,null,null,null,null,null,null,null,null,"Voinea Emil","Pitesti"]
[null,null,null,null,null,null,null,null,null,null,null,null,null,null,null,null,null,null,null,"Voinea Emil","Braila"]
[null,null,null,null,null,null,null,null,null,null,null,null,null,null,null,null,null,null,null,"Voinea Ionut","Harsova"]
[null,null,null,null,null,null,null,null,null,null,null,null,null,null,null,null,null,null,null,"Voinescu Bianca","Lugoj"]
[null,null,null,null,null,null,null,null,null,null,null,null,null,null,null,null,null,null,null,"Voinescu Dan","Lugoj"]
[null,null,null,null,null,null,null,null,null,null,null,null,null,null,null,null,null,null,null,"Voinescu Ecaterina","Bucuresti"]
[null,null,null,null,null,null,null,null,null,null,null,null,null,null,null,null,null,null,null,"Voivod Mihai","Cluj Napoca"]
[null,null,null,null,null,null,null,null,null,null,null,null,null,null,null,null,null,null,null,"Volanin Rares","Sibiu"]
[null,null,null,null,null,null,null,null,null,null,null,null,null,null,null,null,null,null,null,"Volvovics Adrian","Oradea"]
[null,null,null,null,null,null,null,null,null,null,null,null,null,null,null,null,null,null,null,"Von Gamm Kevin","Cluj Napoca"]
[null,null,null,null,null,null,null,null,null,null,null,null,null,null,null,null,null,null,null,"Vonea Andrei","Tarnaveni"]
[null,null,null,null,null,null,null,null,null,null,null,null,null,null,null,null,null,null,null,"Vonhaz Stefan","Oradea"]
[null,null,null,null,null,null,null,null,null,null,null,null,null,null,null,null,null,null,null,"Vrancea Markus","Sibiu"]
[null,null,null,null,null,null,null,null,null,null,null,null,null,null,null,null,null,null,null,"Vranceanu Marian","Harsova"]
[null,null,null,null,null,null,null,null,null,null,null,null,null,null,null,null,null,null,null,"Vrasti Ioan","Ploiesti"]
[null,null,null,null,null,null,null,null,null,null,null,null,null,null,null,null,null,null,null,"Vrasti Iulian","Ploiesti"]
[null,null,null,null,null,null,null,null,null,null,null,null,null,null,null,null,null,null,null,"Vrasti Timeea","Ploiesti"]
[null,null,null,null,null,null,null,null,null,null,null,null,null,null,null,null,null,null,null,"Vrinceanu Vladut","Caransebes"]
[null,null,null,null,null,null,null,null,null,null,null,null,null,null,null,null,null,null,null,"Vuca Adrian","Berzovia"]
[null,null,null,null,null,null,null,null,null,null,null,null,null,null,null,null,null,null,null,"Vucetic Ivan","Vlajkovac"]
[null,null,null,null,null,null,null,null,null,null,null,null,null,null,null,null,null,null,null,"Vukovic Nemanja","Varset"]
[null,null,null,null,null,null,null,null,null,null,null,null,null,null,null,null,null,null,null,"Vukovic Zoran","Varset"]
[null,null,null,null,null,null,null,null,null,null,null,null,null,null,null,null,null,null,null,"Vulpe Cristian","Navodari"]
[null,null,null,null,null,null,null,null,null,null,null,null,null,null,null,null,null,null,null,"Vulpescu Emanuel","Caianu Mic"]
[null,null,null,null,null,null,null,null,null,null,null,null,null,null,null,null,null,null,null,"Vulpescu Radu","Iasi"]
[null,null,null,null,null,null,null,null,null,null,null,null,null,null,null,null,null,null,null,"Vurst Laszlo","Oradea"]
[null,null,null,null,null,null,null,null,null,null,null,null,null,null,null,null,null,null,null,"Vuta Bogdan","Curtea de Arges"]
[null,null,null,null,null,null,null,null,null,null,null,null,null,null,null,null,null,null,null,"Wagner Max","Arad"]
[null,null,null,null,null,null,null,null,null,null,null,null,null,null,null,null,null,null,null,"Wagner Radu","Bucuresti"]
[null,null,null,null,null,null,null,null,null,null,null,null,null,null,null,null,null,null,null,"Wang Norman","Suceava"]
[null,null,null,null,null,null,null,null,null,null,null,null,null,null,null,null,null,null,null,"Weiss Simona","Cisnadie"]
[null,null,null,null,null,null,null,null,null,null,null,null,null,null,null,null,null,null,null,"Welker Ivan","Sfantu Gheorghe"]
[null,null,null,null,null,null,null,null,null,null,null,null,null,null,null,null,null,null,null,"Wengritsky Zsuzsanna","Joseni"]
[null,null,null,null,null,null,null,null,null,null,null,null,null,null,null,null,null,null,null,"Wischegg Nela","Galati"]
[null,null,null,null,null,null,null,null,null,null,null,null,null,null,null,null,null,null,null,"Yali Zagori","Israel"]
[null,null,null,null,null,null,null,null,null,null,null,null,null,null,null,null,null,null,null,"Yarden Shacham","Israel"]
[null,null,null,null,null,null,null,null,null,null,null,null,null,null,null,null,null,null,null,"Yosef Atia","Israel"]
[null,null,null,null,null,null,null,null,null,null,null,null,null,null,null,null,null,null,null,"Zadarojsni Remus","Oravita"]
[null,null,null,null,null,null,null,null,null,null,null,null,null,null,null,null,null,null,null,"Zagorac Novak","Lokve"]
[null,null,null,null,null,null,null,null,null,null,null,null,null,null,null,null,null,null,null,"Zaha Vasile","Satu Mare"]
[null,null,null,null,null,null,null,null,null,null,null,null,null,null,null,null,null,null,null,"Zaharia Bogdan","Brasov"]
[null,null,null,null,null,null,null,null,null,null,null,null,null,null,null,null,null,null,null,"Zaharia Ciprian","Piatra Neamt"]
[null,null,null,null,null,null,null,null,null,null,null,null,null,null,null,null,null,null,null,"Zaharia Danut","Braila"]
[null,null,null,null,null,null,null,null,null,null,null,null,null,null,null,null,null,null,null,"Zaharia Dorin","Targu Mures"]
[null,null,null,null,null,null,null,null,null,null,null,null,null,null,null,null,null,null,null,"Zaharia Dorin","Suceava"]
[null,null,null,null,null,null,null,null,null,null,null,null,null,null,null,null,null,null,null,"Zaharia Iulian","Iasi"]
[null,null,null,null,null,null,null,null,null,null,null,null,null,null,null,null,null,null,null,"Zaharia Puiu","Bucuresti"]
[null,null,null,null,null,null,null,null,null,null,null,null,null,null,null,null,null,null,null,"Zaharia Titi","Fetesti"]
[null,null,null,null,null,null,null,null,null,null,null,null,null,null,null,null,null,null,null,"Zaharia Tudor","Suceava"]
[null,null,null,null,null,null,null,null,null,null,null,null,null,null,null,null,null,null,null,"Zaharie Sofia","Radauti"]
[null,null,null,null,null,null,null,null,null,null,null,null,null,null,null,null,null,null,null,"Zaharii Narcis","Falticeni"]
[null,null,null,null,null,null,null,null,null,null,null,null,null,null,null,null,null,null,null,"Zainescu Corneliu","Galati"]
[null,null,null,null,null,null,null,null,null,null,null,null,null,null,null,null,null,null,null,"Zakarias Szabolcs","Odorheiu Secuiesc"]
[null,null,null,null,null,null,null,null,null,null,null,null,null,null,null,null,null,null,null,"Zalar Marian","Tarnaveni"]
[null,null,null,null,null,null,null,null,null,null,null,null,null,null,null,null,null,null,null,"Zamblau Arsenie","Floresti"]
[null,null,null,null,null,null,null,null,null,null,null,null,null,null,null,null,null,null,null,"Zamblau Ionut","Cluj Napoca"]
[null,null,null,null,null,null,null,null,null,null,null,null,null,null,null,null,null,null,null,"Zamcu Ciprian","Suceava"]
[null,null,null,null,null,null,null,null,null,null,null,null,null,null,null,null,null,null,null,"Zamfir Ionel","Bucuresti"]
[null,null,null,null,null,null,null,null,null,null,null,null,null,null,null,null,null,null,null,"Zamfir Robert","Constanta"]
[null,null,null,null,null,null,null,null,null,null,null,null,null,null,null,null,null,null,null,"Zamfir Stefan","Urlati"]
[null,null,null,null,null,null,null,null,null,null,null,null,null,null,null,null,null,null,null,"Zamfirache Ioan","Botosani"]
[null,null,null,null,null,null,null,null,null,null,null,null,null,null,null,null,null,null,null,"Zamfiroaia Sorin","Falticeni"]
[null,null,null,null,null,null,null,null,null,null,null,null,null,null,null,null,null,null,null,"Zaporojan Vladimir","Moldova-Straseni"]
[null,null,null,null,null,null,null,null,null,null,null,null,null,null,null,null,null,null,null,"Zara Dinu","Suceava"]
[null,null,null,null,null,null,null,null,null,null,null,null,null,null,null,null,null,null,null,"Zarinschi Catalin","Galati"]
[null,null,null,null,null,null,null,null,null,null,null,null,null,null,null,null,null,null,null,"Zavate Silviu","Bucuresti"]
[null,null,null,null,null,null,null,null,null,null,null,null,null,null,null,null,null,null,null,"Zavricescu George","Curtea de Arges"]
[null,null,null,null,null,null,null,null,null,null,null,null,null,null,null,null,null,null,null,"Zbancu Leo","Deva"]
[null,null,null,null,null,null,null,null,null,null,null,null,null,null,null,null,null,null,null,"Zdravkovic Milos","Kovin"]
[null,null,null,null,null,null,null,null,null,null,null,null,null,null,null,null,null,null,null,"Zdrenghea Mircea","Orastie"]
[null,null,null,null,null,null,null,null,null,null,null,null,null,null,null,null,null,null,null,"Zedler Csaba","Agnita"]
[null,null,null,null,null,null,null,null,null,null,null,null,null,null,null,null,null,null,null,"Zelariu Petru","Tarnaveni"]
[null,null,null,null,null,null,null,null,null,null,null,null,null,null,null,null,null,null,null,"Zgadan Iustin","Moldova-Cahul"]
[null,null,null,null,null,null,null,null,null,null,null,null,null,null,null,null,null,null,null,"Zgardan Iustin","Moldova-Cahul"]
[null,null,null,null,null,null,null,null,null,null,null,null,null,null,null,null,null,null,null,"Zgardan Razvan","Moldova-Balti"]
[null,null,null,null,null,null,null,null,null,null,null,null,null,null,null,null,null,null,null,"Zidar Victor","Reghin"]
[null,null,null,null,null,null,null,null,null,null,null,null,null,null,null,null,null,null,null,"Zlata Alex","Focsani"]
[null,null,null,null,null,null,null,null,null,null,null,null,null,null,null,null,null,null,null,"Zlatic Sinisa","Belgrad"]
[null,null,null,null,null,null,null,null,null,null,null,null,null,null,null,null,null,null,null,"Zolotaryk George","Suceava"]
[null,null,null,null,null,null,null,null,null,null,null,null,null,null,null,null,null,null,null,"Zorfie Daniel","Baru"]
[null,null,null,null,null,null,null,null,null,null,null,null,null,null,null,null,null,null,null,"Zorila Marcel","Moldova-Riscani"]
[null,null,null,null,null,null,null,null,null,null,null,null,null,null,null,null,null,null,null,"Zorila Victor","Craiova"]
[null,null,null,null,null,null,null,null,null,null,null,null,null,null,null,null,null,null,null,"Zorilla Andrei","Moldova-Ceadir-Lunga"]
[null,null,null,null,null,null,null,null,null,null,null,null,null,null,null,null,null,null,null,"Zsigmond Tamas","Gheorgheni"]
[null,null,null,null,null,null,null,null,null,null,null,null,null,null,null,null,null,null,null,"Zsolt Kovacs","Bretcu"]
[null,null,null,null,null,null,null,null,null,null,null,null,null,null,null,null,null,null,null,"Zugravu Alexandru","Barlad"]
[null,null,null,null,null,null,null,null,null,null,null,null,null,null,null,null,null,null,null,"Zugravu Luca","Barlad"]
[null,null,null,null,null,null,null,null,null,null,null,null,null,null,null,null,null,null,null,"Zugravu Mircea","Barlad"]

{"sheet":"Inscrieri","index":5,"n_rows":5595,"n_cols":26,"rows_kept":5595,"cut":false,"hidden":false,"merged":[]}
["Loc","Nume_si_prenume","Localitate","Pct","MP","Cat",{"$f":"COUNTA(G2:G6001)","v":0},null,null,null,null,null,{"$f":"COUNTA(N:N)","v":0},null,null,"x","x","x","x","x",{"$f":"COUNTA(V:V)","v":0},null,"A",null,0]
[1904,"Ciupe Alin","Zalau",68.5,68.5,"E",null,null,null,{"$f":"catp","v":1},null,null,null,null,null,null,null,null,null,null,null,null,null,null,null,"Se foloseste Formularul pentru inscrieri/retrageri sau se urmeaza instructiunile de mai jos pentru alte operatiuni:"]
[574,"Marchis Maximilian","Cluj Napoca",322.7,64.44,"E",null,null,null,{"$f":"catp","v":1}]
[72,"Cristanus Cristian","Timisoara",761.1,64.28,"EL",null,null,null,{"$f":"catp","v":1},null,null,null,null,null,null,null,null,null,null,null,null,null,null,null,"Adaugare inscriere:"]
[1341,"Farcas Dan","Zalau",126.9,63.45,"EL",null,null,null,{"$f":"catp","v":1},null,null,null,null,null,null,null,null,null,null,null,null,null,null,null,"Se completeaza manual in coloanele 21-22 jucatorii (21-Nume Prenume, 22-Localitate), pot fi copiati din alt fisier"]
[220,"Sorescu Deian","Resita",537.4,63.44,"E",null,null,null,{"$f":"catp","v":1},null,null,null,null,null,null,null,null,null,null,null,null,null,null,null,"Click pe Plus."]
[12,"Neculai Alexandru","Videle",1003.9,62.48,"EL",null,null,null,{"$f":"catp","v":1},null,null,null,null,null,null,null,null,null,null,null,null,null,null,null,"Automat in coloana 7 se bifeaza cu \"1\" jucatorii din coloana 21."]
[1005,"Fejer Konnert Andras","Sovata",182.6,62.2,"ELW",null,null,null,{"$f":"catp","v":1},null,null,null,null,null,null,null,null,null,null,null,null,null,null,null,"Daca exista jucatori noi acestia apar la sfarsitul clasamentului."]
[79,"Tibirna Andrei","Iasi",746.1,62.03,"EL",null,null,null,{"$f":"catp","v":1},null,null,null,null,null,null,null,null,null,null,null,null,null,null,null,"Stergere inscriere:"]
[623,"Iana Remus","Timisoara",302.7,61.62,"EL",null,null,null,{"$f":"catp","v":1},null,null,null,null,null,null,null,null,null,null,null,null,null,null,null,"Se selecteaza jucatorul in coloana 21."]
[1,"Moldovan Horvath Csaba","Targu Mures",1121.5999999999999,60.83,"ELW",null,null,null,{"$f":"catp","v":1},null,null,null,null,null,null,null,null,null,null,null,null,null,null,null,"Click pe Minus, N (absent - penalizare 3p) sau r2 (retragere dupa termen - penalizare 2p)."]
[880,"Marton Adam","Sfantu Gheorghe",215.4,60.53,"EL",null,null,null,{"$f":"catp","v":1},null,null,null,null,null,null,null,null,null,null,null,null,null,null,null,"Automat in coloana 21 se va sterge jucatorul selectat, iar in coloana 7 i se va sterge inscrierea."]
[1019,"Roman Iulian","Brasov",179.8,60.45,"ELW",null,null,null,{"$f":"catp","v":1},null,null,null,null,null,null,null,null,null,null,null,null,null,null,null,"Daca exista lista de asteptare, primul de pe lista va fi bifat automat."]
[2,"Mocean Dan","Cluj Napoca",1104.5,60.26,"EL",null,null,null,{"$f":"catp","v":1},null,null,null,null,null,null,null,null,null,null,null,null,null,null,null,"Inserare (de exemplu, in cazul in care, copiind de pe forum, ati uitat pe cineva)"]
[313,"Boaca Valentin","Branesti",475.8,60.13,"E",null,null,null,{"$f":"catp","v":1},null,null,null,null,null,null,null,null,null,null,null,null,null,null,null,"Click in coloana 21 pe pozitia in care vrem sa inseram un jucator"]
[119,"Anatolii Zamkovyi","Baia Mare",653.70000000000005,59.96,"EL",null,null,null,{"$f":"catp","v":1},null,null,null,null,null,null,null,null,null,null,null,null,null,null,null,"Click pe Insert"]
[371,"Fratila Robert","Filipestii de Targ",434.2,59.62,"EL",null,null,null,{"$f":"catp","v":1},null,null,null,null,null,null,null,null,null,null,null,null,null,null,null,"Automat se creeaza o pozitie goala, ultimul jucator din lista principala va fi trecut pe lista de asteptare, daca exista"]
[2020,"Durdun George","Bucuresti",59.6,59.6,"EL",null,null,null,{"$f":"catp","v":1},null,null,null,null,null,null,null,null,null,null,null,null,null,null,null,"Se adauga un jucator pe pozitia goala cu Formularul de inscrieri."]
[873,"Margin Andrei","Cluj Napoca",217,59.47,"E",null,null,null,{"$f":"catp","v":1},null,null,null,null,null,null,null,null,null,null,null,null,null,null,null,"Inlocuire (de exemplu, in cazul in care ati gresit vreun nume sau a fost postat gresit pe forum)"]
[2023,"Radonjic Stefan","Varset",59.4,59.4,"E",null,null,null,{"$f":"catp","v":1},null,null,null,null,null,null,null,null,null,null,null,null,null,null,null,"Click in coloana 21 pe pozitia in care vrem sa inlocuim un jucator"]
[3,"Galban Calin","Viseu",1095.5,59.34,"EL",null,null,null,{"$f":"catp","v":1},null,null,null,null,null,null,null,null,null,null,null,null,null,null,null,"Click pe Replace"]
[321,"Gabudean Dorin","Cluj Napoca",465.4,59.25,"ELW",null,null,null,{"$f":"catp","v":1},null,null,null,null,null,null,null,null,null,null,null,null,null,null,null,"Jucatorul va fi sters si se creeaza o pozitie goala."]
[2029,"Neagu Mircea","Constanta",59.1,59.1,"EL",null,null,null,{"$f":"catp","v":1},null,null,null,null,null,null,null,null,null,null,null,null,null,null,null,"Se adauga un jucator nou pe locul eliberat cu Formularul de inscrieri."]
[31,"Aga Alexandru","Botosani",887.1,58.98,"EL",null,null,null,{"$f":"catp","v":1}]
[2037,"Idan Ofer","Israel",58.7,58.7,"E",null,null,null,{"$f":"catp","v":1},null,null,null,null,null,null,null,null,null,null,null,null,null,null,null,"Periodic se actioneaza butonul Lista pentru actualizarea listei …"]
[11,"Neagoe Costin","Bucuresti",1010.9,58.64,"E",null,null,null,{"$f":"catp","v":1},null,null,null,null,null,null,null,null,null,null,null,null,null,null,null,"… iar apoi butonul Copy ... urmat de Paste pe forum (cu Ctrl Shift V) pentru postarea listei de inscrieri."]
[661,"Hasna Cosmin","Straja",289.2,58.53,"EL",null,null,null,{"$f":"catp","v":1}]
[2046,"Litovcenco Gheorghe","Iasi",58.4,58.4,"E",null,null,null,{"$f":"catp","v":1},null,null,null,null,null,null,null,null,null,null,null,null,null,null,null,"In coloana 5 - MP - se poate modifica media unui jucator nou ... click pe Sort MP apoi, pentru reordonarea listei"]
[9,"Galos Alexandru","Bucuresti",1026.2,58.35,"EL",null,null,null,{"$f":"catp","v":1}]
[675,"Gergely Anton","Oradea",282.2,58.25,"E",null,null,null,{"$f":"catp","v":1},null,null,null,null,null,null,null,null,null,null,null,null,null,null,null,"In coloanele 23 si 24 se pot trece ceva informatii (wildcard, meniu etc) ... care vor aparea si pe listele de inscrieri"]
[2056,"Carpaci Szanto Edmond","Ludus",58,58,"E",null,null,null,{"$f":"catp","v":1}]
[131,"Vitan Andrei","Giurgiu",624.20000000000005,57.92,"EL",null,null,null,{"$f":"catp","v":1}]
[1416,"Postudor Andreea","Iasi",115.3,57.65,"ELF",null,null,null,{"$f":"catp","v":1}]
[14,"Baciu Gabriel","Tarnaveni",988.9,57.61,"E",null,null,null,{"$f":"catp","v":1}]
[2067,"Tonghioiu Stefan","Campulung Muscel",57.6,57.6,"E",null,null,null,{"$f":"catp","v":1}]
[1536,"Maran Alin","Faget",102.2,57.55,"E",null,null,null,{"$f":"catp","v":1}]
[2070,"Georginov Vanja","Lokve",57.4,57.4,"E",null,null,null,{"$f":"catp","v":1}]
[24,"Albu Vlad","Iasi",927.3,57.11,"EL",null,null,null,{"$f":"catp","v":1}]
[5,"Verdet Adrian","Timisoara",1062.5999999999999,56.84,"EW",null,null,null,{"$f":"catp","v":1}]
[2080,"Corburean Ioan","Tarnaveni",56.8,56.8,"E",null,null,null,{"$f":"catp","v":1}]
[2082,"Rotari Leonard","Moldova-Chisinau",56.7,56.7,"E",null,null,null,{"$f":"catp","v":1}]
[4,"Sumanaru Catalin","Iasi",1063.2,56.61,"EL",null,null,null,{"$f":"catp","v":1}]
[256,"Sima Vlad","Giurgiu",513.1,56.59,"EL",null,null,null,{"$f":"catp","v":1}]
[734,"Piliponcic Vadim","Moldova-Chisinau",259.39999999999998,56.27,"E",null,null,null,{"$f":"catp","v":1}]
[7,"Toma Adrian","Sfantu Gheorghe",1050.8,56.26,"EL",null,null,null,{"$f":"catp","v":1}]
[25,"Jurje Alex Doru","Almasu Mare",920.1,56.26,"E",null,null,null,{"$f":"catp","v":1}]
[13,"Kis Robert","Cluj Napoca",989.4,56.11,"EL",null,null,null,{"$f":"catp","v":1}]
[6,"Alexandru Constantin","Bucuresti",1052.5999999999999,56.05,"EL",null,null,null,{"$f":"catp","v":1}]
[8,"Ursu Teodor","Bucuresti",1046.7,55.9,"EL",null,null,null,{"$f":"catp","v":1}]
[555,"Grigore Cosmin","Slatina",329.2,55.8,"EL",null,null,null,{"$f":"catp","v":1}]
[2089,"Talalai Igor","Ucraina",55.8,55.8,"E",null,null,null,{"$f":"catp","v":1}]
[239,"Toader Valentin","Agnita",526.20000000000005,55.68,"EL",null,null,null,{"$f":"catp","v":1}]
[2091,"Anca Octavian","Ludus",55.6,55.6,"E",null,null,null,{"$f":"catp","v":1}]
[28,"Badea Mihai","Targoviste",911.4,55.54,"E",null,null,null,{"$f":"catp","v":1}]
[2093,"Rajic Borislav","Novi Sad",55.4,55.4,"E",null,null,null,{"$f":"catp","v":1}]
[998,"Luntraru Andrei","Iasi",183.9,55.37,"E",null,null,null,{"$f":"catp","v":1}]
[1249,"Virtopeanu Andrei","Bucuresti",140.4,55.35,"E",null,null,null,{"$f":"catp","v":1}]
[1212,"Sima Daniel","Mioveni",146.69999999999999,55.2,"E",null,null,null,{"$f":"catp","v":1}]
[1598,"Mirea George","Bucuresti",95.9,55.1,"EL",null,null,null,{"$f":"catp","v":1}]
[186,"Retegan Cosmin","Ploiesti",558.4,55.02,"EL",null,null,null,{"$f":"catp","v":1}]
[1455,"Bectas Igor","Moldova-Hincesti",109.6,54.8,"E",null,null,null,{"$f":"catp","v":1}]
[2103,"Yali Zagori","Israel",54.7,54.7,"E",null,null,null,{"$f":"catp","v":1}]
[1463,"Jobb Levente","Odorheiu Secuiesc",109.2,54.6,"EL",null,null,null,{"$f":"catp","v":1}]
[2104,"Spiridonov Kiril","Bulgaria",54.6,54.6,"E",null,null,null,{"$f":"catp","v":1}]
[22,"Bercea Alex","Drobeta Tr Severin",931.6,54.55,"E",null,null,null,{"$f":"catp","v":1}]
[209,"Enciu Alexandru","Slobozia",544.9,54.55,"ELW",null,null,null,{"$f":"catp","v":1}]
[1186,"Moldovan Cristian","Bistrita",150.5,54.53,"E",null,null,null,{"$f":"catp","v":1}]
[978,"Pribeagu Sebastian","Pitesti",190.1,54.5,"EL",null,null,null,{"$f":"catp","v":1}]
[2360,"Pop Sorin","Bistrita",40.9,54.5,"E",null,null,null,{"$f":"catp","v":1}]
[520,"Gheorghe Dragos","Ploiesti",346.6,54.38,"E",null,null,null,{"$f":"catp","v":1}]
[97,"Pascu Rares","Targu Mures",696.8,54.35,"E",null,null,null,{"$f":"catp","v":1}]
[894,"Grunfeld Tomy","Israel",210.7,54.25,"E",null,null,null,{"$f":"catp","v":1}]
[1475,"Mandru Bogdan","Hunedoara",108,54,"EL",null,null,null,{"$f":"catp","v":1}]
[42,"Leric David","Lipova",842.1,53.87,"E",null,null,null,{"$f":"catp","v":1}]
[2114,"Iordan Mihai","Bucuresti",53.7,53.7,"E",null,null,null,{"$f":"catp","v":1}]
[10,"Mutrescu Eugen","Timisoara",1024.7,53.68,"EW",null,null,null,{"$f":"catp","v":1}]
[1309,"Ghinda Mihai","Iasi",132.1,53.53,"E",null,null,null,{"$f":"catp","v":1}]
[1244,"Neag Ioan","Timisoara",141,53.35,"E",null,null,null,{"$f":"catp","v":1}]
[1493,"Chiraches Eric Stefan","Bucuresti",106.7,53.35,"EL",null,null,null,{"$f":"catp","v":1}]
[87,"Molnar Tihamer","Tarnaveni",720,53.33,"E",null,null,null,{"$f":"catp","v":1}]
[141,"Mosneagu Marius","Falticeni",612.29999999999995,53.32,"ELW",null,null,null,{"$f":"catp","v":1}]
[26,"Petrescu Liviu","Pitesti",919.1,53.29,"EW",null,null,null,{"$f":"catp","v":1}]
[627,"Mitrache Simion","Timisoara",300.7,53.23,"E",null,null,null,{"$f":"catp","v":1}]
[44,"Pavel Calin","Hunedoara",838.8,53.16,"EL",null,null,null,{"$f":"catp","v":1}]
[654,"Ion Marius","Braila",290.10000000000002,53,"E",null,null,null,{"$f":"catp","v":1}]
[15,"Petrus Florin","Zalau",975.4,52.86,"E",null,null,null,{"$f":"catp","v":1}]
[16,"Simion Boby","Cluj Napoca",973.6,52.86,"ED",null,null,null,{"$f":"catp","v":1}]
[122,"Albu Catalin","Pascani",645.79999999999995,52.78,"EL",null,null,null,{"$f":"catp","v":1}]
[335,"Mathe Mihai","Ludus",460,52.74,"E",null,null,null,{"$f":"catp","v":1}]
[159,"Buzatu Vasile","Buftea",587.70000000000005,52.7,"EW",null,null,null,{"$f":"catp","v":1}]
[2125,"Badea Ionut","Bucuresti",52.7,52.7,"E",null,null,null,{"$f":"catp","v":1}]
[100,"Anca Valentin","Ludus",688.3,52.67,"E",null,null,null,{"$f":"catp","v":1}]
[2128,"Schmidt Miroslav","Bulgaria",52.6,52.6,"E",null,null,null,{"$f":"catp","v":1}]
[88,"Roman Bogdan","Arad",717,52.54,"E",null,null,null,{"$f":"catp","v":1}]
[27,"Gogu Gabriel","Cluj Napoca",914.9,52.39,"EW",null,null,null,{"$f":"catp","v":1}]
[339,"Saceleanu Bogdan","Targu Jiu",455.4,52.32,"EL",null,null,null,{"$f":"catp","v":1}]
[2395,"Spanu Vasile","Vicovu de Jos",39.299999999999997,52.3,"E",null,null,null,{"$f":"catp","v":1}]
[825,"Maslennicov Anatolie","Moldova-Cahul",231.2,52.1,"E",null,null,null,{"$f":"catp","v":1}]
[19,"Teleki Zsolt","Cluj Napoca",947.2,52.09,"E",null,null,null,{"$f":"catp","v":1}]
[33,"Nascu Serban","Cluj Napoca",871.9,52.05,"ELW",null,null,null,{"$f":"catp","v":1}]
[830,"Teodor Cristian","Bucuresti",230.3,52.05,"E",null,null,null,{"$f":"catp","v":1}]
[773,"Tamas Vivien","Miercurea Ciuc",244.6,51.97,"ELF",null,null,null,{"$f":"catp","v":1}]
[769,"Visan Daniel","Ploiesti",245.4,51.9,"E",null,null,null,{"$f":"catp","v":1}]
[635,"Avram Victor","Arad",296.39999999999998,51.8,"E",null,null,null,{"$f":"catp","v":1}]
[17,"Nistor Dorel","Bistrita",969.9,51.75,"ELW",null,null,null,{"$f":"catp","v":1}]
[274,"Takacs Csaba","Baia Mare",502.3,51.7,"EL",null,null,null,{"$f":"catp","v":1}]
[767,"Rebrisorean Daniel","Cluj Napoca",245.9,51.7,"E",null,null,null,{"$f":"catp","v":1}]
[18,"Aparaschive Paul","Botosani",957.5,51.59,"E",null,null,null,{"$f":"catp","v":1}]
[543,"Hamza Catalin","Satu Mare",336.4,51.42,"EL",null,null,null,{"$f":"catp","v":1}]
[116,"Bodnar Cosmin","Vicovu de Sus",656,51.26,"EL",null,null,null,{"$f":"catp","v":1}]
[2146,"Ionel Alexandru","Bistrita",51.2,51.2,"E",null,null,null,{"$f":"catp","v":1}]
[2147,"Resavac Predrag","Smederevo",51.2,51.2,"E",null,null,null,{"$f":"catp","v":1}]
[2148,"Ilic Marko","Nova Varos",51.2,51.2,"E",null,null,null,{"$f":"catp","v":1}]
[2149,"Rajic Dalibor","Novi Sad",51.2,51.2,"E",null,null,null,{"$f":"catp","v":1}]
[2155,"Anghel Alexandru","Iasi",50.9,50.9,"E",null,null,null,{"$f":"catp","v":1}]
[984,"Giol Mihai","Braila",187.7,50.85,"EL",null,null,null,{"$f":"catp","v":1}]
[961,"Secu Valeriu","Bucuresti",195.4,50.77,"E",null,null,null,{"$f":"catp","v":1}]
[21,"Toma Florin","Pitesti",940.3,50.67,"EW",null,null,null,{"$f":"catp","v":1}]
[1045,"Iacubenco Arsenii","Moldova-Balti",174.5,50.57,"E",null,null,null,{"$f":"catp","v":1}]
[59,"Orban Madalina","Siret",788.3,50.45,"EF",null,null,null,{"$f":"catp","v":1}]
[20,"Farkas Gabor","Targu Mures",940.4,50.33,"EDW",null,null,null,{"$f":"catp","v":1}]
[749,"Bondoc Alexandru","Brasov",252.2,50.15,"EL",null,null,null,{"$f":"catp","v":1}]
[429,"Manea Mihaita","Tulcea",400,50.12,"EL",null,null,null,{"$f":"catp","v":1}]
[63,"Dinca Dorinel","Calarasi",780.8,50.11,"EW",null,null,null,{"$f":"catp","v":1}]
[124,"Balan Mihai","Ploiesti",643.70000000000005,50.08,"E",null,null,null,{"$f":"catp","v":1}]
[1660,"Has Alin","Drobeta Tr Severin",88.5,50.05,"E",null,null,null,{"$f":"catp","v":1}]
[216,"Rus Traian","Cluj Napoca",538.4,49.91,"EW",null,null,null,{"$f":"catp","v":1}]
[861,"Iacubenco Artemii","Moldova-Balti",219.6,49.9,"E",null,null,null,{"$f":"catp","v":1}]
[173,"Sirbu Nicolae","Aiud",573.20000000000005,49.87,"EJ",null,null,null,{"$f":"catp","v":1}]
[23,"Vilceanu Andrei","Timisoara",928.3,49.86,"E",null,null,null,{"$f":"catp","v":1}]
[1676,"Redkov Oleksandr","Ucraina",87.2,49.85,"E",null,null,null,{"$f":"catp","v":1}]
[2178,"Bauer Lajos","Targu Mures",49.8,49.8,"EW",null,null,null,{"$f":"catp","v":1}]
[1046,"Simo Elias Mate","Miercurea Ciuc",174.5,49.75,"EL",null,null,null,{"$f":"catp","v":1}]
[1561,"Cozma David","Moldova-Comrat",99.5,49.75,"E",null,null,null,{"$f":"catp","v":1}]
[1562,"Labo Alexandru","Zalau",99.2,49.6,"E",null,null,null,{"$f":"catp","v":1}]
[2441,"Urus Kristof","Sfantu Gheorghe",37.200000000000003,49.6,"EL",null,null,null,{"$f":"catp","v":1}]
[36,"Moldovan Alexandru","Tarnaveni",857.5,49.59,"EL",null,null,null,{"$f":"catp","v":1}]
[127,"Zbancu Leo","Deva",630.79999999999995,49.47,"EW",null,null,null,{"$f":"catp","v":1}]
[662,"Dobrin Adrian","Targoviste",288.89999999999998,49.38,"E",null,null,null,{"$f":"catp","v":1}]
[43,"Maxim Valentin","Cluj Napoca",841.6,49.29,"EW",null,null,null,{"$f":"catp","v":1}]
[1030,"Thouzard Adrian","Drobeta Tr Severin",177.7,49.23,"E",null,null,null,{"$f":"catp","v":1}]
[115,"Ionescu Mihai","Bucuresti",658.3,49.22,"E",null,null,null,{"$f":"catp","v":1}]
[921,"Jozsa Zoltan","Odorheiu Secuiesc",204.1,49.2,"E",null,null,null,{"$f":"catp","v":1}]
[41,"Buhai Andrii","Stefanestii de Jos",845,49.18,"E",null,null,null,{"$f":"catp","v":1}]
[588,"Persa Florin","Sfantu Gheorghe",319.60000000000002,49.15,"E",null,null,null,{"$f":"catp","v":1}]
[1002,"Varbanescu Petre","Giurgiu",183.3,49.15,"ELW",null,null,null,{"$f":"catp","v":1}]
[1570,"Tsubera Ion","Sighetu Marmatiei",98.3,49.15,"E",null,null,null,{"$f":"catp","v":1}]
[252,"Grosu Alexandru","Botosani",514.79999999999995,49.1,"E",null,null,null,{"$f":"catp","v":1}]
[469,"Irsai Istvan","Targu Mures",374.8,49.1,"EW",null,null,null,{"$f":"catp","v":1}]
[2449,"Stingaciu Alexandru","Vulcana Bai",36.9,49.1,"E",null,null,null,{"$f":"catp","v":1}]
[29,"Craiu Catalin","Videle",901,49.01,"E",null,null,null,{"$f":"catp","v":1}]
[504,"Dinca Alexandru","Calarasi",353.6,48.95,"E",null,null,null,{"$f":"catp","v":1}]
[1707,"Kravchenko Daniel Mark","Israel",85,48.85,"E",null,null,null,{"$f":"catp","v":1}]
[1579,"Burlacel Ionut","Bucuresti",97.5,48.75,"E",null,null,null,{"$f":"catp","v":1}]
[214,"Curtea Lucas","Viseu",540.9,48.72,"E",null,null,null,{"$f":"catp","v":1}]
[139,"Ticala Vasile Jr","Viseu",614,48.71,"E",null,null,null,{"$f":"catp","v":1}]
[1301,"Orosanu Alexandru","Pitesti",132.9,48.7,"E",null,null,null,{"$f":"catp","v":1}]
[382,"State Malin","Bucuresti",426.4,48.64,"EL",null,null,null,{"$f":"catp","v":1}]
[1828,"Bokor Zoltan Jr","Brasov",72.900000000000006,48.6,"EL",null,null,null,{"$f":"catp","v":1}]
[150,"Dragomir Iuliu","Turnu Magurele",595.20000000000005,48.42,"E",null,null,null,{"$f":"catp","v":1}]
[2466,"Buciu Catalin","Bals",36.299999999999997,48.4,"E",null,null,null,{"$f":"catp","v":1}]
[49,"Firu Marian","Vatra Dornei",813.5,48.27,"E",null,null,null,{"$f":"catp","v":1}]
[1837,"Dombi Tihamer","Miercurea Ciuc",72.2,48.1,"E",null,null,null,{"$f":"catp","v":1}]
[320,"Balogh Attila","Oradea",465.6,48.01,"E",null,null,null,{"$f":"catp","v":1}]
[246,"Curut Gabriel","Timisoara",520.4,47.95,"E",null,null,null,{"$f":"catp","v":1}]
[30,"Savu Cristian","Oradea",888.7,47.91,"E",null,null,null,{"$f":"catp","v":1}]
[646,"Mihai Andrei","Bucuresti",293.39999999999998,47.86,"E",null,null,null,{"$f":"catp","v":1}]
[314,"Cindea Cristian","Medias",475.5,47.85,"EL",null,null,null,{"$f":"catp","v":1}]
[281,"Cruceru Sergiu","Targu Jiu",495.4,47.84,"ELW",null,null,null,{"$f":"catp","v":1}]
[1003,"Ropotan Iulian","Bucuresti",183,47.8,"EW",null,null,null,{"$f":"catp","v":1}]
[1606,"Costache Claudiu","Calarasi",95.5,47.75,"E",null,null,null,{"$f":"catp","v":1}]
[799,"Tomer Hadar","Sofia",238,47.7,"E",null,null,null,{"$f":"catp","v":1}]
[61,"Mican Nicolae","Dej",784.8,47.58,"E",null,null,null,{"$f":"catp","v":1}]
[1862,"Parus Lilian","Oradea",71.400000000000006,47.55,"E",null,null,null,{"$f":"catp","v":1}]
[2224,"Stanciu Silviu","Calarasi",47.4,47.4,"EW",null,null,null,{"$f":"catp","v":1}]
[608,"Marinescu Sasha","Craiova",309.39999999999998,47.28,"EJ",null,null,null,{"$f":"catp","v":1}]
[426,"Hagatis Andrei","Vatra Dornei",401.5,47.1,"E",null,null,null,{"$f":"catp","v":1}]
[143,"Szemciuk Istvan","Deva",609.1,47.01,"E",null,null,null,{"$f":"catp","v":1}]
[393,"Corbu Darius","Valenii de Munte",419.5,47,"E",null,null,null,{"$f":"catp","v":1}]
[34,"Baican Alexandru","Bucuresti",869.9,46.99,"E",null,null,null,{"$f":"catp","v":1}]
[2228,"Stoica Patricia","Bucuresti",46.9,46.9,"ELF",null,null,null,{"$f":"catp","v":1}]
[1460,"Badulescu Teodor","Ramnicu Valcea",109.3,46.85,"E",null,null,null,{"$f":"catp","v":1}]
[1406,"Muntean Alin","Tarnaveni",116.3,46.8,"EW",null,null,null,{"$f":"catp","v":1}]
[1043,"Galiu Mihai","Brasov",175.1,46.77,"EW",null,null,null,{"$f":"catp","v":1}]
[50,"Parjol Rares","Cluj Napoca",808,46.75,"E",null,null,null,{"$f":"catp","v":1}]
[473,"Dumitru Rares","Pitesti",372.3,46.72,"EL",null,null,null,{"$f":"catp","v":1}]
[1624,"Postole Aurel","Buzau",93.3,46.65,"E",null,null,null,{"$f":"catp","v":1}]
[37,"Apian Florin","Bistrita",856,46.57,"EW",null,null,null,{"$f":"catp","v":1}]
[316,"Matsumoto Paul","Brasov",469.9,46.53,"EL",null,null,null,{"$f":"catp","v":1}]
[663,"Craciun Calin","Oradea",288.7,46.46,"E",null,null,null,{"$f":"catp","v":1}]
[708,"Onufrei Ciprian","Botosani",270,46.33,"E",null,null,null,{"$f":"catp","v":1}]
[1760,"Valcu Alin","Botosani",79,46.3,"E",null,null,null,{"$f":"catp","v":1}]
[2515,"Anghel Bogdan","Buzau",34.799999999999997,46.3,"EL",null,null,null,{"$f":"catp","v":1}]
[2516,"Nita Maria","Buzau",34.799999999999997,46.3,"ELF",null,null,null,{"$f":"catp","v":1}]
[323,"Rogoz Nicoleta","Bucuresti",465.3,46.26,"EF",null,null,null,{"$f":"catp","v":1}]
[911,"Gradinaru Alin","Sibiu",205.8,46.25,"E",null,null,null,{"$f":"catp","v":1}]
[32,"Dumitru Gheorghe","Bucuresti",872.3,46.23,"ED",null,null,null,{"$f":"catp","v":1}]
[210,"Bendescu Matei","Iasi",543.6,46.2,"ELJ",null,null,null,{"$f":"catp","v":1}]
[2245,"Marinescu Razvan","Cluj Napoca",46.2,46.2,"E",null,null,null,{"$f":"catp","v":1}]
[112,"Mihalache Dario","Plopeni SV",661.8,46.13,"E",null,null,null,{"$f":"catp","v":1}]
[1059,"Sora Sorin","Craiova",171.9,46.03,"E",null,null,null,{"$f":"catp","v":1}]
[1209,"Petcu Marius","Bucuresti",147.30000000000001,46,"E",null,null,null,{"$f":"catp","v":1}]
[2250,"Pauliuc Alesia","Timisoara",46,46,"EF",null,null,null,{"$f":"catp","v":1}]
[45,"Pantelimon Andi","Bucuresti",836.2,45.99,"EL",null,null,null,{"$f":"catp","v":1}]
[389,"Zamblau Ionut","Cluj Napoca",421.5,45.75,"EL",null,null,null,{"$f":"catp","v":1}]
[35,"Zamfir Ionel","Bucuresti",859.7,45.73,"EW",null,null,null,{"$f":"catp","v":1}]
[785,"Petho Mihaly Jr","Racosu de Sus",241.1,45.7,"E",null,null,null,{"$f":"catp","v":1}]
[39,"Damian Alin","Campia Turzii",852.4,45.66,"ELW",null,null,null,{"$f":"catp","v":1}]
[93,"Constantin Teodor","Bucuresti",710.4,45.66,"E",null,null,null,{"$f":"catp","v":1}]
[118,"Symonenko Yaroslav","Odesa",654.1,45.65,"E",null,null,null,{"$f":"catp","v":1}]
[760,"Ceausescu Rares","Pitesti",249,45.65,"E",null,null,null,{"$f":"catp","v":1}]
[1568,"Mitoi Alin","Bals",98.4,45.65,"E",null,null,null,{"$f":"catp","v":1}]
[67,"Rosioara Razvan","Alexandria",768.7,45.6,"E",null,null,null,{"$f":"catp","v":1}]
[1224,"Sorin Inu Moise","Stei",144.4,45.57,"E",null,null,null,{"$f":"catp","v":1}]
[162,"Faur Laurentiu","Calarasi",583.20000000000005,45.55,"E",null,null,null,{"$f":"catp","v":1}]
[507,"Taranu Nicusor","Tulcea",351,45.52,"ELW",null,null,null,{"$f":"catp","v":1}]
[631,"Corbu Mihai Cosmin","Pitesti",297.60000000000002,45.5,"EL",null,null,null,{"$f":"catp","v":1}]
[38,"Govoreanu Florin","Cisnadie",854.8,45.46,"EW",null,null,null,{"$f":"catp","v":1}]
[120,"Popa Radu","Deva",650.79999999999995,45.45,"EW",null,null,null,{"$f":"catp","v":1}]
[69,"Costache Rosioru Cristian","Timisoara",765.2,45.34,"E",null,null,null,{"$f":"catp","v":1}]
[2262,"Koteles Antonio","Cluj Napoca",45.3,45.3,"E",null,null,null,{"$f":"catp","v":1}]
[40,"Kaposta Victor","Arad",851.2,45.23,"E",null,null,null,{"$f":"catp","v":1}]
[407,"Megan Alexandra","Bucuresti",411.8,45.23,"EF",null,null,null,{"$f":"catp","v":1}]
[481,"Tamas Szilard","Miercurea Ciuc",368,45.18,"E",null,null,null,{"$f":"catp","v":1}]
[657,"Hutanu Alin","Brasov",289.8,45.18,"E",null,null,null,{"$f":"catp","v":1}]
[304,"Bulgari Serghei","Moldova-Briceni",480.4,45.17,"E",null,null,null,{"$f":"catp","v":1}]
[490,"Irimia Sorin Jr","Cluj Napoca",365.5,45.17,"E",null,null,null,{"$f":"catp","v":1}]
[197,"Decsei Emma","Ludus",554.4,45.15,"ELF",null,null,null,{"$f":"catp","v":1}]
[396,"Botezatu Onelus","Galati",417.7,45.11,"E",null,null,null,{"$f":"catp","v":1}]
[2266,"Surdu Marcel","Iasi",45.1,45.1,"E",null,null,null,{"$f":"catp","v":1}]
[92,"Codau Vlad","Oradea",712.4,45.05,"E",null,null,null,{"$f":"catp","v":1}]
[48,"Frunza Alexandru","Timisoara",817.1,45.03,"E",null,null,null,{"$f":"catp","v":1}]
[255,"Bleoca Marius","Tarnaveni",513.9,45.02,"E",null,null,null,{"$f":"catp","v":1}]
[668,"Uglea Mihai","Cluj Napoca",286.5,45,"E",null,null,null,{"$f":"catp","v":1}]
[838,"Voicu Ionut","Ploiesti",227.3,44.98,"E",null,null,null,{"$f":"catp","v":1}]
[871,"Nitu Victor","Slobozia",217.8,44.97,"E",null,null,null,{"$f":"catp","v":1}]
[161,"Dranca David","Aiud",584.5,44.92,"EJ",null,null,null,{"$f":"catp","v":1}]
[174,"Stefan Alexandru","Vaslui",572.4,44.91,"E",null,null,null,{"$f":"catp","v":1}]
[372,"Pascu Razvan","Magureni",431.8,44.9,"E",null,null,null,{"$f":"catp","v":1}]
[1649,"Pinzar Andrei","Medias",89.7,44.85,"E",null,null,null,{"$f":"catp","v":1}]
[761,"Welker Ivan","Sfantu Gheorghe",249,44.8,"E",null,null,null,{"$f":"catp","v":1}]
[1423,"Truta Andrei","Bucuresti",113.6,44.8,"E",null,null,null,{"$f":"catp","v":1}]
[1057,"Filip Gabriel","Bucuresti",172.7,44.77,"E",null,null,null,{"$f":"catp","v":1}]
[886,"Cristache George","Bucuresti",213.5,44.73,"E",null,null,null,{"$f":"catp","v":1}]
[1443,"Baran Virgil","Bucuresti",111.1,44.73,"E",null,null,null,{"$f":"catp","v":1}]
[46,"Muresan Robert","Surduc",831.7,44.68,"E",null,null,null,{"$f":"catp","v":1}]
[774,"Dimitriu Vasile","Bacau",244.6,44.65,"E",null,null,null,{"$f":"catp","v":1}]
[970,"Bobeico Igor","Moldova",193,44.55,"E",null,null,null,{"$f":"catp","v":1}]
[1311,"Bularda Iulian","Barlad",131.9,44.55,"EW",null,null,null,{"$f":"catp","v":1}]
[351,"Cimponeriu Ianis","Lugoj",447.4,44.54,"E",null,null,null,{"$f":"catp","v":1}]
[1107,"Bodeanu Mihai","Bucuresti",162.5,44.47,"E",null,null,null,{"$f":"catp","v":1}]
[1238,"Kiss Janos","Miercurea Ciuc",141.9,44.47,"E",null,null,null,{"$f":"catp","v":1}]
[406,"Nastasa Sergiu","Iasi",412.1,44.46,"E",null,null,null,{"$f":"catp","v":1}]
[263,"Anca Ana Maria","Ludus",509.3,44.4,"EF",null,null,null,{"$f":"catp","v":1}]
[98,"Triff Raul","Deva",692.4,44.36,"EL",null,null,null,{"$f":"catp","v":1}]
[1368,"Mihailov Valentin","Moldova-Balti",121.5,44.25,"E",null,null,null,{"$f":"catp","v":1}]
[1374,"Stoica Kewin","Dumbraveni SB",120.8,44.23,"EJ",null,null,null,{"$f":"catp","v":1}]
[332,"Put Gabriel","Oravita",461.5,44.2,"EW",null,null,null,{"$f":"catp","v":1}]
[2291,"Ciubotariu Andrei","Moinesti",44.2,44.2,"EL",null,null,null,{"$f":"catp","v":1}]
[2292,"Gyorgy Nicolett","Targu Mures",44.2,44.2,"EF",null,null,null,{"$f":"catp","v":1}]
[2569,"Rusin Iaroslav","Ucraina",33.200000000000003,44.2,"E",null,null,null,{"$f":"catp","v":1}]
[1152,"Delev Andreea","Moldova-Balti",155.69999999999999,44.17,"EF",null,null,null,{"$f":"catp","v":1}]
[348,"Spatariu Daniel","Arad",449.5,44.16,"EW",null,null,null,{"$f":"catp","v":1}]
[211,"Ankar Wasim","Timisoara",543.6,44.12,"E",null,null,null,{"$f":"catp","v":1}]
[2296,"Kiraly Pongratz","Salonta",44.1,44.1,"E",null,null,null,{"$f":"catp","v":1}]
[47,"Borcila Alexandru","Targu Neamt",821.8,44.09,"E",null,null,null,{"$f":"catp","v":1}]
[192,"Daroti Florin","Lipova",555.79999999999995,44.04,"E",null,null,null,{"$f":"catp","v":1}]
[583,"Totpal Marius","Busteni",320.8,44,"E",null,null,null,{"$f":"catp","v":1}]
[1926,"Macovei Liviu","Brasov",66,44,"E",null,null,null,{"$f":"catp","v":1}]
[2299,"Popescu Ionut","Bucuresti",44,44,"E",null,null,null,{"$f":"catp","v":1}]
[107,"Daneliuc Gabi","Selimbar",670.3,43.98,"EW",null,null,null,{"$f":"catp","v":1}]
[1379,"Didu Gabriel","Moldova",120.1,43.97,"E",null,null,null,{"$f":"catp","v":1}]
[55,"Popescu Apreotesei Mihai","Straoane",795.4,43.93,"E",null,null,null,{"$f":"catp","v":1}]
[338,"Tira Viorel","Bistrita",456.6,43.9,"EW",null,null,null,{"$f":"catp","v":1}]
[51,"Tic Ioan","Oradea",806.7,43.87,"E",null,null,null,{"$f":"catp","v":1}]
[460,"Tailbot Francois","Oradea",380.2,43.83,"E",null,null,null,{"$f":"catp","v":1}]
[453,"Alexandru Vasile","Iasi",382.2,43.81,"E",null,null,null,{"$f":"catp","v":1}]
[185,"Bucur Andrei","Blaj",559.4,43.74,"E",null,null,null,{"$f":"catp","v":1}]
[384,"Polocoser Cristian","Suceava",425.4,43.73,"EW",null,null,null,{"$f":"catp","v":1}]
[459,"Stoica Laura","Bucuresti",380.3,43.73,"EF",null,null,null,{"$f":"catp","v":1}]
[480,"Butnaru Andrei","Iasi",368.3,43.68,"E",null,null,null,{"$f":"catp","v":1}]
[132,"Morosan Alexandru","Horodnic de Sus",624.20000000000005,43.65,"ELJ",null,null,null,{"$f":"catp","v":1}]
[80,"Miclos Andrei","Dej",743,43.62,"E",null,null,null,{"$f":"catp","v":1}]
[95,"Catana Claudiu","Bucuresti",703.2,43.62,"E",null,null,null,{"$f":"catp","v":1}]
[117,"Tanc Florin","Oradea",655.8,43.6,"E",null,null,null,{"$f":"catp","v":1}]
[682,"Zgardan Razvan","Moldova-Balti",278,43.6,"E",null,null,null,{"$f":"catp","v":1}]
[1178,"Neculcea Alexandru","Moreni",151.69999999999999,43.58,"E",null,null,null,{"$f":"catp","v":1}]
[1489,"Tiron Marian","Iasi",106.9,43.57,"E",null,null,null,{"$f":"catp","v":1}]
[1010,"Rasid Aihan","Constanta",181.2,43.53,"E",null,null,null,{"$f":"catp","v":1}]
[586,"Zamfiroaia Sorin","Falticeni",320.2,43.5,"EW",null,null,null,{"$f":"catp","v":1}]
[1386,"Hotico Ciprian","Sighetu Marmatiei",119,43.5,"E",null,null,null,{"$f":"catp","v":1}]
[1096,"Vasile Gelu Iulian","Bucuresti",164.7,43.47,"EW",null,null,null,{"$f":"catp","v":1}]
[1789,"Iovdi Vasile","Ucraina",76.3,43.4,"E",null,null,null,{"$f":"catp","v":1}]
[885,"Pylypenko Vladyslav","Ucraina",213.9,43.35,"E",null,null,null,{"$f":"catp","v":1}]
[104,"Sylvester Sandor","Sfantu Gheorghe",685,43.33,"EW",null,null,null,{"$f":"catp","v":1}]
[280,"Pop Zoltan","Dej",496.4,43.32,"EW",null,null,null,{"$f":"catp","v":1}]
[1396,"Muraru Ioana","Vatra Dornei",118.2,43.3,"EF",null,null,null,{"$f":"catp","v":1}]
[495,"Colda Dorin","Lupeni",361.5,43.23,"EW",null,null,null,{"$f":"catp","v":1}]
[123,"Laszlo Levente","Miercurea Ciuc",644.9,43.2,"EW",null,null,null,{"$f":"catp","v":1}]
[1401,"Capus Giani","Galati",117.6,43.17,"E",null,null,null,{"$f":"catp","v":1}]
[474,"Metairie Benjamin","Cluj Napoca",372.3,43.05,"E",null,null,null,{"$f":"catp","v":1}]
[981,"Dragomir Cristian","Bucuresti",188.9,42.98,"E",null,null,null,{"$f":"catp","v":1}]
[358,"Cazac Victor","Moldova-Briceni",444.5,42.91,"E",null,null,null,{"$f":"catp","v":1}]
[300,"Geamanu Robert","Drobeta Tr Severin",484.2,42.89,"E",null,null,null,{"$f":"catp","v":1}]
[891,"Ionascu Gabriel","Bucuresti",212.4,42.88,"E",null,null,null,{"$f":"catp","v":1}]
[1692,"Doncea Catalin","Giurgiu",85.7,42.85,"E",null,null,null,{"$f":"catp","v":1}]
[889,"Minica Rares","Giurgiu",212.6,42.83,"E",null,null,null,{"$f":"catp","v":1}]
[52,"Ciortescu Cristi","Popeni",805.2,42.75,"E",null,null,null,{"$f":"catp","v":1}]
[60,"Gherasim Iulian","Tulcea",787.5,42.75,"E",null,null,null,{"$f":"catp","v":1}]
[64,"Moraru Ramona Cosmina","Drobeta Tr Severin",779.9,42.72,"EF",null,null,null,{"$f":"catp","v":1}]
[163,"Spoiala Cristinel","Focsani",580.6,42.72,"EW",null,null,null,{"$f":"catp","v":1}]
[53,"Avram Nicolae","Nedelea",802.7,42.68,"E",null,null,null,{"$f":"catp","v":1}]
[1133,"Orza Catalin","Suceava",158.69999999999999,42.67,"EW",null,null,null,{"$f":"catp","v":1}]
[58,"Boteanu Nicu","Bucuresti",789.9,42.64,"E",null,null,null,{"$f":"catp","v":1}]
[54,"Stoica Mihai","Hateg",799.7,42.63,"E",null,null,null,{"$f":"catp","v":1}]
[775,"Panea Ovidiu","Bucuresti",244.6,42.63,"E",null,null,null,{"$f":"catp","v":1}]
[90,"Toma Iulian","Braila",712.5,42.61,"EW",null,null,null,{"$f":"catp","v":1}]
[133,"Rojnita Sebastian","Bacau",623.4,42.59,"EW",null,null,null,{"$f":"catp","v":1}]
[1298,"Morariu Mircea","Iasi",133.1,42.5,"E",null,null,null,{"$f":"catp","v":1}]
[2605,"Radu Costica","Galati",31.9,42.5,"EW",null,null,null,{"$f":"catp","v":1}]
[462,"Vizoli Alexandru","Fagaras",377.4,42.48,"E",null,null,null,{"$f":"catp","v":1}]
[575,"Dezso Lorand","Dej",322.7,42.47,"E",null,null,null,{"$f":"catp","v":1}]
[77,"Ghizdavescu Adrian","Navodari",749.4,42.46,"E",null,null,null,{"$f":"catp","v":1}]
[113,"Gheorghita Vasile","Buzau",660.1,42.4,"E",null,null,null,{"$f":"catp","v":1}]
[1711,"Boka Norbert","Arad",84.7,42.35,"EL",null,null,null,{"$f":"catp","v":1}]
[552,"Leorda Rares","Reghin",333.5,42.32,"E",null,null,null,{"$f":"catp","v":1}]
[56,"Stancescu Sebastian","Ploiesti",793.2,42.31,"E",null,null,null,{"$f":"catp","v":1}]
[973,"Cojocaru Stefan","Suceava",191.6,42.3,"E",null,null,null,{"$f":"catp","v":1}]
[916,"Bora Nicolae","Alba Iulia",204.8,42.27,"E",null,null,null,{"$f":"catp","v":1}]
[528,"Pintilie Carol","Iasi",343.3,42.26,"EL",null,null,null,{"$f":"catp","v":1}]
[62,"Polotca Stefan","Sangeorgiu de Padure",783.8,42.25,"EW",null,null,null,{"$f":"catp","v":1}]
[149,"Vuca Adrian","Berzovia",595.29999999999995,42.24,"E",null,null,null,{"$f":"catp","v":1}]
[694,"Goleanu Remus","Marginea",275.3,42.23,"E",null,null,null,{"$f":"catp","v":1}]
[1499,"Dogaru Teodor","Bucuresti",105.8,42.23,"E",null,null,null,{"$f":"catp","v":1}]
[941,"Stefan Patrick","Brasov",200,42.18,"E",null,null,null,{"$f":"catp","v":1}]
[1413,"Dumitru Bogdan","Constanta",115.6,42.17,"E",null,null,null,{"$f":"catp","v":1}]
[1184,"Mardale Radu","Galati",150.69999999999999,42.15,"E",null,null,null,{"$f":"catp","v":1}]
[221,"Mirt Alexandru","Pascani",537,42.14,"E",null,null,null,{"$f":"catp","v":1}]
[780,"Boroleanu Robert","Bucuresti",242.9,42.13,"E",null,null,null,{"$f":"catp","v":1}]
[81,"Georgescu Constantin","Orastie",740.4,42.11,"EW",null,null,null,{"$f":"catp","v":1}]
[2329,"Djan Branislav","Varset",42.1,42.1,"E",null,null,null,{"$f":"catp","v":1}]
[2330,"Gojkov Teodora","Varset",42.1,42.1,"EF",null,null,null,{"$f":"catp","v":1}]
[2331,"Trajicevski Nikola","Pancevo",42.1,42.1,"E",null,null,null,{"$f":"catp","v":1}]
[2332,"Jovanovic Milos","Trstenik",42.1,42.1,"E",null,null,null,{"$f":"catp","v":1}]
[310,"Pizlaru Ionel","Focsani",476.9,42.03,"E",null,null,null,{"$f":"catp","v":1}]
[2333,"Murariu Ciprian","Bucuresti",42,42,"E",null,null,null,{"$f":"catp","v":1}]
[265,"Niculache Chirica","Tulcea",507.3,41.95,"E",null,null,null,{"$f":"catp","v":1}]
[1821,"Olaru Dragos","Bucuresti",73.5,41.95,"E",null,null,null,{"$f":"catp","v":1}]
[75,"Lazaroiu Adrian","Lucieni",751.4,41.92,"EW",null,null,null,{"$f":"catp","v":1}]
[1721,"Zakarias Szabolcs","Odorheiu Secuiesc",83.8,41.9,"EL",null,null,null,{"$f":"catp","v":1}]
[1808,"Horvath Tibor","Oradea",74.400000000000006,41.9,"E",null,null,null,{"$f":"catp","v":1}]
[2338,"Czigler Albert","Supuru de jos",41.9,41.9,"E",null,null,null,{"$f":"catp","v":1}]
[74,"Grubacichi Marius","Timisoara",756.8,41.89,"E",null,null,null,{"$f":"catp","v":1}]
[109,"Cozma Catalin","Falticeni",668.5,41.89,"EW",null,null,null,{"$f":"catp","v":1}]
[778,"Nicolaiciuc Ovidiu Sebastian","Iasi",244,41.88,"E",null,null,null,{"$f":"catp","v":1}]
[355,"Tatar Mihai","Simleu Silvaniei",445.4,41.87,"E",null,null,null,{"$f":"catp","v":1}]
[1415,"Picioroga Lucian","Galati",115.4,41.85,"E",null,null,null,{"$f":"catp","v":1}]
[57,"Fratea Aurel","Constanta",792.8,41.83,"EW",null,null,null,{"$f":"catp","v":1}]
[818,"Carpovici Boris","Falticeni",234.1,41.83,"EW",null,null,null,{"$f":"catp","v":1}]
[240,"Butura Vasile","Alba Iulia",526.1,41.82,"E",null,null,null,{"$f":"catp","v":1}]
[253,"Sencu Victor","Targoviste",514.70000000000005,41.8,"EW",null,null,null,{"$f":"catp","v":1}]
[238,"Dracea Gabriel","Sinaia",526.6,41.79,"E",null,null,null,{"$f":"catp","v":1}]
[201,"Badea Stefan","Targoviste",548.1,41.74,"E",null,null,null,{"$f":"catp","v":1}]
[423,"Halasz Peter","Oradea",402.4,41.67,"E",null,null,null,{"$f":"catp","v":1}]
[1144,"Petrus Florin","Alba Iulia",156.80000000000001,41.63,"E",null,null,null,{"$f":"catp","v":1}]
[134,"Ionescu Mihai","Targoviste",623.20000000000005,41.61,"E",null,null,null,{"$f":"catp","v":1}]
[1988,"Chirea Laurentiu","Targu Jiu",62.4,41.6,"E",null,null,null,{"$f":"catp","v":1}]
[128,"Popovici Ciprian","Hunedoara",630.79999999999995,41.55,"E",null,null,null,{"$f":"catp","v":1}]
[1169,"Atomei Armand","Piatra Neamt",153.4,41.53,"EW",null,null,null,{"$f":"catp","v":1}]
[65,"Badaluta Marian","Vatra Dornei",779.8,41.51,"EW",null,null,null,{"$f":"catp","v":1}]
[629,"Capusa Bogdan","Bacau",299,41.5,"EL",null,null,null,{"$f":"catp","v":1}]
[1860,"Paun Daniel","Bucuresti",71.5,41.5,"E",null,null,null,{"$f":"catp","v":1}]
[1032,"Baiburi Levent","Tulcea",177.6,41.43,"E",null,null,null,{"$f":"catp","v":1}]
[1991,"Evtei Vasile","Tulcea",62.1,41.4,"E",null,null,null,{"$f":"catp","v":1}]
[2351,"Angelescu Mihai","Bucuresti",41.3,41.3,"EL",null,null,null,{"$f":"catp","v":1}]
[70,"Istrate Cristian","Bucuresti",764.2,41.29,"EW",null,null,null,{"$f":"catp","v":1}]
[179,"Carpaci Alexandru","Ludus",563.5,41.26,"EW",null,null,null,{"$f":"catp","v":1}]
[66,"Mitrea Silviu","Navodari",777,41.21,"EW",null,null,null,{"$f":"catp","v":1}]
[2353,"Vasile Marius","Calarasi",41.2,41.2,"E",null,null,null,{"$f":"catp","v":1}]
[2354,"Sava Gabriel","Buzau",41.2,41.2,"E",null,null,null,{"$f":"catp","v":1}]
[76,"Gheorghe Nicolae","Calarasi",750.3,41.15,"EW",null,null,null,{"$f":"catp","v":1}]
[696,"Craciun David Mihai","Bucuresti",274.7,41.15,"E",null,null,null,{"$f":"catp","v":1}]
[1434,"Neagu George","Cernavoda",112.1,41.13,"E",null,null,null,{"$f":"catp","v":1}]
[1528,"Paul Cosmin Sebastian","Bucuresti",103.1,41.13,"E",null,null,null,{"$f":"catp","v":1}]
[85,"Tofeni Ovidiu","Cluj Napoca",726.4,41.11,"E",null,null,null,{"$f":"catp","v":1}]
[121,"Ilie Octavian Marius","Brasov",647.20000000000005,41.11,"E",null,null,null,{"$f":"catp","v":1}]
[71,"Negrea Olimpiu","Otelu Rosu",762.4,41.06,"E",null,null,null,{"$f":"catp","v":1}]
[166,"Radu Daniel","Bucuresti",576.6,41.01,"E",null,null,null,{"$f":"catp","v":1}]
[232,"Ghilan Romeo","Targu Neamt",532.29999999999995,41.01,"E",null,null,null,{"$f":"catp","v":1}]
[580,"Zidar Victor","Reghin",321.7,41,"EW",null,null,null,{"$f":"catp","v":1}]
[1069,"Grosan Mircea","Dej",169.1,41,"EW",null,null,null,{"$f":"catp","v":1}]
[597,"Bardas Mark","Dumbraveni SB",314.60000000000002,40.98,"EJ",null,null,null,{"$f":"catp","v":1}]
[812,"Toader Nicolae","Tulcea",235.6,40.98,"E",null,null,null,{"$f":"catp","v":1}]
[457,"Ciucioiu Dorin","Timisoara",381.1,40.92,"E",null,null,null,{"$f":"catp","v":1}]
[82,"Vaida Sorin","Oradea",734.3,40.909999999999997,"EW",null,null,null,{"$f":"catp","v":1}]
[710,"Mihalescu Dinu","Timisoara",269.10000000000002,40.9,"EW",null,null,null,{"$f":"catp","v":1}]
[1819,"Ilies Ioan","Radauti",73.900000000000006,40.9,"E",null,null,null,{"$f":"catp","v":1}]
[1863,"Stanciulescu Bogdan","Brasov",71.3,40.9,"E",null,null,null,{"$f":"catp","v":1}]
[2636,"Bolea Catalin","Bucuresti",30.7,40.9,"E",null,null,null,{"$f":"catp","v":1}]
[379,"Buga Adrian","Cluj Napoca",427.1,40.89,"E",null,null,null,{"$f":"catp","v":1}]
[697,"Ferenczy Zita","Cluj Napoca",274.60000000000002,40.82,"EFW",null,null,null,{"$f":"catp","v":1}]
[83,"Jurescu Sorin","Timisoara",733.2,40.81,"EW",null,null,null,{"$f":"catp","v":1}]
[2364,"Coroiu Andrei","Roman",40.799999999999997,40.799999999999997,"E",null,null,null,{"$f":"catp","v":1}]
[1865,"Pascal Raul","Targoviste",71.099999999999994,40.75,"EW",null,null,null,{"$f":"catp","v":1}]
[68,"Gotca Adrian","Iasi",766.2,40.729999999999997,"E",null,null,null,{"$f":"catp","v":1}]
[270,"Vasilescu Remus","Curtea de Arges",503.6,40.71,"E",null,null,null,{"$f":"catp","v":1}]
[1197,"Vitan Victor","Giurgiu",148.80000000000001,40.700000000000003,"EL",null,null,null,{"$f":"catp","v":1}]
[2366,"Preuss Adrian","Cluj Napoca",40.700000000000003,40.700000000000003,"E",null,null,null,{"$f":"catp","v":1}]
[538,"Curinnoi Andrei","Moldova-Balti",337.8,40.67,"E",null,null,null,{"$f":"catp","v":1}]
[1442,"Florescu Bogdan","Bucuresti",111.3,40.630000000000003,"EL",null,null,null,{"$f":"catp","v":1}]
[427,"Nicula Florin","Constanta",400.6,40.619999999999997,"EW",null,null,null,{"$f":"catp","v":1}]
[73,"Bejan Alexandru","Tecuci",756.9,40.57,"E",null,null,null,{"$f":"catp","v":1}]
[1177,"Teodorescu Sandica","Ramnicu Sarat",151.80000000000001,40.57,"ELFW",null,null,null,{"$f":"catp","v":1}]
[78,"Hancig Mircea","Timisoara",746.6,40.549999999999997,"E",null,null,null,{"$f":"catp","v":1}]
[301,"Lesnic Bogdan","Moldova-Briceni",483.7,40.549999999999997,"E",null,null,null,{"$f":"catp","v":1}]
[1871,"Trohonel Daniel","Bucuresti",71,40.549999999999997,"E",null,null,null,{"$f":"catp","v":1}]
[1263,"Aron Darie","Sibiu",138.9,40.53,"EW",null,null,null,{"$f":"catp","v":1}]
[2371,"Wischegg Nela","Galati",40.5,40.5,"EF",null,null,null,{"$f":"catp","v":1}]
[89,"Morosanu Vasile","Suceava",714.3,40.479999999999997,"EW",null,null,null,{"$f":"catp","v":1}]
[672,"Zarinschi Catalin","Galati",284.2,40.46,"E",null,null,null,{"$f":"catp","v":1}]
[293,"Postelnicu Mihai","Sibiu",488.6,40.44,"EW",null,null,null,{"$f":"catp","v":1}]
[1339,"Popescu Mihai Sorin","Straja",127.1,40.4,"E",null,null,null,{"$f":"catp","v":1}]
[1747,"Tipu Vlad","Iasi",80.8,40.4,"E",null,null,null,{"$f":"catp","v":1}]
[367,"Draganescu Viorel","Ploiesti",435.1,40.380000000000003,"E",null,null,null,{"$f":"catp","v":1}]
[125,"Popescu Eugen","Bucuresti",635.1,40.36,"E",null,null,null,{"$f":"catp","v":1}]
[288,"Georgiu Dragos","Vatra Dornei",492.9,40.36,"E",null,null,null,{"$f":"catp","v":1}]
[881,"Cherhat Dumitru","Cluj Napoca",215,40.35,"E",null,null,null,{"$f":"catp","v":1}]
[387,"Simulescu Adrian","Focsani",422.3,40.340000000000003,"EW",null,null,null,{"$f":"catp","v":1}]
[1299,"Cojanu Ciprian","Bucuresti",133.1,40.33,"EL",null,null,null,{"$f":"catp","v":1}]
[212,"Botanel Eduard","Rovinari",543,40.31,"E",null,null,null,{"$f":"catp","v":1}]
[419,"Bucur Mario","Bucuresti",404.1,40.31,"E",null,null,null,{"$f":"catp","v":1}]
[303,"Munteanu Sebastian","Bacau",483.3,40.29,"E",null,null,null,{"$f":"catp","v":1}]
[468,"Lacatis Ghita","Maderat",376.1,40.29,"E",null,null,null,{"$f":"catp","v":1}]
[206,"Radu Liviu","Bucov",545.70000000000005,40.26,"E",null,null,null,{"$f":"catp","v":1}]
[1749,"Makszem Szabolcs","Gheorgheni",80.5,40.25,"E",null,null,null,{"$f":"catp","v":1}]
[105,"Naghi Vlad","Hunedoara",684.8,40.24,"E",null,null,null,{"$f":"catp","v":1}]
[1750,"Hogas Flaviu Alexandru","Barlad",80.400000000000006,40.200000000000003,"E",null,null,null,{"$f":"catp","v":1}]
[2376,"Dimitrov Alexandr","Bulgaria",40.200000000000003,40.200000000000003,"E",null,null,null,{"$f":"catp","v":1}]
[2377,"Ido Moshe","Israel",40.200000000000003,40.200000000000003,"E",null,null,null,{"$f":"catp","v":1}]
[111,"Voin Doru","Bucuresti",662.7,40.18,"EW",null,null,null,{"$f":"catp","v":1}]
[175,"Preda Codrin","Piatra Neamt",570.5,40.17,"E",null,null,null,{"$f":"catp","v":1}]
[813,"Gecse Alpar","Chibed",235.6,40.15,"E",null,null,null,{"$f":"catp","v":1}]
[317,"Iordache Vlad","Bucuresti",469.4,40.130000000000003,"E",null,null,null,{"$f":"catp","v":1}]
[1387,"Raileanu Raissa","Bucuresti",119,40.049999999999997,"ELF",null,null,null,{"$f":"catp","v":1}]
[1407,"Stoica Maxim","Moldova-Cahul",116.2,40.049999999999997,"E",null,null,null,{"$f":"catp","v":1}]
[86,"Pancrat Cristian","Tulcea",721.4,40.03,"E",null,null,null,{"$f":"catp","v":1}]
[664,"Hoancea Eugen","Deva",288.2,40.03,"EW",null,null,null,{"$f":"catp","v":1}]
[846,"Croitoru Alin","Brasov",224.7,40.03,"E",null,null,null,{"$f":"catp","v":1}]
[1654,"Tascianu Cristian","Oradea",89.2,40,"E",null,null,null,{"$f":"catp","v":1}]
[2649,"Patrascu Alin","Slatina",30,40,"E",null,null,null,{"$f":"catp","v":1}]
[168,"Grigore Alexandru","Campina",575.79999999999995,39.979999999999997,"E",null,null,null,{"$f":"catp","v":1}]
[892,"Toader George","Agnita",212.4,39.97,"E",null,null,null,{"$f":"catp","v":1}]
[1566,"Mocanu Luca","Filipestii de Targ",98.5,39.950000000000003,"E",null,null,null,{"$f":"catp","v":1}]
[180,"Muresan Florin","Deva",562.20000000000005,39.94,"E",null,null,null,{"$f":"catp","v":1}]
[1135,"Szekeres Zoltan","Timisoara",158.30000000000001,39.93,"E",null,null,null,{"$f":"catp","v":1}]
[433,"Pavunev Dan","Bucuresti",396.4,39.92,"E",null,null,null,{"$f":"catp","v":1}]
[1203,"Grapina Florin","Roman",147.9,39.9,"E",null,null,null,{"$f":"catp","v":1}]
[2385,"Moldovan Cristian","Tarnaveni",39.9,39.9,"E",null,null,null,{"$f":"catp","v":1}]
[84,"Burghelea Florin","Piatra Neamt",733,39.89,"EW",null,null,null,{"$f":"catp","v":1}]
[249,"Buruiana Petru","Piatra Neamt",518.70000000000005,39.869999999999997,"E",null,null,null,{"$f":"catp","v":1}]
[779,"Puiu Dragos","Ploiesti",243.9,39.85,"E",null,null,null,{"$f":"catp","v":1}]
[680,"Plamada Lucian","Iasi",280,39.840000000000003,"E",null,null,null,{"$f":"catp","v":1}]
[959,"Parnica Leonid","Moinesti",195.8,39.78,"EW",null,null,null,{"$f":"catp","v":1}]
[443,"Andone Claudiu","Cugir",392,39.770000000000003,"EW",null,null,null,{"$f":"catp","v":1}]
[114,"Borsan David","Cluj Napoca",659.5,39.74,"E",null,null,null,{"$f":"catp","v":1}]
[110,"Ciuca Dan","Pitesti",662.9,39.729999999999997,"E",null,null,null,{"$f":"catp","v":1}]
[721,"Avram Antonio","Pitesti",263.7,39.729999999999997,"EL",null,null,null,{"$f":"catp","v":1}]
[814,"Soare Valentin","Valenii de Munte",234.8,39.700000000000003,"EW",null,null,null,{"$f":"catp","v":1}]
[2389,"Petrovic Zeljko","Belgrad",39.700000000000003,39.700000000000003,"E",null,null,null,{"$f":"catp","v":1}]
[2390,"Bugarcic Ivan","Belgrad",39.700000000000003,39.700000000000003,"E",null,null,null,{"$f":"catp","v":1}]
[2391,"Simic Milovan","Belgrad",39.700000000000003,39.700000000000003,"E",null,null,null,{"$f":"catp","v":1}]
[2392,"Dragoljevic Branko","Novi Sad",39.700000000000003,39.700000000000003,"E",null,null,null,{"$f":"catp","v":1}]
[2660,"Shon Eiikhenbaum","Israel",29.8,39.700000000000003,"E",null,null,null,{"$f":"catp","v":1}]
[1759,"Finaru Razvan","Bucuresti",79.3,39.65,"E",null,null,null,{"$f":"catp","v":1}]
[986,"Acatrinei Lucian","Bucuresti",187.2,39.6,"E",null,null,null,{"$f":"catp","v":1}]
[102,"Ursulescu Ioan","Bacau",687.4,39.549999999999997,"EW",null,null,null,{"$f":"catp","v":1}]
[126,"Balauca Cornel","Botosani",634.6,39.549999999999997,"E",null,null,null,{"$f":"catp","v":1}]
[556,"Tataru Tiberiu","Targu Jiu",329.1,39.549999999999997,"E",null,null,null,{"$f":"catp","v":1}]
[101,"Migea Cornel","Sibiu",688,39.479999999999997,"EW",null,null,null,{"$f":"catp","v":1}]
[187,"Sorescu Mircea","Paulesti",558,39.479999999999997,"EW",null,null,null,{"$f":"catp","v":1}]
[235,"Motorga Dorin","Targu Mures",528.6,39.46,"EW",null,null,null,{"$f":"catp","v":1}]
[91,"Alexandru Marius","Bucuresti",712.5,39.409999999999997,"E",null,null,null,{"$f":"catp","v":1}]
[1467,"Badescu Andrei","Bucuresti",108.8,39.4,"ELJ",null,null,null,{"$f":"catp","v":1}]
[1886,"Potarniche Bianca","Buzau",70,39.4,"EF",null,null,null,{"$f":"catp","v":1}]
[164,"Dirlea Ioan","Aiud",579.29999999999995,39.39,"EDW",null,null,null,{"$f":"catp","v":1}]
[1269,"Chirila Robert","Bucuresti",137.6,39.35,"E",null,null,null,{"$f":"catp","v":1}]
[196,"Candea Ana Nasta","Bucuresti",554.5,39.340000000000003,"EF",null,null,null,{"$f":"catp","v":1}]
[2031,"Badea Marian","Buftea",59,39.299999999999997,"E",null,null,null,{"$f":"catp","v":1}]
[2032,"Barsa Ioan","Moinesti",59,39.299999999999997,"E",null,null,null,{"$f":"catp","v":1}]
[2396,"Constantinescu Marius","Bucuresti",39.299999999999997,39.299999999999997,"EW",null,null,null,{"$f":"catp","v":1}]
[1265,"Todarcea Ioan","Sibiu",138.5,39.28,"E",null,null,null,{"$f":"catp","v":1}]
[229,"Poenariu Darius","Arad",533.29999999999995,39.25,"E",null,null,null,{"$f":"catp","v":1}]
[1465,"Nicoara Ovidiu","Curtea de Arges",108.9,39.200000000000003,"E",null,null,null,{"$f":"catp","v":1}]
[487,"Petrescu Claudiu","Putna",366.6,39.19,"E",null,null,null,{"$f":"catp","v":1}]
[590,"Tigau Dan","Bucuresti",319.3,39.159999999999997,"EW",null,null,null,{"$f":"catp","v":1}]
[1569,"Musat Catalin","Alexandria",98.4,39.15,"E",null,null,null,{"$f":"catp","v":1}]
[1903,"Patapi Alexandru","Moldova-Balti",68.599999999999994,39.15,"E",null,null,null,{"$f":"catp","v":1}]
[1243,"Iordan Marc Gabriel","Bucuresti",141.1,39.130000000000003,"EL",null,null,null,{"$f":"catp","v":1}]
[1770,"Laszlo Barna","Cristuru Secuiesc",78.2,39.1,"EL",null,null,null,{"$f":"catp","v":1}]
[1896,"Pop Stefan","Zalau",69.2,39.1,"E",null,null,null,{"$f":"catp","v":1}]
[1914,"Kolumban David","Targu Mures",67.099999999999994,39.1,"E",null,null,null,{"$f":"catp","v":1}]
[2398,"Tepelea Ioana","Bucuresti",39.1,39.1,"EF",null,null,null,{"$f":"catp","v":1}]
[2399,"Chira Camelia","Baia Mare",39.1,39.1,"EF",null,null,null,{"$f":"catp","v":1}]
[2672,"Fota Alexandra","Drobeta Tr Severin",29.4,39.1,"EF",null,null,null,{"$f":"catp","v":1}]
[585,"Benyi Crinel","Tarnaveni",320.3,39.07,"E",null,null,null,{"$f":"catp","v":1}]
[2401,"Dragan Florin","Targu Mures",39,39,"E",null,null,null,{"$f":"catp","v":1}]
[786,"Dumbrava Doru","Bucuresti",241.1,38.979999999999997,"EW",null,null,null,{"$f":"catp","v":1}]
[390,"Trocaru Remus","Tulcea",419.9,38.97,"EW",null,null,null,{"$f":"catp","v":1}]
[566,"Scutaru Iulian","Bucuresti",325.10000000000002,38.97,"E",null,null,null,{"$f":"catp","v":1}]
[1369,"Gavrila Aurel","Bucuresti",121.2,38.97,"EDW",null,null,null,{"$f":"catp","v":1}]
[650,"Sandu Andrei","Sibiu",292,38.950000000000003,"E",null,null,null,{"$f":"catp","v":1}]
[1776,"Cebotari Alexandru","Iasi",77.900000000000006,38.950000000000003,"E",null,null,null,{"$f":"catp","v":1}]
[1470,"Fonariuc Denis","Iasi",108.4,38.93,"E",null,null,null,{"$f":"catp","v":1}]
[237,"Paduret Andrei","Bacau",527.4,38.909999999999997,"E",null,null,null,{"$f":"catp","v":1}]
[2403,"Pascal Igor","Moldova",38.9,38.9,"E",null,null,null,{"$f":"catp","v":1}]
[171,"Ardelean Raul","Lipova",574.5,38.840000000000003,"E",null,null,null,{"$f":"catp","v":1}]
[486,"Miron Mihai","Cluj Napoca",366.7,38.82,"ED",null,null,null,{"$f":"catp","v":1}]
[148,"Toma David","Bucuresti",595.6,38.799999999999997,"EL",null,null,null,{"$f":"catp","v":1}]
[1778,"Manta Viorel","Baicoi",77.599999999999994,38.799999999999997,"EW",null,null,null,{"$f":"catp","v":1}]
[2685,"Arabagiu Marius","Bucuresti",29.1,38.799999999999997,"E",null,null,null,{"$f":"catp","v":1}]
[231,"Radu Cosmin","Ludus",532.9,38.79,"E",null,null,null,{"$f":"catp","v":1}]
[366,"Rausche Valentin","Tulcea",435.3,38.74,"E",null,null,null,{"$f":"catp","v":1}]
[96,"Bilt Catalin","Suceava",702,38.72,"E",null,null,null,{"$f":"catp","v":1}]
[2052,"Raducanu Ioana","Bucuresti",58.1,38.700000000000003,"ELF",null,null,null,{"$f":"catp","v":1}]
[106,"Peta Octavian","Cluj Napoca",681.2,38.69,"EW",null,null,null,{"$f":"catp","v":1}]
[751,"Kovacs Istvan","Miercurea Ciuc",250.4,38.65,"E",null,null,null,{"$f":"catp","v":1}]
[398,"Drinceanu Lilian","Oravita",416.8,38.6,"E",null,null,null,{"$f":"catp","v":1}]
[2059,"Vonhaz Stefan","Oradea",57.9,38.6,"E",null,null,null,{"$f":"catp","v":1}]
[1233,"Crainic Adrian","Orastie",142.6,38.57,"E",null,null,null,{"$f":"catp","v":1}]
[1934,"Balanean David","Zalau",65.400000000000006,38.549999999999997,"E",null,null,null,{"$f":"catp","v":1}]
[421,"Dangulea Tudor","Dumbraveni SB",403.3,38.51,"EL",null,null,null,{"$f":"catp","v":1}]
[418,"Marola Mihai","Bacau",405.8,38.5,"E",null,null,null,{"$f":"catp","v":1}]
[563,"Szekely Karoly","Sangeorgiu de Mures",325.3,38.49,"E",null,null,null,{"$f":"catp","v":1}]
[1101,"Bocaniala Norocel","Bucuresti",163.9,38.479999999999997,"E",null,null,null,{"$f":"catp","v":1}]
[695,"Acsinte Oana","Bucuresti",274.89999999999998,38.450000000000003,"EFW",null,null,null,{"$f":"catp","v":1}]
[177,"Braniste George","Bacau",568.4,38.44,"E",null,null,null,{"$f":"catp","v":1}]
[1351,"Oprea Adrian","Lugoj",124.2,38.4,"E",null,null,null,{"$f":"catp","v":1}]
[145,"Nistor Iosif","Miercurea Ciuc",600.9,38.380000000000003,"EDW",null,null,null,{"$f":"catp","v":1}]
[1590,"Matei Marius","Galati",96.5,38.369999999999997,"E",null,null,null,{"$f":"catp","v":1}]
[1347,"Florescu Eleodor","Deva",125.9,38.33,"E",null,null,null,{"$f":"catp","v":1}]
[2417,"Orha Andrei","Targu Mures",38.299999999999997,38.299999999999997,"E",null,null,null,{"$f":"catp","v":1}]
[856,"Marcu Rares","Iasi",220.6,38.28,"E",null,null,null,{"$f":"catp","v":1}]
[571,"Kincses Jozsef","Praid",323.60000000000002,38.270000000000003,"E",null,null,null,{"$f":"catp","v":1}]
[835,"Dicu Vlad","Vaslui",228.7,38.25,"E",null,null,null,{"$f":"catp","v":1}]
[1250,"Fritea Raul","Marghita",140.4,38.229999999999997,"E",null,null,null,{"$f":"catp","v":1}]
[108,"Palencsar Nicolae","Satu Mare",669,38.21,"EW",null,null,null,{"$f":"catp","v":1}]
[414,"Ene Dragos","Ploiesti",408.2,38.200000000000003,"E",null,null,null,{"$f":"catp","v":1}]
[254,"Papacu Bejoli","Bucuresti",514.1,38.15,"EW",null,null,null,{"$f":"catp","v":1}]
[402,"Baca Stefan","Bucuresti",414.5,38.1,"E",null,null,null,{"$f":"catp","v":1}]
[1791,"Stoica Iuri","Moldova-Cahul",76.2,38.1,"E",null,null,null,{"$f":"catp","v":1}]
[2703,"Ilie Marian","Rascaeti",28.6,38.1,"E",null,null,null,{"$f":"catp","v":1}]
[435,"Weiss Simona","Cisnadie",395.8,38.090000000000003,"EF",null,null,null,{"$f":"catp","v":1}]
[1245,"Tincu Laurentiu","Sibiu",140.6,38.03,"E",null,null,null,{"$f":"catp","v":1}]
[151,"Toplician Mihai","Hunedoara",593.79999999999995,38,"EL",null,null,null,{"$f":"catp","v":1}]
[189,"Borsan Petru","Cluj Napoca",556.5,38,"EJ",null,null,null,{"$f":"catp","v":1}]
[561,"Crisan Alexandru","Cluj Napoca",326.10000000000002,38,"EL",null,null,null,{"$f":"catp","v":1}]
[641,"Cristea Daniel","Bistrita",294.8,38,"EL",null,null,null,{"$f":"catp","v":1}]
[1099,"Pandele Ionel","Giurgiu",164.3,38,"ELW",null,null,null,{"$f":"catp","v":1}]
[1310,"Palangean Iris","Giurgiu",132.1,38,"ELF",null,null,null,{"$f":"catp","v":1}]
[1526,"Luca Octavian","Tulcea",103.3,38,"EL",null,null,null,{"$f":"catp","v":1}]
[1935,"Marchis Alexandra","Cluj Napoca",65.400000000000006,38,"ELFW",null,null,null,{"$f":"catp","v":1}]
[2718,"Tuta Radu Ionut","Pitesti",28,38,"EL",null,null,null,{"$f":"catp","v":1}]
[2928,"Popescu Adrian","Dumbravita",22.5,38,"EL",null,null,null,{"$f":"catp","v":1}]
[342,"Palaghianu Mattia","Salcea",454.7,37.99,"O",null,null,null,{"$f":"catp","v":2}]
[1259,"Singeorzan Corneliu","Bistrita",139.1,37.97,"O",null,null,null,{"$f":"catp","v":2}]
[928,"Kiraly Florin","Satu Mare",202,37.950000000000003,"O",null,null,null,{"$f":"catp","v":2}]
[1303,"Firica Lucian","Constanta",132.80000000000001,37.93,"O",null,null,null,{"$f":"catp","v":2}]
[1924,"Banescu Dragos","Pitesti",66.3,37.9,"O",null,null,null,{"$f":"catp","v":2}]
[1201,"Buciu Cristina","Bucuresti",148.19999999999999,37.770000000000003,"OF",null,null,null,{"$f":"catp","v":2}]
[158,"Lita Gabriel","Bucuresti",589,37.729999999999997,"O",null,null,null,{"$f":"catp","v":2}]
[1231,"Todor Cristian","Oradea",143.1,37.729999999999997,"OW",null,null,null,{"$f":"catp","v":2}]
[1931,"Lepadatu Marius","Priboieni",65.7,37.700000000000003,"O",null,null,null,{"$f":"catp","v":2}]
[811,"Gyorfi Szabolcs","Gheorgheni",235.7,37.68,"O",null,null,null,{"$f":"catp","v":2}]
[1932,"Tudosi Petru","Suceava",65.599999999999994,37.6,"O",null,null,null,{"$f":"catp","v":2}]
[1322,"Badea Daniel","Targoviste",130.30000000000001,37.57,"O",null,null,null,{"$f":"catp","v":2}]
[1927,"Iancu Sorin","Sibiu",66,37.549999999999997,"O",null,null,null,{"$f":"catp","v":2}]
[2085,"Murariu Miruna","Moinesti",56.4,37.549999999999997,"OF",null,null,null,{"$f":"catp","v":2}]
[94,"Sursilov Constantin","Bucuresti",710.3,37.53,"O",null,null,null,{"$f":"catp","v":2}]
[103,"Albescu Constantin Ionut","Bucuresti",686.7,37.53,"O",null,null,null,{"$f":"catp","v":2}]
[2432,"Ardeljan Marinel","Varset",37.5,37.5,"O",null,null,null,{"$f":"catp","v":2}]
[2433,"Vucetic Ivan","Vlajkovac",37.5,37.5,"O",null,null,null,{"$f":"catp","v":2}]
[2434,"Zagorac Novak","Lokve",37.5,37.5,"O",null,null,null,{"$f":"catp","v":2}]
[501,"Bardas Patrick","Dumbraveni SB",356,37.49,"O",null,null,null,{"$f":"catp","v":2}]
[341,"Vlaisan Vasile","Vicovu de Jos",454.8,37.47,"O",null,null,null,{"$f":"catp","v":2}]
[1928,"Tanase Adelina","Bucuresti",66,37.450000000000003,"OLF",null,null,null,{"$f":"catp","v":2}]
[1954,"Dabija Razvan","Iasi",64.2,37.450000000000003,"O",null,null,null,{"$f":"catp","v":2}]
[272,"Stroe Ionel","Bacau",503.1,37.43,"O",null,null,null,{"$f":"catp","v":2}]
[319,"Degianschi Obrad","Resita",466.6,37.39,"O",null,null,null,{"$f":"catp","v":2}]
[147,"Sirbu Lucian","Drobeta Tr Severin",597.29999999999995,37.33,"O",null,null,null,{"$f":"catp","v":2}]
[531,"Andrei Radu Alexandru","Iasi",342.9,37.33,"O",null,null,null,{"$f":"catp","v":2}]
[1529,"Morar Alin","Alba Iulia",103,37.299999999999997,"O",null,null,null,{"$f":"catp","v":2}]
[276,"Sovea Sorin","Suceava",498.4,37.29,"O",null,null,null,{"$f":"catp","v":2}]
[219,"Leolea Andrei","Constanta",537.6,37.26,"OW",null,null,null,{"$f":"catp","v":2}]
[2442,"Jimmy Lu","Bucuresti",37.200000000000003,37.200000000000003,"O",null,null,null,{"$f":"catp","v":2}]
[1809,"Pop Claudiu","Arad",74.3,37.15,"O",null,null,null,{"$f":"catp","v":2}]
[1083,"Coiov Nicolae","Arad",167.1,37.130000000000003,"O",null,null,null,{"$f":"catp","v":2}]
[1090,"Croitoru Alexandru","Iasi",165.9,37.1,"O",null,null,null,{"$f":"catp","v":2}]
[1537,"Iosip Radu Gabriel","Barlad",102.2,37.1,"O",null,null,null,{"$f":"catp","v":2}]
[1623,"Popa Ionut","Moreni",93.4,37.1,"O",null,null,null,{"$f":"catp","v":2}]
[521,"Holban Dumitru","Buzau",345.9,37.049999999999997,"O",null,null,null,{"$f":"catp","v":2}]
[699,"Vlaisan Georgica","Vicovu de Jos",274.2,37,"O",null,null,null,{"$f":"catp","v":2}]
[1262,"Lescinscaia Inna","Moldova-Balti",139,36.97,"OF",null,null,null,{"$f":"catp","v":2}]
[613,"Denes Ferenc","Praid",306.7,36.93,"OW",null,null,null,{"$f":"catp","v":2}]
[2728,"Parvu Nicolae","Resita",27.7,36.9,"O",null,null,null,{"$f":"catp","v":2}]
[508,"Lup Silviu","Oradea",350.9,36.89,"O",null,null,null,{"$f":"catp","v":2}]
[864,"Benderschi Alexandru","Moldova-Briceni",218.9,36.880000000000003,"O"]
[466,"Curtea Daniel","Viseu",376.6,36.869999999999997,"O",null,null,null,{"$f":"catp","v":2}]
[1001,"Gheorghe Nicu","Drobeta Tr Severin",183.4,36.869999999999997,"OW",null,null,null,{"$f":"catp","v":2}]
[711,"Liahu Doru","Botosani",269,36.83,"O",null,null,null,{"$f":"catp","v":2}]
[1340,"Cudalbu Ciprian","Ploiesti",127.1,36.799999999999997,"O",null,null,null,{"$f":"catp","v":2}]
[2451,"Uta Gheorghe","Bucuresti",36.799999999999997,36.799999999999997,"O",null,null,null,{"$f":"catp","v":2}]
[1823,"Martinas Marius","Iasi",73.400000000000006,36.700000000000003,"O",null,null,null,{"$f":"catp","v":2}]
[2454,"Baiu Lacramioara","Iasi",36.700000000000003,36.700000000000003,"OF",null,null,null,{"$f":"catp","v":2}]
[2455,"Miculescu Alexandru","Iasi",36.700000000000003,36.700000000000003,"O",null,null,null,{"$f":"catp","v":2}]
[2730,"Munteanu Petrisor","Iasi",27.6,36.700000000000003,"O",null,null,null,{"$f":"catp","v":2}]
[448,"Pasoveanu Silvian","Bucuresti",387.1,36.65,"O",null,null,null,{"$f":"catp","v":2}]
[99,"Orban Alexandru","Lugoj",689.6,36.57,"O",null,null,null,{"$f":"catp","v":2}]
[267,"Ghiorghiu Dragos","Iasi",506.5,36.54,"O",null,null,null,{"$f":"catp","v":2}]
[1542,"Mandru Ionel","Calarasi",101.8,36.5,"O",null,null,null,{"$f":"catp","v":2}]
[2739,"Roman Ovidiu","Maieru",27.4,36.5,"O",null,null,null,{"$f":"catp","v":2}]
[2740,"Valean Adrian","Bistrita",27.4,36.5,"O",null,null,null,{"$f":"catp","v":2}]
[258,"Zavricescu George","Curtea de Arges",511.9,36.479999999999997,"OW",null,null,null,{"$f":"catp","v":2}]
[934,"Nagy Eduard","Deva",201.4,36.450000000000003,"O",null,null,null,{"$f":"catp","v":2}]
[1972,"Ionescu Vlad","Buzau",63,36.450000000000003,"OJ",null,null,null,{"$f":"catp","v":2}]
[2744,"Orosz Attila","Miercurea Ciuc",27.3,36.4,"O",null,null,null,{"$f":"catp","v":2}]
[184,"Marin Puiu","Amarastii de Sus",560,36.380000000000003,"OW",null,null,null,{"$f":"catp","v":2}]
[408,"Negrean Ioan","Sibiu",410,36.36,"O",null,null,null,{"$f":"catp","v":2}]
[322,"Patrascu Dorin","Pitesti",465.4,36.31,"OW",null,null,null,{"$f":"catp","v":2}]
[2467,"Dragoi Andrei","Azuga",36.299999999999997,36.299999999999997,"O",null,null,null,{"$f":"catp","v":2}]
[2468,"Nuta Mario","Pitesti",36.299999999999997,36.299999999999997,"O",null,null,null,{"$f":"catp","v":2}]
[2469,"Badescu Vicentiu","Campulung Muscel",36.299999999999997,36.299999999999997,"O",null,null,null,{"$f":"catp","v":2}]
[155,"Sterczer Sandor","Sanzieni",592.4,36.25,"O",null,null,null,{"$f":"catp","v":2}]
[1093,"Totos Ludovic","Marghita",165.3,36.25,"O",null,null,null,{"$f":"catp","v":2}]
[136,"Ojog Petrisor","Bacau",618.79999999999995,36.24,"OW",null,null,null,{"$f":"catp","v":2}]
[228,"Kriszta Arpad Lorand","Sanpaul",534.1,36.22,"O",null,null,null,{"$f":"catp","v":2}]
[549,"Morosan Marian","Suceava",334.9,36.22,"O",null,null,null,{"$f":"catp","v":2}]
[2748,"Chicou Nikita","Franta",27.2,36.200000000000003,"OF",null,null,null,{"$f":"catp","v":2}]
[250,"Man Cristina","Targu Mures",518.4,36.19,"OF",null,null,null,{"$f":"catp","v":2}]
[1304,"Simion Cristi","Targu Jiu",132.80000000000001,36.17,"O",null,null,null,{"$f":"catp","v":2}]
[1078,"Nicolae Alyn","Bucuresti",167.8,36.130000000000003,"O",null,null,null,{"$f":"catp","v":2}]
[295,"Butoi Aurel","Caracal",487.8,36.11,"O",null,null,null,{"$f":"catp","v":2}]
[655,"Usatenco Igori","Ucraina",290,36.1,"O",null,null,null,{"$f":"catp","v":2}]
[1838,"Bruma Ovidiu","Popesti Leordeni",72.2,36.1,"O",null,null,null,{"$f":"catp","v":2}]
[1968,"But Victor","Moldova-Comrat",63.1,36.1,"O",null,null,null,{"$f":"catp","v":2}]
[215,"Vaszi Denes","Miercurea Ciuc",539.5,36,"O",null,null,null,{"$f":"catp","v":2}]
[1077,"Dumitru Traian","Bucuresti",167.9,36,"OW",null,null,null,{"$f":"catp","v":2}]
[1843,"Todi Dumitru","Slobozia",72,36,"O",null,null,null,{"$f":"catp","v":2}]
[2477,"Minza Alexandru","Bucuresti",36,36,"O",null,null,null,{"$f":"catp","v":2}]
[2478,"Radulescu Marian","Bucuresti",36,36,"O",null,null,null,{"$f":"catp","v":2}]
[537,"Mihaila Nicolae","Breaza",337.9,35.979999999999997,"OW",null,null,null,{"$f":"catp","v":2}]
[1071,"Merai Janos","Oradea",168.7,35.979999999999997,"O",null,null,null,{"$f":"catp","v":2}]
[524,"Balla Peter","Toplita",344.9,35.96,"O",null,null,null,{"$f":"catp","v":2}]
[1597,"Groza Florin","Cluj Napoca",96,35.9,"OW",null,null,null,{"$f":"catp","v":2}]
[172,"Bunea Adrian","Ploiesti",573.4,35.89,"O",null,null,null,{"$f":"catp","v":2}]
[547,"Prodan Alexandru","Tarnaveni",335.7,35.89,"O",null,null,null,{"$f":"catp","v":2}]
[464,"Popet Doru","Timisoara",377.2,35.880000000000003,"OW",null,null,null,{"$f":"catp","v":2}]
[330,"Dimache Maria","Brasov",462.7,35.86,"OF",null,null,null,{"$f":"catp","v":2}]
[1854,"Gargalic Marina","Moldova-Avdarma",71.599999999999994,35.799999999999997,"OF",null,null,null,{"$f":"catp","v":2}]
[2753,"Radu Aurel","Bucuresti",26.9,35.799999999999997,"O",null,null,null,{"$f":"catp","v":2}]
[289,"Puscas Darius","Gherla",492.5,35.78,"O",null,null,null,{"$f":"catp","v":2}]
[129,"Husa Gelu","Zalau",627.6,35.72,"ODW",null,null,null,{"$f":"catp","v":2}]
[363,"Cazacu Florin","Vatra Dornei",438.8,35.72,"O",null,null,null,{"$f":"catp","v":2}]
[676,"Dragos Matei","Brasov",281.89999999999998,35.72,"O",null,null,null,{"$f":"catp","v":2}]
[559,"Boca Timotei","Salcea",327.2,35.71,"O",null,null,null,{"$f":"catp","v":2}]
[1780,"Serban Leonard","Bucuresti",77.5,35.700000000000003,"O",null,null,null,{"$f":"catp","v":2}]
[247,"Bubulac Cristi","Piatra Neamt",519.70000000000005,35.68,"O",null,null,null,{"$f":"catp","v":2}]
[1206,"Sobetkii Arcadii","Bucuresti",147.4,35.68,"O",null,null,null,{"$f":"catp","v":2}]
[1320,"Cazacu Valentin","Pitesti",130.5,35.65,"O",null,null,null,{"$f":"catp","v":2}]
[576,"Orban Adrian","Apahida",322.60000000000002,35.64,"O",null,null,null,{"$f":"catp","v":2}]
[1173,"Ivan Sorin Ioan","Targoviste",153.19999999999999,35.630000000000003,"O",null,null,null,{"$f":"catp","v":2}]
[359,"Veres Francisc","Oravita",443.7,35.6,"O",null,null,null,{"$f":"catp","v":2}]
[1091,"Boznea Daniel","Deva",165.6,35.6,"O",null,null,null,{"$f":"catp","v":2}]
[1202,"Anton Cristian","Tulcea",148,35.6,"O",null,null,null,{"$f":"catp","v":2}]
[1977,"Casim Igor","Moldova-Avdarma",62.8,35.6,"O",null,null,null,{"$f":"catp","v":2}]
[2487,"Nicolaev Toma","Bulgaria",35.6,35.6,"O",null,null,null,{"$f":"catp","v":2}]
[533,"Vilculescu Vlad","Timisoara",340.1,35.58,"O",null,null,null,{"$f":"catp","v":2}]
[906,"Sarca Ovidiu","Marghita",206.3,35.53,"O",null,null,null,{"$f":"catp","v":2}]
[1014,"Padurariu Costel","Brasov",180.8,35.5,"O",null,null,null,{"$f":"catp","v":2}]
[1520,"Pop Ioan Florin","Lugoj",103.7,35.5,"O",null,null,null,{"$f":"catp","v":2}]
[2491,"Panic Dejan","Ram",35.5,35.5,"O",null,null,null,{"$f":"catp","v":2}]
[2759,"Pintilie Vlad","Iasi",26.7,35.5,"O",null,null,null,{"$f":"catp","v":2}]
[1221,"Vieriu Teodora","Vatra Dornei",145.6,35.479999999999997,"OF",null,null,null,{"$f":"catp","v":2}]
[1875,"Mihailov Victoria","Moldova-Balti",70.900000000000006,35.450000000000003,"OF",null,null,null,{"$f":"catp","v":2}]
[1969,"Mal Calin","Baia Mare",63.1,35.450000000000003,"O",null,null,null,{"$f":"catp","v":2}]
[2001,"Bujoi Emanuel","Braila",61.4,35.4,"O",null,null,null,{"$f":"catp","v":2}]
[2497,"Aiben Robert","Tasnad",35.4,35.4,"O",null,null,null,{"$f":"catp","v":2}]
[2498,"Demjen Eszter","Zalau",35.4,35.4,"OF",null,null,null,{"$f":"catp","v":2}]
[2763,"Ionescu Bogdan","Buzau",26.6,35.4,"O",null,null,null,{"$f":"catp","v":2}]
[2764,"Graniceru Andra","Buzau",26.6,35.4,"OF",null,null,null,{"$f":"catp","v":2}]
[1878,"Badescu Stefan","Campulung Muscel",70.7,35.35,"O",null,null,null,{"$f":"catp","v":2}]
[285,"Androne Daniel","Petrila",493.7,35.340000000000003,"O",null,null,null,{"$f":"catp","v":2}]
[930,"Turcescu Stefan","Pitesti",201.9,35.299999999999997,"O",null,null,null,{"$f":"catp","v":2}]
[1044,"Maxim Alexandru","Oradea",174.9,35.28,"O",null,null,null,{"$f":"catp","v":2}]
[135,"Panaitescu Stefan","Izvoarele",622.5,35.21,"O",null,null,null,{"$f":"catp","v":2}]
[952,"Marian Bogdan","Ploiesti",197.3,35.200000000000003,"OW",null,null,null,{"$f":"catp","v":2}]
[1553,"Stanciu Stelian","Calarasi",100.2,35.200000000000003,"OW",null,null,null,{"$f":"catp","v":2}]
[1652,"Ionita Valentin","Galati",89.5,35.200000000000003,"O",null,null,null,{"$f":"catp","v":2}]
[2504,"Colcer Nicolae","Toplita",35.200000000000003,35.200000000000003,"OW",null,null,null,{"$f":"catp","v":2}]
[1188,"Rosca Niculai","Galanesti",149.9,35.17,"OW",null,null,null,{"$f":"catp","v":2}]
[816,"Seres Szabolcs","Crasna",234.3,35.130000000000003,"O",null,null,null,{"$f":"catp","v":2}]
[2774,"Trusculescu Anastasia","Drobeta Tr Severin",26.4,35.1,"OF",null,null,null,{"$f":"catp","v":2}]
[1662,"Vale Nelu","Zalau",88.4,35.07,"O",null,null,null,{"$f":"catp","v":2}]
[251,"Bucur Dan","Cisnadie",515.70000000000005,35.04,"OW",null,null,null,{"$f":"catp","v":2}]
[436,"Mihalache Remus","Plopeni SV",395.5,35.03,"O",null,null,null,{"$f":"catp","v":2}]
[1015,"Axinte Tiberius","Iasi",180.8,35.03,"O",null,null,null,{"$f":"catp","v":2}]
[1183,"Rosu Adrian","Timisoara",150.80000000000001,35,"O",null,null,null,{"$f":"catp","v":2}]
[1996,"Gelei Kristof","Odorheiu Secuiesc",61.8,34.950000000000003,"O",null,null,null,{"$f":"catp","v":2}]
[2021,"Tintas Adrian","Sighetu Marmatiei",59.5,34.950000000000003,"O",null,null,null,{"$f":"catp","v":2}]
[294,"Lovin Eusebiu","Comanesti",488.5,34.93,"OW",null,null,null,{"$f":"catp","v":2}]
[278,"Jichici Svetozar","Timisoara",496.9,34.9,"OW",null,null,null,{"$f":"catp","v":2}]
[1596,"Gherghel Cristian","Fagaras",96.1,34.9,"O",null,null,null,{"$f":"catp","v":2}]
[839,"Sas Tibor","Oradea",226.6,34.85,"O",null,null,null,{"$f":"catp","v":2}]
[1060,"Kovacs Eduard","Balan",171.6,34.85,"O",null,null,null,{"$f":"catp","v":2}]
[489,"Cretu Ionut","Bucuresti",365.7,34.799999999999997,"O",null,null,null,{"$f":"catp","v":2}]
[1892,"Pufic Darko","Kladovo Serbia",69.599999999999994,34.799999999999997,"O",null,null,null,{"$f":"catp","v":2}]
[1599,"Medve Mihai","Reghin",95.9,34.770000000000003,"O",null,null,null,{"$f":"catp","v":2}]
[1306,"Croitoru Gabriel","Craiova",132.6,34.700000000000003,"O",null,null,null,{"$f":"catp","v":2}]
[739,"Boata Edgar","Arad",256.60000000000002,34.6,"O",null,null,null,{"$f":"catp","v":2}]
[1897,"Urzica Ioan","Toplita",69.2,34.6,"O",null,null,null,{"$f":"catp","v":2}]
[2789,"Hauptkorn Martin","Germania",26,34.6,"O",null,null,null,{"$f":"catp","v":2}]
[286,"Tamsa Titus","Resita",493.7,34.58,"O",null,null,null,{"$f":"catp","v":2}]
[1476,"Saitan Claudiu","Bucuresti",108,34.57,"O",null,null,null,{"$f":"catp","v":2}]
[1519,"Volvovics Adrian","Oradea",103.9,34.57,"O",null,null,null,{"$f":"catp","v":2}]
[869,"Bothazan Florin","Dej",217.9,34.53,"OD",null,null,null,{"$f":"catp","v":2}]
[2526,"Mihai Gabriel","Galati",34.5,34.5,"O",null,null,null,{"$f":"catp","v":2}]
[302,"Iliuta Marius Iustin","Videle",483.4,34.479999999999997,"O",null,null,null,{"$f":"catp","v":2}]
[522,"Vioreanu Cristian","Dumbraveni SB",345.3,34.44,"O",null,null,null,{"$f":"catp","v":2}]
[1020,"Postole Luca","Buzau",179.8,34.43,"O",null,null,null,{"$f":"catp","v":2}]
[849,"Gorum Adrian","Topoloveni",224,34.4,"OW",null,null,null,{"$f":"catp","v":2}]
[1696,"Burucenco Vadim","Moldova-Chisinau",85.5,34.4,"O",null,null,null,{"$f":"catp","v":2}]
[195,"Bara Radu","Floresti",554.70000000000005,34.369999999999997,"O",null,null,null,{"$f":"catp","v":2}]
[1533,"Caranda Alexandru","Bucuresti",102.4,34.369999999999997,"O",null,null,null,{"$f":"catp","v":2}]
[405,"Ciobanu Daniel","Blaj",412.3,34.35,"OW",null,null,null,{"$f":"catp","v":2}]
[1534,"Badea Ionel","Oltenita",102.4,34.299999999999997,"O",null,null,null,{"$f":"catp","v":2}]
[2531,"Pascu Paul","Tecuci",34.299999999999997,34.299999999999997,"O",null,null,null,{"$f":"catp","v":2}]
[2532,"Sabou Edmond","Cluj Napoca",34.299999999999997,34.299999999999997,"O",null,null,null,{"$f":"catp","v":2}]
[140,"Petculescu Giani","Ploiesti",613.4,34.270000000000003,"O",null,null,null,{"$f":"catp","v":2}]
[665,"Szanto Lajos","Miercurea Ciuc",288.2,34.22,"O",null,null,null,{"$f":"catp","v":2}]
[312,"Mahu Bogdan","Pascani",476.4,34.21,"O",null,null,null,{"$f":"catp","v":2}]
[828,"Tipser Gabriel","Sighisoara",230.9,34.200000000000003,"OW",null,null,null,{"$f":"catp","v":2}]
[1970,"Roi Itzic","Israel",63.1,34.200000000000003,"O",null,null,null,{"$f":"catp","v":2}]
[2536,"Arcusa Andrei","Ucraina-Umani",34.200000000000003,34.200000000000003,"O",null,null,null,{"$f":"catp","v":2}]
[130,"Traneci Andrei Valentin","Bucuresti",625,34.18,"O",null,null,null,{"$f":"catp","v":2}]
[638,"Nicolae Sorinel","Targoviste",295.7,34.17,"O",null,null,null,{"$f":"catp","v":2}]
[553,"Cozma Gheorghe","Bistrita",331.5,34.159999999999997,"O",null,null,null,{"$f":"catp","v":2}]
[971,"Croitoru Daniel","Craiova",192.2,34.130000000000003,"O",null,null,null,{"$f":"catp","v":2}]
[1592,"Vasiliu Remus","Mioveni",96.2,34.1,"O",null,null,null,{"$f":"catp","v":2}]
[2540,"Calenciuc Dumitru","Radauti",34.1,34.1,"O",null,null,null,{"$f":"catp","v":2}]
[689,"Balaj Roland","Arad",276.7,34.020000000000003,"O",null,null,null,{"$f":"catp","v":2}]
[1037,"Costea Constantin","Oradea",176.2,34,"O",null,null,null,{"$f":"catp","v":2}]
[1364,"Avadanoaei Petuel","Bucuresti",121.8,34,"O",null,null,null,{"$f":"catp","v":2}]
[146,"Bratescu Adrian","Targoviste",598.4,33.99,"ODW",null,null,null,{"$f":"catp","v":2}]
[417,"Dabacan Dorin","Tarnaveni",406,33.950000000000003,"O",null,null,null,{"$f":"catp","v":2}]
[425,"Visan Bogdan","Targoviste",402.3,33.950000000000003,"OW",null,null,null,{"$f":"catp","v":2}]
[865,"Blaga Mircea","Simleu Silvaniei",218.6,33.9,"OW",null,null,null,{"$f":"catp","v":2}]
[1563,"Vasilescu Emil","Calarasi",99.2,33.9,"O",null,null,null,{"$f":"catp","v":2}]
[2545,"Alboiu Robert","Botosani",33.9,33.9,"O",null,null,null,{"$f":"catp","v":2}]
[857,"Hruban Andrei","Dej",220.6,33.85,"O",null,null,null,{"$f":"catp","v":2}]
[824,"Runceanu David","Pitesti",231.3,33.82,"O",null,null,null,{"$f":"catp","v":2}]
[691,"Ursulean Vasile","Straja",275.8,33.79,"OW",null,null,null,{"$f":"catp","v":2}]
[854,"Dumitrescu Cornel","Bucuresti",221.3,33.76,"OW",null,null,null,{"$f":"catp","v":2}]
[992,"Panait Genu","Teisani",185.1,33.700000000000003,"O",null,null,null,{"$f":"catp","v":2}]
[1302,"Cotca Dacian","Oradea",132.9,33.67,"OW",null,null,null,{"$f":"catp","v":2}]
[1382,"Turcu Viorel","Piatra Neamt",119.4,33.67,"OW",null,null,null,{"$f":"catp","v":2}]
[628,"Aherghelegitei Mihai","Dumbraveni SB",299.3,33.659999999999997,"OL",null,null,null,{"$f":"catp","v":2}]
[2060,"Noragiu Paul","Targoviste",57.9,33.65,"O",null,null,null,{"$f":"catp","v":2}]
[248,"Stanciu Dumitru","Simeria",519.6,33.630000000000003,"O",null,null,null,{"$f":"catp","v":2}]
[942,"Iorgoiu Constantin","Drajna de Jos",199.7,33.630000000000003,"O",null,null,null,{"$f":"catp","v":2}]
[395,"Ivan Valentin","Campina",418.5,33.619999999999997,"OW",null,null,null,{"$f":"catp","v":2}]
[156,"Durac Viorel","Constanta",592.4,33.61,"OW",null,null,null,{"$f":"catp","v":2}]
[1038,"Krisan Iuliu","Viseu",176.1,33.6,"O",null,null,null,{"$f":"catp","v":2}]
[2558,"Racic Pera","Zrenjanin",33.5,33.5,"O",null,null,null,{"$f":"catp","v":2}]
[2559,"Radu Gheorghe","Moldova-Straseni",33.5,33.5,"O",null,null,null,{"$f":"catp","v":2}]
[2816,"Baceanu Constantin","Buzau",25.2,33.5,"O",null,null,null,{"$f":"catp","v":2}]
[570,"Timaru Ilie","Sibiu",324,33.47,"O",null,null,null,{"$f":"catp","v":2}]
[2170,"Bote Tudor","Dej",50.2,33.450000000000003,"O",null,null,null,{"$f":"catp","v":2}]
[1370,"Borosoiu Laurentiu","Sinaia",121.2,33.43,"O",null,null,null,{"$f":"catp","v":2}]
[1478,"Hariuc Costica","Vaslui",107.9,33.4,"O",null,null,null,{"$f":"catp","v":2}]
[137,"Orban Marius","Lugoj",618.79999999999995,33.36,"OW",null,null,null,{"$f":"catp","v":2}]
[152,"Popovici Robert Gheorghe","Petrosani",593.1,33.35,"O",null,null,null,{"$f":"catp","v":2}]
[1602,"Popescu Remus","Ramnicu Valcea",95.7,33.299999999999997,"OW",null,null,null,{"$f":"catp","v":2}]
[2564,"Mititelu Daniel","Botosani",33.299999999999997,33.299999999999997,"O",null,null,null,{"$f":"catp","v":2}]
[318,"Demian Daniel","Arad",469.3,33.29,"O",null,null,null,{"$f":"catp","v":2}]
[329,"Birtalan Bence","Sovata",462.9,33.29,"O",null,null,null,{"$f":"catp","v":2}]
[1718,"Aihan Velula","Constanta",84,33.270000000000003,"O",null,null,null,{"$f":"catp","v":2}]
[2570,"Milojkovic Matija","Novi Sad",33.200000000000003,33.200000000000003,"O",null,null,null,{"$f":"catp","v":2}]
[154,"Dusan Marcel","Arad",592.5,33.15,"OW",null,null,null,{"$f":"catp","v":2}]
[397,"Botez Radu","Targu Mures",417.4,33.119999999999997,"OW",null,null,null,{"$f":"catp","v":2}]
[2826,"Lazar Catalin","Brasov",24.9,33.1,"O",null,null,null,{"$f":"catp","v":2}]
[138,"Mitar Marius Tiberiu","Sannicolau Mare",617.6,33.06,"OW",null,null,null,{"$f":"catp","v":2}]
[1247,"Lucaci Adrian","Bucuresti",140.5,33.049999999999997,"O",null,null,null,{"$f":"catp","v":2}]
[2578,"Axinte Bogdan","Iasi",33,33,"O",null,null,null,{"$f":"catp","v":2}]
[2829,"Stoica Dragos","Bucuresti",24.8,33,"O",null,null,null,{"$f":"catp","v":2}]
[2830,"Stoian Alexandra","Constanta",24.8,33,"OLFJ",null,null,null,{"$f":"catp","v":2}]
[2831,"Nita Matei","Buzau",24.8,33,"O",null,null,null,{"$f":"catp","v":2}]
[2832,"Moiseanu Teodor","Buzau",24.8,33,"OLJ",null,null,null,{"$f":"catp","v":2}]
[2833,"David Zoltan","Floresti",24.8,33,"O",null,null,null,{"$f":"catp","v":2}]
[2834,"Bielinsckyi Victor","Stefanestii de Jos",24.8,33,"O",null,null,null,{"$f":"catp","v":2}]
[2835,"Ido Shmuel Moshe","Israel",24.8,33,"O"]
[2836,"Kreis Sabin Alexandru","Brasov",24.8,33,"O",null,null,null,{"$f":"catp","v":2}]
[242,"Munteanu Octavian","Tecuci",524.6,32.99,"OW",null,null,null,{"$f":"catp","v":2}]
[1070,"Handlery Viktor","Oradea",169,32.950000000000003,"O",null,null,null,{"$f":"catp","v":2}]
[1119,"Ailioaie Ionut","Comanesti",160.69999999999999,32.93,"O",null,null,null,{"$f":"catp","v":2}]
[205,"Fulop Oscar","Reghin",546.1,32.92,"O",null,null,null,{"$f":"catp","v":2}]
[630,"Lazar Vasile","Pufesti",298.5,32.9,"OW",null,null,null,{"$f":"catp","v":2}]
[1041,"Pal Albert","Satu Mare",175.8,32.9,"O",null,null,null,{"$f":"catp","v":2}]
[1390,"Majai Lehel","Sovata",118.6,32.9,"O",null,null,null,{"$f":"catp","v":2}]
[2061,"Moise Mihai","Alexandria",57.9,32.9,"OW",null,null,null,{"$f":"catp","v":2}]
[153,"Botosneanu Ionut","Videle",592.79999999999995,32.89,"O",null,null,null,{"$f":"catp","v":2}]
[1539,"Marin Bogdan","Iasi",102,32.869999999999997,"O",null,null,null,{"$f":"catp","v":2}]
[1159,"Davydov Valerii","Ucraina-Kiev",154.9,32.85,"O",null,null,null,{"$f":"catp","v":2}]
[2190,"Mateescu Florin","Hunedoara",49.3,32.85,"O",null,null,null,{"$f":"catp","v":2}]
[283,"Maxim Andrei","Iasi",494.6,32.840000000000003,"O",null,null,null,{"$f":"catp","v":2}]
[794,"Trandafir Vasile","Targu Mures",238.9,32.799999999999997,"O",null,null,null,{"$f":"catp","v":2}]
[354,"Boboc Viorel","Slobozia",445.6,32.79,"OW",null,null,null,{"$f":"catp","v":2}]
[374,"Fekete Istvan","Arad",430.5,32.76,"OW",null,null,null,{"$f":"catp","v":2}]
[931,"Gaspar Cecilia","Targu Mures",201.9,32.75,"OF",null,null,null,{"$f":"catp","v":2}]
[617,"Csulak Jozsef","Sfantu Gheorghe",305.60000000000002,32.71,"O",null,null,null,{"$f":"catp","v":2}]
[157,"Kiss Attila","Crasna",590.29999999999995,32.700000000000003,"O",null,null,null,{"$f":"catp","v":2}]
[2840,"Kalman Csaba","Timisoara",24.6,32.700000000000003,"O",null,null,null,{"$f":"catp","v":2}]
[264,"Brulea Petre","Paulesti",509,32.69,"OW",null,null,null,{"$f":"catp","v":2}]
[176,"Popescu Radu","Arad",569.6,32.68,"O",null,null,null,{"$f":"catp","v":2}]
[494,"Constantin Gabriela","Bucuresti",362.8,32.67,"OFD",null,null,null,{"$f":"catp","v":2}]
[297,"Socaci Sorin","Panciu",486.2,32.64,"OW",null,null,null,{"$f":"catp","v":2}]
[1940,"Ungureanu Stefan Radu","Ploiesti",65.2,32.6,"O",null,null,null,{"$f":"catp","v":2}]
[1438,"Nicik Ilia","Moldova-Balti",111.6,32.57,"O",null,null,null,{"$f":"catp","v":2}]
[142,"Neamt Doru","Arad",611.29999999999995,32.520000000000003,"OW",null,null,null,{"$f":"catp","v":2}]
[144,"Jinga Vlad","Bucuresti",607.5,32.49,"O",null,null,null,{"$f":"catp","v":2}]
[345,"Mihalcea Stefan Tiberiu","Snagov",452.1,32.47,"O",null,null,null,{"$f":"catp","v":2}]
[409,"Tocaciu Septimiu","Beclean",409.7,32.46,"O",null,null,null,{"$f":"catp","v":2}]
[160,"Nicu Constantin","Iasi",587.1,32.450000000000003,"OW",null,null,null,{"$f":"catp","v":2}]
[743,"Dramba Daniel Dumitru","Bucuresti",255.8,32.42,"O",null,null,null,{"$f":"catp","v":2}]
[349,"Trebel Robert","Bocsa",449.2,32.4,"O",null,null,null,{"$f":"catp","v":2}]
[1095,"Buzila Adrian","Botosani",164.9,32.4,"OW",null,null,null,{"$f":"catp","v":2}]
[1156,"Acu Paul","Bucuresti",155.19999999999999,32.4,"O",null,null,null,{"$f":"catp","v":2}]
[2273,"Ciorasteanu Ionut","Brasov",44.9,32.4,"O",null,null,null,{"$f":"catp","v":2}]
[2590,"Peiu Cosmin","Babadag",32.4,32.4,"OW",null,null,null,{"$f":"catp","v":2}]
[2858,"Olaru Costin","Filipestii de Targ",24.3,32.4,"O",null,null,null,{"$f":"catp","v":2}]
[213,"Ursulescu Octavian","Curtea",541.9,32.380000000000003,"O",null,null,null,{"$f":"catp","v":2}]
[1054,"Sabadas Dinu","Oradea",173.2,32.380000000000003,"O",null,null,null,{"$f":"catp","v":2}]
[603,"Rosu Gabriel","Comanesti",311.7,32.36,"O",null,null,null,{"$f":"catp","v":2}]
[1293,"Toth Geza","Sfantu Gheorghe",133.6,32.299999999999997,"OW",null,null,null,{"$f":"catp","v":2}]
[440,"Cioboiu Dan","Craiova",392.6,32.26,"O",null,null,null,{"$f":"catp","v":2}]
[1356,"Croitoru Adrian Nicolae","Brasov",123.4,32.229999999999997,"O",null,null,null,{"$f":"catp","v":2}]
[1073,"Beschiu Daniel","Sibiu",168.5,32.200000000000003,"O",null,null,null,{"$f":"catp","v":2}]
[1110,"Sargu David","Moldova-Balti",162.1,32.200000000000003,"O",null,null,null,{"$f":"catp","v":2}]
[2595,"Iancu George","Ploiesti",32.200000000000003,32.200000000000003,"OW",null,null,null,{"$f":"catp","v":2}]
[2596,"Gadzinscaia Maria","Ucraina-Okny",32.200000000000003,32.200000000000003,"OF",null,null,null,{"$f":"catp","v":2}]
[589,"Deac Octavian","Dumbraveni SB",319.5,32.17,"O",null,null,null,{"$f":"catp","v":2}]
[165,"Darmaz Ion","Targoviste",577.5,32.119999999999997,"OW",null,null,null,{"$f":"catp","v":2}]
[352,"Guluta Florin","Bucuresti",446.8,32.119999999999997,"O",null,null,null,{"$f":"catp","v":2}]
[292,"Trocan Nicolae","Mioveni",491.2,32.11,"OW",null,null,null,{"$f":"catp","v":2}]
[455,"Marginean Mihai","Luna CJ",382,32.11,"O",null,null,null,{"$f":"catp","v":2}]
[1358,"Balan Ionel","Calarasi",122.5,32.1,"O",null,null,null,{"$f":"catp","v":2}]
[1441,"Bozga Dan","Arad",111.4,32.1,"O",null,null,null,{"$f":"catp","v":2}]
[2867,"Herghelegiu Rodica","Galati",24.1,32.1,"OF",null,null,null,{"$f":"catp","v":2}]
[765,"Alexandrescu Marius","Voluntari",247,32.08,"O",null,null,null,{"$f":"catp","v":2}]
[1251,"Purendea Olimpia","Bucuresti",140.4,32.08,"OF",null,null,null,{"$f":"catp","v":2}]
[640,"Turburan Ion","Resita",294.89999999999998,32.01,"OW",null,null,null,{"$f":"catp","v":2}]
[2601,"Berescu Gheorghe","Iasi",32,32,"O",null,null,null,{"$f":"catp","v":2}]
[1408,"Iordache Eugen","Braila",116,31.97,"O",null,null,null,{"$f":"catp","v":2}]
[1080,"Cojocaru Alexandru","Arad",167.5,31.93,"O",null,null,null,{"$f":"catp","v":2}]
[1500,"Tutos Csaba","Oradea",105.8,31.93,"O",null,null,null,{"$f":"catp","v":2}]
[200,"Marginean Catalin","Aiud",550.1,31.9,"O",null,null,null,{"$f":"catp","v":2}]
[2870,"Dica Danut","Caracal",24,31.9,"O",null,null,null,{"$f":"catp","v":2}]
[204,"Szalay Liviu","Oradea",546.20000000000005,31.88,"OW",null,null,null,{"$f":"catp","v":2}]
[198,"Balan Viorel","Bistrita",552,31.86,"O",null,null,null,{"$f":"catp","v":2}]
[167,"Enache Ciprian","Ploiesti",576.29999999999995,31.82,"O",null,null,null,{"$f":"catp","v":2}]
[245,"Berbecar Alin","Zalau",521,31.81,"O",null,null,null,{"$f":"catp","v":2}]
[1656,"Marian Florin","Reghin",88.8,31.8,"OW",null,null,null,{"$f":"catp","v":2}]
[2608,"Ivan Adriana","Buzau",31.8,31.8,"OF",null,null,null,{"$f":"catp","v":2}]
[2874,"Brunshtein Yehudit","Israel",23.9,31.8,"OF",null,null,null,{"$f":"catp","v":2}]
[2875,"Yosef Atia","Israel",23.9,31.8,"OF",null,null,null,{"$f":"catp","v":2}]
[669,"Vescan Radu","Cluj Napoca",285.5,31.79,"O",null,null,null,{"$f":"catp","v":2}]
[362,"Csibi Arpad","Ditrau",441.6,31.76,"O",null,null,null,{"$f":"catp","v":2}]
[565,"Georgescu Costin","Bucuresti",325.2,31.73,"O",null,null,null,{"$f":"catp","v":2}]
[884,"Ivan Ioan","Medias",214.3,31.72,"OW",null,null,null,{"$f":"catp","v":2}]
[347,"Matei Mircea","Targoviste",451.2,31.71,"OW",null,null,null,{"$f":"catp","v":2}]
[356,"Bajko Attila","Sfantu Gheorghe",445,31.71,"OW",null,null,null,{"$f":"catp","v":2}]
[534,"Dascalasu Viorel","Bucuresti",339.8,31.7,"OW",null,null,null,{"$f":"catp","v":2}]
[1116,"Teodoru Matei","Buzau",161,31.7,"O",null,null,null,{"$f":"catp","v":2}]
[1223,"Lovasz Vilmos","Gheorgheni",144.5,31.7,"O",null,null,null,{"$f":"catp","v":2}]
[437,"Ceuca Gavrila","Satu Mare",395,31.65,"O",null,null,null,{"$f":"catp","v":2}]
[1079,"Pop Gabriel","Oradea",167.6,31.65,"O",null,null,null,{"$f":"catp","v":2}]
[2222,"Pristavu Bogdan Constantin","Iasi",47.5,31.65,"O",null,null,null,{"$f":"catp","v":2}]
[233,"Marin Florin Cornel","Targu Mures",531.6,31.64,"O",null,null,null,{"$f":"catp","v":2}]
[236,"Pralea Marius Dan","Botosani",528.4,31.64,"OW",null,null,null,{"$f":"catp","v":2}]
[497,"Moise Vasile","Bucuresti",361.2,31.63,"O",null,null,null,{"$f":"catp","v":2}]
[1246,"Bartha Zsolt Attila","Aita Mare",140.6,31.63,"O",null,null,null,{"$f":"catp","v":2}]
[1452,"Liuba Alin","Oravita",109.9,31.63,"O",null,null,null,{"$f":"catp","v":2}]
[513,"Lungu Adrian","Nasaud",348.1,31.6,"O",null,null,null,{"$f":"catp","v":2}]
[1971,"Taucci Anastasia","Moldova-Avdarma",63.1,31.55,"OF",null,null,null,{"$f":"catp","v":2}]
[960,"Bobos Marius","Apahida",195.8,31.5,"O",null,null,null,{"$f":"catp","v":2}]
[1672,"Rasnoveanu Daniel","Slobozia",87.6,31.5,"O",null,null,null,{"$f":"catp","v":2}]
[2615,"Oprea Emanuel","Bucuresti",31.5,31.5,"O",null,null,null,{"$f":"catp","v":2}]
[207,"Sandu Adrian","Calarasi",545.29999999999995,31.49,"O",null,null,null,{"$f":"catp","v":2}]
[170,"Campean Adrian","Bucuresti",574.79999999999995,31.48,"OW",null,null,null,{"$f":"catp","v":2}]
[890,"Pelcea Alexandru","Bucuresti",212.6,31.48,"O",null,null,null,{"$f":"catp","v":2}]
[1584,"Budes Alin","Timisoara",97.3,31.47,"O",null,null,null,{"$f":"catp","v":2}]
[225,"Barca George","Pitesti",536.1,31.44,"O",null,null,null,{"$f":"catp","v":2}]
[461,"Mita Augustin","Dorohoi",379.3,31.4,"OW",null,null,null,{"$f":"catp","v":2}]
[502,"Chirica Alexandru","Bucuresti",355.8,31.4,"OW",null,null,null,{"$f":"catp","v":2}]
[2620,"Craciunica Gabriel","Calarasi",31.4,31.4,"OW",null,null,null,{"$f":"catp","v":2}]
[1084,"Negrila Cristian","Caracal",166.8,31.38,"O",null,null,null,{"$f":"catp","v":2}]
[1979,"Moldovan Laszlo","Praid",62.7,31.35,"O",null,null,null,{"$f":"catp","v":2}]
[557,"Gagea Marian","Botosani",327.60000000000002,31.31,"O",null,null,null,{"$f":"catp","v":2}]
[611,"Aparaschivei Bogdan","Iasi",308.2,31.29,"O",null,null,null,{"$f":"catp","v":2}]
[1066,"Vladoiu Gelu","Brasov",169.7,31.28,"OW",null,null,null,{"$f":"catp","v":2}]
[1336,"Costin Bogdan","Iasi",127.5,31.28,"O",null,null,null,{"$f":"catp","v":2}]
[1404,"Vlase Nicolae","Slobozia",116.9,31.27,"O",null,null,null,{"$f":"catp","v":2}]
[370,"Carata Catalin","Tulcea",434.3,31.24,"OW",null,null,null,{"$f":"catp","v":2}]
[476,"Silivestru Nicu","Tulcea",372.2,31.2,"O",null,null,null,{"$f":"catp","v":2}]
[636,"Todireanu Valentin","Iasi",296.2,31.2,"O",null,null,null,{"$f":"catp","v":2}]
[1430,"Bradea Lucian","Arad",112.6,31.15,"O",null,null,null,{"$f":"catp","v":2}]
[851,"Marinescu Marius","Craiova",223.1,31.14,"O",null,null,null,{"$f":"catp","v":2}]
[268,"Botanel Grigore","Rovinari",505.7,31.11,"O",null,null,null,{"$f":"catp","v":2}]
[1242,"Rusu Andreea","Bucuresti",141.30000000000001,31.08,"OF",null,null,null,{"$f":"catp","v":2}]
[275,"Bozosan Petre","Sibiu",500.7,31.03,"OW",null,null,null,{"$f":"catp","v":2}]
[334,"Valcea Daniel","Pitesti",460.3,31.03,"O",null,null,null,{"$f":"catp","v":2}]
[191,"Mihu Florin","Mioveni",556.1,31.02,"OW",null,null,null,{"$f":"catp","v":2}]
[306,"Roca Claudiu","Satu Mare",479.5,31,"O",null,null,null,{"$f":"catp","v":2}]
[1477,"Bondar Leontin","Oradea",108,30.98,"O",null,null,null,{"$f":"catp","v":2}]
[601,"Ciobanu Gabriel","Cluj Napoca",311.89999999999998,30.96,"OW",null,null,null,{"$f":"catp","v":2}]
[2117,"Birtalan Robert","Oradea",53.3,30.95,"O",null,null,null,{"$f":"catp","v":2}]
[1222,"Bria Vitalie","Bucuresti",145.30000000000001,30.93,"O",null,null,null,{"$f":"catp","v":2}]
[1312,"Osman Metin","Tulcea",131.9,30.93,"OW",null,null,null,{"$f":"catp","v":2}]
[897,"Ciobanu Adrian","Pitesti",209.5,30.86,"O",null,null,null,{"$f":"catp","v":2}]
[1405,"Marcu Nicolae","Bucuresti",116.6,30.83,"O",null,null,null,{"$f":"catp","v":2}]
[181,"Vera Esteban","Sibiu",561.79999999999995,30.8,"O",null,null,null,{"$f":"catp","v":2}]
[1790,"Ignatescu Bogdan Ionut","Iasi",76.3,30.8,"O",null,null,null,{"$f":"catp","v":2}]
[182,"Burcea Daniel","Bucuresti",561.5,30.79,"O",null,null,null,{"$f":"catp","v":2}]
[326,"Barac Marius","Sibiu",464,30.76,"OW",null,null,null,{"$f":"catp","v":2}]
[169,"Kromek Iulian","Cugir",575.5,30.75,"OW",null,null,null,{"$f":"catp","v":2}]
[1134,"Simo Jozsef Tibor","Miercurea Ciuc",158.5,30.73,"O",null,null,null,{"$f":"catp","v":2}]
[1350,"Stancu Marian","Constanta",124.7,30.73,"O",null,null,null,{"$f":"catp","v":2}]
[1703,"Buruiana Mihai","Marasesti",85.2,30.7,"OW",null,null,null,{"$f":"catp","v":2}]
[364,"Petho Mihaly","Racosu de Sus",438.1,30.69,"O",null,null,null,{"$f":"catp","v":2}]
[224,"Sirbu David Alexandru","Targoviste",536.20000000000005,30.64,"O",null,null,null,{"$f":"catp","v":2}]
[287,"Gatea Marius","Piatra Neamt",493.3,30.63,"OW",null,null,null,{"$f":"catp","v":2}]
[1295,"Bartha Dezso","Sovata",133.5,30.63,"O",null,null,null,{"$f":"catp","v":2}]
[400,"Codreanu Laurentiu","Buzau",415.4,30.62,"O",null,null,null,{"$f":"catp","v":2}]
[1011,"Covalciuc Bogdan","Iasi",181.2,30.6,"O",null,null,null,{"$f":"catp","v":2}]
[1100,"Ciocirlan Mircea","Tulcea",164,30.6,"O",null,null,null,{"$f":"catp","v":2}]
[1321,"Lica George","Eforie",130.5,30.6,"OW",null,null,null,{"$f":"catp","v":2}]
[500,"Boariu Timofte Danut","Borsec",356.1,30.59,"OW",null,null,null,{"$f":"catp","v":2}]
[980,"Sass Imre","Miercurea Ciuc",189.3,30.56,"O",null,null,null,{"$f":"catp","v":2}]
[188,"Kis Istvan","Brasov",557.9,30.55,"OW",null,null,null,{"$f":"catp","v":2}]
[241,"Dumitru George","Targoviste",525.4,30.55,"O",null,null,null,{"$f":"catp","v":2}]
[452,"Nechifor Constantin","Navodari",384.2,30.52,"O",null,null,null,{"$f":"catp","v":2}]
[2639,"Simon Razvan","Arad",30.5,30.5,"O",null,null,null,{"$f":"catp","v":2}]
[801,"Deak Valentin","Sebis",237.7,30.48,"OW",null,null,null,{"$f":"catp","v":2}]
[1817,"Alexandroaie Emanuel","Bucuresti",74,30.47,"O",null,null,null,{"$f":"catp","v":2}]
[199,"Tanasa Gabriel","Suceava",550.70000000000005,30.46,"OW",null,null,null,{"$f":"catp","v":2}]
[416,"Rusu Bogdan","Aiud",406.4,30.43,"O",null,null,null,{"$f":"catp","v":2}]
[446,"Cozma Ioan","Buhusi",388.7,30.42,"O",null,null,null,{"$f":"catp","v":2}]
[2112,"Dragan Petru Ioan","Iasi",53.8,30.4,"O",null,null,null,{"$f":"catp","v":2}]
[1254,"Pastrama Tudor","Medgidia",139.9,30.37,"O",null,null,null,{"$f":"catp","v":2}]
[194,"Andrei Iordan","Tulcea",555,30.36,"OW",null,null,null,{"$f":"catp","v":2}]
[394,"Samoila Ion","Babadag",419.4,30.34,"O",null,null,null,{"$f":"catp","v":2}]
[969,"Toth Attila","Sfantu Gheorghe",193.1,30.33,"O",null,null,null,{"$f":"catp","v":2}]
[243,"Dumitrache Gabriel","Giurgiu",523.6,30.32,"O",null,null,null,{"$f":"catp","v":2}]
[307,"Minca Liviu","Videle",478.3,30.3,"O",null,null,null,{"$f":"catp","v":2}]
[1278,"Telespan Konstantin","Sibiu",135.6,30.3,"O",null,null,null,{"$f":"catp","v":2}]
[282,"Fancsali Kalman","Miercurea Ciuc",494.9,30.29,"OW",null,null,null,{"$f":"catp","v":2}]
[484,"Balazs Imre Florin","Apahida",367.1,30.27,"O",null,null,null,{"$f":"catp","v":2}]
[441,"Gaitan Tiberiu","Braila",392.6,30.25,"OW",null,null,null,{"$f":"catp","v":2}]
[1199,"Camarasiu Tiberiu","Cluj Napoca",148.4,30.25,"O",null,null,null,{"$f":"catp","v":2}]
[1720,"Aden Erduan","Constanta",83.9,30.25,"O",null,null,null,{"$f":"catp","v":2}]
[1258,"Dontu Ionut","Calarasi",139.30000000000001,30.23,"O",null,null,null,{"$f":"catp","v":2}]
[1737,"Mitzea Alexandru","Sibiu",82.1,30.23,"OW",null,null,null,{"$f":"catp","v":2}]
[874,"Strugar Ioan","Deda",216.9,30.22,"O",null,null,null,{"$f":"catp","v":2}]
[202,"Lorincz Zoltan","Miercurea Ciuc",548.1,30.21,"O",null,null,null,{"$f":"catp","v":2}]
[692,"Nistor Florin","Comanesti",275.7,30.19,"O",null,null,null,{"$f":"catp","v":2}]
[266,"Baicu Claudiu","Bucuresti",507,30.18,"O",null,null,null,{"$f":"catp","v":2}]
[1076,"Ochian Andrei","Botosani",168.3,30.18,"O",null,null,null,{"$f":"catp","v":2}]
[1162,"Cobeanu Marius","Breaza",154.69999999999999,30.18,"O",null,null,null,{"$f":"catp","v":2}]
[178,"Fotia Iulian","Bacau",566.20000000000005,30.16,"O",null,null,null,{"$f":"catp","v":2}]
[208,"Acriva Marian","Mizil",545,30.15,"OW",null,null,null,{"$f":"catp","v":2}]
[787,"Enculescu Mihaita","Dobroesti",241.1,30.14,"OW",null,null,null,{"$f":"catp","v":2}]
[554,"Cristea Virgil","Cugir",330.9,30.13,"O",null,null,null,{"$f":"catp","v":2}]
[290,"Birtalan Levente","Sovata",491.5,30.12,"O",null,null,null,{"$f":"catp","v":2}]
[193,"Biciin Mitica","Faurei",555.29999999999995,30.08,"OW",null,null,null,{"$f":"catp","v":2}]
[257,"Colesniuc Romeo","Botosani",512.1,30.05,"OW",null,null,null,{"$f":"catp","v":2}]
[944,"Busuioc Robert","Radauti",198.7,30.04,"O",null,null,null,{"$f":"catp","v":2}]
[324,"Lungoci Mihai","Craiova",465.1,30,"O",null,null,null,{"$f":"catp","v":2}]
[2268,"Manoiu Claudiu","Fieni",45,30,"O",null,null,null,{"$f":"catp","v":2}]
[2929,"Popa Alexandru Iulian","Buzau",22.5,30,"O",null,null,null,{"$f":"catp","v":2}]
[261,"Santa Robert","Miercurea Ciuc",510.6,29.99,"ODW",null,null,null,{"$f":"catp","v":2}]
[1229,"Anani Mihaita","Galati",143.4,29.97,"O",null,null,null,{"$f":"catp","v":2}]
[985,"Ivan Adrian","Tulcea",187.5,29.96,"OW",null,null,null,{"$f":"catp","v":2}]
[346,"Plaiasu Ion","Plopeni",451.7,29.95,"OW",null,null,null,{"$f":"catp","v":2}]
[1805,"Stefurac Marius","Ploiesti",74.900000000000006,29.95,"O",null,null,null,{"$f":"catp","v":2}]
[753,"Stanila Eugen","Faurei",250.3,29.92,"O",null,null,null,{"$f":"catp","v":2}]
[754,"Ianos Valentin","Suceava",250.1,29.9,"O",null,null,null,{"$f":"catp","v":2}]
[923,"Goia Alina","Cluj Napoca",203.7,29.9,"OF",null,null,null,{"$f":"catp","v":2}]
[2653,"Brazdau Bogdan","Zalau",29.9,29.9,"O",null,null,null,{"$f":"catp","v":2}]
[2654,"Graur Robert","Lombardia Italia",29.9,29.9,"O",null,null,null,{"$f":"catp","v":2}]
[2655,"Buzzoni Matilde","Lombardia Italia",29.9,29.9,"OF",null,null,null,{"$f":"catp","v":2}]
[2656,"Cattaneo Nicolo","Lombardia Italia",29.9,29.9,"O",null,null,null,{"$f":"catp","v":2}]
[2930,"Udrea Valentin","Bucuresti",22.5,29.9,"O",null,null,null,{"$f":"catp","v":2}]
[1109,"Budescu Marian","Galati",162.30000000000001,29.88,"O",null,null,null,{"$f":"catp","v":2}]
[458,"Tuca Cristi","Slatina",380.6,29.83,"O",null,null,null,{"$f":"catp","v":2}]
[1710,"Pomirleanu Radu","Iasi",84.8,29.8,"O",null,null,null,{"$f":"catp","v":2}]
[260,"Constantin Cristina","Bucuresti",510.8,29.78,"OF",null,null,null,{"$f":"catp","v":2}]
[855,"Schiopulescu Ion","Lugoj",220.7,29.77,"O",null,null,null,{"$f":"catp","v":2}]
[2277,"Marta Marcel","Timisoara",44.7,29.75,"O",null,null,null,{"$f":"catp","v":2}]
[383,"Canea Kocsis Andras","Targu Secuiesc",425.5,29.7,"O",null,null,null,{"$f":"catp","v":2}]
[183,"Loghin Florin","Brasov",560.79999999999995,29.68,"O",null,null,null,{"$f":"catp","v":2}]
[1260,"Bacosca Catalin","Sabaoani",139.1,29.67,"O",null,null,null,{"$f":"catp","v":2}]
[1693,"Nagy Istvan","Micfalau",85.7,29.67,"O",null,null,null,{"$f":"catp","v":2}]
[218,"Heja Zoltan","Ditrau",537.79999999999995,29.65,"OW",null,null,null,{"$f":"catp","v":2}]
[344,"Oprea Bogdan Andrei","Cluj Napoca",454.2,29.65,"O",null,null,null,{"$f":"catp","v":2}]
[2282,"Lenart Kendi Istvan","Targu Secuiesc",44.5,29.65,"O",null,null,null,{"$f":"catp","v":2}]
[190,"Banu Dan","Ploiesti",556.20000000000005,29.64,"O",null,null,null,{"$f":"catp","v":2}]
[1323,"Tomoiaga Cosmin","Viseu",130.30000000000001,29.63,"O",null,null,null,{"$f":"catp","v":2}]
[1820,"Bogdan Raul","Deva",73.599999999999994,29.6,"O",null,null,null,{"$f":"catp","v":2}]
[226,"Pelaghie Ioan","Targu Mures",535.5,29.58,"O",null,null,null,{"$f":"catp","v":2}]
[620,"Popescu Andrei","Constanta",304,29.58,"O",null,null,null,{"$f":"catp","v":2}]
[259,"Vasile Gica","Vulcana Bai",511.6,29.57,"OD",null,null,null,{"$f":"catp","v":2}]
[1330,"Sorescu Gabriel","Pitesti",128.69999999999999,29.55,"O",null,null,null,{"$f":"catp","v":2}]
[203,"Fulop Attila","Aiud",546.4,29.54,"OW",null,null,null,{"$f":"catp","v":2}]
[284,"Corneanu Sorin","Botosani",493.8,29.52,"OW",null,null,null,{"$f":"catp","v":2}]
[770,"Maftei Catalin Doru","Asau",245.2,29.5,"OW",null,null,null,{"$f":"catp","v":2}]
[273,"Voinescu Ecaterina","Bucuresti",502.4,29.48,"OF",null,null,null,{"$f":"catp","v":2}]
[2131,"Marian Calin","Reghin",52.3,29.45,"O",null,null,null,{"$f":"catp","v":2}]
[1578,"Grigorenco Daria","Constanta",97.7,29.43,"OLF",null,null,null,{"$f":"catp","v":2}]
[826,"Fedot Valentin","Tulcea",231,29.42,"O",null,null,null,{"$f":"catp","v":2}]
[790,"Ursache Ciprian Jean","Focsani",240.1,29.41,"O",null,null,null,{"$f":"catp","v":2}]
[888,"Repede Calin","Cluj Napoca",213.1,29.4,"OW",null,null,null,{"$f":"catp","v":2}]
[1383,"Botea Fabian","Hunedoara",119.3,29.38,"O",null,null,null,{"$f":"catp","v":2}]
[271,"Grumeza Lucian","Bucuresti",503.5,29.35,"OW",null,null,null,{"$f":"catp","v":2}]
[331,"Stoica Mihai","Mihaesti",462.2,29.31,"OW",null,null,null,{"$f":"catp","v":2}]
[305,"Baciu Stefan","Mioveni",479.7,29.3,"OW",null,null,null,{"$f":"catp","v":2}]
[744,"Popescu Alex","Bucuresti",255.5,29.3,"O",null,null,null,{"$f":"catp","v":2}]
[444,"Iachimov Gheorghe","Moldova-Briceni",391,29.28,"O",null,null,null,{"$f":"catp","v":2}]
[898,"Vonea Andrei","Tarnaveni",209.5,29.28,"O",null,null,null,{"$f":"catp","v":2}]
[385,"Serban Adi Iulian","Ramnicu Sarat",425,29.26,"O",null,null,null,{"$f":"catp","v":2}]
[1004,"Sarbu Dan","Ploiesti",182.7,29.25,"OW",null,null,null,{"$f":"catp","v":2}]
[2164,"Bank Vadim","Bucuresti",50.5,29.25,"O",null,null,null,{"$f":"catp","v":2}]
[1033,"Breje Marin","Zalau",177.6,29.24,"O",null,null,null,{"$f":"catp","v":2}]
[492,"Botoc Ovidiu","Paulesti",363,29.22,"O",null,null,null,{"$f":"catp","v":2}]
[612,"Cavasdan Doru","Oradea",307.39999999999998,29.2,"O",null,null,null,{"$f":"catp","v":2}]
[1056,"Balog Mihai","Timisoara",172.9,29.2,"O",null,null,null,{"$f":"catp","v":2}]
[2680,"Stankovic Stefan","Ram",29.2,29.2,"O",null,null,null,{"$f":"catp","v":2}]
[2681,"Rajovic Zoran","Pancevo",29.2,29.2,"O",null,null,null,{"$f":"catp","v":2}]
[2682,"Petrovic Dusan","Belgrad",29.2,29.2,"O",null,null,null,{"$f":"catp","v":2}]
[2683,"Stankovic Zikica","Kumane",29.2,29.2,"O",null,null,null,{"$f":"catp","v":2}]
[230,"Enache Puiu Adrian","Ploiesti",533,29.17,"O",null,null,null,{"$f":"catp","v":2}]
[353,"Petrov Dan","Dobroesti",445.7,29.15,"OW",null,null,null,{"$f":"catp","v":2}]
[244,"Anchidin Cosmin","Lugoj",523.29999999999995,29.14,"O",null,null,null,{"$f":"catp","v":2}]
[223,"Erdely Andras","Targu Mures",536.5,29.12,"OW",null,null,null,{"$f":"catp","v":2}]
[217,"Vieru Costica","Botosani",537.9,29.05,"OW",null,null,null,{"$f":"catp","v":2}]
[234,"Janosi Attila","Targu Mures",530.70000000000005,29.05,"OW",null,null,null,{"$f":"catp","v":2}]
[499,"Baisan Paul","Roman",356.2,29.05,"OW",null,null,null,{"$f":"catp","v":2}]
[1740,"Dragu Fanel","Slobozia",81.7,29.05,"O",null,null,null,{"$f":"catp","v":2}]
[723,"Plamada Iulian","Putna",261.60000000000002,29.03,"O",null,null,null,{"$f":"catp","v":2}]
[1279,"Dani Leo","Arad",135.6,29.03,"OD",null,null,null,{"$f":"catp","v":2}]
[1473,"Mirza Sorin","Arad",108.1,29.03,"O",null,null,null,{"$f":"catp","v":2}]
[337,"Szakacs Sandor","Sfantu Gheorghe",457,29.01,"O",null,null,null,{"$f":"catp","v":2}]
[1424,"Constantin Daniel","Filipestii de Targ",113.6,29,"O",null,null,null,{"$f":"catp","v":2}]
[2690,"Szekeres Levente","Brasov",29,29,"O",null,null,null,{"$f":"catp","v":2}]
[410,"Taut Stefan","Cluj Napoca",409.4,28.98,"OJ",null,null,null,{"$f":"catp","v":2}]
[1092,"Baltatu Eduard Laurentiu","Bucuresti",165.4,28.98,"O",null,null,null,{"$f":"catp","v":2}]
[1139,"Raduly Ovidiu","Fantanele",157.6,28.93,"O",null,null,null,{"$f":"catp","v":2}]
[1524,"Vijaica Florin","Drobeta Tr Severin",103.4,28.93,"O",null,null,null,{"$f":"catp","v":2}]
[227,"Birtalan Laszlo","Oradea",535.20000000000005,28.92,"OW",null,null,null,{"$f":"catp","v":2}]
[996,"Gered Ferenc","Miercurea Ciuc",184.3,28.9,"O",null,null,null,{"$f":"catp","v":2}]
[2692,"Chetronie Liviu","Tecuci",28.9,28.9,"OW",null,null,null,{"$f":"catp","v":2}]
[2693,"Manzat Dan","Cluj Napoca",28.9,28.9,"OW",null,null,null,{"$f":"catp","v":2}]
[2694,"Rugina Adrian","Botosani",28.9,28.9,"O",null,null,null,{"$f":"catp","v":2}]
[747,"Marcus Mihai","Zalau",252.7,28.88,"O",null,null,null,{"$f":"catp","v":2}]
[1338,"Ciublea Vichente","Oravita",127.2,28.87,"O",null,null,null,{"$f":"catp","v":2}]
[315,"Stanescu Tiberiu","Slatina",474.9,28.86,"O",null,null,null,{"$f":"catp","v":2}]
[1840,"Sosoaca Diana","Ramnicu Valcea",72.099999999999994,28.85,"OF",null,null,null,{"$f":"catp","v":2}]
[340,"Baltatu Marius","Pitesti",455.1,28.81,"OW",null,null,null,{"$f":"catp","v":2}]
[1317,"Mates Flavius","Arad",131.19999999999999,28.8,"O",null,null,null,{"$f":"catp","v":2}]
[1481,"Mladinoi Ion","Iasi",107.7,28.8,"O",null,null,null,{"$f":"catp","v":2}]
[2312,"Teica Radu","Targu Jiu",43.2,28.8,"OW",null,null,null,{"$f":"catp","v":2}]
[2697,"Pusceddu Celestino","Italia",28.8,28.8,"O",null,null,null,{"$f":"catp","v":2}]
[1034,"Dragomir Dan","Bucuresti",176.9,28.78,"O",null,null,null,{"$f":"catp","v":2}]
[569,"Manea Dorinel","Tecuci",324.10000000000002,28.77,"O",null,null,null,{"$f":"catp","v":2}]
[1733,"Bucsoiu Vlad","Brasov",82.4,28.77,"O",null,null,null,{"$f":"catp","v":2}]
[1704,"Radu Adrian","Ploiesti",85.2,28.75,"O",null,null,null,{"$f":"catp","v":2}]
[2313,"Ilie Gheorghe Eugen","Timisoara",43.2,28.75,"O",null,null,null,{"$f":"catp","v":2}]
[475,"Manole Dan","Braila",372.3,28.7,"O",null,null,null,{"$f":"catp","v":2}]
[2699,"Miron Andrei","Campina",28.7,28.7,"O",null,null,null,{"$f":"catp","v":2}]
[222,"Piper Petru","Luna CJ",536.9,28.66,"ODW",null,null,null,{"$f":"catp","v":2}]
[2208,"Suciu Cristian","Dej",48.5,28.65,"O",null,null,null,{"$f":"catp","v":2}]
[361,"Dena Corneliu","Giurgiu",443,28.64,"OW",null,null,null,{"$f":"catp","v":2}]
[403,"Georgescu Florin","Bucuresti",414,28.64,"OW",null,null,null,{"$f":"catp","v":2}]
[1227,"Minca Gabriel","Videle",144,28.63,"O",null,null,null,{"$f":"catp","v":2}]
[1366,"Serban Bogdan","Bucuresti",121.7,28.63,"OW",null,null,null,{"$f":"catp","v":2}]
[918,"Moldovan Andrei","Oradea",204.7,28.62,"O",null,null,null,{"$f":"catp","v":2}]
[328,"Csaky Tiberiu","Resita",463.2,28.61,"OW",null,null,null,{"$f":"catp","v":2}]
[974,"Herteg Dorinel","Arad",191.4,28.6,"O",null,null,null,{"$f":"catp","v":2}]
[1765,"Beches Andrei","Sibiu",78.8,28.6,"O",null,null,null,{"$f":"catp","v":2}]
[532,"Ifrosa Petru","Cluj Napoca",340.7,28.56,"OD",null,null,null,{"$f":"catp","v":2}]
[1256,"Hamzescu Adrian Rosu","Craiova",139.4,28.55,"O",null,null,null,{"$f":"catp","v":2}]
[564,"Nistor Alexandru","Sighetu Marmatiei",325.3,28.54,"O",null,null,null,{"$f":"catp","v":2}]
[365,"Tovis Levente","Cluj Napoca",436.6,28.53,"O",null,null,null,{"$f":"catp","v":2}]
[842,"Danalache Daniel","Navodari",226,28.53,"O",null,null,null,{"$f":"catp","v":2}]
[713,"Ticu Dorin","Bacau",268.10000000000002,28.51,"OW",null,null,null,{"$f":"catp","v":2}]
[2705,"Jeflea Calin","Sibiu",28.5,28.5,"O",null,null,null,{"$f":"catp","v":2}]
[595,"Gaciu Gabriel","Gherla",315.3,28.48,"O",null,null,null,{"$f":"catp","v":2}]
[442,"Marcu Ciprian","Targu Mures",392.6,28.47,"O",null,null,null,{"$f":"catp","v":2}]
[1296,"Onute Marius","Zalau",133.4,28.47,"O",null,null,null,{"$f":"catp","v":2}]
[262,"Nitu Serban","Ploiesti",510.2,28.45,"OW",null,null,null,{"$f":"catp","v":2}]
[357,"Docan Cristian","Bucuresti",444.6,28.45,"O",null,null,null,{"$f":"catp","v":2}]
[449,"Vigu Emanuel","Cluj Napoca",386.9,28.41,"OJ",null,null,null,{"$f":"catp","v":2}]
[1509,"Nedescu Adrian","Ramnicu Valcea",104.7,28.4,"O",null,null,null,{"$f":"catp","v":2}]
[1851,"Tauciuc Edi","Suceava",71.8,28.4,"O",null,null,null,{"$f":"catp","v":2}]
[720,"Dumbrava Daniel","Focsani",265,28.39,"OW",null,null,null,{"$f":"catp","v":2}]
[1450,"Postelnicu Ciprian","Tecuci",110.4,28.35,"O",null,null,null,{"$f":"catp","v":2}]
[1155,"Horotan Catalin","Baia Mare",155.30000000000001,28.33,"OW",null,null,null,{"$f":"catp","v":2}]
[438,"Draganescu Stefan","Pascani",394.6,28.32,"O",null,null,null,{"$f":"catp","v":2}]
[496,"Vasile Victor","Videle",361.5,28.32,"O",null,null,null,{"$f":"catp","v":2}]
[582,"Cecan Vasile","Timisoara",321.2,28.31,"O",null,null,null,{"$f":"catp","v":2}]
[1494,"Boboc Cosmin","Targu Neamt",106.6,28.3,"O",null,null,null,{"$f":"catp","v":2}]
[1777,"Similean Alexandru","Bucuresti",77.8,28.3,"O",null,null,null,{"$f":"catp","v":2}]
[2709,"Pop Gabriel","Eforie",28.3,28.3,"O",null,null,null,{"$f":"catp","v":2}]
[2969,"Vaduva Filip","Bucuresti",21.3,28.3,"O",null,null,null,{"$f":"catp","v":2}]
[2970,"Grigoriu Vlad","Suceava",21.3,28.3,"O",null,null,null,{"$f":"catp","v":2}]
[514,"Chivu Cornel","Craiova",348.1,28.29,"O",null,null,null,{"$f":"catp","v":2}]
[1029,"Tiboaca Daniel","Galati",177.9,28.28,"O",null,null,null,{"$f":"catp","v":2}]
[1318,"Niculescu Daniel","Pitesti",130.9,28.27,"OW",null,null,null,{"$f":"catp","v":2}]
[599,"Mermezan Sergiu","Timisoara",313.89999999999998,28.26,"O",null,null,null,{"$f":"catp","v":2}]
[1575,"Lucian Peter","Sighetu Marmatiei",98.2,28.25,"O",null,null,null,{"$f":"catp","v":2}]
[343,"Spaller Tiberiu","Nasaud",454.6,28.24,"OW",null,null,null,{"$f":"catp","v":2}]
[587,"Gagiu Remus","Pitesti",320.2,28.24,"O",null,null,null,{"$f":"catp","v":2}]
[1168,"Voicu Ovidiu","Strejnicu",153.69999999999999,28.23,"O",null,null,null,{"$f":"catp","v":2}]
[1248,"Cont Cosmin","Gherla",140.5,28.23,"OW",null,null,null,{"$f":"catp","v":2}]
[805,"Ignuta Sebastian","Voiteg",236.7,28.2,"OW",null,null,null,{"$f":"catp","v":2}]
[1016,"Nagy Iosif","Arad",180.5,28.2,"OW",null,null,null,{"$f":"catp","v":2}]
[431,"Crasnoscec Alexandr","Moldova-Vulcanesti",398.7,28.16,"OW",null,null,null,{"$f":"catp","v":2}]
[392,"Dascalu Cristian","Bucuresti",419.7,28.15,"O",null,null,null,{"$f":"catp","v":2}]
[573,"Ionita Nicu","Focsani",323.2,28.14,"O",null,null,null,{"$f":"catp","v":2}]
[360,"Visan Victor","Slobozia",443.6,28.11,"O",null,null,null,{"$f":"catp","v":2}]
[2714,"Gazsi Adam","Marghita",28.1,28.1,"O",null,null,null,{"$f":"catp","v":2}]
[279,"Bondrea Attila","Gheorgheni",496.9,28.08,"O",null,null,null,{"$f":"catp","v":2}]
[584,"Cuna Gheorghe","Buzau",320.60000000000002,28.06,"O",null,null,null,{"$f":"catp","v":2}]
[1061,"Ianculovici Svetozar","Bucuresti",171.4,28.05,"O",null,null,null,{"$f":"catp","v":2}]
[772,"Salari Mihai","Iasi",244.9,28.04,"O",null,null,null,{"$f":"catp","v":2}]
[962,"Mihaiuc Beniamin","Radauti",195.3,28.03,"O",null,null,null,{"$f":"catp","v":2}]
[746,"Decean Darian","Sibiu",253.8,28.01,"O",null,null,null,{"$f":"catp","v":2}]
[1727,"Lozov Dima","Moldova-Avdarma",83.1,28,"O",null,null,null,{"$f":"catp","v":2}]
[1881,"Bekesi Zsolt","Arad",70.599999999999994,28,"O",null,null,null,{"$f":"catp","v":2}]
[2088,"Bodin Ion","Tecuci",56,28,"OW",null,null,null,{"$f":"catp","v":2}]
[2334,"Alexe Dan","Bucuresti",42,28,"O",null,null,null,{"$f":"catp","v":2}]
[2335,"Musat Irina","Targoviste",42,28,"OF",null,null,null,{"$f":"catp","v":2}]
[2719,"Ivanov Sorin","Piatra Neamt",28,28,"O",null,null,null,{"$f":"catp","v":2}]
[2720,"Spermezan Dorel","Nasaud",28,28,"OW",null,null,null,{"$f":"catp","v":2}]
[2721,"Gutiu Adrian","Satu Mare",28,28,"O",null,null,null,{"$f":"catp","v":2}]
[2982,"Fazakas Gergely","Miercurea Ciuc",21,28,"O",null,null,null,{"$f":"catp","v":2}]
[2983,"Gritto Daniel","Medias",21,28,"O",null,null,null,{"$f":"catp","v":2}]
[470,"Konti Florin","Apahida",373.8,27.98,"O",null,null,null,{"$f":"catp","v":2}]
[1239,"Ailioaie Bogdan","Comanesti",141.9,27.98,"O",null,null,null,{"$f":"catp","v":2}]
[291,"Bivolaru Stelian","Targoviste",491.5,27.95,"OW",null,null,null,{"$f":"catp","v":2}]
[1105,"Cocolos Alexandru","Bucuresti",163.1,27.95,"O",null,null,null,{"$f":"catp","v":2}]
[2207,"Florea Marin","Filipestii de Targ",48.6,27.95,"O",null,null,null,{"$f":"catp","v":2}]
[269,"Iancu Marius","Brasov",504.3,27.94,"O",null,null,null,{"$f":"catp","v":2}]
[439,"Popa Alin","Drobeta Tr Severin",393.4,27.94,"O",null,null,null,{"$f":"catp","v":2}]
[1898,"Rusti Catalin","Suceava",68.900000000000006,27.93,"OW",null,null,null,{"$f":"catp","v":2}]
[688,"Birtalan Hunor","Sovata",277.3,27.9,"O",null,null,null,{"$f":"catp","v":2}]
[309,"Galca Andrei","Bucuresti",477.3,27.87,"O",null,null,null,{"$f":"catp","v":2}]
[647,"Curelea Petre","Lehliu Gara",292.7,27.85,"O",null,null,null,{"$f":"catp","v":2}]
[412,"Ciubotaru Dan","Piatra Neamt",409,27.82,"O",null,null,null,{"$f":"catp","v":2}]
[706,"Voinea Emil","Pitesti",270.5,27.81,"OW",null,null,null,{"$f":"catp","v":2}]
[544,"Barbuta Ioan","Dej",336.4,27.8,"OW",null,null,null,{"$f":"catp","v":2}]
[943,"Chirtoaca Sergiu","Ploiesti",199.1,27.8,"O",null,null,null,{"$f":"catp","v":2}]
[1527,"Jurj Sorin","Calan",103.3,27.8,"O",null,null,null,{"$f":"catp","v":2}]
[2204,"Anghele Cristinel","Galati",48.7,27.8,"OW",null,null,null,{"$f":"catp","v":2}]
[781,"Bodea Flaviu","Simleu Silvaniei",241.9,27.77,"O",null,null,null,{"$f":"catp","v":2}]
[510,"Dehelean Octavian","Timisoara",348.8,27.75,"O",null,null,null,{"$f":"catp","v":2}]
[1571,"Suvei Ioan","Bistrita",98.3,27.75,"O",null,null,null,{"$f":"catp","v":2}]
[368,"Tical Nicusor","Otopeni",435,27.74,"O",null,null,null,{"$f":"catp","v":2}]
[277,"Cotet Nicolae","Braila",497.8,27.73,"OW",null,null,null,{"$f":"catp","v":2}]
[740,"Gaborean Bogdan","Cluj Napoca",256.5,27.73,"O",null,null,null,{"$f":"catp","v":2}]
[1167,"Soficaru George","Brasov",153.9,27.73,"O",null,null,null,{"$f":"catp","v":2}]
[724,"Popa Paul","Sibiu",261.5,27.7,"OW",null,null,null,{"$f":"catp","v":2}]
[2094,"Hrehoret Adrian","Ramnicu Valcea",55.4,27.7,"O",null,null,null,{"$f":"catp","v":2}]
[2729,"Stir Andrei","Baicoi",27.7,27.7,"O",null,null,null,{"$f":"catp","v":2}]
[1855,"Furtuna Adrian","Brasov",71.599999999999994,27.65,"O",null,null,null,{"$f":"catp","v":2}]
[1367,"Dragomir Mitica","Sibiu",121.6,27.6,"OW",null,null,null,{"$f":"catp","v":2}]
[2731,"Munteanu Silviu","Suceava",27.6,27.6,"OW",null,null,null,{"$f":"catp","v":2}]
[2732,"Dumitriu Florin","Iasi",27.6,27.6,"O",null,null,null,{"$f":"catp","v":2}]
[2733,"Beganu Mihai","Buzau",27.6,27.6,"O",null,null,null,{"$f":"catp","v":2}]
[2734,"Nebesnai Mihail","Moldova-Chisinau",27.6,27.6,"O",null,null,null,{"$f":"catp","v":2}]
[2995,"Matei Razvan","Bucuresti",20.7,27.6,"OW",null,null,null,{"$f":"catp","v":2}]
[2996,"Minica Belemet","Brasov",20.7,27.6,"O",null,null,null,{"$f":"catp","v":2}]
[327,"Gorbe David","Satu Mare",463.3,27.58,"O",null,null,null,{"$f":"catp","v":2}]
[296,"Oniga Constantin","Iasi",487.5,27.5,"O",null,null,null,{"$f":"catp","v":2}]
[526,"Bodeanu Dan","Bucuresti",344.8,27.5,"OW",null,null,null,{"$f":"catp","v":2}]
[2997,"Kelemen Laszlo","Miercurea Ciuc",20.7,27.5,"O",null,null,null,{"$f":"catp","v":2}]
[311,"Diaconescu Lucian","Targoviste",476.7,27.48,"O",null,null,null,{"$f":"catp","v":2}]
[771,"Malacopol Tatiana","Bucuresti",245.1,27.48,"OF",null,null,null,{"$f":"catp","v":2}]
[471,"Vass Sandor","Beclean",373.8,27.43,"OW",null,null,null,{"$f":"catp","v":2}]
[411,"Valcica Raul Ginno","Uricani",409.1,27.41,"O",null,null,null,{"$f":"catp","v":2}]
[527,"Kadar Josif","Oradea",344.8,27.4,"O",null,null,null,{"$f":"catp","v":2}]
[716,"Manea Alexandru","Comarnic",267.7,27.4,"O",null,null,null,{"$f":"catp","v":2}]
[1547,"Simion Silviu","Cocorastii Mislii",100.9,27.4,"O",null,null,null,{"$f":"catp","v":2}]
[1792,"Murgu Ioan","Oravita",76.2,27.4,"O",null,null,null,{"$f":"catp","v":2}]
[2741,"Nestor Dragos","Bucuresti",27.4,27.4,"O",null,null,null,{"$f":"catp","v":2}]
[1813,"Kovacs Zsolt Peter","Gheorgheni",74.099999999999994,27.37,"O",null,null,null,{"$f":"catp","v":2}]
[377,"Petrut Patrick","Aiud",428.7,27.36,"O",null,null,null,{"$f":"catp","v":2}]
[562,"Sabau Gheorghe","Tarnaveni",325.5,27.35,"OW",null,null,null,{"$f":"catp","v":2}]
[1384,"Antal Laszlo","Miercurea Ciuc",119.3,27.35,"O",null,null,null,{"$f":"catp","v":2}]
[2174,"Rada Florin","Pitesti",50,27.35,"O",null,null,null,{"$f":"catp","v":2}]
[1039,"Ardelean Alex","Ineu",175.9,27.34,"O",null,null,null,{"$f":"catp","v":2}]
[1211,"Barbu Tiberiu","Deva",147.1,27.33,"O",null,null,null,{"$f":"catp","v":2}]
[953,"Negulescu Ioan","Ramnicu Valcea",197.2,27.32,"O",null,null,null,{"$f":"catp","v":2}]
[413,"Solyom Sandor","Cluj Napoca",408.7,27.31,"O",null,null,null,{"$f":"catp","v":2}]
[725,"Cirstea Toni","Targu Jiu",261.39999999999998,27.3,"O",null,null,null,{"$f":"catp","v":2}]
[1305,"Vasiloiu Mihai","Focsani",132.80000000000001,27.3,"OW",null,null,null,{"$f":"catp","v":2}]
[3003,"Tincu Catalin","Hunedoara",20.5,27.3,"O",null,null,null,{"$f":"catp","v":2}]
[325,"Racean Claudiu","Sibiu",464.6,27.29,"O",null,null,null,{"$f":"catp","v":2}]
[604,"Dumitriu Vitalie","Moldova-Larga",311,27.28,"O",null,null,null,{"$f":"catp","v":2}]
[2198,"Popa Cristian Gabriel","Craiova",48.9,27.25,"O",null,null,null,{"$f":"catp","v":2}]
[308,"Kelemen Miklos","Miercurea Ciuc",478.1,27.23,"O",null,null,null,{"$f":"catp","v":2}]
[893,"Szakacs Attila","Corunca",212.3,27.22,"O",null,null,null,{"$f":"catp","v":2}]
[752,"Manitiu Florin","Sibiu",250.4,27.21,"O",null,null,null,{"$f":"catp","v":2}]
[1425,"Leteanu Marius","Bacau",113.6,27.2,"O",null,null,null,{"$f":"catp","v":2}]
[1761,"Ion Radu","Slobozia",79,27.2,"O",null,null,null,{"$f":"catp","v":2}]
[949,"Vladescu Adrian","Cluj Napoca",198,27.16,"O",null,null,null,{"$f":"catp","v":2}]
[1195,"Bartha Istvan Zsolt","Aita Mare",149.4,27.14,"OW",null,null,null,{"$f":"catp","v":2}]
[3010,"Grama Mihai","Azuga",20.399999999999999,27.1,"OW",null,null,null,{"$f":"catp","v":2}]
[670,"Panczel Jozsef","Cluj Napoca",285.3,27.08,"O",null,null,null,{"$f":"catp","v":2}]
[1381,"Oancea Marian","Bacau",119.8,27.07,"O",null,null,null,{"$f":"catp","v":2}]
[333,"Chivaran Alin","Timisoara",460.7,27.06,"O",null,null,null,{"$f":"catp","v":2}]
[1793,"Hodis Tudor","Bucuresti",76.2,27.05,"OLJ",null,null,null,{"$f":"catp","v":2}]
[2199,"Ciobanu Adrian","Brasov",48.8,27.05,"O",null,null,null,{"$f":"catp","v":2}]
[683,"Comsa Dan","Sibiu",278,27.01,"OW",null,null,null,{"$f":"catp","v":2}]
[945,"Demeter Attila","Campia Turzii",198.6,27,"O",null,null,null,{"$f":"catp","v":2}]
[2087,"Maftei Robert","Brasov",56.2,27,"O",null,null,null,{"$f":"catp","v":2}]
[2110,"Mocanu David","Bucuresti",54,27,"O",null,null,null,{"$f":"catp","v":2}]
[3016,"Muresan Ovidiu","Caransebes",20.3,27,"O",null,null,null,{"$f":"catp","v":2}]
[2232,"Cojocaru Mitica","Braila",46.8,26.95,"OW",null,null,null,{"$f":"catp","v":2}]
[610,"Costeant Tiberiu","Margina",308.7,26.93,"O",null,null,null,{"$f":"catp","v":2}]
[1521,"Venter Liviu","Resita",103.7,26.9,"OW",null,null,null,{"$f":"catp","v":2}]
[2754,"Orac Teodor","Slobozia",26.9,26.9,"OW",null,null,null,{"$f":"catp","v":2}]
[519,"Soimusan Tudor","Cluj Napoca",346.8,26.84,"O",null,null,null,{"$f":"catp","v":2}]
[1593,"Zainescu Corneliu","Galati",96.2,26.83,"OW",null,null,null,{"$f":"catp","v":2}]
[622,"Gereb Istvan Attila","Miercurea Ciuc",303.2,26.81,"O",null,null,null,{"$f":"catp","v":2}]
[1594,"Cranta Andrei","Bucuresti",96.2,26.8,"O",null,null,null,{"$f":"catp","v":2}]
[3027,"Pal Attila","Sfantu Gheorghe",20.100000000000001,26.8,"OW",null,null,null,{"$f":"catp","v":2}]
[298,"Ternauciuc Adrian","Nadrag",486.2,26.79,"O",null,null,null,{"$f":"catp","v":2}]
[1409,"Campean Eugen","Dej",115.9,26.75,"O",null,null,null,{"$f":"catp","v":2}]
[808,"Costea Stefan","Tarnaveni",236.3,26.74,"O",null,null,null,{"$f":"catp","v":2}]
[1194,"Bordas Zsolt","Santionlunca",149.5,26.7,"O",null,null,null,{"$f":"catp","v":2}]
[2760,"Secu Virgil","Drobeta Tr Severin",26.7,26.7,"O",null,null,null,{"$f":"catp","v":2}]
[1371,"Aldea Eduard","Buzau",121.1,26.67,"O",null,null,null,{"$f":"catp","v":2}]
[1558,"Trif Florin","Cocorastii Mislii",99.8,26.65,"O",null,null,null,{"$f":"catp","v":2}]
[742,"Sandu Petru Adrian","Buhusi",255.9,26.63,"O",null,null,null,{"$f":"catp","v":2}]
[1192,"Lascu Marius","Timisoara",149.6,26.63,"O",null,null,null,{"$f":"catp","v":2}]
[299,"Jupanschi Adrian","Hunedoara",486,26.6,"O",null,null,null,{"$f":"catp","v":2}]
[1435,"Staicu Sorin","Dor Marunt",112,26.6,"O",null,null,null,{"$f":"catp","v":2}]
[2765,"Tabacaru Constantin","Piatra Neamt",26.6,26.6,"O",null,null,null,{"$f":"catp","v":2}]
[2766,"Comsa George Alexandru","Tulcea",26.6,26.6,"O",null,null,null,{"$f":"catp","v":2}]
[2767,"Nacu Iustinian Andrei","Piatra Neamt",26.6,26.6,"O",null,null,null,{"$f":"catp","v":2}]
[2768,"Danila Alexandru","Cugir",26.6,26.6,"O",null,null,null,{"$f":"catp","v":2}]
[1048,"Petersi Nuri","Varset",174,26.58,"O",null,null,null,{"$f":"catp","v":2}]
[1936,"Sabau Liviu","Oradea",65.400000000000006,26.55,"O",null,null,null,{"$f":"catp","v":2}]
[1630,"Barbu Alexandru","Bucuresti",92.2,26.53,"O",null,null,null,{"$f":"catp","v":2}]
[1375,"Florea Ionut","Vatra Dornei",120.7,26.5,"O",null,null,null,{"$f":"catp","v":2}]
[2771,"Algeorge Pop Eduard","Arad",26.5,26.5,"O",null,null,null,{"$f":"catp","v":2}]
[732,"Vlasceanu Valentin","Darmanesti",259.7,26.48,"O",null,null,null,{"$f":"catp","v":2}]
[1391,"Szabo Tamas","Miercurea Ciuc",118.6,26.48,"O",null,null,null,{"$f":"catp","v":2}]
[1436,"Marcu Vasile","Vatra Dornei",111.9,26.48,"OW",null,null,null,{"$f":"catp","v":2}]
[1114,"Vajeu Ionut","Busteni",161.5,26.45,"O",null,null,null,{"$f":"catp","v":2}]
[424,"Bran Florin","Tulcea",402.4,26.44,"O",null,null,null,{"$f":"catp","v":2}]
[551,"Mosneagu Maia","Falticeni",333.6,26.41,"OF",null,null,null,{"$f":"catp","v":2}]
[681,"Ferenczi Robert","Suseni",278.10000000000002,26.4,"O",null,null,null,{"$f":"catp","v":2}]
[1086,"Stancu Tiberiu","Deva",166.5,26.38,"OW",null,null,null,{"$f":"catp","v":2}]
[1225,"Stoinea Iulian","Bucuresti",144.4,26.38,"O",null,null,null,{"$f":"catp","v":2}]
[728,"Bardas Ioan","Dumbraveni SB",260.2,26.36,"O",null,null,null,{"$f":"catp","v":2}]
[1683,"Minzat Mircea","Saliste",86.6,26.33,"O",null,null,null,{"$f":"catp","v":2}]
[1883,"Plamada Aurelian","Botosani",70.099999999999994,26.33,"O",null,null,null,{"$f":"catp","v":2}]
[917,"Anghel George","Targoviste",204.8,26.32,"O",null,null,null,{"$f":"catp","v":2}]
[2229,"Nicolae Ionut","Ploiesti",46.9,26.3,"O",null,null,null,{"$f":"catp","v":2}]
[428,"Popa Gelu","Focsani",400.2,26.28,"O",null,null,null,{"$f":"catp","v":2}]
[415,"Alexandru David Gabriel","Bucuresti",407,26.25,"O",null,null,null,{"$f":"catp","v":2}]
[1975,"Casim Alina","Moldova-Avdarma",62.9,26.25,"OF",null,null,null,{"$f":"catp","v":2}]
[482,"Panait Adrian","Braila",367.9,26.23,"OW",null,null,null,{"$f":"catp","v":2}]
[1802,"Duceac Catalin","Botosani",75.099999999999994,26.23,"O",null,null,null,{"$f":"catp","v":2}]
[1042,"Gogu Ionut","Roman",175.7,26.2,"O",null,null,null,{"$f":"catp","v":2}]
[1292,"Iordachi Adrian","Adjud",133.69999999999999,26.2,"OW",null,null,null,{"$f":"catp","v":2}]
[1422,"Cojocaru Didi","Ramnicu Valcea",113.8,26.2,"O",null,null,null,{"$f":"catp","v":2}]
[2236,"Maerean Claudiu","Bistrita",46.6,26.2,"O",null,null,null,{"$f":"catp","v":2}]
[2780,"Spasic Dejan","Belgrad",26.2,26.2,"O",null,null,null,{"$f":"catp","v":2}]
[3048,"Ciurca Sorin","Tarnaveni",19.7,26.2,"O",null,null,null,{"$f":"catp","v":2}]
[788,"Popa Florin","Medias",241.1,26.19,"O",null,null,null,{"$f":"catp","v":2}]
[1786,"Stancu Maricel","Focsani",76.8,26.15,"O",null,null,null,{"$f":"catp","v":2}]
[2225,"Busuioc Stelian","Bucuresti",47.2,26.15,"O",null,null,null,{"$f":"catp","v":2}]
[1236,"Florea Cristian","Constanta",142.1,26.13,"O",null,null,null,{"$f":"catp","v":2}]
[1024,"Subtirelu Marius","Onesti",179,26.1,"O",null,null,null,{"$f":"catp","v":2}]
[707,"Dumitru Florin","Slobozia",270.3,26.05,"O",null,null,null,{"$f":"catp","v":2}]
[1785,"Vuta Bogdan","Curtea de Arges",77,26.05,"O",null,null,null,{"$f":"catp","v":2}]
[592,"Popa Nicolae","Cergau Mare",317.39999999999998,26.04,"O",null,null,null,{"$f":"catp","v":2}]
[336,"Necsoiu Georgiana","Videle",458.1,26.03,"OF",null,null,null,{"$f":"catp","v":2}]
[1872,"Kramarsic Milos","Belgrad",71,26,"O",null,null,null,{"$f":"catp","v":2}]
[1917,"Moraru Dumitru","Moldova-Cahul",67,26,"O",null,null,null,{"$f":"catp","v":2}]
[2280,"Zaharia Iulian","Iasi",44.6,26,"O",null,null,null,{"$f":"catp","v":2}]
[1632,"Pogorevici Mircea","Gura Humorului",91.9,25.98,"O",null,null,null,{"$f":"catp","v":2}]
[837,"Topsaneanu Valentin","Chitila",227.7,25.94,"O",null,null,null,{"$f":"catp","v":2}]
[1215,"Aldea Andrei","Roman",146.4,25.93,"O",null,null,null,{"$f":"catp","v":2}]
[2790,"Stoia Florin","Timisoara",25.9,25.9,"O",null,null,null,{"$f":"catp","v":2}]
[1774,"Ciocau Viorel","Bucuresti",78,25.87,"O",null,null,null,{"$f":"catp","v":2}]
[1856,"Andreievici Vuk","Dumbravita",71.599999999999994,25.87,"O",null,null,null,{"$f":"catp","v":2}]
[381,"Damian Mircea","Bistrita",426.5,25.85,"O",null,null,null,{"$f":"catp","v":2}]
[1175,"Irimia Silviu Marius","Cernavoda",152,25.83,"O",null,null,null,{"$f":"catp","v":2}]
[671,"Veres Janos","Targu Mures",284.39999999999998,25.8,"OW",null,null,null,{"$f":"catp","v":2}]
[1111,"Dragomir Marius","Targu Mures",162.1,25.8,"O",null,null,null,{"$f":"catp","v":2}]
[2141,"Suteu Bela","Sovata",51.6,25.8,"O",null,null,null,{"$f":"catp","v":2}]
[2142,"Cardas Andrei","Dumbravita",51.6,25.8,"O",null,null,null,{"$f":"catp","v":2}]
[2797,"Jusca Sorin","Lugoj",25.8,25.8,"O",null,null,null,{"$f":"catp","v":2}]
[1398,"Morosan Ionel","Granicesti",118,25.78,"O",null,null,null,{"$f":"catp","v":2}]
[993,"Starcz Adrian","Lupeni",184.9,25.76,"O",null,null,null,{"$f":"catp","v":2}]
[373,"Vrinceanu Vladut","Caransebes",431.2,25.75,"O",null,null,null,{"$f":"catp","v":2}]
[642,"Oprea Bogdan","Videle",294.39999999999998,25.75,"O",null,null,null,{"$f":"catp","v":2}]
[1241,"Carabas Cosmin","Timisoara",141.4,25.75,"O",null,null,null,{"$f":"catp","v":2}]
[1361,"Gorneanu Andrei","Bucuresti",122.1,25.75,"O",null,null,null,{"$f":"catp","v":2}]
[1439,"Banceanu Radu","Hunedoara",111.6,25.75,"O",null,null,null,{"$f":"catp","v":2}]
[1942,"Bleoca Lucas","Tarnaveni",65.099999999999994,25.75,"O",null,null,null,{"$f":"catp","v":2}]
[815,"Bordeianu Marius","Bucuresti",234.4,25.7,"O",null,null,null,{"$f":"catp","v":2}]
[1354,"Vajda Erno","Reghin",123.5,25.7,"OW",null,null,null,{"$f":"catp","v":2}]
[2145,"Dimeny Sanyi","Crasna",51.4,25.7,"O",null,null,null,{"$f":"catp","v":2}]
[2288,"Valea Claudiu","Targu Mures",44.3,25.7,"OW",null,null,null,{"$f":"catp","v":2}]
[369,"Cobzaru Radu","Deva",435,25.69,"OW",null,null,null,{"$f":"catp","v":2}]
[1432,"Munteanu Ion","Comanesti",112.3,25.68,"OW",null,null,null,{"$f":"catp","v":2}]
[1949,"Zelariu Petru","Tarnaveni",64.5,25.67,"OW",null,null,null,{"$f":"catp","v":2}]
[388,"Vieriu Tudorel","Suceava",422.2,25.66,"O",null,null,null,{"$f":"catp","v":2}]
[1600,"Eotvos Flavius","Tarnaveni",95.9,25.65,"O",null,null,null,{"$f":"catp","v":2}]
[717,"Stolearenco Igor","Galati",267.2,25.63,"O",null,null,null,{"$f":"catp","v":2}]
[1504,"Brisc Nelu","Timisoara",105.6,25.63,"O",null,null,null,{"$f":"catp","v":2}]
[748,"Stepanov Petre","Tulcea",252.3,25.62,"O",null,null,null,{"$f":"catp","v":2}]
[867,"Velicescu Dragos","Pitesti",218.1,25.6,"O",null,null,null,{"$f":"catp","v":2}]
[1588,"Urian Nicusor","Alba Iulia",96.8,25.6,"OW",null,null,null,{"$f":"catp","v":2}]
[1847,"Biber Adrian","Iasi",71.900000000000006,25.6,"O",null,null,null,{"$f":"catp","v":2}]
[2260,"Chibulcutean Bogdan","Tarnaveni",45.4,25.6,"O",null,null,null,{"$f":"catp","v":2}]
[2804,"Melintii Vladimir","Moldova-Comrat",25.6,25.6,"O",null,null,null,{"$f":"catp","v":2}]
[3064,"Chis Mihai","Techirghiol",19.2,25.6,"O",null,null,null,{"$f":"catp","v":2}]
[434,"Muresan Dorel","Cluj Napoca",396.4,25.59,"OD",null,null,null,{"$f":"catp","v":2}]
[957,"Bene Alexandru","Cluj Napoca",196.7,25.57,"O",null,null,null,{"$f":"catp","v":2}]
[512,"Georgescu Robert Stefan","Bucuresti",348.3,25.56,"O",null,null,null,{"$f":"catp","v":2}]
[1067,"Chirila Laurentiu","Braila",169.3,25.54,"O",null,null,null,{"$f":"catp","v":2}]
[925,"Faur Claudiu","Timisoara",203,25.52,"O",null,null,null,{"$f":"catp","v":2}]
[1146,"Clej Alexandru","Arad",156.69999999999999,25.52,"O",null,null,null,{"$f":"catp","v":2}]
[2152,"Nazaret Alexandru","Bacau",51,25.5,"O",null,null,null,{"$f":"catp","v":2}]
[1484,"Donisan Costel","Pascani",107.4,25.47,"OW",null,null,null,{"$f":"catp","v":2}]
[2156,"Tanu Mihai","Tecuci",50.9,25.45,"O",null,null,null,{"$f":"catp","v":2}]
[2189,"Neagu Mihai","Iasi",49.4,25.45,"O",null,null,null,{"$f":"catp","v":2}]
[2274,"Naghiu Ioan","Zalau",44.9,25.45,"O",null,null,null,{"$f":"catp","v":2}]
[1428,"Grigore Dumitru Valentin","Ramnicu Sarat",113.2,25.43,"O",null,null,null,{"$f":"catp","v":2}]
[1690,"Magura Larian","Constanta",86,25.43,"O",null,null,null,{"$f":"catp","v":2}]
[879,"Galanton Yanis","Suceava",215.8,25.4,"O",null,null,null,{"$f":"catp","v":2}]
[2812,"Jeler Nicolae","Orastie",25.4,25.4,"O",null,null,null,{"$f":"catp","v":2}]
[605,"Tirdea Ionut","Tecuci",310.89999999999998,25.38,"O",null,null,null,{"$f":"catp","v":2}]
[912,"Mihai Ion","Bucuresti",205.8,25.38,"O",null,null,null,{"$f":"catp","v":2}]
[578,"Filipics Zoli","Timisoara",322.3,25.35,"O",null,null,null,{"$f":"catp","v":2}]
[594,"Saucan Victor","Timisoara",315.5,25.35,"O",null,null,null,{"$f":"catp","v":2}]
[2269,"Ciobanu Marius","Iasi",45,25.35,"O",null,null,null,{"$f":"catp","v":2}]
[536,"Puiu Andrei","Botosani",338.4,25.32,"O",null,null,null,{"$f":"catp","v":2}]
[1421,"Rogin Florin","Piatra Neamt",113.9,25.3,"O",null,null,null,{"$f":"catp","v":2}]
[1677,"Capotescu Tiberiu","Faget",87.1,25.3,"O",null,null,null,{"$f":"catp","v":2}]
[1831,"Diaconu Dan","Hunedoara",72.8,25.3,"O",null,null,null,{"$f":"catp","v":2}]
[634,"Curpas Ioan","Oradea",296.60000000000002,25.28,"OW",null,null,null,{"$f":"catp","v":2}]
[378,"Plesoianu Stefan","Constanta",427.6,25.27,"OW",null,null,null,{"$f":"catp","v":2}]
[2165,"Radulescu Eugeniu","Turda",50.5,25.25,"O",null,null,null,{"$f":"catp","v":2}]
[2166,"Tarlev Roman","Moldova-Comrat",50.5,25.25,"O",null,null,null,{"$f":"catp","v":2}]
[933,"Ardeleanu Bogdan","Resita",201.5,25.22,"O",null,null,null,{"$f":"catp","v":2}]
[968,"Bustiuc Razvan","Iasi",193.6,25.22,"O",null,null,null,{"$f":"catp","v":2}]
[450,"Hutanu Adrian","Slobozia",385.8,25.21,"OW",null,null,null,{"$f":"catp","v":2}]
[2293,"Vladianu Marian","Iasi",44.2,25.2,"O",null,null,null,{"$f":"catp","v":2}]
[2817,"Ticu Mihai","Focsani",25.2,25.2,"O",null,null,null,{"$f":"catp","v":2}]
[535,"Sucilea Victor","Cluj Napoca",339.4,25.19,"OJ",null,null,null,{"$f":"catp","v":2}]
[1691,"Novitchi Daniel","Moldova-Cahul",85.8,25.15,"O",null,null,null,{"$f":"catp","v":2}]
[1939,"Ivascu Cosmin","Viseu",65.3,25.15,"O",null,null,null,{"$f":"catp","v":2}]
[1586,"Coroliuc Maria","Moldova-Balti",97.2,25.13,"OF",null,null,null,{"$f":"catp","v":2}]
[997,"Clesiu Florin","Deva",184,25.1,"O",null,null,null,{"$f":"catp","v":2}]
[1959,"Husar Toader","Sapanta",63.7,25.1,"O",null,null,null,{"$f":"catp","v":2}]
[2097,"Boureanu Ionel","Iasi",55.1,25.1,"O",null,null,null,{"$f":"catp","v":2}]
[509,"Aron Valentin","Fenes",349.5,25.03,"O",null,null,null,{"$f":"catp","v":2}]
[764,"Baicu Cristian","Bucuresti",248.3,25.03,"O",null,null,null,{"$f":"catp","v":2}]
[777,"Foris Dana","Baia Mare",244.2,25.03,"OF",null,null,null,{"$f":"catp","v":2}]
[1400,"Zaharia Puiu","Bucuresti",117.7,25.03,"O",null,null,null,{"$f":"catp","v":2}]
[1973,"Radoi Marius","Bals",63,25.03,"O",null,null,null,{"$f":"catp","v":2}]
[1471,"Dascalu Cosmin Stefan","Cluj Napoca",108.4,25,"O",null,null,null,{"$f":"catp","v":2}]
[1512,"Sfrenti Cosmin","Drobeta Tr Severin",104.5,25,"O",null,null,null,{"$f":"catp","v":2}]
[1814,"Prodan Daniel","Campia Turzii",74.099999999999994,25,"O",null,null,null,{"$f":"catp","v":2}]
[2822,"Badulescu Rafael","Giurgiu",25,25,"O",null,null,null,{"$f":"catp","v":2}]
[3088,"State Orlando","Bucuresti",18.8,25,"O",null,null,null,{"$f":"catp","v":2}]
[639,"Stefan Narcis","Botosani",295.7,24.97,"OW",null,null,null,{"$f":"catp","v":2}]
[1523,"Buicea Rares","Pitesti",103.5,24.97,"O",null,null,null,{"$f":"catp","v":2}]
[350,"Nicola Marian","Constanta",447.5,24.95,"O",null,null,null,{"$f":"catp","v":2}]
[758,"Chetan Laurean","Reghin",249.5,24.95,"OW",null,null,null,{"$f":"catp","v":2}]
[1944,"Andreica Daniel","Viseu",64.900000000000006,24.95,"O",null,null,null,{"$f":"catp","v":2}]
[2176,"Digolean Alexandru","Moldova-Larga",49.9,24.95,"O",null,null,null,{"$f":"catp","v":2}]
[1068,"Caraus Sorin","Deva",169.3,24.93,"O",null,null,null,{"$f":"catp","v":2}]
[737,"Kesmarki Laszlo","Tarnaveni",257.60000000000002,24.9,"O",null,null,null,{"$f":"catp","v":2}]
[795,"Curelea Andrei","Bucuresti",238.9,24.9,"O",null,null,null,{"$f":"catp","v":2}]
[1104,"Moldovan Flavia","Tarnaveni",163.5,24.9,"OF",null,null,null,{"$f":"catp","v":2}]
[690,"Lazar Cristian","Cluj Napoca",275.89999999999998,24.88,"O",null,null,null,{"$f":"catp","v":2}]
[2180,"Gherman Romulus","Arad",49.7,24.85,"O",null,null,null,{"$f":"catp","v":2}]
[542,"Mihaila George","Bucuresti",337,24.84,"O",null,null,null,{"$f":"catp","v":2}]
[1055,"Coste Rafael","Lupeni",173,24.82,"O",null,null,null,{"$f":"catp","v":2}]
[2185,"Ciripan Camelia","Bucuresti",49.6,24.8,"OF",null,null,null,{"$f":"catp","v":2}]
[3102,"Lulciuc Dumitru","Timisoara",18.600000000000001,24.8,"O",null,null,null,{"$f":"catp","v":2}]
[3103,"Svaia Bianca","Timisoara",18.600000000000001,24.8,"OF",null,null,null,{"$f":"catp","v":2}]
[376,"Barabancea Lili","Iasi",430.4,24.76,"OF",null,null,null,{"$f":"catp","v":2}]
[963,"Barbulescu Dan","Sibiu",195.3,24.75,"OW",null,null,null,{"$f":"catp","v":2}]
[1515,"Stancalie Doru","Craiova",104.2,24.75,"O",null,null,null,{"$f":"catp","v":2}]
[2188,"Zaha Vasile","Satu Mare",49.5,24.75,"OW",null,null,null,{"$f":"catp","v":2}]
[1210,"Mihaila Gabriel","Radauti",147.30000000000001,24.73,"O",null,null,null,{"$f":"catp","v":2}]
[878,"Bal Adrian","Gherla",216.1,24.72,"O",null,null,null,{"$f":"catp","v":2}]
[850,"Dragotescu Iulian Darius","Deva",223.3,24.7,"O",null,null,null,{"$f":"catp","v":2}]
[391,"Dimache Marian","Braila",419.8,24.69,"OW",null,null,null,{"$f":"catp","v":2}]
[1712,"Pacuraru Cristian","Suceava",84.7,24.67,"O",null,null,null,{"$f":"catp","v":2}]
[1025,"Gorasciuc Marius","Hurjuieni",178.7,24.62,"O",null,null,null,{"$f":"catp","v":2}]
[560,"Crisan Cristian","Oradea",327,24.61,"O",null,null,null,{"$f":"catp","v":2}]
[626,"Iobagiu Ionut","Bistrita",300.8,24.6,"O",null,null,null,{"$f":"catp","v":2}]
[1815,"Pascaru Tudor Andrei","Iasi",74.099999999999994,24.6,"O",null,null,null,{"$f":"catp","v":2}]
[2841,"Apostoaiei Andrei","Bucuresti",24.6,24.6,"O",null,null,null,{"$f":"catp","v":2}]
[607,"Magercu Alexandru","Bucuresti",310,24.59,"O",null,null,null,{"$f":"catp","v":2}]
[1667,"Glavan Radu","Timisoara",88.1,24.57,"O",null,null,null,{"$f":"catp","v":2}]
[1783,"Veres Adrian","Timisoara",77.2,24.57,"O",null,null,null,{"$f":"catp","v":2}]
[518,"Pacurar Teodor","Gherla",347.3,24.55,"O",null,null,null,{"$f":"catp","v":2}]
[420,"Radu Constantin","Sibiu",404.1,24.51,"OW",null,null,null,{"$f":"catp","v":2}]
[763,"Lupu Mihai","Bucuresti",248.5,24.51,"OW",null,null,null,{"$f":"catp","v":2}]
[1701,"Istrate Ghiorghita","Suceava",85.3,24.5,"O",null,null,null,{"$f":"catp","v":2}]
[1956,"Ivascu Gavrila","Viseu",64,24.5,"O",null,null,null,{"$f":"catp","v":2}]
[2452,"Simu Marius","Oradea",36.799999999999997,24.5,"O",null,null,null,{"$f":"catp","v":2}]
[853,"Ianovici Florin","Brasov",221.4,24.45,"OW",null,null,null,{"$f":"catp","v":2}]
[1610,"Neagu Alexandru","Targoviste",94.9,24.45,"O",null,null,null,{"$f":"catp","v":2}]
[1613,"Tudose Iulian","Galati",94.6,24.45,"O",null,null,null,{"$f":"catp","v":2}]
[1852,"Morariu Marius","Sibiu",71.7,24.45,"OW",null,null,null,{"$f":"catp","v":2}]
[1857,"Carnu Eugen","Bacau",71.599999999999994,24.45,"OW",null,null,null,{"$f":"catp","v":2}]
[965,"Olah Remus","Arad",194.2,24.44,"OW",null,null,null,{"$f":"catp","v":2}]
[1587,"Ghiurutan Razvan","Bucuresti",97.2,24.43,"O",null,null,null,{"$f":"catp","v":2}]
[693,"Golai Gheorghe","Piatra Neamt",275.7,24.4,"OW",null,null,null,{"$f":"catp","v":2}]
[2319,"Tanase Horia","Bucuresti",42.9,24.4,"O",null,null,null,{"$f":"catp","v":2}]
[2458,"Pal Abel","Sfantu Gheorghe",36.6,24.4,"O",null,null,null,{"$f":"catp","v":2}]
[2850,"Dicu Mircea","Vaslui",24.4,24.4,"O",null,null,null,{"$f":"catp","v":2}]
[2851,"Sivu Cosmin","Bucuresti",24.4,24.4,"O",null,null,null,{"$f":"catp","v":2}]
[2852,"Damoc George","Pildesti",24.4,24.4,"O",null,null,null,{"$f":"catp","v":2}]
[3118,"Modoran Marian","Bucuresti",18.3,24.4,"O",null,null,null,{"$f":"catp","v":2}]
[3119,"Balllo Szabolcs","Miercurea Ciuc",18.3,24.4,"O",null,null,null,{"$f":"catp","v":2}]
[2205,"Dinu Cristian","Mizil",48.7,24.35,"O",null,null,null,{"$f":"catp","v":2}]
[649,"Robu Mihai","Mogosesti",292.10000000000002,24.34,"OW",null,null,null,{"$f":"catp","v":2}]
[902,"Lazar Dumitru","Mizil",208.7,24.3,"OW",null,null,null,{"$f":"catp","v":2}]
[2859,"Roman Radu Dan","Arad",24.3,24.3,"O",null,null,null,{"$f":"catp","v":2}]
[3120,"Salavastru Petru","Botosani",18.3,24.3,"OW",null,null,null,{"$f":"catp","v":2}]
[3121,"Tokai Laszlo","Oradea",18.3,24.3,"O",null,null,null,{"$f":"catp","v":2}]
[2008,"Vaduva David","Bucuresti",60.5,24.27,"OL",null,null,null,{"$f":"catp","v":2}]
[1705,"Pasca Nelu","Oradea",85.2,24.25,"O",null,null,null,{"$f":"catp","v":2}]
[1332,"Rusea Gheorghe","Breaza",128.5,24.23,"O",null,null,null,{"$f":"catp","v":2}]
[666,"Vasiliu Bogdan","Panciu",288.2,24.21,"O",null,null,null,{"$f":"catp","v":2}]
[1620,"Serban Marin","Tulcea",93.6,24.2,"OW",null,null,null,{"$f":"catp","v":2}]
[703,"Rusu Anatol","Moldova-Briceni",272.39999999999998,24.17,"O",null,null,null,{"$f":"catp","v":2}]
[598,"Peiciu Vasile","Tulcea",314.5,24.15,"O",null,null,null,{"$f":"catp","v":2}]
[523,"Bozga Stefan","Beclean",345.3,24.13,"O",null,null,null,{"$f":"catp","v":2}]
[1344,"Munteanu Ion","Brasov",126.5,24.13,"O",null,null,null,{"$f":"catp","v":2}]
[2009,"Macari Ion","Iasi",60.5,24.13,"O",null,null,null,{"$f":"catp","v":2}]
[375,"Popovici Sandu","Sibiu",430.5,24.12,"O",null,null,null,{"$f":"catp","v":2}]
[975,"Cioca Raul","Agnita",191.4,24.12,"O",null,null,null,{"$f":"catp","v":2}]
[2063,"Filip Dan","Comanesti",57.7,24.1,"OW",null,null,null,{"$f":"catp","v":2}]
[2283,"Rus Mihai","Bistrita",44.5,24.1,"O",null,null,null,{"$f":"catp","v":2}]
[2868,"Voinea Emil","Braila",24.1,24.1,"OW",null,null,null,{"$f":"catp","v":2}]
[3130,"Sandu Mihai","Braila",18.100000000000001,24.1,"O",null,null,null,{"$f":"catp","v":2}]
[3131,"Chivari Sebastian","Arad",18.100000000000001,24.1,"O",null,null,null,{"$f":"catp","v":2}]
[766,"Ipate Virgil","Bucuresti",246.7,24.07,"O",null,null,null,{"$f":"catp","v":2}]
[783,"Maximciuc Felix","Baia Mare",241.6,24.03,"O",null,null,null,{"$f":"catp","v":2}]
[908,"Chibulcutean Ioan","Tarnaveni",206.1,24.03,"OW",null,null,null,{"$f":"catp","v":2}]
[1577,"Marin Robert","Pitesti",97.8,24,"O",null,null,null,{"$f":"catp","v":2}]
[540,"Cernat Cristian","Iasi",337.6,23.98,"A",null,null,null,{"$f":"catp","v":3}]
[2214,"Ilie Cristian","Constanta",47.9,23.95,"A",null,null,null,{"$f":"catp","v":3}]
[2479,"Vig Andrei","Simleu Silvaniei",36,23.95,"A",null,null,null,{"$f":"catp","v":3}]
[454,"Dinu Gheorghe","Bucuresti",382.2,23.93,"AW",null,null,null,{"$f":"catp","v":3}]
[1103,"Vescan Adrian","Cluj Napoca",163.6,23.93,"A",null,null,null,{"$f":"catp","v":3}]
[1731,"Soki Viktor","Arad",82.9,23.93,"A",null,null,null,{"$f":"catp","v":3}]
[836,"Daraba Gabriel","Botosani",228.7,23.91,"A",null,null,null,{"$f":"catp","v":3}]
[2323,"Lupu Darius","Bucuresti",42.5,23.9,"A",null,null,null,{"$f":"catp","v":3}]
[2876,"Danila Florin","Cugir",23.9,23.9,"A",null,null,null,{"$f":"catp","v":3}]
[684,"Grusca Narcis","Gura Humorului",277.8,23.89,"AW",null,null,null,{"$f":"catp","v":3}]
[712,"Oancea Vasile","Buzau",268.8,23.88,"A",null,null,null,{"$f":"catp","v":3}]
[1316,"Preda Mark","Slatina",131.5,23.83,"A",null,null,null,{"$f":"catp","v":3}]
[929,"Cheta Victor","Zalau",202,23.8,"A",null,null,null,{"$f":"catp","v":3}]
[2406,"Miron Liviu","Campina",38.799999999999997,23.8,"AW",null,null,null,{"$f":"catp","v":3}]
[1966,"Marko Gabor","Sibiu",63.2,23.75,"A",null,null,null,{"$f":"catp","v":3}]
[1180,"Popescu Sorin","Ploiesti",151.19999999999999,23.74,"A",null,null,null,{"$f":"catp","v":3}]
[451,"Bej Sergiu","Arad",385.6,23.71,"A",null,null,null,{"$f":"catp","v":3}]
[823,"Mihut Doru","Dej",231.6,23.7,"A",null,null,null,{"$f":"catp","v":3}]
[422,"Tobosaru Gheorghe","Brasov",403.1,23.68,"AW",null,null,null,{"$f":"catp","v":3}]
[401,"Lucic Corneliu","Suceava",414.6,23.63,"ADW",null,null,null,{"$f":"catp","v":3}]
[615,"Palaghianu David","Salcea",306.5,23.63,"A",null,null,null,{"$f":"catp","v":3}]
[1118,"Ionescu Ioana","Bucuresti",160.9,23.63,"ALFJ",null,null,null,{"$f":"catp","v":3}]
[1313,"Varga Florin","Cluj Napoca",131.9,23.63,"A",null,null,null,{"$f":"catp","v":3}]
[1108,"Maran Petru","Sighetu Marmatiei",162.5,23.62,"AW",null,null,null,{"$f":"catp","v":3}]
[606,"Coltau Aurica","Salonta",310.39999999999998,23.61,"AF",null,null,null,{"$f":"catp","v":3}]
[477,"Gherman Vlad","Timisoara",370.9,23.6,"A",null,null,null,{"$f":"catp","v":3}]
[726,"Buliga Cornel","Galati",261.3,23.6,"A",null,null,null,{"$f":"catp","v":3}]
[1502,"Virvorea Mihai","Sibiu",105.7,23.6,"A",null,null,null,{"$f":"catp","v":3}]
[1555,"Padurariu Ciprian","Roman",100,23.6,"AW",null,null,null,{"$f":"catp","v":3}]
[651,"Ilie Aurelian","Botosani",291.8,23.55,"A",null,null,null,{"$f":"catp","v":3}]
[1220,"Tegher Tiberiu","Apahida",145.69999999999999,23.55,"A",null,null,null,{"$f":"catp","v":3}]
[467,"Joldes Adrian","Bistrita",376.4,23.52,"AW",null,null,null,{"$f":"catp","v":3}]
[958,"Bivolaru Marius","Ploiesti",196,23.51,"A",null,null,null,{"$f":"catp","v":3}]
[1745,"Negrea Petrut","Comanesti",81.400000000000006,23.5,"A",null,null,null,{"$f":"catp","v":3}]
[3150,"Perju Cosmin","Constanta",17.7,23.5,"A",null,null,null,{"$f":"catp","v":3}]
[430,"Ciubotaru Leonas","Iasi",399.7,23.46,"AW",null,null,null,{"$f":"catp","v":3}]
[1937,"Stoli Nicu","Tulcea",65.400000000000006,23.45,"A",null,null,null,{"$f":"catp","v":3}]
[2357,"Bolboaca Flaviu","Cluj Napoca",41,23.45,"A",null,null,null,{"$f":"catp","v":3}]
[1947,"Rusu Andrei","Cluj Napoca",64.599999999999994,23.43,"A",null,null,null,{"$f":"catp","v":3}]
[2233,"Mirisan Dorin","Baia Mare",46.8,23.4,"A",null,null,null,{"$f":"catp","v":3}]
[2885,"Dirdala Catalin","Focsani",23.4,23.4,"A",null,null,null,{"$f":"catp","v":3}]
[3157,"Mathe Attila","Bistrita",17.600000000000001,23.4,"A",null,null,null,{"$f":"catp","v":3}]
[3158,"Kiss Vasile","Timisoara",17.600000000000001,23.4,"A",null,null,null,{"$f":"catp","v":3}]
[3159,"Moreno Valentin","Bucuresti",17.600000000000001,23.4,"A",null,null,null,{"$f":"catp","v":3}]
[3160,"Hegedus Aaron","Brasov",17.600000000000001,23.4,"A",null,null,null,{"$f":"catp","v":3}]
[1228,"Roatis Gheorghe","Oradea",143.80000000000001,23.35,"A",null,null,null,{"$f":"catp","v":3}]
[399,"Orban Mark","Sovata",416.5,23.34,"A",null,null,null,{"$f":"catp","v":3}]
[488,"Ileanu Bogdan","Targu Jiu",366.3,23.3,"A",null,null,null,{"$f":"catp","v":3}]
[913,"Badescu Tudor","Cluj Napoca",205.8,23.3,"A",null,null,null,{"$f":"catp","v":3}]
[2889,"Groza Alexandru","Cisnadie",23.3,23.3,"A",null,null,null,{"$f":"catp","v":3}]
[2890,"Ublodi Mellissa","Lombardia Italia",23.3,23.3,"AF",null,null,null,{"$f":"catp","v":3}]
[2891,"Maroccoli Gaia","Lombardia Italia",23.3,23.3,"AF",null,null,null,{"$f":"catp","v":3}]
[2019,"Valcica Antonio","Slatina",59.7,23.27,"A",null,null,null,{"$f":"catp","v":3}]
[2024,"Glavan Niculae","Constanta",59.4,23.27,"A",null,null,null,{"$f":"catp","v":3}]
[2510,"Lup Claudiu","Bistrita",34.9,23.25,"A",null,null,null,{"$f":"catp","v":3}]
[380,"Ene Florin","Ploiesti",426.7,23.24,"A",null,null,null,{"$f":"catp","v":3}]
[541,"Vulpescu Radu","Iasi",337.2,23.2,"A",null,null,null,{"$f":"catp","v":3}]
[3172,"Garabet Dan","Iasi",17.399999999999999,23.2,"A",null,null,null,{"$f":"catp","v":3}]
[715,"Pop Danut","Dej",267.8,23.18,"AW",null,null,null,{"$f":"catp","v":3}]
[579,"Munteanu Corneliu","Vaslui",322,23.17,"A",null,null,null,{"$f":"catp","v":3}]
[1713,"Tudorache Constantin","Targoviste",84.7,23.1,"A",null,null,null,{"$f":"catp","v":3}]
[3173,"Mocanu Georgian","Filipestii de Targ",17.399999999999999,23.1,"A",null,null,null,{"$f":"catp","v":3}]
[386,"Damian Gelu","Comanesti",423.4,23.08,"A",null,null,null,{"$f":"catp","v":3}]
[1343,"Sava Andrei","Iasi",126.6,23.05,"A",null,null,null,{"$f":"catp","v":3}]
[2248,"Olaru Aurel","Medias",46.1,23.05,"A",null,null,null,{"$f":"catp","v":3}]
[2522,"Dragut Tudor","Moinesti",34.6,23.05,"ALJ",null,null,null,{"$f":"catp","v":3}]
[479,"Moroldi Gabriel","Targu Mures",369.2,23.03,"A",null,null,null,{"$f":"catp","v":3}]
[698,"Negru Marius","Deva",274.5,23.02,"A",null,null,null,{"$f":"catp","v":3}]
[1148,"Bucovszki Alexandru","Sighetu Marmatiei",156.6,23.02,"A",null,null,null,{"$f":"catp","v":3}]
[659,"Sarcani Andrei","Targu Mures",289.7,23,"AW",null,null,null,{"$f":"catp","v":3}]
[2007,"Dima Alexia","Pitesti",60.7,23,"AF",null,null,null,{"$f":"catp","v":3}]
[2903,"Nenestean Raul","Iasi",23,23,"A",null,null,null,{"$f":"catp","v":3}]
[2904,"Oliva Ioan David","Bulgaria",23,23,"A",null,null,null,{"$f":"catp","v":3}]
[2905,"Arcusa Dmitrii","Ucraina-Umani",23,23,"A",null,null,null,{"$f":"catp","v":3}]
[3177,"Pisica Ionel","Slobozia",17.3,23,"A",null,null,null,{"$f":"catp","v":3}]
[1081,"Ficleanu Gabriel","Giurgiu",167.4,22.95,"AW",null,null,null,{"$f":"catp","v":3}]
[2252,"Matei Alin","Arad",45.9,22.95,"A",null,null,null,{"$f":"catp","v":3}]
[1615,"Popa Mircea","Brasov",94.2,22.93,"AW",null,null,null,{"$f":"catp","v":3}]
[2908,"Tasedan Adrian","Arad",22.9,22.9,"A",null,null,null,{"$f":"catp","v":3}]
[2909,"Dumitras Cosmin","Barlad",22.9,22.9,"A",null,null,null,{"$f":"catp","v":3}]
[719,"Serban Liviu","Onesti",266.39999999999998,22.89,"A",null,null,null,{"$f":"catp","v":3}]
[483,"Marinescu Nelu","Targoviste",367.4,22.88,"A",null,null,null,{"$f":"catp","v":3}]
[1365,"Bartos Csongor","Miercurea Ciuc",121.8,22.88,"A",null,null,null,{"$f":"catp","v":3}]
[802,"Cheregi Nelu","Oradea",237.6,22.87,"A",null,null,null,{"$f":"catp","v":3}]
[1879,"Paladuta Victor","Timisoara",70.7,22.87,"A",null,null,null,{"$f":"catp","v":3}]
[900,"David Marian","Braila",209.2,22.86,"A",null,null,null,{"$f":"catp","v":3}]
[2047,"Ilie Florian","Voluntari",58.4,22.83,"A",null,null,null,{"$f":"catp","v":3}]
[539,"Milos Adrian","Bocsa",337.8,22.8,"A",null,null,null,{"$f":"catp","v":3}]
[1285,"Kovacs Levente","Oradea",134.9,22.8,"A",null,null,null,{"$f":"catp","v":3}]
[2255,"Melintii Victoria","Moldova-Avdarma",45.6,22.8,"AF",null,null,null,{"$f":"catp","v":3}]
[1181,"Kraider Helmutâ€‹â€‹","Resita",151,22.77,"A",null,null,null,{"$f":"catp","v":3}]
[456,"Dina Alexandru","Bucuresti",381.9,22.75,"A",null,null,null,{"$f":"catp","v":3}]
[643,"Orban Levente","Sovata",294.39999999999998,22.74,"A",null,null,null,{"$f":"catp","v":3}]
[2541,"Raicu Nicolae","Tulcea",34.1,22.7,"A",null,null,null,{"$f":"catp","v":3}]
[2920,"Catricicau Adrian","Baia Mare",22.7,22.7,"A",null,null,null,{"$f":"catp","v":3}]
[447,"Volanin Rares","Sibiu",387.6,22.69,"A",null,null,null,{"$f":"catp","v":3}]
[1376,"Stoica Liviu Gabriel","Slobozia",120.7,22.6,"A",null,null,null,{"$f":"catp","v":3}]
[1491,"Podar Horatiu","Turda",106.8,22.6,"A",null,null,null,{"$f":"catp","v":3}]
[1611,"Balauca Daniel","Constanta",94.9,22.6,"A",null,null,null,{"$f":"catp","v":3}]
[2264,"Dehelean Alexandru","Dumbravita",45.2,22.6,"A",null,null,null,{"$f":"catp","v":3}]
[2429,"Sabau Aurel","Tarnaveni",37.6,22.6,"AW",null,null,null,{"$f":"catp","v":3}]
[2924,"Rusti Radu Vasile","Arad",22.6,22.6,"A",null,null,null,{"$f":"catp","v":3}]
[3191,"Moise Bianca","Ploiesti",17,22.6,"AF",null,null,null,{"$f":"catp","v":3}]
[1357,"Milos Cristian","Alexandria",123,22.58,"A",null,null,null,{"$f":"catp","v":3}]
[1176,"Saric Leonid","Moldova-Balti",152,22.57,"A",null,null,null,{"$f":"catp","v":3}]
[478,"Dospinescu George","Sibiu",369.8,22.55,"AW",null,null,null,{"$f":"catp","v":3}]
[637,"Lungu Lucian","Onesti",296,22.52,"A",null,null,null,{"$f":"catp","v":3}]
[705,"Tatar Dorel","Calan",270.7,22.51,"AW",null,null,null,{"$f":"catp","v":3}]
[1687,"Pop Norbert","Cluj Napoca",86.2,22.5,"A",null,null,null,{"$f":"catp","v":3}]
[2134,"Cilianu Vladut Gabriel","Bucuresti",52.2,22.5,"A",null,null,null,{"$f":"catp","v":3}]
[2270,"Popa Alin Andrei","Bacau",45,22.5,"A",null,null,null,{"$f":"catp","v":3}]
[2931,"Pascu Marius","Campulung Mold",22.5,22.5,"A",null,null,null,{"$f":"catp","v":3}]
[2932,"Craiovan Victor","Resita",22.5,22.5,"A",null,null,null,{"$f":"catp","v":3}]
[404,"Balaban Daniel","Bucuresti",413.5,22.49,"A",null,null,null,{"$f":"catp","v":3}]
[593,"Marin Catalin","Fenes",315.7,22.48,"A",null,null,null,{"$f":"catp","v":3}]
[1094,"Duca Marius","Sibiu",165.1,22.46,"A",null,null,null,{"$f":"catp","v":3}]
[1548,"Stanciu Olimpiu","Chitila",100.9,22.43,"A",null,null,null,{"$f":"catp","v":3}]
[515,"Coclea Ionel","Braila",348.1,22.41,"AW",null,null,null,{"$f":"catp","v":3}]
[1980,"Boian Vlad","Bucuresti",62.7,22.4,"A",null,null,null,{"$f":"catp","v":3}]
[602,"Pirvanescu Daniel","Bucuresti",311.8,22.38,"A",null,null,null,{"$f":"catp","v":3}]
[1622,"Covaci Vasile","Sighisoara",93.5,22.37,"A",null,null,null,{"$f":"catp","v":3}]
[1681,"Gheorghies Ovidiu","Iasi",86.7,22.37,"A",null,null,null,{"$f":"catp","v":3}]
[432,"Muntean Atila","Hunedoara",398.1,22.36,"A",null,null,null,{"$f":"catp","v":3}]
[1410,"Nicolae Daniel","Bucuresti",115.9,22.35,"A",null,null,null,{"$f":"catp","v":3}]
[2278,"Pop Ioan","Baia Mare",44.7,22.35,"A",null,null,null,{"$f":"catp","v":3}]
[445,"Popa Robert","Targoviste",389.4,22.33,"A",null,null,null,{"$f":"catp","v":3}]
[935,"Terente Catalin","Piatra Neamt",201.4,22.33,"AW",null,null,null,{"$f":"catp","v":3}]
[2200,"Klepp Lucas","Lipova",48.8,22.3,"A",null,null,null,{"$f":"catp","v":3}]
[1007,"Terentii Cristian","Bucuresti",182,22.26,"A",null,null,null,{"$f":"catp","v":3}]
[1974,"Casim Milena","Moldova-Avdarma",63,22.25,"AF",null,null,null,{"$f":"catp","v":3}]
[2022,"Manolache Florin","Ploiesti",59.5,22.25,"A",null,null,null,{"$f":"catp","v":3}]
[2284,"Ursescu Iuliu","Radauti",44.5,22.25,"AW",null,null,null,{"$f":"catp","v":3}]
[759,"Neiconi Sabin","Hateg",249.4,22.23,"AW",null,null,null,{"$f":"catp","v":3}]
[1650,"Culda Andrei","Oradea",89.6,22.23,"A",null,null,null,{"$f":"catp","v":3}]
[1795,"Palici Eduard","Cluj Napoca",75.8,22.23,"A",null,null,null,{"$f":"catp","v":3}]
[1349,"Mihaila Robert","Breaza",125.6,22.2,"A",null,null,null,{"$f":"catp","v":3}]
[2940,"Greonjanc Marinel","Vlajkovac",22.2,22.2,"A",null,null,null,{"$f":"catp","v":3}]
[2941,"Tulpan George Laurentiu","Targu Jiu",22.2,22.2,"A",null,null,null,{"$f":"catp","v":3}]
[2942,"Silobad Marko","Belgrad",22.2,22.2,"A",null,null,null,{"$f":"catp","v":3}]
[2943,"Bakos Miklos","Zrenjanin",22.2,22.2,"A",null,null,null,{"$f":"catp","v":3}]
[2944,"Zlatic Sinisa","Belgrad",22.2,22.2,"A",null,null,null,{"$f":"catp","v":3}]
[1117,"Petrariu Sorin","Brasov",161,22.18,"A",null,null,null,{"$f":"catp","v":3}]
[581,"Buie Laurentiu","Arad",321.60000000000002,22.15,"A",null,null,null,{"$f":"catp","v":3}]
[1440,"Babos Ioan","Sarmasag",111.6,22.15,"A",null,null,null,{"$f":"catp","v":3}]
[1138,"Ion Catalin","Alexandria",157.80000000000001,22.12,"A",null,null,null,{"$f":"catp","v":3}]
[550,"Cristofor Razvan","Moinesti",334,22.11,"AW",null,null,null,{"$f":"catp","v":3}]
[2294,"Teaca Vladimir","Moldova-Balti",44.2,22.1,"A",null,null,null,{"$f":"catp","v":3}]
[2946,"Cramba Cristinel","Iasi",22.1,22.1,"A",null,null,null,{"$f":"catp","v":3}]
[3208,"Stan Constantin","Caragiale DB",16.600000000000001,22.1,"A",null,null,null,{"$f":"catp","v":3}]
[596,"Moca Alexandru","Ludus",315.3,22.09,"A",null,null,null,{"$f":"catp","v":3}]
[1196,"Daineanu Paul","Constanta",149,22.06,"A",null,null,null,{"$f":"catp","v":3}]
[1120,"Vasilescu Florin","Ploiesti",160.69999999999999,22.05,"A",null,null,null,{"$f":"catp","v":3}]
[2136,"Szilagyi Attila","Targu Mures",52,22.05,"A",null,null,null,{"$f":"catp","v":3}]
[673,"Gherghel Petru","Gheraesti",282.89999999999998,22.03,"A",null,null,null,{"$f":"catp","v":3}]
[2947,"Masgras Iulian","Tecuci",22,22,"A",null,null,null,{"$f":"catp","v":3}]
[987,"Simon Bence","Targu Mures",186.7,21.98,"A",null,null,null,{"$f":"catp","v":3}]
[1200,"Curaciuc Claudiu","Resita",148.4,21.94,"A",null,null,null,{"$f":"catp","v":3}]
[1360,"Bucurenciu Mihai","Fagaras",122.2,21.93,"A",null,null,null,{"$f":"catp","v":3}]
[644,"Ungureanu Gheorghita","Focsani",294,21.92,"A",null,null,null,{"$f":"catp","v":3}]
[2101,"Gora Madalin","Radauti",54.9,21.9,"A",null,null,null,{"$f":"catp","v":3}]
[2424,"Boicu Liviu","Vatra Dornei",38,21.9,"A",null,null,null,{"$f":"catp","v":3}]
[2950,"Ambrus Arnold","Lazarea",21.9,21.9,"A",null,null,null,{"$f":"catp","v":3}]
[976,"Bendris Nicu","Targu Mures",191.2,21.88,"A",null,null,null,{"$f":"catp","v":3}]
[1130,"Vancsa Zoltan","Miercurea Ciuc",159.19999999999999,21.85,"A",null,null,null,{"$f":"catp","v":3}]
[2043,"Cranta Gabriel","Bucuresti",58.5,21.85,"A",null,null,null,{"$f":"catp","v":3}]
[1009,"Paduraru Mihnea","Brasov",181.4,21.83,"A",null,null,null,{"$f":"catp","v":3}]
[1289,"Mocanu Lucian","Roman",134.4,21.78,"A",null,null,null,{"$f":"catp","v":3}]
[948,"Stoian Sorin","Curtea de Arges",198.1,21.76,"A"]
[567,"Lajos Mozes","Odorheiu Secuiesc",324.89999999999998,21.75,"AW",null,null,null,{"$f":"catp","v":3}]
[1359,"Muresan Carmen","Zalau",122.5,21.75,"AF",null,null,null,{"$f":"catp","v":3}]
[1388,"Hortolomei Andrei","Husi",119,21.73,"A",null,null,null,{"$f":"catp","v":3}]
[686,"Sofian Corneliu","Suceava",277.7,21.7,"AW",null,null,null,{"$f":"catp","v":3}]
[2105,"Sultan Valentin","Craiova",54.6,21.7,"A",null,null,null,{"$f":"catp","v":3}]
[2307,"Galan Andreea","Vatra Dornei",43.5,21.7,"AFJ",null,null,null,{"$f":"catp","v":3}]
[2955,"Amarinei Sorin","Galati",21.7,21.7,"AW",null,null,null,{"$f":"catp","v":3}]
[3218,"Chiriac Nastase","Galati",16.3,21.7,"A",null,null,null,{"$f":"catp","v":3}]
[3219,"Dunavat Radu","Bucuresti",16.3,21.7,"A",null,null,null,{"$f":"catp","v":3}]
[1788,"Portase Daria","Galati",76.7,21.68,"AF",null,null,null,{"$f":"catp","v":3}]
[964,"Marchitan Marius","Brasov",194.4,21.65,"A",null,null,null,{"$f":"catp","v":3}]
[1385,"Belgun Ionut","Timisoara",119.2,21.65,"A",null,null,null,{"$f":"catp","v":3}]
[1682,"Stanciu Constantin","Timisoara",86.7,21.65,"A",null,null,null,{"$f":"catp","v":3}]
[2459,"Chirita Nicolae","Curtea de Arges",36.6,21.6,"A",null,null,null,{"$f":"catp","v":3}]
[472,"Lungu Mihai","Targoviste",372.8,21.52,"AW",null,null,null,{"$f":"catp","v":3}]
[2030,"Alupoaie Dumitru","Iasi",59.1,21.5,"A",null,null,null,{"$f":"catp","v":3}]
[2308,"Popute Remus","Oradea",43.5,21.5,"AW",null,null,null,{"$f":"catp","v":3}]
[2963,"Sexton Antonio Sorin","Kentucky USA",21.5,21.5,"A",null,null,null,{"$f":"catp","v":3}]
[3225,"Parcalab Mihai","Bistrita",16.2,21.5,"AW",null,null,null,{"$f":"catp","v":3}]
[3226,"Yarden Shacham","Israel",16.2,21.5,"A",null,null,null,{"$f":"catp","v":3}]
[1655,"Szekely Zoltan","Gheorgheni",89.2,21.48,"A",null,null,null,{"$f":"catp","v":3}]
[2036,"Vlaicu Daniel","Marghita",58.8,21.47,"A",null,null,null,{"$f":"catp","v":3}]
[2445,"Ionel Ovidiu","Bistrita",37.1,21.45,"A",null,null,null,{"$f":"catp","v":3}]
[1995,"Vasile Adrian Cristian","Bucuresti",61.9,21.4,"A",null,null,null,{"$f":"catp","v":3}]
[525,"Botea Mihai","Braila",344.9,21.29,"A",null,null,null,{"$f":"catp","v":3}]
[1035,"Vasi Daniel","Arad",176.8,21.26,"A",null,null,null,{"$f":"catp","v":3}]
[621,"Pasca Lucian","Targu Mures",303.60000000000002,21.23,"A",null,null,null,{"$f":"catp","v":3}]
[1797,"Purcarea Radu","Constanta",75.5,21.23,"A",null,null,null,{"$f":"catp","v":3}]
[722,"Catana Gabriel","Bucuresti",261.89999999999998,21.22,"A",null,null,null,{"$f":"catp","v":3}]
[1328,"Ariciu George","Cocorastii Mislii",128.80000000000001,21.2,"A",null,null,null,{"$f":"catp","v":3}]
[2167,"Dumitru Stefan","Buzau",50.5,21.2,"A",null,null,null,{"$f":"catp","v":3}]
[2326,"Constantin Mihaela","Bucuresti",42.4,21.2,"AF",null,null,null,{"$f":"catp","v":3}]
[2977,"Filip Ioan","Sighetu Marmatiei",21.2,21.2,"A",null,null,null,{"$f":"catp","v":3}]
[2978,"Munteanu Corneliu","Harlau",21.2,21.2,"A",null,null,null,{"$f":"catp","v":3}]
[1026,"Balasa Andrei","Bucuresti",178.7,21.17,"A",null,null,null,{"$f":"catp","v":3}]
[718,"Tedi Ioja","Calan",267.10000000000002,21.12,"A",null,null,null,{"$f":"catp","v":3}]
[939,"Cristoiu Cozmin","Bucuresti",200.1,21.1,"A",null,null,null,{"$f":"catp","v":3}]
[2328,"Tianu Gabriel","Bucuresti",42.2,21.1,"A",null,null,null,{"$f":"catp","v":3}]
[465,"Dobinda Alexandru","Arad",377,21.09,"AW",null,null,null,{"$f":"catp","v":3}]
[2057,"Tertea Andrei","Moldova-Balti",58,21.07,"A",null,null,null,{"$f":"catp","v":3}]
[1445,"Ispas Emil","Alba Iulia",110.9,21.03,"A",null,null,null,{"$f":"catp","v":3}]
[2984,"Congiu Luigi","Italia",21,21,"A",null,null,null,{"$f":"catp","v":3}]
[1514,"Calin Anisoara","Bucuresti",104.3,20.98,"AF",null,null,null,{"$f":"catp","v":3}]
[982,"Preda Nicolae","Curtea de Arges",188.7,20.97,"A",null,null,null,{"$f":"catp","v":3}]
[667,"Lupu Cristian","Botosani",286.60000000000002,20.95,"A",null,null,null,{"$f":"catp","v":3}]
[862,"Birtalan Casian","Dumbraveni SB",219.5,20.95,"AJ",null,null,null,{"$f":"catp","v":3}]
[545,"Dan Radu","Zalau",336.1,20.93,"A",null,null,null,{"$f":"catp","v":3}]
[1072,"Suciu Iacob","Blaj",168.7,20.92,"A",null,null,null,{"$f":"catp","v":3}]
[2340,"Ivanco Arteom","Moldova-Cahul",41.8,20.9,"A",null,null,null,{"$f":"catp","v":3}]
[2986,"Pop Cornel","Zalau",20.9,20.9,"A",null,null,null,{"$f":"catp","v":3}]
[1614,"Cristea Alexandru Costin","Bucuresti",94.4,20.88,"A",null,null,null,{"$f":"catp","v":3}]
[1835,"Effler Stefan","Arad",72.5,20.88,"A",null,null,null,{"$f":"catp","v":3}]
[517,"Rus Teofil","Jibou",347.5,20.87,"A",null,1,null,{"$f":"catp","v":3}]
[2456,"Manu Flaviu","Ploiesti",36.700000000000003,20.85,"A",null,null,null,{"$f":"catp","v":3}]
[1281,"Bostinaru Filip","Curtea de Arges",135.30000000000001,20.84,"A",null,null,null,{"$f":"catp","v":3}]
[994,"Gisca Catalin","Bucuresti",184.9,20.83,"A",null,null,null,{"$f":"catp","v":3}]
[1143,"Toma Dan","Sfantu Gheorghe",156.9,20.82,"A",null,null,null,{"$f":"catp","v":3}]
[1621,"Constantin Eduard","Bucuresti",93.6,20.8,"A",null,null,null,{"$f":"catp","v":3}]
[2344,"Arnaut Alexandr","Moldova-Avdarma",41.6,20.8,"A",null,null,null,{"$f":"catp","v":3}]
[2990,"Sivu Leonard","Bucuresti",20.8,20.8,"A",null,null,null,{"$f":"catp","v":3}]
[2991,"Cir Florin","Razboieni",20.8,20.8,"A",null,null,null,{"$f":"catp","v":3}]
[810,"Badiu Gavril","Rasca",235.9,20.75,"A",null,null,null,{"$f":"catp","v":3}]
[1834,"Schimbeschi Marian","Tulcea",72.599999999999994,20.75,"A",null,null,null,{"$f":"catp","v":3}]
[614,"Ionescu Cristian","Ulmi",306.7,20.74,"A",null,null,null,{"$f":"catp","v":3}]
[1657,"Badea Catalin","Dumbravita",88.7,20.7,"A",null,null,null,{"$f":"catp","v":3}]
[2998,"Csiki Sandor","Cluj Napoca",20.7,20.7,"AW",null,null,null,{"$f":"catp","v":3}]
[2999,"Arcusa Aliona","Ucraina-Umani",20.7,20.7,"A",null,null,null,{"$f":"catp","v":3}]
[3253,"Parpauta Gabriel","Iasi",15.6,20.7,"A",null,null,null,{"$f":"catp","v":3}]
[485,"Pascalau Cristian","Huedin",367.1,20.69,"A",null,null,null,{"$f":"catp","v":3}]
[899,"Cojocaru Ion","Ploiesti",209.4,20.69,"A",null,null,null,{"$f":"catp","v":3}]
[1429,"Bistreanu Armand","Bucuresti",112.8,20.68,"A",null,null,null,{"$f":"catp","v":3}]
[1213,"Moisuc Alexandru","Radauti",146.5,20.62,"A",null,null,null,{"$f":"catp","v":3}]
[1158,"Mihaila Mihai","Radauti",155,20.6,"A",null,null,null,{"$f":"catp","v":3}]
[1866,"Stoica Florin","Bucuresti",71.099999999999994,20.6,"A",null,null,null,{"$f":"catp","v":3}]
[2355,"Calin Alexandru","Focsani",41.2,20.6,"A",null,null,null,{"$f":"catp","v":3}]
[632,"Firican Andrei","Deva",297.10000000000002,20.58,"A",null,null,null,{"$f":"catp","v":3}]
[1698,"Marin Alexandru","Bucuresti",85.4,20.55,"A",null,null,null,{"$f":"catp","v":3}]
[1839,"Titirig Corneliu","Gura Humorului",72.2,20.55,"A",null,null,null,{"$f":"catp","v":3}]
[1699,"Lupescu Nicolae","Reghin",85.4,20.5,"A",null,null,null,{"$f":"catp","v":3}]
[2316,"Moldovan Alin","Bistrita",43,20.5,"A",null,null,null,{"$f":"catp","v":3}]
[2470,"Fecioru Alexandru","Salcea",36.299999999999997,20.5,"A",null,null,null,{"$f":"catp","v":3}]
[3004,"Hodis Andrei","Gherla",20.5,20.5,"A",null,null,null,{"$f":"catp","v":3}]
[3005,"Andoni Grigore","Moldova-Straseni",20.5,20.5,"A",null,null,null,{"$f":"catp","v":3}]
[924,"Neculaes Francisc","Halaucesti",203.4,20.48,"A",null,null,null,{"$f":"catp","v":3}]
[1958,"Rognean Rafael Alex","Oravita",63.9,20.47,"A",null,null,null,{"$f":"catp","v":3}]
[954,"Olteanu Gabriel","Vaslui",197.2,20.45,"A",null,null,null,{"$f":"catp","v":3}]
[2347,"Dilan Pavel","Iasi",41.5,20.45,"A",null,null,null,{"$f":"catp","v":3}]
[2361,"Simon Gheorghe","Roman",40.9,20.45,"A",null,null,null,{"$f":"catp","v":3}]
[1218,"Calasnicov Stanislav","Moldova-Cahul",146,20.43,"A",null,null,null,{"$f":"catp","v":3}]
[1479,"Haran Alexandru","Sibiu",107.9,20.43,"A",null,null,null,{"$f":"catp","v":3}]
[1728,"Banea Radu","Sibiu",83.1,20.43,"A",null,null,null,{"$f":"catp","v":3}]
[1848,"Onofrei Andrei","Medgidia",71.900000000000006,20.399999999999999,"A",null,null,null,{"$f":"catp","v":3}]
[3011,"Guzgan Valentin","Barlad",20.399999999999999,20.399999999999999,"A",null,null,null,{"$f":"catp","v":3}]
[1642,"Dior Dorin","Bucuresti",90.1,20.38,"A",null,null,null,{"$f":"catp","v":3}]
[463,"Matei Dumitru","Deva",377.4,20.34,"AW",null,null,null,{"$f":"catp","v":3}]
[999,"Oniga Paul","Blaj",183.9,20.309999999999999,"A",null,null,null,{"$f":"catp","v":3}]
[3268,"Zadarojsni Remus","Oravita",15.3,20.3,"A",null,null,null,{"$f":"catp","v":3}]
[1273,"Vieriu Mirel","Focsani",137.30000000000001,20.28,"A",null,null,null,{"$f":"catp","v":3}]
[493,"Toader Ovidiu","Balan",363,20.25,"A",null,null,null,{"$f":"catp","v":3}]
[1261,"Rastoaca Victor","Bucuresti",139.1,20.239999999999998,"A",null,null,null,{"$f":"catp","v":3}]
[3023,"Solcan Florin","Constanta",20.2,20.2,"AW",null,null,null,{"$f":"catp","v":3}]
[3024,"Lepadatu Gheorghe","Priboieni",20.2,20.2,"A",null,null,null,{"$f":"catp","v":3}]
[3025,"Davidoiu Emma","Cluj Napoca",20.2,20.2,"AF",null,null,null,{"$f":"catp","v":3}]
[3273,"Stiuca Sorin","Arad",15.2,20.2,"A",null,null,null,{"$f":"catp","v":3}]
[806,"Todea Alexandru","Cluj Napoca",236.6,20.13,"A",null,null,null,{"$f":"catp","v":3}]
[548,"Vaculisteanu Ionut","Botosani",335.1,20.12,"A",null,null,null,{"$f":"catp","v":3}]
[3028,"Catana Vlad","Targu Mures",20.100000000000001,20.100000000000001,"A",null,null,null,{"$f":"catp","v":3}]
[3029,"Unciuleac Alin","Iasi",20.100000000000001,20.100000000000001,"A",null,null,null,{"$f":"catp","v":3}]
[1929,"Irimia Sorin","Moinesti",65.900000000000006,20.07,"A",null,null,null,{"$f":"catp","v":3}]
[1190,"Rosoga Ana","Constanta",149.69999999999999,20.059999999999999,"AF",null,null,null,{"$f":"catp","v":3}]
[736,"Boros Mihaly","Crasna",257.7,20.05,"A",null,null,null,{"$f":"catp","v":3}]
[2492,"Kis Valentin","Cluj Napoca",35.5,20.05,"A",null,null,null,{"$f":"catp","v":3}]
[506,"Fusca Georgian","Targoviste",351.5,20.03,"A",null,null,null,{"$f":"catp","v":3}]
[2508,"Putnik Tiberiu","Varset",35,20,"A",null,null,null,{"$f":"catp","v":3}]
[3033,"Christova Raia","Bulgaria",20,20,"AF",null,null,null,{"$f":"catp","v":3}]
[3034,"Calin Cristian","Bucuresti",20,20,"A",null,null,null,{"$f":"catp","v":3}]
[491,"Dinu Adrian","Darmanesti",365.5,19.98,"A",null,null,null,{"$f":"catp","v":3}]
[909,"Radu Ciprian","Brasov",205.9,19.899999999999999,"A",null,null,null,{"$f":"catp","v":3}]
[2546,"Monu Claudiu","Tarnaveni",33.9,19.899999999999999,"A",null,null,null,{"$f":"catp","v":3}]
[1187,"Cornea Marian","Constanta",150,19.88,"A",null,null,null,{"$f":"catp","v":3}]
[2181,"Tala Medard","Micfalau",49.7,19.87,"A",null,null,null,{"$f":"catp","v":3}]
[1193,"Balasoiu Liviu","Novaci",149.6,19.86,"A",null,null,null,{"$f":"catp","v":3}]
[1626,"Keresztes Attila","Micfalau",93,19.829999999999998,"A",null,null,null,{"$f":"catp","v":3}]
[702,"Chifor Vlad","Targu Mures",273.60000000000002,19.809999999999999,"A",null,null,null,{"$f":"catp","v":3}]
[858,"Talmaciu Florin","Sibiu",220.5,19.809999999999999,"A",null,null,null,{"$f":"catp","v":3}]
[625,"Diaconescu Cristian","Floresti",301.60000000000002,19.8,"A",null,null,null,{"$f":"catp","v":3}]
[2542,"Olaru Costin","Bucuresti",34.1,19.8,"A",null,null,null,{"$f":"catp","v":3}]
[2560,"Georgescu Vlad","Bucuresti",33.5,19.8,"A",null,null,null,{"$f":"catp","v":3}]
[3042,"Baran Virgil Sr","Bucuresti",19.8,19.8,"A",null,null,null,{"$f":"catp","v":3}]
[1510,"Babes Razvan","Brasov",104.7,19.78,"A",null,null,null,{"$f":"catp","v":3}]
[1724,"Csurulya Gyula","Miercurea Ciuc",83.3,19.75,"A",null,null,null,{"$f":"catp","v":3}]
[819,"Vasiliu Alin","Panciu",232.8,19.739999999999998,"A",null,null,null,{"$f":"catp","v":3}]
[1268,"Iacobut Catalin","Bacau",137.9,19.73,"A",null,null,null,{"$f":"catp","v":3}]
[498,"Seniuc Radu","Arad",358.4,19.7,"A",null,null,null,{"$f":"catp","v":3}]
[3049,"Chiscan Bogdan","Arad",19.7,19.7,"A",null,null,null,{"$f":"catp","v":3}]
[1064,"Galca Cristian","Iasi",170.8,19.690000000000001,"A",null,null,null,{"$f":"catp","v":3}]
[1437,"Gal Farkas Arpad","Miercurea Ciuc",111.7,19.68,"A",null,null,null,{"$f":"catp","v":3}]
[1907,"Topciu David","Targu Mures",68.099999999999994,19.670000000000002,"A",null,null,null,{"$f":"catp","v":3}]
[633,"Milna Sorin","Ludus",296.7,19.649999999999999,"A",null,null,null,{"$f":"catp","v":3}]
[516,"Cumpaniciu Alin","Barlad",348.1,19.62,"A",null,null,null,{"$f":"catp","v":3}]
[678,"Vidrut Ioan","Apahida",281,19.600000000000001,"A",null,null,null,{"$f":"catp","v":3}]
[1128,"Vaida Alin","Cluj Napoca",159.9,19.600000000000001,"A",null,null,null,{"$f":"catp","v":3}]
[1918,"Manescu Alexandru","Slatina",67,19.57,"A",null,null,null,{"$f":"catp","v":3}]
[1678,"Tatar Iosua","Jimbolia",86.9,19.53,"A",null,null,null,{"$f":"catp","v":3}]
[1899,"Korodi Csaba","Aita Mare",68.900000000000006,19.53,"A",null,null,null,{"$f":"catp","v":3}]
[2186,"Marin Albert","Bucuresti",49.6,19.53,"A",null,null,null,{"$f":"catp","v":3}]
[3327,"Dumitru Ioan","Bistrita",14.7,19.5,"A",null,null,null,{"$f":"catp","v":3}]
[3328,"Serban Mircea","Brasov",14.7,19.5,"AW",null,null,null,{"$f":"catp","v":3}]
[3329,"Uta David","Bucuresti",14.7,19.5,"A",null,null,null,{"$f":"catp","v":3}]
[3330,"Mentel Nicole","Constanta",14.7,19.5,"AF",null,null,null,{"$f":"catp","v":3}]
[3331,"Baburea Alexandru Ionut","Alexandria",14.7,19.5,"A",null,null,null,{"$f":"catp","v":3}]
[529,"Stinga Ovidiu","Tecuci",343.1,19.48,"A",null,null,null,{"$f":"catp","v":3}]
[1832,"Anton Dragos","Focsani",72.8,19.45,"A",null,null,null,{"$f":"catp","v":3}]
[2579,"Tanasov Marius","Tulcea",33,19.45,"A",null,null,null,{"$f":"catp","v":3}]
[558,"Orban Koppany","Sovata",327.60000000000002,19.440000000000001,"A",null,null,null,{"$f":"catp","v":3}]
[619,"Taut Ciprian","Cluj Napoca",304.2,19.41,"A",null,null,null,{"$f":"catp","v":3}]
[700,"Ciuverca Adrian","Satu Mare",274.10000000000002,19.41,"A",null,null,null,{"$f":"catp","v":3}]
[887,"Szivery Adrian","Arad",213.5,19.399999999999999,"A",null,null,null,{"$f":"catp","v":3}]
[1501,"Usatenco Lev","Ucraina",105.8,19.399999999999999,"A",null,null,null,{"$f":"catp","v":3}]
[3058,"Burdalescu Bogdan","Bucuresti",19.399999999999999,19.399999999999999,"A",null,null,null,{"$f":"catp","v":3}]
[503,"Botas Constantin","Sannicolau Mare",354.1,19.38,"A",null,null,null,{"$f":"catp","v":3}]
[714,"Gipsy King","Hunedoara",268,19.38,"AW",null,null,null,{"$f":"catp","v":3}]
[756,"Hanu Viorel","Moreni",249.7,19.38,"A",null,null,null,{"$f":"catp","v":3}]
[1353,"Mironescu Adrian","Botosani",123.8,19.38,"A",null,null,null,{"$f":"catp","v":3}]
[2686,"Grigorean Costel","Marginea",29.1,19.350000000000001,"A",null,null,null,{"$f":"catp","v":3}]
[730,"Morosan Ionel","Radauti",259.8,19.329999999999998,"A",null,null,null,{"$f":"catp","v":3}]
[572,"Florea Mihai","Ludus",323.60000000000002,19.309999999999999,"A",null,null,null,{"$f":"catp","v":3}]
[1065,"Urcan Lucian","Timisoara",170.7,19.3,"A",null,null,null,{"$f":"catp","v":3}]
[2411,"Duca George","Curtea de Arges",38.6,19.3,"A",null,null,null,{"$f":"catp","v":3}]
[2412,"Chiriac Petru","Roman",38.6,19.3,"A",null,null,null,{"$f":"catp","v":3}]
[3340,"Scraba Marius","Alexandria",14.5,19.3,"A",null,null,null,{"$f":"catp","v":3}]
[821,"Farcas Raul","Targu Mures",232.4,19.27,"A",null,null,null,{"$f":"catp","v":3}]
[947,"Andrei Gheorghe","Petrosani",198.2,19.27,"AW",null,null,null,{"$f":"catp","v":3}]
[729,"Andrea Simion","Cluj Napoca",260,19.260000000000002,"AF",null,null,null,{"$f":"catp","v":3}]
[2237,"Boruga Alex","Drobeta Tr Severin",46.6,19.25,"A",null,null,null,{"$f":"catp","v":3}]
[1670,"Lungu Marius","Oravita",87.7,19.23,"A",null,null,null,{"$f":"catp","v":3}]
[735,"Cuciureanu Daniel","Ploiesti",259.39999999999998,19.2,"A",null,null,null,{"$f":"catp","v":3}]
[2068,"Jaouir Khaled","Bucuresti",57.6,19.2,"AW",null,null,null,{"$f":"catp","v":3}]
[2263,"Campian Zoltan","Toplita",45.3,19.2,"A",null,null,null,{"$f":"catp","v":3}]
[2414,"Zalar Marian","Tarnaveni",38.4,19.2,"A",null,null,null,{"$f":"catp","v":3}]
[3065,"Zdrenghea Mircea","Orastie",19.2,19.2,"A",null,null,null,{"$f":"catp","v":3}]
[3066,"Cadar Ioan","Cluj Napoca",19.2,19.2,"AW",null,null,null,{"$f":"catp","v":3}]
[3067,"Oravecz Csaba","Tomesti",19.2,19.2,"A",null,null,null,{"$f":"catp","v":3}]
[3342,"Gabor Luca","Moinesti",14.4,19.2,"A",null,null,null,{"$f":"catp","v":3}]
[809,"Tilica Gabriel","Targoviste",236.1,19.190000000000001,"A",null,null,null,{"$f":"catp","v":3}]
[1901,"Susan Mircea","Alba Iulia",68.7,19.149999999999999,"A",null,null,null,{"$f":"catp","v":3}]
[1017,"Bica Alexandru","Alesd",180.5,19.14,"A",null,null,null,{"$f":"catp","v":3}]
[877,"Giuseppe Brancati","Bucuresti",216.2,19.11,"A",null,null,null,{"$f":"catp","v":3}]
[1392,"Nagy Attila","Suseni",118.6,19.100000000000001,"A",null,null,null,{"$f":"catp","v":3}]
[1989,"Balcu Laurentiu","Bocsa",62.4,19.100000000000001,"A",null,null,null,{"$f":"catp","v":3}]
[2700,"Hidi Zoltan","Oradea",28.7,19.100000000000001,"A",null,null,null,{"$f":"catp","v":3}]
[3071,"Stoean Mircea","Bacau",19.100000000000001,19.100000000000001,"A",null,null,null,{"$f":"catp","v":3}]
[3072,"Bujor Laurentiu","Bacau",19.100000000000001,19.100000000000001,"A",null,null,null,{"$f":"catp","v":3}]
[505,"Marian Ioan","Alba Iulia",352.8,19.09,"AW",null,null,null,{"$f":"catp","v":3}]
[609,"Garaz Mircea","Bistrita",309,19.09,"ADW",null,null,null,{"$f":"catp","v":3}]
[792,"Zamcu Ciprian","Suceava",239.2,19.079999999999998,"A",null,null,null,{"$f":"catp","v":3}]
[1490,"Busnatu Radu Andrei","Bucuresti",106.9,19.079999999999998,"A",null,null,null,{"$f":"catp","v":3}]
[1595,"Nica Alexandru","Iasi",96.2,19.079999999999998,"A",null,null,null,{"$f":"catp","v":3}]
[600,"Popescu Theo","Bucuresti",313.3,19.059999999999999,"A",null,null,null,{"$f":"catp","v":3}]
[2420,"Toma Viorel","Giurgiu",38.1,19.05,"A",null,null,null,{"$f":"catp","v":3}]
[1664,"Bucur Alin Adrian","Targu Mures",88.3,19.03,"A",null,null,null,{"$f":"catp","v":3}]
[653,"Dobinda Dinu","Arad",290.2,19.010000000000002,"A",null,null,null,{"$f":"catp","v":3}]
[1140,"Maresi Cristian","Targu Jiu",157.5,19,"A",null,null,null,{"$f":"catp","v":3}]
[1308,"Dragomir Marian","Slatina Timis",132.19999999999999,19,"A",null,null,null,{"$f":"catp","v":3}]
[2115,"Rusanovschi Andrei","Moldova-Edinet",53.6,19,"A",null,null,null,{"$f":"catp","v":3}]
[3077,"Manu Nicolae","Resita",19,19,"A",null,null,null,{"$f":"catp","v":3}]
[3078,"Dragoste Dorin","Cluj Napoca",19,19,"A",null,null,null,{"$f":"catp","v":3}]
[3079,"Serban Dumitru","Tulcea",19,19,"A",null,null,null,{"$f":"catp","v":3}]
[3080,"Balasa Flavius","Bucuresti",19,19,"A",null,null,null,{"$f":"catp","v":3}]
[3081,"Colinicenco Denis","Moldova-Basarabeasca",19,19,"A",null,null,null,{"$f":"catp","v":3}]
[3082,"Crippa Beatrice","Lombardia Italia",19,19,"AF",null,null,null,{"$f":"catp","v":3}]
[3083,"Bratu Gabriel","Italia",19,19,"A",null,null,null,{"$f":"catp","v":3}]
[3347,"Bratu Andrei","Brasov",14.3,19,"A",null,null,null,{"$f":"catp","v":3}]
[3348,"Glogogeanu Nicolae","Craiova",14.3,19,"A",null,null,null,{"$f":"catp","v":3}]
[3349,"Fratila Tiberiu","Bucuresti",14.3,19,"A",null,null,null,{"$f":"catp","v":3}]
[3350,"Zaharia Bogdan","Brasov",14.3,19,"A",null,null,null,{"$f":"catp","v":3}]
[901,"Cocan Mircea","Bucuresti",209,18.989999999999998,"A",null,null,null,{"$f":"catp","v":3}]
[1399,"Metes Doru","Cluj Napoca",118,18.98,"A",null,null,null,{"$f":"catp","v":3}]
[2238,"Chirca Alexandru","Mioveni",46.5,18.97,"A",null,null,null,{"$f":"catp","v":3}]
[2537,"Vlad Florin","Arad",34.200000000000003,18.95,"AW",null,null,null,{"$f":"catp","v":3}]
[546,"Ionita Alexandru","Ploiesti",336,18.93,"A",null,null,null,{"$f":"catp","v":3}]
[2240,"Contiu Mircea","Brasov",46.4,18.93,"A",null,null,null,{"$f":"catp","v":3}]
[3356,"Sandu Ionut","Moinesti",14.2,18.899999999999999,"A",null,null,null,{"$f":"catp","v":3}]
[3357,"Cimbru Andrei","Moinesti",14.2,18.899999999999999,"A",null,null,null,{"$f":"catp","v":3}]
[1112,"Serbanovici Milen","Braila",162,18.86,"A",null,null,null,{"$f":"catp","v":3}]
[1327,"Pop Dan","Targu Mures",128.9,18.86,"A",null,null,null,{"$f":"catp","v":3}]
[577,"Tonciu Costin","Branesti",322.5,18.850000000000001,"A",null,null,null,{"$f":"catp","v":3}]
[2565,"Nagy Robert","Odorheiu Secuiesc",33.299999999999997,18.850000000000001,"A",null,null,null,{"$f":"catp","v":3}]
[658,"Pauca Cosmin","Botosani",289.8,18.84,"A",null,null,null,{"$f":"catp","v":3}]
[731,"Roman David","Arad",259.8,18.82,"A",null,null,null,{"$f":"catp","v":3}]
[745,"Sava Andrei","Cluj Napoca",254.8,18.82,"A",null,null,null,{"$f":"catp","v":3}]
[896,"Cserei Stefan","Apahida",209.7,18.8,"A",null,null,null,{"$f":"catp","v":3}]
[2430,"Rotari Mihai","Moldova-Chisinau",37.6,18.8,"A",null,null,null,{"$f":"catp","v":3}]
[3089,"Calinicenco Denis","Moldova-Basarabeasca",18.8,18.8,"A",null,null,null,{"$f":"catp","v":3}]
[3090,"Vasiljevic Jakov","Zajecar Serbia",18.8,18.8,"A",null,null,null,{"$f":"catp","v":3}]
[793,"Avramescu Bogdan","Bucuresti",239.1,18.79,"A",null,null,null,{"$f":"catp","v":3}]
[1545,"Petho Katalin","Racosu de Sus",101.2,18.75,"AF",null,null,null,{"$f":"catp","v":3}]
[1498,"Dumbrava Gabriel","Bucuresti",106,18.739999999999998,"A",null,null,null,{"$f":"catp","v":3}]
[2171,"Popa Vlad","Piatra Neamt",50.2,18.73,"A",null,null,null,{"$f":"catp","v":3}]
[2253,"Barbu Dan","Cluj Napoca",45.9,18.73,"AW",null,null,null,{"$f":"catp","v":3}]
[687,"Baluta Silviu","Bucuresti",277.60000000000002,18.72,"AW",null,null,null,{"$f":"catp","v":3}]
[1088,"Mavrodin Cristian","Oltenita",166.3,18.72,"A",null,null,null,{"$f":"catp","v":3}]
[1684,"Virlan Liviu","Timisoara",86.3,18.7,"A",null,null,null,{"$f":"catp","v":3}]
[1702,"Danescu Marius","Dumbraveni SB",85.3,18.7,"A",null,null,null,{"$f":"catp","v":3}]
[3093,"Goretchi Claudiu","Bucuresti",18.7,18.7,"A",null,null,null,{"$f":"catp","v":3}]
[3094,"Acquistapace Santiago","Lombardia Italia",18.7,18.7,"A",null,null,null,{"$f":"catp","v":3}]
[3095,"Escribano Giulia","Lombardia Italia",18.7,18.7,"AF",null,null,null,{"$f":"catp","v":3}]
[3096,"Ponzi Giacomo","Lombardia Italia",18.7,18.7,"A",null,null,null,{"$f":"catp","v":3}]
[591,"Rakosi Istvan","Zalau",317.8,18.690000000000001,"A",null,null,null,{"$f":"catp","v":3}]
[1389,"Andrei Ionut","Pitesti",118.9,18.68,"A",null,null,null,{"$f":"catp","v":3}]
[1627,"Alexanovici Bogdan","Brasov",92.9,18.68,"A",null,null,null,{"$f":"catp","v":3}]
[797,"Toma Casian","Targu Mures",238.5,18.649999999999999,"A",null,null,null,{"$f":"catp","v":3}]
[848,"Socaci Silviu","Lugoj",224.3,18.649999999999999,"A",null,null,null,{"$f":"catp","v":3}]
[927,"Paul Alin Sabin","Sandra",202.5,18.63,"A",null,null,null,{"$f":"catp","v":3}]
[1448,"Ocu Ioan","Botosani",110.5,18.63,"A",null,null,null,{"$f":"catp","v":3}]
[1945,"Palfi Zsolt","Oradea",64.8,18.63,"A",null,null,null,{"$f":"catp","v":3}]
[1741,"Cretu Marian","Craiova",81.7,18.600000000000001,"A",null,null,null,{"$f":"catp","v":3}]
[1922,"Petrea Bogdan Andrei","Caransebes",66.5,18.600000000000001,"A",null,null,null,{"$f":"catp","v":3}]
[2597,"Sutoris Cornel","Medias",32.200000000000003,18.600000000000001,"AW",null,null,null,{"$f":"catp","v":3}]
[3104,"Balasa Nicolae","Spania",18.600000000000001,18.600000000000001,"A",null,null,null,{"$f":"catp","v":3}]
[3105,"Iordanov Ivailo","Bulgaria",18.600000000000001,18.600000000000001,"A",null,null,null,{"$f":"catp","v":3}]
[3369,"Burcea Daniel","Lugoj",14,18.600000000000001,"A",null,null,null,{"$f":"catp","v":3}]
[2157,"Draghia Ionel Eugen","Drobeta Tr Severin",50.9,18.57,"A",null,null,null,{"$f":"catp","v":3}]
[1419,"Ciocani Rafael","Sannicolau Mare",114.9,18.55,"A",null,null,null,{"$f":"catp","v":3}]
[511,"Tofeni Florin","Nasaud",348.7,18.54,"A",null,null,null,{"$f":"catp","v":3}]
[2014,"Fulop Nimrod","Cristuru Secuiesc",60.2,18.53,"ALJ",null,null,null,{"$f":"catp","v":3}]
[1124,"Luca Eugen","Aiud",160.4,18.510000000000002,"A",null,null,null,{"$f":"catp","v":3}]
[733,"Gihan Sefcati","Popesti Leordeni",259.5,18.5,"A",null,null,null,{"$f":"catp","v":3}]
[1844,"Saloman David","Pitesti",72,18.5,"A",null,null,null,{"$f":"catp","v":3}]
[2201,"Tini Alina Stefania","Constanta",48.8,18.5,"AF",null,null,null,{"$f":"catp","v":3}]
[2446,"Baciu Adrian","Pascani",37,18.5,"A",null,null,null,{"$f":"catp","v":3}]
[1214,"Suptirel Narcis","Agnita",146.5,18.48,"A",null,null,null,{"$f":"catp","v":3}]
[2153,"Marin Adrian","Cateasca",51,18.47,"A",null,null,null,{"$f":"catp","v":3}]
[841,"Bujoreanu Neculai","Falticeni",226.3,18.45,"AW",null,null,null,{"$f":"catp","v":3}]
[1767,"Cristea Alin Mihai","Bucuresti",78.5,18.45,"A",null,null,null,{"$f":"catp","v":3}]
[2450,"Busuioc Andrei","Panciu",36.9,18.45,"A",null,null,null,{"$f":"catp","v":3}]
[530,"Stoicescu Gheorghe","Iedera",343,18.440000000000001,"A",null,null,null,{"$f":"catp","v":3}]
[1129,"Gavriliuc Daniel","Botosani",159.4,18.399999999999999,"A",null,null,null,{"$f":"catp","v":3}]
[1908,"Toader Daniel Mihai","Alba Iulia",68.099999999999994,18.399999999999999,"A",null,null,null,{"$f":"catp","v":3}]
[3376,"Patrascu Cristian","Iasi",13.8,18.399999999999999,"A",null,null,null,{"$f":"catp","v":3}]
[3377,"Domokos Vitan","Targu Secuiesc",13.8,18.399999999999999,"A",null,null,null,{"$f":"catp","v":3}]
[648,"Baican Cristian","Cluj Napoca",292.39999999999998,18.39,"A",null,null,null,{"$f":"catp","v":3}]
[1722,"Pop Dumitru","Oradea",83.7,18.38,"A",null,null,null,{"$f":"catp","v":3}]
[1549,"Bode Emil","Valcau",100.7,18.350000000000001,"A",null,null,null,{"$f":"catp","v":3}]
[2457,"Balanescu Boby","Ploiesti",36.700000000000003,18.350000000000001,"A",null,null,null,{"$f":"catp","v":3}]
[755,"Morosan Sara","Horodnic de Sus",249.8,18.34,"AF",null,null,null,{"$f":"catp","v":3}]
[834,"Suciu Florin","Sibiu",229.1,18.3,"A",null,null,null,{"$f":"catp","v":3}]
[776,"Socaci Valentin","Lugoj",244.6,18.25,"A",null,null,null,{"$f":"catp","v":3}]
[1888,"Craciun Mihaita","Brasov",69.900000000000006,18.23,"A",null,null,null,{"$f":"catp","v":3}]
[2083,"Bogdan Marian","Caransebes",56.7,18.23,"A",null,null,null,{"$f":"catp","v":3}]
[1240,"Andras Nicolae","Oradea",141.5,18.22,"A",null,null,null,{"$f":"catp","v":3}]
[1137,"Ciobanu Cosmin","Cristian SB",158.1,18.21,"A",null,null,null,{"$f":"catp","v":3}]
[1635,"Cioloca Stefan","Reghin",91.3,18.2,"A",null,null,null,{"$f":"catp","v":3}]
[2158,"Duman Andrei","Calarasi",50.9,18.2,"A",null,null,null,{"$f":"catp","v":3}]
[1122,"Paval Mihai","Iasi",160.6,18.190000000000001,"A",null,null,null,{"$f":"catp","v":3}]
[616,"Caranfilian Migo","Bucuresti",306.39999999999998,18.18,"AW",null,null,null,{"$f":"catp","v":3}]
[768,"Dragan Marius","Hunedoara",245.7,18.18,"A",null,null,null,{"$f":"catp","v":3}]
[1756,"Barbu Sara","Constanta",79.599999999999994,18.18,"AF",null,null,null,{"$f":"catp","v":3}]
[624,"Paulette Briana","Blaj",302.7,18.16,"AFJ",null,null,null,{"$f":"catp","v":3}]
[701,"Darosi Alin","Bistrita",273.7,18.16,"A",null,null,null,{"$f":"catp","v":3}]
[1000,"Popoi Ionut","Moinesti",183.7,18.149999999999999,"A",null,null,null,{"$f":"catp","v":3}]
[1314,"Sava Harold","Bucuresti",131.80000000000001,18.12,"A",null,null,null,{"$f":"catp","v":3}]
[1822,"Bujenita Mihai","Galati",73.5,18.100000000000001,"A",null,null,null,{"$f":"catp","v":3}]
[2161,"Nastaca Catalin","Falticeni",50.7,18.100000000000001,"A",null,null,null,{"$f":"catp","v":3}]
[2630,"Ispas Victor","Turnu Magurele",30.9,18.100000000000001,"AW",null,null,null,{"$f":"catp","v":3}]
[3132,"Vajda Levente","Odorheiu Secuiesc",18.100000000000001,18.100000000000001,"A",null,null,null,{"$f":"catp","v":3}]
[3133,"Puia Darius","Stremt",18.100000000000001,18.100000000000001,"A",null,null,null,{"$f":"catp","v":3}]
[3134,"Petroesc Emil","Hunedoara",18.100000000000001,18.100000000000001,"A",null,null,null,{"$f":"catp","v":3}]
[1486,"Gutulescu Marian","Drobeta Tr Severin",107.3,18.079999999999998,"A",null,null,null,{"$f":"catp","v":3}]
[1487,"Stirbu Daniel","Braila",107.3,18.079999999999998,"A",null,null,null,{"$f":"catp","v":3}]
[1277,"Moisuc Catalin","Fratautii Noi",135.9,18.05,"A",null,null,null,{"$f":"catp","v":3}]
[2111,"Tudor Valeriu","Ploiesti",54,18.05,"A",null,null,null,{"$f":"catp","v":3}]
[905,"Gheozdan Daniel","Bucuresti",206.5,18.04,"A",null,null,null,{"$f":"catp","v":3}]
[757,"Angi Zoltan","Gheorgheni",249.6,18.03,"A",null,null,null,{"$f":"catp","v":3}]
[568,"Susman Dan","Alba Iulia",324.60000000000002,18.02,"A",null,null,null,{"$f":"catp","v":3}]
[920,"Oprean Andrei","Brad",204.4,18.02,"AW",null,null,null,{"$f":"catp","v":3}]
[1729,"Rusu Paul Iulian","Bilca",83.1,18,"A",null,null,null,{"$f":"catp","v":3}]
[1906,"Rusu Lucian","Suceava",68.2,18,"AW",null,null,null,{"$f":"catp","v":3}]
[1985,"Serban Marian","Orastie",62.5,18,"A",null,null,null,{"$f":"catp","v":3}]
[3393,"Budea Andra","Galati",13.5,18,"AF",null,null,null,{"$f":"catp","v":3}]
[1644,"Tudose Marius","Galati",90,17.95,"A",null,null,null,{"$f":"catp","v":3}]
[1507,"Ababei Razvan","Iasi",105.3,17.93,"A",null,null,null,{"$f":"catp","v":3}]
[1943,"Filep Attila","Gherla",65.099999999999994,17.93,"A",null,null,null,{"$f":"catp","v":3}]
[1964,"Andreescu Liviu","Urlati",63.4,17.899999999999999,"A",null,null,null,{"$f":"catp","v":3}]
[2053,"Zugravu Luca","Barlad",58.1,17.899999999999999,"A",null,null,null,{"$f":"catp","v":3}]
[3137,"Gurau Florin Catalin","Urlati",17.899999999999999,17.899999999999999,"A",null,null,null,{"$f":"catp","v":3}]
[3138,"Ischimgi Ivan","Moldova-Cantemir",17.899999999999999,17.899999999999999,"A",null,null,null,{"$f":"catp","v":3}]
[1377,"Cernat Gheorghe","Bucuresti",120.6,17.88,"A",null,null,null,{"$f":"catp","v":3}]
[1734,"Ungureanu Doru","Focsani",82.4,17.87,"A",null,null,null,{"$f":"catp","v":3}]
[1768,"Rusu Alin Adrian","Bacau",78.400000000000006,17.87,"A",null,null,null,{"$f":"catp","v":3}]
[955,"Teodorescu Andu","Curtea de Arges",197.2,17.86,"A",null,null,null,{"$f":"catp","v":3}]
[727,"Borodi Claudiu","Dobric",260.8,17.850000000000001,"A",null,null,null,{"$f":"catp","v":3}]
[1665,"Cojocaru Andru","Targoviste",88.2,17.829999999999998,"A",null,null,null,{"$f":"catp","v":3}]
[1748,"Popa Liviu","Bucuresti",80.599999999999994,17.829999999999998,"A",null,null,null,{"$f":"catp","v":3}]
[1889,"Ionita Daniel","Berceni",69.8,17.829999999999998,"A",null,null,null,{"$f":"catp","v":3}]
[618,"Stanciu Viorel","Ploiesti",305.2,17.82,"A",null,null,null,{"$f":"catp","v":3}]
[803,"Corabian Daniel","Cluj Napoca",237.4,17.82,"A",null,null,null,{"$f":"catp","v":3}]
[1207,"Teodorescu Maria","Ramnicu Sarat",147.4,17.8,"AF",null,null,null,{"$f":"catp","v":3}]
[1864,"Stoica Polina","Moldova-Cahul",71.3,17.8,"AF",null,null,null,{"$f":"catp","v":3}]
[2211,"Marandici Adrian","Brasov",48,17.8,"AW",null,null,null,{"$f":"catp","v":3}]
[3145,"Moisa Costel","Tecuci",17.8,17.8,"A",null,null,null,{"$f":"catp","v":3}]
[3146,"Lungu Mihai","Iasi",17.8,17.8,"A",null,null,null,{"$f":"catp","v":3}]
[3147,"Dima Paul","Giroc",17.8,17.8,"A",null,null,null,{"$f":"catp","v":3}]
[1165,"Furtuna Traian","Brasov",154.1,17.77,"A",null,null,null,{"$f":"catp","v":3}]
[822,"Avram Iancu","Petrosani",232,17.75,"A",null,null,null,{"$f":"catp","v":3}]
[827,"Sandu Marcel","Sighisoara",231,17.72,"A",null,null,null,{"$f":"catp","v":3}]
[1564,"Vintila George Daniel","Braila",98.8,17.7,"A",null,null,null,{"$f":"catp","v":3}]
[1758,"Kantor Imre Zoltan","Reghin",79.400000000000006,17.7,"AW",null,null,null,{"$f":"catp","v":3}]
[1992,"Petcu Sorin","Sibiu",62.1,17.7,"A",null,null,null,{"$f":"catp","v":3}]
[3151,"Dinescu Mihai","Curtea de Arges",17.7,17.7,"A",null,null,null,{"$f":"catp","v":3}]
[3152,"Florea Lucian","Vaslui",17.7,17.7,"AW",null,null,null,{"$f":"catp","v":3}]
[3153,"Pacurar Cosmin","Blaj",17.7,17.7,"AW",null,null,null,{"$f":"catp","v":3}]
[1609,"Neagu Mircea","Iasi",95.2,17.649999999999999,"A",null,null,null,{"$f":"catp","v":3}]
[2044,"Ambrus Zoltan","Miercurea Ciuc",58.5,17.63,"A",null,null,null,{"$f":"catp","v":3}]
[883,"Simandi Cosmin","Alba Iulia",214.7,17.61,"A",null,null,null,{"$f":"catp","v":3}]
[1172,"Nyaradi Attila","Sighisoara",153.30000000000001,17.61,"A",null,null,null,{"$f":"catp","v":3}]
[972,"Hodivoianu Marius","Bucuresti",192.1,17.600000000000001,"AW",null,null,null,{"$f":"catp","v":3}]
[2775,"Ilie Andreea","Voluntari",26.4,17.600000000000001,"AF",null,null,null,{"$f":"catp","v":3}]
[3161,"Nutu Catalin","Targu Neamt",17.600000000000001,17.600000000000001,"A",null,null,null,{"$f":"catp","v":3}]
[1891,"Magura Casian","Constanta",69.7,17.57,"A",null,null,null,{"$f":"catp","v":3}]
[656,"Balasa Mihai","Sibiu",290,17.559999999999999,"A",null,null,null,{"$f":"catp","v":3}]
[946,"Parlog Florin","Bucuresti",198.5,17.54,"A",null,null,null,{"$f":"catp","v":3}]
[1230,"Radovan Radu","Sannicolau Mare",143.4,17.510000000000002,"A",null,null,null,{"$f":"catp","v":3}]
[2336,"Patrascuta Tiberiu","Drobeta Tr Severin",42,17.5,"A",null,null,null,{"$f":"catp","v":3}]
[2631,"Capstramb Liviu","Radauti",30.9,17.5,"A",null,null,null,{"$f":"catp","v":3}]
[3163,"Busuioc Marian","Bucuresti",17.5,17.5,"A",null,null,null,{"$f":"catp","v":3}]
[3164,"Miculita Ovidiu","Lipova",17.5,17.5,"A",null,null,null,{"$f":"catp","v":3}]
[3411,"Baloi Silviu","Alexandria",13.2,17.5,"A",null,null,null,{"$f":"catp","v":3}]
[3412,"Topoleanu Dan","Bucuresti",13.2,17.5,"A",null,null,null,{"$f":"catp","v":3}]
[2172,"Neicu Gheorghe","Bucuresti",50.1,17.47,"A",null,null,null,{"$f":"catp","v":3}]
[907,"Cibotariu Bogdan","Piatra Neamt",206.2,17.46,"A",null,null,null,{"$f":"catp","v":3}]
[989,"Negulescu Cristi","Sinaia",186.5,17.43,"A",null,null,null,{"$f":"catp","v":3}]
[704,"Mateut Vasile","Zalau",271.8,17.399999999999999,"A",null,null,null,{"$f":"catp","v":3}]
[807,"Podean Ion","Foeni",236.4,17.399999999999999,"A",null,null,null,{"$f":"catp","v":3}]
[863,"Marin Marcel","Fenes",219.1,17.399999999999999,"A",null,null,null,{"$f":"catp","v":3}]
[1160,"Roventa Dan","Bucuresti",154.80000000000001,17.399999999999999,"A",null,null,null,{"$f":"catp","v":3}]
[2169,"Gavrilei Constantin","Pascani",50.4,17.399999999999999,"A",null,null,null,{"$f":"catp","v":3}]
[2517,"Preda Leo","Targoviste",34.799999999999997,17.399999999999999,"A",null,null,null,{"$f":"catp","v":3}]
[2687,"Popa Constantin","Moldova",29.1,17.399999999999999,"A",null,null,null,{"$f":"catp","v":3}]
[3174,"Sinpetrean Comsa Gheorghe","Cluj Napoca",17.399999999999999,17.399999999999999,"AW",null,null,null,{"$f":"catp","v":3}]
[3418,"Furca Alexandru","Hunedoara",13.1,17.399999999999999,"A",null,null,null,{"$f":"catp","v":3}]
[3419,"Vaideanu Fabiana","Vatra Dornei",13.1,17.399999999999999,"AF",null,null,null,{"$f":"catp","v":3}]
[860,"Stoica Sandel","Focsani",219.8,17.39,"A",null,null,null,{"$f":"catp","v":3}]
[1074,"Constantin Filip","Sinaia",168.4,17.39,"A",null,null,null,{"$f":"catp","v":3}]
[1628,"Pop Ioan","Giroc",92.7,17.38,"A",null,null,null,{"$f":"catp","v":3}]
[866,"Brateanu Liviu","Bacau",218.6,17.36,"AW",null,null,null,{"$f":"catp","v":3}]
[1658,"Vrasti Iulian","Ploiesti",88.7,17.350000000000001,"A",null,null,null,{"$f":"catp","v":3}]
[1762,"Burnoiu Costel","Bucuresti",79,17.350000000000001,"A",null,null,null,{"$f":"catp","v":3}]
[2784,"Lungu Doru","Drobeta Tr Severin",26.1,17.350000000000001,"A",null,null,null,{"$f":"catp","v":3}]
[988,"Aluculesa Radu","Botosani",186.7,17.34,"AD",null,null,null,{"$f":"catp","v":3}]
[872,"Domokos Andras","Targu Mures",217.8,17.329999999999998,"A",null,null,null,{"$f":"catp","v":3}]
[1723,"Chiron Adrian","Bucuresti",83.5,17.329999999999998,"A",null,null,null,{"$f":"catp","v":3}]
[1446,"Filea Adonis","Sibiu",110.8,17.32,"AW",null,null,null,{"$f":"catp","v":3}]
[798,"Arimia Constantin","Azuga",238.4,17.3,"A",null,null,null,{"$f":"catp","v":3}]
[1796,"Rusu Bogdan","Cluj Napoca",75.7,17.3,"A",null,null,null,{"$f":"catp","v":3}]
[2212,"Lebada Doru","Arad",48,17.3,"A",null,null,null,{"$f":"catp","v":3}]
[2324,"Dobrin David","Alexandria",42.5,17.3,"A",null,null,null,{"$f":"catp","v":3}]
[2523,"Schiau Dan","Hunedoara",34.6,17.3,"A",null,null,null,{"$f":"catp","v":3}]
[1695,"Galfi Levente","Cluj Napoca",85.6,17.28,"AW",null,null,null,{"$f":"catp","v":3}]
[1925,"Moldovan Darian","Nasaud",66.2,17.27,"A",null,null,null,{"$f":"catp","v":3}]
[2215,"Csorbai Lorand","Sanpaul",47.9,17.27,"A",null,null,null,{"$f":"catp","v":3}]
[2642,"Vilcu Dragos","Bucuresti",30.3,17.25,"A",null,null,null,{"$f":"catp","v":3}]
[1252,"Sandu Eugen","Husi",140.30000000000001,17.23,"A",null,null,null,{"$f":"catp","v":3}]
[1633,"Predus Florin Catalin","Dabuleni",91.5,17.23,"A",null,null,null,{"$f":"catp","v":3}]
[875,"Tabacaru Jenica","Focsani",216.9,17.2,"A",null,null,null,{"$f":"catp","v":3}]
[3429,"Madescu Adrian","Drobeta Tr Severin",12.9,17.2,"A",null,null,null,{"$f":"catp","v":3}]
[3430,"Trusculescu Iarina","Drobeta Tr Severin",12.9,17.2,"ALF",null,null,null,{"$f":"catp","v":3}]
[1773,"Coroiu Dan","Roman",78.099999999999994,17.170000000000002,"A",null,null,null,{"$f":"catp","v":3}]
[1990,"Bompa Cosmin","Reghin",62.2,17.170000000000002,"A",null,null,null,{"$f":"catp","v":3}]
[1601,"Ionita Marian","Bucuresti",95.8,17.16,"A",null,null,null,{"$f":"catp","v":3}]
[2350,"Cuntan Ioan","Saliste",41.4,17.149999999999999,"A",null,null,null,{"$f":"catp","v":3}]
[2670,"Trandafir Radu Catalin","Giurgiu",29.5,17.149999999999999,"A",null,null,null,{"$f":"catp","v":3}]
[750,"Ailioaie Gheorghe","Comanesti",251,17.100000000000001,"AW",null,null,null,{"$f":"catp","v":3}]
[3431,"Ilinca Gabriel","Drobeta Tr Severin",12.9,17.100000000000001,"A",null,null,null,{"$f":"catp","v":3}]
[1853,"Floricel Alexandru","Bucuresti",71.7,17.079999999999998,"A",null,null,null,{"$f":"catp","v":3}]
[2235,"Melinte Gabriel","Iasi",46.7,17.07,"A",null,null,null,{"$f":"catp","v":3}]
[1023,"Vaireanu Danut Ionel","Bucuresti",179.3,17.03,"AW",null,null,null,{"$f":"catp","v":3}]
[2025,"Bradean Toma","Arad",59.4,17.03,"A",null,null,null,{"$f":"catp","v":3}]
[1161,"Moraru Constantin","Bucuresti",154.80000000000001,17.02,"AW",null,null,null,{"$f":"catp","v":3}]
[2544,"Avram Razvan","Focsani",34,17,"A",null,null,null,{"$f":"catp","v":3}]
[3192,"Vestineanu Ionut","Slobozia",17,17,"A",null,null,null,{"$f":"catp","v":3}]
[3193,"Trandafir Catalin","Slobozia",17,17,"A",null,null,null,{"$f":"catp","v":3}]
[3194,"Taman Ioan","Cugir",17,17,"A",null,null,null,{"$f":"catp","v":3}]
[3195,"Zaporojan Vladimir","Moldova-Straseni",17,17,"A",null,null,null,{"$f":"catp","v":3}]
[843,"Man Ionut","Dej",225.8,16.98,"A",null,null,null,{"$f":"catp","v":3}]
[1027,"Enache Adrian","Tulcea",178.6,16.98,"A",null,null,null,{"$f":"catp","v":3}]
[1685,"Majeru Gabriel","Radauti",86.3,16.98,"AW",null,null,null,{"$f":"catp","v":3}]
[817,"Ciocan Ion","Chiajna",234.2,16.96,"A",null,null,null,{"$f":"catp","v":3}]
[1270,"Melicut Sarmis","Hunedoara",137.5,16.95,"A",null,null,null,{"$f":"catp","v":3}]
[2076,"Stanescu Romeo","Hunedoara",57.1,16.95,"A",null,null,null,{"$f":"catp","v":3}]
[2033,"Duta Ion","Craiova",59,16.93,"A",null,null,null,{"$f":"catp","v":3}]
[789,"Darie Gabriel","Comanesti",240.5,16.920000000000002,"A",null,null,null,{"$f":"catp","v":3}]
[967,"Stinga Ion","Ploiesti",193.8,16.899999999999999,"A",null,null,null,{"$f":"catp","v":3}]
[3196,"Hui Horatiu","Cluj Napoca",16.899999999999999,16.899999999999999,"A",null,null,null,{"$f":"catp","v":3}]
[3197,"Kuti Istvan","Targu Mures",16.899999999999999,16.899999999999999,"A",null,null,null,{"$f":"catp","v":3}]
[1087,"Andries Ionut Alexandru","Iasi",166.4,16.89,"A",null,null,null,{"$f":"catp","v":3}]
[1021,"Marcu Florin Radu","Manasturu Romanesc",179.8,16.88,"A",null,null,null,{"$f":"catp","v":3}]
[791,"Muresan Marian","Dej",239.4,16.87,"A",null,null,null,{"$f":"catp","v":3}]
[1097,"Colceru Paul","Comanesti",164.6,16.850000000000001,"A",null,null,null,{"$f":"catp","v":3}]
[2192,"Bokor Zsolt","Sovata",49.2,16.850000000000001,"A",null,null,null,{"$f":"catp","v":3}]
[1919,"Balanean Andrei","Sibiu",66.900000000000006,16.829999999999998,"A",null,null,null,{"$f":"catp","v":3}]
[1142,"Morosan Mihai","Granicesti",157,16.809999999999999,"A",null,null,null,{"$f":"catp","v":3}]
[1572,"Adam Florin","Targoviste",98.3,16.8,"AW",null,null,null,{"$f":"catp","v":3}]
[1867,"Cojocaru Adrian","Suceava",71.099999999999994,16.8,"AW",null,null,null,{"$f":"catp","v":3}]
[2285,"Oprea Tiberiu","Brasov",44.5,16.8,"A",null,null,null,{"$f":"catp","v":3}]
[2553,"Ruslan Borsci","Moldova-Drochia",33.6,16.8,"A",null,null,null,{"$f":"catp","v":3}]
[3199,"Simon Dani","Arad",16.8,16.8,"A",null,null,null,{"$f":"catp","v":3}]
[660,"Stanciu Constantin","Brasov",289.7,16.78,"AW",null,null,null,{"$f":"catp","v":3}]
[1141,"Baricz Dezso","Joseni",157.19999999999999,16.78,"A",null,null,null,{"$f":"catp","v":3}]
[2261,"Hollo Istvan","Danesti",45.4,16.77,"A",null,null,null,{"$f":"catp","v":3}]
[845,"Simiganovschi Codrut","Toplita",225.3,16.739999999999998,"A",null,null,null,{"$f":"catp","v":3}]
[966,"Tirlea Gheorghe","Brasov",193.9,16.739999999999998,"A",null,null,null,{"$f":"catp","v":3}]
[738,"Csiszer Tibor","Sighisoara",257.5,16.71,"A",null,null,null,{"$f":"catp","v":3}]
[2562,"Raducan Florian","Calarasi",33.4,16.7,"A",null,null,null,{"$f":"catp","v":3}]
[3204,"Stan Ionut","Bucuresti",16.7,16.7,"A",null,null,null,{"$f":"catp","v":3}]
[3205,"Silivestru Sebastian","Tarnaveni",16.7,16.7,"A",null,null,null,{"$f":"catp","v":3}]
[3450,"Plesca Andrei","Vicovu de Sus",12.6,16.7,"A",null,null,null,{"$f":"catp","v":3}]
[1380,"Lupse Sorin","Baia Mare",120.1,16.670000000000002,"A",null,null,null,{"$f":"catp","v":3}]
[1818,"Olaru Cristian","Targoviste",74,16.670000000000002,"A",null,null,null,{"$f":"catp","v":3}]
[741,"Tudor Aurel","Harsova",256.10000000000002,16.66,"A",null,null,null,{"$f":"catp","v":3}]
[1121,"Dobre Elisei","Jimbolia",160.69999999999999,16.64,"A",null,null,null,{"$f":"catp","v":3}]
[2246,"Darosi Robert","Bistrita",46.2,16.63,"A",null,null,null,{"$f":"catp","v":3}]
[1417,"Seiche Lucian","Oravita",115.3,16.62,"A",null,null,null,{"$f":"catp","v":3}]
[1781,"Simon Alexandru","Roman",77.5,16.600000000000001,"A",null,null,null,{"$f":"catp","v":3}]
[2038,"Parasca Dumitru","Radauti",58.7,16.600000000000001,"A",null,null,null,{"$f":"catp","v":3}]
[3209,"Senturk Barboros","Germania",16.600000000000001,16.600000000000001,"A",null,null,null,{"$f":"catp","v":3}]
[3459,"Ianos Vlad","Bucuresti",12.5,16.600000000000001,"A",null,null,null,{"$f":"catp","v":3}]
[3460,"Vid Stefan","Zalau",12.5,16.600000000000001,"A",null,null,null,{"$f":"catp","v":3}]
[674,"Sabau Claudiu","Bistrita",282.7,16.57,"A",null,null,null,{"$f":"catp","v":3}]
[1331,"Alamorean Viorel","Blaj",128.69999999999999,16.57,"A",null,null,null,{"$f":"catp","v":3}]
[1618,"Szarvas Karoly","Satu Mare",94,16.55,"A",null,null,null,{"$f":"catp","v":3}]
[2064,"Graur Robert","Focsani",57.7,16.55,"A",null,null,null,{"$f":"catp","v":3}]
[1451,"Ungureanu Petrica","Pascani",110.3,16.54,"A",null,null,null,{"$f":"catp","v":3}]
[919,"Hulea Calin","Alesd",204.6,16.53,"A",null,null,null,{"$f":"catp","v":3}]
[895,"Blidariu Alin","Bucovat",210.7,16.510000000000002,"A",null,null,null,{"$f":"catp","v":3}]
[1513,"Ioan Filip","Bucuresti",104.4,16.5,"A",null,null,null,{"$f":"catp","v":3}]
[1963,"Neculai Valentin","Focsani",63.5,16.5,"A",null,null,null,{"$f":"catp","v":3}]
[2069,"Wengritsky Zsuzsanna","Joseni",57.5,16.5,"AF",null,null,null,{"$f":"catp","v":3}]
[2362,"Popescu Dan","Craiova",40.9,16.5,"A",null,null,null,{"$f":"catp","v":3}]
[2580,"Bobeica Eduard","Focsani",33,16.5,"A",null,null,null,{"$f":"catp","v":3}]
[2667,"Bufetov Ilia","Moldova-Balti",29.6,16.5,"A",null,null,null,{"$f":"catp","v":3}]
[2671,"Untea Costel","Ramnicu Sarat",29.5,16.5,"A",null,null,null,{"$f":"catp","v":3}]
[2026,"Bartha David","Sovata",59.4,16.47,"A",null,null,null,{"$f":"catp","v":3}]
[2251,"Kreitler Zoltan","Arad",46,16.47,"A",null,null,null,{"$f":"catp","v":3}]
[1638,"Neagu Ioan Adrian","Slatina Timis",91.1,16.45,"A",null,null,null,{"$f":"catp","v":3}]
[2582,"Pascaru Mihai","Barlad",32.9,16.45,"A",null,null,null,{"$f":"catp","v":3}]
[831,"Onofrei Petru","Gherla",229.7,16.43,"AW",null,null,null,{"$f":"catp","v":3}]
[1217,"Pavliuc Daria","Moldova-Briceni",146.1,16.420000000000002,"AF",null,null,null,{"$f":"catp","v":3}]
[1132,"Dumitrascu Cristi","Brasov",158.9,16.399999999999999,"A",null,null,null,{"$f":"catp","v":3}]
[1849,"Moldovan Doru","Dej",71.900000000000006,16.399999999999999,"A",null,null,null,{"$f":"catp","v":3}]
[2352,"Surdan Viorel","Oradea",41.3,16.399999999999999,"A",null,null,null,{"$f":"catp","v":3}]
[3215,"Muresan Codrean","Targu Mures",16.399999999999999,16.399999999999999,"A",null,null,null,{"$f":"catp","v":3}]
[3471,"Rusu Radu","Falticeni",12.3,16.399999999999999,"A",null,null,null,{"$f":"catp","v":3}]
[679,"Ilea Dorin","Oradea",280.60000000000002,16.39,"A",null,null,null,{"$f":"catp","v":3}]
[1275,"Besliu Alexandru","Suceava",136.69999999999999,16.37,"A",null,null,null,{"$f":"catp","v":3}]
[1771,"Nicolae Darius","Bucuresti",78.2,16.350000000000001,"A",null,null,null,{"$f":"catp","v":3}]
[2257,"Teaca Gheorghe","Moldova-Drochia",45.5,16.350000000000001,"A",null,null,null,{"$f":"catp","v":3}]
[2688,"Ciobanu Sabin","Pascani",29.1,16.350000000000001,"A",null,null,null,{"$f":"catp","v":3}]
[1012,"Meggyes Andras","Sovata",181,16.34,"A",null,null,null,{"$f":"catp","v":3}]
[782,"Bolozan Laurentiu","Braila",241.8,16.329999999999998,"AW",null,null,null,{"$f":"catp","v":3}]
[1782,"Socaciu Dan Catalin","Floresti",77.3,16.329999999999998,"A",null,null,null,{"$f":"catp","v":3}]
[1603,"Mandrescu Catalin","Buhusi",95.7,16.3,"A",null,null,null,{"$f":"catp","v":3}]
[2808,"Crisan Matei","Focsani",25.5,16.3,"A",null,null,null,{"$f":"catp","v":3}]
[2845,"Peter Laszlo","Brasov",24.5,16.3,"A",null,null,null,{"$f":"catp","v":3}]
[3220,"Preda Daniel","Cocorastii Mislii",16.3,16.3,"A",null,null,null,{"$f":"catp","v":3}]
[3221,"Avram Matei","Barcea",16.3,16.3,"A",null,null,null,{"$f":"catp","v":3}]
[3472,"Ciobanu Marius","Bucuresti",12.3,16.3,"A",null,null,null,{"$f":"catp","v":3}]
[1150,"Dodu Costica","Focsani",156,16.29,"AW",null,null,null,{"$f":"catp","v":3}]
[832,"Kondort Dan","Sibiu",229.2,16.28,"A",null,null,null,{"$f":"catp","v":3}]
[1803,"Breaza Theodor","Drobeta Tr Severin",75.099999999999994,16.28,"A",null,null,null,{"$f":"catp","v":3}]
[940,"Andrei Bogdan Ion","Targoviste",200.1,16.260000000000002,"A",null,null,null,{"$f":"catp","v":3}]
[1668,"Mincu Marian","Tulcea",88,16.25,"A",null,null,null,{"$f":"catp","v":3}]
[2010,"Calciu Vasile","Craiova",60.5,16.23,"A",null,null,null,{"$f":"catp","v":3}]
[1619,"Petrache Claudiu","Branesti",94,16.2,"A",null,null,null,{"$f":"catp","v":3}]
[2011,"Zugravu Mircea","Barlad",60.4,16.2,"A",null,null,null,{"$f":"catp","v":3}]
[2860,"Bondila Adrian","Targoviste",24.3,16.2,"A",null,null,null,{"$f":"catp","v":3}]
[938,"Nicusan Razvan","Targu Mures",200.2,16.16,"A",null,null,null,{"$f":"catp","v":3}]
[652,"Illes Akos","Gheorgheni",290.3,16.149999999999999,"A",null,null,null,{"$f":"catp","v":3}]
[1757,"Popa Cosmin","Lipova",79.599999999999994,16.149999999999999,"A",null,null,null,{"$f":"catp","v":3}]
[1234,"Rica Marius","Giroc",142.6,16.13,"A",null,null,null,{"$f":"catp","v":3}]
[1565,"Suciu Sergiu","Turda",98.8,16.13,"AW",null,null,null,{"$f":"catp","v":3}]
[1271,"Tianu Calin","Bucuresti",137.5,16.12,"A",null,null,null,{"$f":"catp","v":3}]
[2239,"Mihai Alexandru","Braila",46.5,16.100000000000001,"A",null,null,null,{"$f":"catp","v":3}]
[2710,"Boaca Danut","Buzau",28.3,16.100000000000001,"AW",null,null,null,{"$f":"catp","v":3}]
[2723,"Tatarus Andrei","Bucuresti",27.9,16.100000000000001,"A",null,null,null,{"$f":"catp","v":3}]
[2863,"Varga Mihai","Lugoj",24.2,16.100000000000001,"A",null,null,null,{"$f":"catp","v":3}]
[3231,"Aprodu Lucian","Bacau",16.100000000000001,16.100000000000001,"AW",null,null,null,{"$f":"catp","v":3}]
[3481,"Lungan Mihai","Bucuresti",12.1,16.100000000000001,"A",null,null,null,{"$f":"catp","v":3}]
[2386,"Ghet Ionut","Gheraesti",39.9,16.07,"A",null,null,null,{"$f":"catp","v":3}]
[1784,"Enache Doru","Cobadin",77.099999999999994,16.05,"A",null,null,null,{"$f":"catp","v":3}]
[904,"Dumitrescu Dan","Piatra Neamt",207.6,16.04,"AW",null,null,null,{"$f":"catp","v":3}]
[1544,"Gunzilovici Stanislav","Moldova-Cahul",101.3,16.02,"A",null,null,null,{"$f":"catp","v":3}]
[1556,"Bordas Laszlo","Santionlunca",100,16.02,"A",null,null,null,{"$f":"catp","v":3}]
[2301,"Asteleanu Lucian","Cluj Napoca",43.8,16,"A",null,null,null,{"$f":"catp","v":3}]
[2505,"Curtut Cezar","Arad",35.1,16,"A",null,null,null,{"$f":"catp","v":3}]
[2602,"Polen Costin","Comarnic",32,16,"A",null,null,null,{"$f":"catp","v":3}]
[2698,"Bucur Sorin","Ploiesti",28.8,16,"A",null,null,null,{"$f":"catp","v":3}]
[833,"Popescu Florian Catalin","Bucuresti",229.2,15.99,"A",null,null,null,{"$f":"catp","v":3}]
[951,"Dumitrescu Robert Nicolae","Bucuresti",197.4,15.99,"A",null,null,null,{"$f":"catp","v":3}]
[2317,"Bardocz Ferenc","Ditrau",43,15.97,"A",null,null,null,{"$f":"catp","v":3}]
[1812,"Cocos Claudiu","Calan",74.2,15.93,"A",null,null,null,{"$f":"catp","v":3}]
[2035,"Andoni Marian","Hunedoara",58.9,15.93,"A",null,null,null,{"$f":"catp","v":3}]
[645,"Stancu Octavian","Tulcea",293.8,15.91,"A",null,null,null,{"$f":"catp","v":3}]
[2538,"Tudor Emil","Bucuresti",34.200000000000003,15.9,"AW",null,null,null,{"$f":"catp","v":3}]
[3237,"Todos Dumitru","Moldova-Cahul",15.9,15.9,"A",null,null,null,{"$f":"catp","v":3}]
[829,"Gavril Claudiu","Bucuresti",230.5,15.88,"A",null,null,null,{"$f":"catp","v":3}]
[936,"Todor Csaba","Gheorgheni",201.2,15.88,"AD",null,null,null,{"$f":"catp","v":3}]
[2322,"Banuta Dumitru","Ploiesti",42.7,15.87,"A",null,null,null,{"$f":"catp","v":3}]
[840,"Moldoveanu Sorin Florian","Hunedoara",226.6,15.86,"A",null,null,null,{"$f":"catp","v":3}]
[2320,"Dascal Tiberiu","Cluj Napoca",42.9,15.85,"A",null,null,null,{"$f":"catp","v":3}]
[2610,"Pavlov Valentin","Moldova-Cahul",31.7,15.85,"A",null,null,null,{"$f":"catp","v":3}]
[1300,"Cocotan Vasile","Oltenita",133,15.83,"A",null,null,null,{"$f":"catp","v":3}]
[1912,"Enache Leo","Ramnicu Valcea",67.5,15.83,"A",null,null,null,{"$f":"catp","v":3}]
[2196,"Moanta Andrei","Bucuresti",49,15.83,"A",null,null,null,{"$f":"catp","v":3}]
[1284,"Borca Liviu","Targu Mures",135,15.82,"A",null,null,null,{"$f":"catp","v":3}]
[1468,"Mandru Aurel","Sarmas",108.7,15.82,"A",null,null,null,{"$f":"catp","v":3}]
[2206,"Baidoc Sergiu","Zalau",48.7,15.8,"A",null,null,null,{"$f":"catp","v":3}]
[2271,"Urdes Florentina Ruxandra","Tulcea",45,15.8,"AF",null,null,null,{"$f":"catp","v":3}]
[3240,"Mihai Adrian","Botosani",15.8,15.8,"A",null,null,null,{"$f":"catp","v":3}]
[1469,"Biciin Alexandru","Faurei",108.6,15.78,"A",null,null,null,{"$f":"catp","v":3}]
[1170,"Halasz Lorant","Satu Mare",153.4,15.77,"A",null,null,null,{"$f":"catp","v":3}]
[796,"Manoila Adrian","Iasi",238.7,15.76,"A",null,null,null,{"$f":"catp","v":3}]
[1453,"Sacadat Marcel","Ludus",109.9,15.76,"A",null,null,null,{"$f":"catp","v":3}]
[876,"Toric Constantin","Bucuresti",216.4,15.75,"A",null,null,null,{"$f":"catp","v":3}]
[1948,"Rusu Tudor","Suceava",64.599999999999994,15.75,"A",null,null,null,{"$f":"catp","v":3}]
[2460,"Blehoianu Laurentiu","Galati",36.6,15.75,"A",null,null,null,{"$f":"catp","v":3}]
[2616,"Pletea Octavian","Sibiu",31.5,15.75,"A",null,null,null,{"$f":"catp","v":3}]
[2617,"Sandu Emanuel","Husi",31.5,15.75,"A",null,null,null,{"$f":"catp","v":3}]
[2618,"Strugariu Ioan","Campulung Mold",31.5,15.75,"A",null,null,null,{"$f":"catp","v":3}]
[2726,"Iliuta Adrian","Sannicolau Mare",27.8,15.75,"A",null,null,null,{"$f":"catp","v":3}]
[914,"Stavarache Florentin","Pascani",205.1,15.74,"A",null,null,null,{"$f":"catp","v":3}]
[2162,"Baltat Sebastian","Arad",50.7,15.73,"A",null,null,null,{"$f":"catp","v":3}]
[1050,"Pruna Petre Adelin","Ramnicu Valcea",173.7,15.7,"A",null,null,null,{"$f":"catp","v":3}]
[2281,"Muresan Iulian","Surduc",44.6,15.7,"A",null,null,null,{"$f":"catp","v":3}]
[3246,"Pap Sandor","Cristuru Secuiesc",15.7,15.7,"A",null,null,null,{"$f":"catp","v":3}]
[3247,"Rapan Mihai","Bucuresti",15.7,15.7,"A",null,null,null,{"$f":"catp","v":3}]
[3506,"Havris Marius","Botosani",11.8,15.7,"A",null,null,null,{"$f":"catp","v":3}]
[3507,"Gabor Sebastian","Sfantu Gheorghe",11.8,15.7,"A",null,null,null,{"$f":"catp","v":3}]
[3508,"Pascu Mihai","Arad",11.8,15.7,"A",null,null,null,{"$f":"catp","v":3}]
[3509,"Profiroiu Dorel","Sfantu Gheorghe",11.8,15.7,"A",null,null,null,{"$f":"catp","v":3}]
[3510,"Pinzaru Gabriel","Botosani",11.8,15.7,"A",null,null,null,{"$f":"catp","v":3}]
[3511,"Nedelcu Florin","Bucuresti",11.8,15.7,"A",null,null,null,{"$f":"catp","v":3}]
[1412,"Nistor Costel","Galati",115.7,15.67,"A",null,null,null,{"$f":"catp","v":3}]
[1798,"Bozga Viorel","Dobric",75.5,15.65,"A",null,null,null,{"$f":"catp","v":3}]
[2000,"Kovacs Lehel","Zabala",61.5,15.65,"A",null,null,null,{"$f":"catp","v":3}]
[2109,"Gelei Nimrod","Odorheiu Secuiesc",54.2,15.65,"A",null,null,null,{"$f":"catp","v":3}]
[2624,"Ardelean Stefan","Dumbravita",31.3,15.65,"A",null,null,null,{"$f":"catp","v":3}]
[2737,"Hales Teodor","Bistrita",27.5,15.65,"A",null,null,null,{"$f":"catp","v":3}]
[2745,"Marin Catalin","Targoviste",27.3,15.65,"A",null,null,null,{"$f":"catp","v":3}]
[979,"Halasz Levente","Cluj Napoca",189.7,15.63,"A",null,null,null,{"$f":"catp","v":3}]
[995,"Vasiu Stefan","Alba Iulia",184.4,15.6,"A",null,null,null,{"$f":"catp","v":3}]
[1461,"Budihala Raul","Hunedoara",109.3,15.6,"A",null,null,null,{"$f":"catp","v":3}]
[2628,"Botezatu Nicusor","Focsani",31.2,15.6,"A",null,null,null,{"$f":"catp","v":3}]
[2886,"Plesa Sorin","Targoviste",23.4,15.6,"A",null,null,null,{"$f":"catp","v":3}]
[3254,"Ghita Dobre","Ograda",15.6,15.6,"A",null,null,null,{"$f":"catp","v":3}]
[3255,"Maftei Leonard","Buhusi",15.6,15.6,"A",null,null,null,{"$f":"catp","v":3}]
[3515,"Delca Aian","Constanta",11.7,15.6,"A",null,null,null,{"$f":"catp","v":3}]
[1766,"Ionica Marius","Comanesti",78.7,15.58,"A",null,null,null,{"$f":"catp","v":3}]
[910,"Gog Vasile","Salciua",205.9,15.57,"A",null,null,null,{"$f":"catp","v":3}]
[685,"Cristescu Cristian","Bucuresti",277.8,15.55,"AW",null,null,null,{"$f":"catp","v":3}]
[1433,"Stoian Nicolae","Braila",112.3,15.55,"A",null,null,null,{"$f":"catp","v":3}]
[1625,"Stefan Frosin","Vaslui",93.1,15.55,"A",null,null,null,{"$f":"catp","v":3}]
[2380,"Susanu Ion","Moldova-Cahul",40.1,15.55,"A",null,null,null,{"$f":"catp","v":3}]
[784,"Suciu Andrei","Borsec",241.6,15.5,"AW",null,null,null,{"$f":"catp","v":3}]
[2488,"Ripan Vasile","Targu Mures",35.6,15.5,"A",null,null,null,{"$f":"catp","v":3}]
[709,"Bobu Stefan Minodor","Targu Neamt",269.60000000000002,15.49,"A",null,null,null,{"$f":"catp","v":3}]
[677,"Cosau Toader","Targu Neamt",281.60000000000002,15.47,"A",null,null,null,{"$f":"catp","v":3}]
[932,"Bairam Marcel","Harsova",201.6,15.47,"A",null,null,null,{"$f":"catp","v":3}]
[1466,"Mezei Mihai","Sarmas",108.9,15.45,"A",null,null,null,{"$f":"catp","v":3}]
[2750,"Boroica Gheorghe","Bucuresti",27,15.45,"A",null,null,null,{"$f":"catp","v":3}]
[2015,"Pietraru Dorian","Victoria",60.2,15.43,"AW",null,null,null,{"$f":"catp","v":3}]
[1993,"Lepadatu Gheorghe","Pascani",62.1,15.4,"A",null,null,null,{"$f":"catp","v":3}]
[2073,"Tabacila Lica","Tecuci",57.2,15.4,"A",null,null,null,{"$f":"catp","v":3}]
[2084,"Pop Virgil","Cluj Napoca",56.6,15.4,"A",null,null,null,{"$f":"catp","v":3}]
[2529,"Balan Sebastian","Bucuresti",34.4,15.4,"A",null,null,null,{"$f":"catp","v":3}]
[1700,"Teris Valeriu","Comanesti",85.4,15.38,"A",null,null,null,{"$f":"catp","v":3}]
[882,"Thomas William Knobel","Bucuresti",214.8,15.35,"AJ",null,null,null,{"$f":"catp","v":3}]
[1496,"Mitroi Florin","Bucuresti",106.5,15.34,"A",null,null,null,{"$f":"catp","v":3}]
[1058,"Galatean Mircea","Bistrita",172,15.3,"A",null,null,null,{"$f":"catp","v":3}]
[1126,"Iojiban Gheorghe","Balan",160.1,15.3,"A",null,null,null,{"$f":"catp","v":3}]
[3269,"Petre Cristian","Bucuresti",15.3,15.3,"A",null,null,null,{"$f":"catp","v":3}]
[3270,"Birlea Nichita","Moldova-Cahul",15.3,15.3,"AF",null,null,null,{"$f":"catp","v":3}]
[3271,"Androne Luca","Bucuresti",15.3,15.3,"A",null,null,null,{"$f":"catp","v":3}]
[3530,"Korodi Krisztian","Aita Mare",11.5,15.3,"A",null,null,null,{"$f":"catp","v":3}]
[3531,"Rochian Andrei","Giroc",11.5,15.3,"A",null,null,null,{"$f":"catp","v":3}]
[1208,"Scutaru Marius","Cernavoda",147.4,15.29,"A",null,null,null,{"$f":"catp","v":3}]
[762,"Radu Dragos","Targoviste",249,15.28,"AW",null,null,null,{"$f":"catp","v":3}]
[1053,"Kovacs Lajos","Odorheiu Secuiesc",173.3,15.28,"A",null,null,null,{"$f":"catp","v":3}]
[1163,"Florea Bogdan","Caracal",154.69999999999999,15.28,"A",null,null,null,{"$f":"catp","v":3}]
[800,"Dumitrache Ovidiu","Petrosani",237.9,15.25,"A",null,null,null,{"$f":"catp","v":3}]
[2005,"Csaki Zsolt","Tomesti",60.9,15.25,"A",null,null,null,{"$f":"catp","v":3}]
[2757,"Zedler Csaba","Agnita",26.8,15.25,"AW",null,null,null,{"$f":"catp","v":3}]
[1669,"Anton Calin","Sibiu",87.8,15.24,"AW",null,null,null,{"$f":"catp","v":3}]
[2209,"Florescu Ionut","Craiova",48.3,15.23,"A",null,null,null,{"$f":"catp","v":3}]
[1418,"Petra Ioan","Balan",115.1,15.22,"A",null,null,null,{"$f":"catp","v":3}]
[1485,"Ionescu Cristi","Ploiesti",107.4,15.22,"A",null,null,null,{"$f":"catp","v":3}]
[820,"Savina Dan","Piatra Neamt",232.6,15.2,"A",null,null,null,{"$f":"catp","v":3}]
[3026,"Nemes Calin","Cluj Napoca",20.2,15.2,"A",null,null,null,{"$f":"catp","v":3}]
[3274,"Srbulj Branislav","Pancevo",15.2,15.2,"A",null,null,null,{"$f":"catp","v":3}]
[3539,"Tricolici Anton","Bistrita",11.4,15.2,"A",null,null,null,{"$f":"catp","v":3}]
[1157,"Juganaru Valentin","Bucuresti",155.1,15.18,"A",null,null,null,{"$f":"catp","v":3}]
[1546,"Flutur Ghita","Granicesti",101.2,15.18,"A",null,null,null,{"$f":"catp","v":3}]
[1825,"Belba Caius","Baile Herculane",73.099999999999994,15.18,"A",null,null,null,{"$f":"catp","v":3}]
[977,"Marin Doru","Iasi",190.2,15.16,"A",null,null,null,{"$f":"catp","v":3}]
[2443,"Tatu Ion","Ramnicu Sarat",37.200000000000003,15.15,"A",null,null,null,{"$f":"catp","v":3}]
[1543,"Elekes Tibor","Sebes",101.5,15.12,"A",null,null,null,{"$f":"catp","v":3}]
[1580,"Alimareanu Raul","Dumbravita",97.5,15.1,"A",null,null,null,{"$f":"catp","v":3}]
[1986,"Iacob Gabriel","Iasi",62.5,15.1,"AW",null,null,null,{"$f":"catp","v":3}]
[2318,"Visan Daniel Stanga","Ploiesti",43,15.1,"A",null,null,null,{"$f":"catp","v":3}]
[2645,"Verescu Dumitru","Ianca",30.2,15.1,"A",null,null,null,{"$f":"catp","v":3}]
[3280,"Gindu Claudiu","Roman",15.1,15.1,"A",null,null,null,{"$f":"catp","v":3}]
[3281,"Kupas Erno","Sarmasag",15.1,15.1,"A",null,null,null,{"$f":"catp","v":3}]
[3282,"Szabo Attila","Odorheiu Secuiesc",15.1,15.1,"A",null,null,null,{"$f":"catp","v":3}]
[1226,"Ciobanu David Florin","Gura Humorului",144.1,15.08,"A",null,null,null,{"$f":"catp","v":3}]
[1018,"Ghete Alexandru","Timisoara",180.3,15.07,"A",null,null,null,{"$f":"catp","v":3}]
[1804,"Loghin Sergiu","Pascani",75,15.07,"A",null,null,null,{"$f":"catp","v":3}]
[2217,"Vintila Marius","Sibiu",47.8,15.07,"A",null,null,null,{"$f":"catp","v":3}]
[1363,"Pribeagu Bianca","Pitesti",122,15.03,"AF",null,null,null,{"$f":"catp","v":3}]
[2286,"Mitrofan Petrica","Brasov",44.4,15,"AW",null,null,null,{"$f":"catp","v":3}]
[2742,"Bozuc Paul","Tulcea",27.4,15,"A",null,null,null,{"$f":"catp","v":3}]
[3035,"Prodan Iosif Lucian","Tarnaveni",20,15,"A",null,null,null,{"$f":"catp","v":3}]
[3285,"Sonoc Cristian","Arad",15,15,"A",null,null,null,{"$f":"catp","v":3}]
[3286,"Botian Radu","Sibiu",15,15,"A",null,null,null,{"$f":"catp","v":3}]
[3287,"Buzas Erika","Baia Mare",15,15,"AF",null,null,null,{"$f":"catp","v":3}]
[3288,"Bodea Vasile","Panciu",15,15,"AW",null,null,null,{"$f":"catp","v":3}]
[3289,"Vlase Adrian","Iasi",15,15,"A",null,null,null,{"$f":"catp","v":3}]
[3290,"Keszeg Lorand","Tarnaveni",15,15,"A",null,null,null,{"$f":"catp","v":3}]
[3291,"Bradu Dan","Iasi",15,15,"A",null,null,null,{"$f":"catp","v":3}]
[3292,"Mag Bujor","Simleu Silvaniei",15,15,"A",null,null,null,{"$f":"catp","v":3}]
[3293,"Topala Alexandru","Moldova-Balti",15,15,"A",null,null,null,{"$f":"catp","v":3}]
[3294,"Stan Marius","Galati",15,15,"A",null,null,null,{"$f":"catp","v":3}]
[3295,"Pop Raul","Zalau",15,15,"A",null,null,null,{"$f":"catp","v":3}]
[3296,"Batrinu Valentin","Bucuresti",15,15,"A",null,null,null,{"$f":"catp","v":3}]
[3297,"Sandu Nicolae","Videle",15,15,"A",null,null,null,{"$f":"catp","v":3}]
[3298,"Von Gamm Kevin","Cluj Napoca",15,15,"A",null,null,null,{"$f":"catp","v":3}]
[3299,"Carja Florin","Cotoroaia",15,15,"A",null,null,null,{"$f":"catp","v":3}]
[3300,"Ababii Ghenadie","Moldova-Drochia",15,15,"A",null,null,null,{"$f":"catp","v":3}]
[3301,"Maslincov Iuri","Moldova-Cantemir",15,15,"A",null,null,null,{"$f":"catp","v":3}]
[3302,"Bjelanovic Milojko","Nova Varos",15,15,"A",null,null,null,{"$f":"catp","v":3}]
[3303,"Romanova Daria","Ucraina-Umani",15,15,"AF",null,null,null,{"$f":"catp","v":3}]
[3304,"Omeliciuc Anastasia","Ucraina-Umani",15,15,"AF",null,null,null,{"$f":"catp","v":3}]
[3305,"Visoiu Stefan Eduard","Buzau",15,15,"A",null,null,null,{"$f":"catp","v":3}]
[3546,"Incze Levente","Miercurea Ciuc",11.3,15,"A",null,null,null,{"$f":"catp","v":3}]
[3547,"Plopisan Liviu","Sighetu Marmatiei",11.3,15,"A",null,null,null,{"$f":"catp","v":3}]
[3548,"Apostol Cristian","Bucuresti",11.3,15,"A",null,null,null,{"$f":"catp","v":3}]
[3549,"Antal Csaba","Miercurea Ciuc",11.3,15,"A",null,null,null,{"$f":"catp","v":3}]
[3550,"Beican Razvan","Bistrita",11.3,15,"A",null,null,null,{"$f":"catp","v":3}]
[3551,"Cirja Florin","Cotoroaia",11.3,15,"A",null,null,null,{"$f":"catp","v":3}]
[3552,"Apatiei Andrei","Botosani",11.3,15,"A",null,null,null,{"$f":"catp","v":3}]
[926,"Rosu Ioan","Sibiu",202.7,14.98,"A",null,null,null,{"$f":"catp","v":3}]
[859,"Dorcu Emanuel","Tamaseni",220,14.96,"A",null,null,null,{"$f":"catp","v":3}]
[950,"Grecu Cornel","Bistrita",197.6,14.96,"AW",null,null,null,{"$f":"catp","v":3}]
[1833,"Crisan Beniamin","Sighetu Marmatiei",72.8,14.95,"A",null,null,null,{"$f":"catp","v":3}]
[2657,"Piperea Florin","Campina",29.9,14.95,"A",null,null,null,{"$f":"catp","v":3}]
[1725,"Milos Gianni","Alexandria",83.2,14.93,"AW",null,null,null,{"$f":"catp","v":3}]
[2193,"Bucurel Ion","Comanesti",49.1,14.9,"A",null,null,null,{"$f":"catp","v":3}]
[3315,"Badea Aida","Alesd",14.9,14.9,"AF",null,null,null,{"$f":"catp","v":3}]
[3558,"Coaja Andrei","Iasi",11.2,14.9,"A",null,null,null,{"$f":"catp","v":3}]
[1403,"Anastasiu Constantin","Comanesti",117.3,14.88,"AW",null,null,null,{"$f":"catp","v":3}]
[1634,"Staicu Vasile","Cernavoda",91.5,14.88,"A",null,null,null,{"$f":"catp","v":3}]
[2661,"Dolis Narcis","Comanesti",29.7,14.85,"AW",null,null,null,{"$f":"catp","v":3}]
[2662,"Constantin Ionut","Odobesti",29.7,14.85,"A",null,null,null,{"$f":"catp","v":3}]
[1560,"Pavel Nicolae","Braila",99.6,14.84,"A",null,null,null,{"$f":"catp","v":3}]
[1085,"Tegzes Robert","Stejeris",166.6,14.83,"A",null,null,null,{"$f":"catp","v":3}]
[1764,"Petre Catalin","Bucuresti",78.900000000000006,14.83,"A",null,null,null,{"$f":"catp","v":3}]
[2337,"Buteanu Cristi","Beclean",42,14.83,"A",null,null,null,{"$f":"catp","v":3}]
[3319,"Cotoara Toader","Suceava",14.8,14.8,"A",null,null,null,{"$f":"catp","v":3}]
[3320,"Mirciu Serghei","Moldova-Chisinau",14.8,14.8,"A",null,null,null,{"$f":"catp","v":3}]
[3565,"Ivan Tiberiu","Bucuresti",11.1,14.8,"A",null,null,null,{"$f":"catp","v":3}]
[1913,"Ionita Mihai","Lipanesti",67.2,14.77,"A",null,null,null,{"$f":"catp","v":3}]
[2242,"Boer Barna","Bordosiu",46.3,14.77,"A",null,null,null,{"$f":"catp","v":3}]
[1887,"Vurst Laszlo","Oradea",70,14.75,"A",null,null,null,{"$f":"catp","v":3}]
[1151,"Moraru Marius","Bucuresti",155.9,14.73,"A",null,null,null,{"$f":"catp","v":3}]
[1697,"Nedelcu Marian","Sinaia",85.5,14.73,"A",null,null,null,{"$f":"catp","v":3}]
[1585,"Solovastru Gabriel","Gura Humorului",97.3,14.72,"A",null,null,null,{"$f":"catp","v":3}]
[1149,"Onet Nicolae","Sighisoara",156.6,14.71,"A",null,null,null,{"$f":"catp","v":3}]
[937,"Leon Victor","Galati",201,14.7,"AJ",null,null,null,{"$f":"catp","v":3}]
[2243,"Bodnari Mircea","Gura Humorului",46.3,14.7,"A",null,null,null,{"$f":"catp","v":3}]
[2453,"Pauna Bogdan","Craiova",36.799999999999997,14.7,"A",null,null,null,{"$f":"catp","v":3}]
[3332,"Mocanu Adrian","Targoviste",14.7,14.7,"A",null,null,null,{"$f":"catp","v":3}]
[3333,"Badulescu Eduard","Bucuresti",14.7,14.7,"A",null,null,null,{"$f":"catp","v":3}]
[868,"Constantin Valentin","Ploiesti",218.1,14.69,"A",null,null,null,{"$f":"catp","v":3}]
[1411,"Franculescu Marius","Sinaia",115.8,14.68,"A",null,null,null,{"$f":"catp","v":3}]
[1746,"Dragomanu Florin","Comanesti",81.099999999999994,14.65,"A",null,null,null,{"$f":"catp","v":3}]
[2846,"Craciun Roberto","Videle",24.5,14.65,"A",null,null,null,{"$f":"catp","v":3}]
[1115,"Faur Lucian","Jimbolia",161.30000000000001,14.62,"AW",null,null,null,{"$f":"catp","v":3}]
[852,"Zamfirache Ioan","Botosani",221.5,14.6,"AW",null,null,null,{"$f":"catp","v":3}]
[2150,"Enache Ionel Gabriel","Oniceni",51.1,14.6,"A",null,null,null,{"$f":"catp","v":3}]
[3338,"Kovacs Istvan","Cristuru Secuiesc",14.6,14.6,"A",null,null,null,{"$f":"catp","v":3}]
[3569,"Nastase Marius","Suceava",11,14.6,"A",null,null,null,{"$f":"catp","v":3}]
[1288,"Belea Laurentiu","Galati",134.80000000000001,14.59,"A",null,null,null,{"$f":"catp","v":3}]
[1915,"Anhelov Mihail","Moldova-Vulcanesti",67.099999999999994,14.57,"A",null,null,null,{"$f":"catp","v":3}]
[1154,"Barladeanu Emil","Constanta",155.4,14.53,"A",null,null,null,{"$f":"catp","v":3}]
[1799,"Nadoleanu Pavel","Tulcea",75.400000000000006,14.53,"A",null,null,null,{"$f":"catp","v":3}]
[2130,"Moasa Gabriel","Bucuresti",52.5,14.53,"A",null,null,null,{"$f":"catp","v":3}]
[1153,"Jerebetchi Dumitru","Moldova-Cahul",155.69999999999999,14.51,"A",null,null,null,{"$f":"catp","v":3}]
[1166,"Constantin Adrian","Craiova",154.1,14.51,"A",null,null,null,{"$f":"catp","v":3}]
[1402,"Serbanescu Bogdan","Bucuresti",117.6,14.5,"A",null,null,null,{"$f":"catp","v":3}]
[1505,"Luntraru Mihai","Iasi",105.4,14.5,"A",null,null,null,{"$f":"catp","v":3}]
[2295,"Macelaru Eugen","Bucuresti",44.2,14.5,"A",null,null,null,{"$f":"catp","v":3}]
[1337,"Galateanu Sorin","Suceava",127.3,14.48,"A",null,null,null,{"$f":"catp","v":3}]
[1049,"Kovacs Dorel","Remetea Mare",173.8,14.46,"A",null,null,null,{"$f":"catp","v":3}]
[1082,"Alecu Ianis","Rosiori de Vede",167.4,14.46,"A",null,null,null,{"$f":"catp","v":3}]
[1508,"Pop Alexandru","Bucuresti",105,14.46,"A",null,null,null,{"$f":"catp","v":3}]
[1645,"Mihalcea Iulian","Galati",90,14.46,"A",null,null,null,{"$f":"catp","v":3}]
[2006,"Ciutre Ioan","Zalau",60.8,14.45,"A",null,null,null,{"$f":"catp","v":3}]
[2695,"Levinta Iurie","Moldova-Leova",28.9,14.45,"A",null,null,null,{"$f":"catp","v":3}]
[1345,"Balint Doru","Alesd",126.4,14.43,"A",null,null,null,{"$f":"catp","v":3}]
[1482,"Arteni Sergiu","Bucuresti",107.6,14.43,"A",null,null,null,{"$f":"catp","v":3}]
[1022,"Farcas Marius","Hunedoara",179.8,14.42,"A",null,null,null,{"$f":"catp","v":3}]
[2957,"Gherman Sorin","Hida",21.6,14.4,"A",null,null,null,{"$f":"catp","v":3}]
[3343,"Stupinean Mircea","Calan",14.4,14.4,"A",null,null,null,{"$f":"catp","v":3}]
[3589,"Georgescu Cristi","Radauti",10.8,14.4,"AW",null,null,null,{"$f":"catp","v":3}]
[2012,"Toma Sebastian","Ramnicu Sarat",60.4,14.38,"A",null,null,null,{"$f":"catp","v":3}]
[1352,"Balasoiu Maria","Novaci",124.1,14.37,"AF",null,null,null,{"$f":"catp","v":3}]
[2216,"Bordusanu Mona Maria","Constanta",47.9,14.37,"AF",null,null,null,{"$f":"catp","v":3}]
[2791,"Barbos Florin","Bistrita",25.9,14.35,"AW",null,null,null,{"$f":"catp","v":3}]
[915,"Movileanu Neculae","Brasov",205,14.34,"A",null,null,null,{"$f":"catp","v":3}]
[1960,"Bartha Lorant","Micfalau",63.6,14.3,"A",null,null,null,{"$f":"catp","v":3}]
[2126,"Mitrica Gheorghe","Gostavatu",52.7,14.3,"A",null,null,null,{"$f":"catp","v":3}]
[2425,"Simion Dan","Resita",37.9,14.3,"A",null,null,null,{"$f":"catp","v":3}]
[2792,"Boureanu Constantin","Iasi",25.9,14.3,"A",null,null,null,{"$f":"catp","v":3}]
[2820,"Florea Madalin","Bucuresti",25.1,14.3,"A",null,null,null,{"$f":"catp","v":3}]
[3351,"Bartos Vlad","Cluj Napoca",14.3,14.3,"A",null,null,null,{"$f":"catp","v":3}]
[3352,"Marin Catalin","Cateasca",14.3,14.3,"A",null,null,null,{"$f":"catp","v":3}]
[3353,"Jovanovic Slobodan","Zajecar Serbia",14.3,14.3,"A",null,null,null,{"$f":"catp","v":3}]
[3354,"Boicu Tatiana","Moldova-Sadaclia",14.3,14.3,"AF",null,null,null,{"$f":"catp","v":3}]
[3590,"Robu Sergiu","Iasi",10.8,14.3,"A",null,null,null,{"$f":"catp","v":3}]
[1550,"Rastau Iustinian","Timisoara",100.6,14.28,"A",null,null,null,{"$f":"catp","v":3}]
[1454,"Gologan Sorin Gabriel","Faurei",109.8,14.27,"A",null,null,null,{"$f":"catp","v":3}]
[1006,"Batista Lucian","Sibiu",182.5,14.26,"A",null,null,null,{"$f":"catp","v":3}]
[1047,"Duman Iulian","Halaucesti",174.3,14.23,"AW",null,null,null,{"$f":"catp","v":3}]
[2314,"Damse Daniel","Oradea",43.1,14.23,"A",null,null,null,{"$f":"catp","v":3}]
[1540,"Constantin Alexandru","Bucuresti",101.9,14.22,"A",null,null,null,{"$f":"catp","v":3}]
[1189,"Popescu Horia","Sinaia",149.80000000000001,14.21,"A",null,null,null,{"$f":"catp","v":3}]
[1744,"Ursu Silviu","Timisoara",81.5,14.2,"A",null,null,null,{"$f":"catp","v":3}]
[2358,"Foris Csaba","Bistrita",41,14.2,"A",null,null,null,{"$f":"catp","v":3}]
[2707,"Silaghi Matei","Dumbravita",28.4,14.2,"A",null,null,null,{"$f":"catp","v":3}]
[2971,"Antonya Csaba","Brasov",21.3,14.2,"A",null,null,null,{"$f":"catp","v":3}]
[3358,"Duca Bebe","Curtea de Arges",14.2,14.2,"A",null,null,null,{"$f":"catp","v":3}]
[3359,"Ciolpan Doru","Iasi",14.2,14.2,"A",null,null,null,{"$f":"catp","v":3}]
[1028,"Zara Dinu","Suceava",178.1,14.15,"A",null,null,null,{"$f":"catp","v":3}]
[2809,"Scurtu Nicolae","Bistrita",25.5,14.15,"A",null,null,null,{"$f":"catp","v":3}]
[1551,"Maladoi George","Tulcea",100.6,14.14,"A",null,null,null,{"$f":"catp","v":3}]
[1342,"Timis Sandu","Vizejdia",126.7,14.11,"A",null,null,null,{"$f":"catp","v":3}]
[2571,"Fat Nicu","Sighetu Marmatiei",33.200000000000003,14.1,"A",null,null,null,{"$f":"catp","v":3}]
[2712,"Iakab Ovidiu","Aiud",28.2,14.1,"A",null,null,null,{"$f":"catp","v":3}]
[3365,"Hanuleac Tamas","Joseni",14.1,14.1,"A",null,null,null,{"$f":"catp","v":3}]
[3366,"Morosan Gabriel","Satumare",14.1,14.1,"A",null,null,null,{"$f":"catp","v":3}]
[3367,"Mitache Bira","Constanta",14.1,14.1,"A",null,null,null,{"$f":"catp","v":3}]
[2309,"Pralea Eric","Vatra Dornei",43.4,14.07,"A",null,null,null,{"$f":"catp","v":3}]
[2485,"Blaga Radu","Zalau",35.700000000000003,14.07,"A",null,null,null,{"$f":"catp","v":3}]
[2524,"Balici Aurel","Radauti",34.6,14.07,"A",null,null,null,{"$f":"catp","v":3}]
[1894,"Avram Bogdan","Iasi",69.400000000000006,14.05,"A",null,null,null,{"$f":"catp","v":3}]
[2575,"Matei Victor","Urlati",33.1,14.05,"A",null,null,null,{"$f":"catp","v":3}]
[2715,"Burlica Cristian","Vicovu de Jos",28.1,14.05,"A",null,null,null,{"$f":"catp","v":3}]
[2034,"Mindru Marin","Sarmas",59,14,"A",null,null,null,{"$f":"catp","v":3}]
[3370,"Radu Mihaela","Targoviste",14,14,"AF",null,null,null,{"$f":"catp","v":3}]
[3612,"Hritcu Alin","Targu Mures",10.5,14,"A",null,null,null,{"$f":"catp","v":3}]
[1282,"Rusu Lucian","Iasi",135.19999999999999,13.99,"A",null,null,null,{"$f":"catp","v":3}]
[2625,"Dragan Alin","Bucuresti",31.3,13.95,"A",null,null,null,{"$f":"catp","v":3}]
[1753,"Popa Catalin","Roman",80.099999999999994,13.93,"A",null,null,null,{"$f":"catp","v":3}]
[1123,"Fratila Dan","Ocna Sibiului",160.5,13.91,"A",null,null,null,{"$f":"catp","v":3}]
[1272,"Dalalau Dora","Targu Mures",137.4,13.9,"AF",null,null,null,{"$f":"catp","v":3}]
[3087,"Sandu Gheorghe","Nasaud",18.899999999999999,13.9,"A",null,null,null,{"$f":"catp","v":3}]
[3373,"Lupu Marius","Bucuresti",13.9,13.9,"A",null,null,null,{"$f":"catp","v":3}]
[1643,"Criste Mihai Marius","Cluj Napoca",90.1,13.88,"A",null,null,null,{"$f":"catp","v":3}]
[1754,"Cojocaru Nicusor","Brasov",80.099999999999994,13.88,"ADW",null,null,null,{"$f":"catp","v":3}]
[1497,"Baragan Vladimir","Moldova-Cahul",106.2,13.85,"A",null,null,null,{"$f":"catp","v":3}]
[1589,"Balaban Adrian","Bucuresti",96.6,13.85,"A",null,null,null,{"$f":"catp","v":3}]
[2847,"Lungu Cristian","Oradea",24.5,13.85,"A",null,null,null,{"$f":"catp","v":3}]
[844,"Macuc Adrian","Bucuresti",225.6,13.84,"A",null,null,null,{"$f":"catp","v":3}]
[1742,"Sturz Daniel","Resita",81.7,13.83,"A",null,null,null,{"$f":"catp","v":3}]
[2476,"Flaut Liviu","Navodari",36.1,13.83,"A",null,null,null,{"$f":"catp","v":3}]
[2482,"Picu Patric","Dumbravita",35.9,13.83,"A",null,null,null,{"$f":"catp","v":3}]
[983,"Moldovean Valer","Calan",188.3,13.8,"A",null,null,null,{"$f":"catp","v":3}]
[3000,"Paduraru Riana","Bacau",20.7,13.8,"AF",null,null,null,{"$f":"catp","v":3}]
[1257,"Petrache Radu","Blaj",139.4,13.78,"A",null,null,null,{"$f":"catp","v":3}]
[1873,"Nechita Tudor","Cluj Napoca",71,13.75,"AJ",null,null,null,{"$f":"catp","v":3}]
[1983,"Ifrosa Rebeca","Cluj Napoca",62.6,13.75,"AF",null,null,null,{"$f":"catp","v":3}]
[2864,"Truta Ioan","Cluj Napoca",24.2,13.75,"A",null,null,null,{"$f":"catp","v":3}]
[1997,"Boicu Eduard","Vaslui",61.8,13.73,"A",null,null,null,{"$f":"catp","v":3}]
[2435,"Paius Vlad","Hunedoara",37.5,13.73,"A",null,null,null,{"$f":"catp","v":3}]
[1164,"Untu Adrian","Iasi",154.30000000000001,13.71,"A",null,null,null,{"$f":"catp","v":3}]
[1075,"Zaharia Ciprian","Piatra Neamt",168.4,13.7,"A",null,null,null,{"$f":"catp","v":3}]
[1495,"Bratosin Lica","Faurei",106.6,13.7,"A",null,null,null,{"$f":"catp","v":3}]
[2297,"Milos Andrei","Bocsa",44.1,13.7,"A",null,null,null,{"$f":"catp","v":3}]
[2587,"Tirizica Ioan","Zalau",32.5,13.7,"A",null,null,null,{"$f":"catp","v":3}]
[3380,"Trip Darius","Oradea",13.7,13.7,"A",null,null,null,{"$f":"catp","v":3}]
[3381,"Migliaccio Antonello","Italia",13.7,13.7,"A",null,null,null,{"$f":"catp","v":3}]
[1923,"Burtea Teodor Daniel","Galati",66.400000000000006,13.68,"A",null,null,null,{"$f":"catp","v":3}]
[1280,"Lupchian Alin","Suceava",135.5,13.63,"A",null,null,null,{"$f":"catp","v":3}]
[870,"Marias Laurentiu","Ploiesti",217.9,13.62,"A",null,null,null,{"$f":"catp","v":3}]
[2404,"Borbeiu Raul","Baia Mare",38.9,13.6,"A",null,null,null,{"$f":"catp","v":3}]
[2598,"Lele Mihai","Alesd",32.200000000000003,13.6,"A",null,null,null,{"$f":"catp","v":3}]
[3106,"Osman Levent","Constanta",18.600000000000001,13.6,"A",null,null,null,{"$f":"catp","v":3}]
[3631,"Mincu Theodor","Craiova",10.199999999999999,13.6,"A",null,null,null,{"$f":"catp","v":3}]
[1427,"Alb Sorin","Alba Iulia",113.4,13.57,"A",null,null,null,{"$f":"catp","v":3}]
[1653,"Maftei Ticu","Iasi",89.3,13.56,"A",null,null,null,{"$f":"catp","v":3}]
[847,"Voicila Adrian","Ploiesti",224.7,13.55,"A",null,null,null,{"$f":"catp","v":3}]
[1462,"Hidisan Ioan Lucian","Campia Turzii",109.3,13.55,"A",null,null,null,{"$f":"catp","v":3}]
[1659,"Lates Dorin","Sighisoara",88.6,13.54,"A",null,null,null,{"$f":"catp","v":3}]
[1950,"Suciu Mihai","Borsec",64.5,13.53,"A",null,null,null,{"$f":"catp","v":3}]
[2081,"Angheloni Adrian","Nadrag",56.8,13.53,"A",null,null,null,{"$f":"catp","v":3}]
[1511,"Verman Stefan","Brasov",104.7,13.51,"A",null,null,null,{"$f":"catp","v":3}]
[2310,"Dosoftei Traian","Mangalia",43.4,13.5,"A",null,null,null,{"$f":"catp","v":3}]
[2444,"Munteanu Constantin","Ramnicu Sarat",37.200000000000003,13.5,"AW",null,null,null,{"$f":"catp","v":3}]
[3394,"Pop Cornel Nicusor","Baia Mare",13.5,13.5,"A",null,null,null,{"$f":"catp","v":3}]
[3632,"Gogorita Octavian","Navodari",10.199999999999999,13.5,"A",null,null,null,{"$f":"catp","v":3}]
[804,"Antochi Iulian","Tamaseni",237.1,13.48,"A",null,null,null,{"$f":"catp","v":3}]
[1688,"Kristof Daniel","Oradea",86.2,13.48,"A",null,null,null,{"$f":"catp","v":3}]
[991,"Drulea Petru","Jimbolia",185.8,13.47,"A",null,null,null,{"$f":"catp","v":3}]
[2472,"Onofrei Ionut","Iasi",36.200000000000003,13.47,"A",null,null,null,{"$f":"catp","v":3}]
[990,"Geodescu Cosmin","Cluj Napoca",186.4,13.46,"A",null,null,null,{"$f":"catp","v":3}]
[1204,"Dumitru Cristian","Bucuresti",147.5,13.45,"A",null,null,null,{"$f":"catp","v":3}]
[2755,"Cecan Leonid","Moldova-Drochia",26.9,13.45,"A",null,null,null,{"$f":"catp","v":3}]
[2896,"Vladu Daniel","Bucuresti",23.2,13.45,"A",null,null,null,{"$f":"catp","v":3}]
[1730,"Drugas Laurentiu Florin","Bucuresti",83.1,13.43,"A",null,null,null,{"$f":"catp","v":3}]
[1185,"Timofei Alberto","Tulcea",150.6,13.41,"A",null,null,null,{"$f":"catp","v":3}]
[2548,"Balasescu Ionut","Campina",33.799999999999997,13.4,"A",null,null,null,{"$f":"catp","v":3}]
[3401,"Sandescu Florin","Bucuresti",13.4,13.4,"A",null,null,null,{"$f":"catp","v":3}]
[1938,"Cruceru Ion","Ramnicu Sarat",65.400000000000006,13.35,"A",null,null,null,{"$f":"catp","v":3}]
[3030,"Farkas Gabor","Miercurea Ciuc",20.100000000000001,13.35,"A",null,null,null,{"$f":"catp","v":3}]
[1286,"Roghina Cosmin","Sibiu",134.9,13.34,"A",null,null,null,{"$f":"catp","v":3}]
[1530,"Danila Eugeniu","Bucuresti",102.7,13.34,"AW",null,null,null,{"$f":"catp","v":3}]
[1794,"Mihaila George","Vulcana Pandele",76,13.33,"A",null,null,null,{"$f":"catp","v":3}]
[2518,"Patapi Alexandru Sr","Moldova-Edinet",34.799999999999997,13.33,"A",null,null,null,{"$f":"catp","v":3}]
[1040,"Coman Florin","Bucuresti",175.9,13.31,"A",null,null,null,{"$f":"catp","v":3}]
[2249,"Muresan Cristian","Cluj Napoca",46.1,13.3,"A",null,null,null,{"$f":"catp","v":3}]
[2276,"Benga Alin","Targu Jiu",44.8,13.3,"A",null,null,null,{"$f":"catp","v":3}]
[3405,"Matei Alexandru","Focsani",13.3,13.3,"A",null,null,null,{"$f":"catp","v":3}]
[3406,"Matei Eugen","Barlad",13.3,13.3,"A",null,null,null,{"$f":"catp","v":3}]
[3407,"Trifon Sara","Lokve",13.3,13.3,"AF",null,null,null,{"$f":"catp","v":3}]
[3639,"Boicu Gabriel","Vatra Dornei",10,13.3,"A",null,null,null,{"$f":"catp","v":3}]
[1145,"Aparaschivei Marcel","Botosani",156.80000000000001,13.27,"AW",null,null,null,{"$f":"catp","v":3}]
[1372,"Mihu Dorel","Medias",120.9,13.27,"A",null,null,null,{"$f":"catp","v":3}]
[1689,"Anica Andrei","Buzau",86.1,13.25,"A",null,null,null,{"$f":"catp","v":3}]
[2772,"Nicut Valentin","Curtea de Arges",26.5,13.25,"A",null,null,null,{"$f":"catp","v":3}]
[2095,"Luca Ioan","Bucuresti",55.3,13.23,"A",null,null,null,{"$f":"catp","v":3}]
[1449,"Sirbu Moise","Baile Herculane",110.5,13.22,"A",null,null,null,{"$f":"catp","v":3}]
[1274,"Dumitru Ovidiu","Buzau",137.19999999999999,13.2,"A",null,null,null,{"$f":"catp","v":3}]
[2213,"Barbu Cristian","Maneciu",48,13.2,"A",null,null,null,{"$f":"catp","v":3}]
[2776,"Marin Iulian","Campina",26.4,13.2,"AW",null,null,null,{"$f":"catp","v":3}]
[3043,"Drimus Mihai","Sighetu Marmatiei",19.8,13.2,"A",null,null,null,{"$f":"catp","v":3}]
[3127,"Kolumban Levente","Targu Mures",18.2,13.2,"A",null,null,null,{"$f":"catp","v":3}]
[3413,"Fercalo Alin","Siret",13.2,13.2,"A",null,null,null,{"$f":"catp","v":3}]
[3414,"Imre David","Cluj Napoca",13.2,13.2,"A",null,null,null,{"$f":"catp","v":3}]
[3415,"Feier Leon","Reghin",13.2,13.2,"A",null,null,null,{"$f":"catp","v":3}]
[3416,"Gindele Szilard","Carei",13.2,13.2,"A",null,null,null,{"$f":"catp","v":3}]
[3659,"Onose Iulian","Galati",9.9,13.2,"A",null,null,null,{"$f":"catp","v":3}]
[3660,"Lascu Mihai","Timisoara",9.9,13.2,"A",null,null,null,{"$f":"catp","v":3}]
[3661,"Ielciu Stefan","Cluj Napoca",9.9,13.2,"A",null,null,null,{"$f":"catp","v":3}]
[1464,"Gonta Viorel","Tecuci",109.2,13.17,"A",null,null,null,{"$f":"catp","v":3}]
[2127,"Pop Victor","Bucuresti",52.7,13.17,"A",null,null,null,{"$f":"catp","v":3}]
[2883,"Raicu Ion","Alexandria",23.6,13.15,"A",null,null,null,{"$f":"catp","v":3}]
[2921,"Mihaila Romeo","Pucioasa",22.7,13.15,"A",null,null,null,{"$f":"catp","v":3}]
[2972,"Dinu Ion","Bals",21.3,13.15,"A",null,null,null,{"$f":"catp","v":3}]
[1182,"Paul Horatiu","Alba Iulia",151,13.12,"A",null,null,null,{"$f":"catp","v":3}]
[2258,"Huruba Cristian","Targu Mures",45.5,13.1,"A",null,null,null,{"$f":"catp","v":3}]
[2473,"Stanciu Marian","Bucuresti",36.200000000000003,13.1,"A",null,null,null,{"$f":"catp","v":3}]
[2563,"Constantin Rares","Focsani",33.4,13.1,"A",null,null,null,{"$f":"catp","v":3}]
[2781,"Melnerovici Daniel","Stefanesti Arges",26.2,13.1,"A",null,null,null,{"$f":"catp","v":3}]
[2925,"Biro Attila","Reghin",22.6,13.1,"A",null,null,null,{"$f":"catp","v":3}]
[3420,"Sima Beniamin","Giurgiu",13.1,13.1,"A",null,null,null,{"$f":"catp","v":3}]
[3421,"Aldea Sandrino","Comanesti",13.1,13.1,"A",null,null,null,{"$f":"catp","v":3}]
[3422,"Mihailescu Antonel","Slobozia",13.1,13.1,"A",null,null,null,{"$f":"catp","v":3}]
[3423,"Jianu Florin","Constanta",13.1,13.1,"A",null,null,null,{"$f":"catp","v":3}]
[3424,"Valcea Vlad","Constanta",13.1,13.1,"A",null,null,null,{"$f":"catp","v":3}]
[1673,"Grecu Gheorghe","Bistrita",87.6,13.08,"AW",null,null,null,{"$f":"catp","v":3}]
[2123,"Marin Mihai","Ploiesti",52.8,13.08,"A",null,null,null,{"$f":"catp","v":3}]
[2785,"Stoica Dan","Galati",26.1,13.05,"A",null,null,null,{"$f":"catp","v":3}]
[1910,"Zolotaryk George","Suceava",67.7,13.03,"A",null,null,null,{"$f":"catp","v":3}]
[1916,"Vasiloiu Sebastian","Pitesti",67.099999999999994,13.03,"A",null,null,null,{"$f":"catp","v":3}]
[1952,"Crisan Alexandru","Oradea",64.3,13.03,"A",null,null,null,{"$f":"catp","v":3}]
[1640,"Tirc Stelian","Apahida",90.7,13,"A",null,null,null,{"$f":"catp","v":3}]
[2810,"Munteanu Constantin","Resita",25.5,13,"A",null,null,null,{"$f":"catp","v":3}]
[1671,"Pislaru George Eduard","Iasi",87.7,12.98,"A",null,null,null,{"$f":"catp","v":3}]
[2062,"Hirlea Luca","Suceava",57.8,12.98,"A",null,null,null,{"$f":"catp","v":3}]
[2493,"Labutin Dmitrii","Moldova-Balti",35.5,12.97,"A",null,null,null,{"$f":"catp","v":3}]
[1319,"Petrut Andrei","Chisoda",130.80000000000001,12.95,"A",null,null,null,{"$f":"catp","v":3}]
[1893,"Asmarandei Petru","Constanta",69.5,12.95,"AW",null,null,null,{"$f":"catp","v":3}]
[1608,"Firanescu David","Dumbraveni SB",95.3,12.9,"A",null,null,null,{"$f":"catp","v":3}]
[2384,"Duka Peter","Marghita",40,12.9,"A",null,null,null,{"$f":"catp","v":3}]
[3432,"Ifrosa Ciprian","Cluj Napoca",12.9,12.9,"A",null,null,null,{"$f":"catp","v":3}]
[3433,"Dinic Jovica","Zajecar Serbia",12.9,12.9,"A",null,null,null,{"$f":"catp","v":3}]
[1290,"Hogea Cristi","Piatra Neamt",134.30000000000001,12.89,"A",null,null,null,{"$f":"catp","v":3}]
[1581,"Iordache Catalin","Comanesti",97.5,12.88,"AW",null,null,null,{"$f":"catp","v":3}]
[1456,"Sala Eduard","Vizejdia",109.6,12.86,"A",null,null,null,{"$f":"catp","v":3}]
[1967,"Porumb Alexandru","Sibiu",63.2,12.85,"A",null,null,null,{"$f":"catp","v":3}]
[2566,"Becleanu Octavian","Bucuresti",33.299999999999997,12.85,"A",null,null,null,{"$f":"catp","v":3}]
[2913,"Manoliu Cristian","Bucuresti",22.8,12.85,"A",null,null,null,{"$f":"catp","v":3}]
[1089,"Anoiu Alexandru","Hunedoara",166.2,12.84,"A",null,null,null,{"$f":"catp","v":3}]
[1205,"Ionescu Andrei","Bucuresti",147.5,12.84,"A",null,null,null,{"$f":"catp","v":3}]
[2182,"Enescu Robert","Vulcana Bai",49.7,12.8,"A",null,null,null,{"$f":"catp","v":3}]
[2483,"Gita Dan","Sfantu Gheorghe",35.9,12.8,"A",null,null,null,{"$f":"catp","v":3}]
[2519,"Gavre Augustin","Hateg",34.799999999999997,12.8,"A",null,null,null,{"$f":"catp","v":3}]
[2914,"Gorbatiuc Alexandr","Ucraina-Odessa",22.8,12.8,"A",null,null,null,{"$f":"catp","v":3}]
[3440,"Blaboli Dominik","Arad",12.8,12.8,"A",null,null,null,{"$f":"catp","v":3}]
[3441,"Ciucu Pavel","Pitesti",12.8,12.8,"A",null,null,null,{"$f":"catp","v":3}]
[3442,"Greceanu Alezandru","Macin",12.8,12.8,"A",null,null,null,{"$f":"catp","v":3}]
[1890,"Moldovan Aurel","Timisoara",69.8,12.78,"A",null,null,null,{"$f":"catp","v":3}]
[1877,"Georgescu Cristian","Pitesti",70.8,12.73,"A",null,null,null,{"$f":"catp","v":3}]
[956,"Toader Petru","Mogosoaia",197.2,12.71,"AW",null,null,null,{"$f":"catp","v":3}]
[2640,"Geamanu Pompiliu","Adjud",30.4,12.7,"A",null,null,null,{"$f":"catp","v":3}]
[2813,"Sandu Danut","Cluj Napoca",25.4,12.7,"A",null,null,null,{"$f":"catp","v":3}]
[2814,"Sabo Otto","Berveni",25.4,12.7,"A",null,null,null,{"$f":"catp","v":3}]
[3671,"Ionita Adrian","Iasi",9.6,12.7,"A",null,null,null,{"$f":"catp","v":3}]
[1355,"Aresan David","Bistrita",123.5,12.68,"AD",null,null,null,{"$f":"catp","v":3}]
[1663,"Diaconescu Dragos","Craiova",88.4,12.68,"A",null,null,null,{"$f":"catp","v":3}]
[1297,"Bratu Aurel","Constanta",133.19999999999999,12.66,"AW",null,null,null,{"$f":"catp","v":3}]
[1868,"Stefan Adrian","Bucuresti",71.099999999999994,12.65,"A",null,null,null,{"$f":"catp","v":3}]
[2040,"Hategan Vlad","Cluj Napoca",58.6,12.65,"A",null,null,null,{"$f":"catp","v":3}]
[2539,"Mihalache Andrei","Buzau",34.200000000000003,12.65,"A",null,null,null,{"$f":"catp","v":3}]
[2815,"Delev Alexandru","Moldova-Edinet",25.3,12.65,"A",null,null,null,{"$f":"catp","v":3}]
[3084,"Nita Alin","Bucuresti",19,12.65,"A",null,null,null,{"$f":"catp","v":3}]
[3451,"Lupu Gheorghe","Navodari",12.6,12.6,"A",null,null,null,{"$f":"catp","v":3}]
[3452,"Bercuci Lucian","Navodari",12.6,12.6,"A",null,null,null,{"$f":"catp","v":3}]
[903,"Teodorescu Marian","Bucuresti",208.1,12.59,"A",null,null,null,{"$f":"catp","v":3}]
[1179,"Souca Liviu","Bucuresti",151.4,12.59,"A",null,null,null,{"$f":"catp","v":3}]
[1397,"Avram Ionut","Galati",118.1,12.59,"A",null,null,null,{"$f":"catp","v":3}]
[1315,"Alexandrescu Robert","Alexandria",131.80000000000001,12.57,"A",null,null,null,{"$f":"catp","v":3}]
[2525,"Mihaila Radu","Timisoara",34.6,12.57,"A",null,null,null,{"$f":"catp","v":3}]
[1772,"Ogrinji Nicu","Iasi",78.2,12.55,"A",null,null,null,{"$f":"catp","v":3}]
[2098,"Tebeica Ionut","Bucuresti",55,12.55,"A",null,null,null,{"$f":"catp","v":3}]
[1333,"Ilie Costin","Bucuresti",128.5,12.54,"A",null,null,null,{"$f":"catp","v":3}]
[1191,"Mutu Mario","Deva",149.69999999999999,12.53,"A",null,null,null,{"$f":"catp","v":3}]
[2048,"Simoc Paul","Stei",58.3,12.53,"A",null,null,null,{"$f":"catp","v":3}]
[2735,"Daianu Ion","Timisoara",27.6,12.5,"A",null,null,null,{"$f":"catp","v":3}]
[2823,"Martin Sergiu","Buhusi",25,12.5,"A",null,null,null,{"$f":"catp","v":3}]
[2945,"Lucaciu Raul","Oradea",22.2,12.5,"A",null,null,null,{"$f":"catp","v":3}]
[3165,"Merezeanu Gabriel","Bucuresti",17.5,12.5,"A",null,null,null,{"$f":"catp","v":3}]
[3461,"Paunescu David","Bucuresti",12.5,12.5,"A",null,null,null,{"$f":"catp","v":3}]
[3687,"Neamtu Alin","Arad",9.4,12.5,"A",null,null,null,{"$f":"catp","v":3}]
[3688,"Pricop Lucian","Stolniceni",9.4,12.5,"A",null,null,null,{"$f":"catp","v":3}]
[1283,"Man Florin","Dej",135.19999999999999,12.47,"A",null,null,null,{"$f":"catp","v":3}]
[2003,"Catuna Bogdan","Cluj Napoca",61.1,12.47,"A",null,null,null,{"$f":"catp","v":3}]
[2175,"Sentes Norbert","Timisoara",50,12.47,"A",null,null,null,{"$f":"catp","v":3}]
[2407,"Isopescu Vasile","Timisoara",38.700000000000003,12.47,"A",null,null,null,{"$f":"catp","v":3}]
[1617,"Markos Hunor","Targu Mures",94.1,12.45,"A",null,null,null,{"$f":"catp","v":3}]
[1743,"Soldan Asael","Cajvana",81.7,12.45,"A",null,null,null,{"$f":"catp","v":3}]
[2194,"Barbinta Dan","Zalau",49.1,12.45,"A",null,null,null,{"$f":"catp","v":3}]
[2511,"Geanta Mihai","Slobozia",34.9,12.45,"A",null,null,null,{"$f":"catp","v":3}]
[2884,"Bartic Stefan","Mogosesti",23.6,12.45,"A",null,null,null,{"$f":"catp","v":3}]
[2619,"Popescu Cristi","Slatina",31.5,12.4,"A",null,null,null,{"$f":"catp","v":3}]
[2958,"Matyas Balazs","Bretcu",21.6,12.4,"A",null,null,null,{"$f":"catp","v":3}]
[3470,"Baburea Alexandru Ionut","Alexandria",12.4,12.4,"A",null,null,null,{"$f":"catp","v":3}]
[3693,"Dumbrava Dan","Timisoara",9.3000000000000007,12.4,"A",null,null,null,{"$f":"catp","v":3}]
[3694,"Costea Dominic","Medias",9.3000000000000007,12.4,"A",null,null,null,{"$f":"catp","v":3}]
[1334,"Huica Petre","Bucuresti",128.4,12.36,"A",null,null,null,{"$f":"catp","v":3}]
[1636,"Calinescu Mircea","Ploiesti",91.3,12.36,"A",null,null,null,{"$f":"catp","v":3}]
[2786,"Vela Gabriel","Timisoara",26.1,12.35,"A",null,null,null,{"$f":"catp","v":3}]
[1447,"Spulber Bogdan Andrei","Bacau",110.8,12.33,"A",null,null,null,{"$f":"catp","v":3}]
[2287,"Moldovan Matei","Cluj Napoca",44.4,12.33,"A",null,null,null,{"$f":"catp","v":3}]
[2221,"Apostol Stefan Leonard","Alexandria",47.6,12.3,"A",null,null,null,{"$f":"catp","v":3}]
[2413,"Ghitu Liviu","Onesti",38.5,12.3,"AW",null,null,null,{"$f":"catp","v":3}]
[2530,"Voinescu Bianca","Lugoj",34.4,12.3,"AF",null,null,null,{"$f":"catp","v":3}]
[3695,"Socaci Marian","Braila",9.3000000000000007,12.3,"A",null,null,null,{"$f":"catp","v":3}]
[3696,"Lazar Emil","Ocna Mures",9.3000000000000007,12.3,"A",null,null,null,{"$f":"catp","v":3}]
[3697,"Buhaciuc Crina","Constanta",9.3000000000000007,12.3,"AF",null,null,null,{"$f":"catp","v":3}]
[3698,"Chirilescu Crina","Constanta",9.3000000000000007,12.3,"AF",null,null,null,{"$f":"catp","v":3}]
[3699,"Minghiras Anamaria","Constanta",9.3000000000000007,12.3,"AF",null,null,null,{"$f":"catp","v":3}]
[3700,"Solomon David","Cluj Napoca",9.3000000000000007,12.3,"A",null,null,null,{"$f":"catp","v":3}]
[1900,"Costea Claudiu","Negresti Oas",68.8,12.28,"A",null,null,null,{"$f":"catp","v":3}]
[1535,"Steau Dan","Santimbru AB",102.4,12.27,"AW",null,null,null,{"$f":"catp","v":3}]
[2973,"Demsa Daniel","Brasov",21.3,12.25,"A",null,null,null,{"$f":"catp","v":3}]
[2463,"Ratiu Adrian","Oradea",36.4,12.23,"A",null,null,null,{"$f":"catp","v":3}]
[2650,"Iordan Marius","Bucuresti",30,12.2,"A",null,null,null,{"$f":"catp","v":3}]
[2853,"Silaghi Marc","Dumbravita",24.4,12.2,"A",null,null,null,{"$f":"catp","v":3}]
[3183,"Nicolaev Valerii","Moldova-Taraclia",17.2,12.2,"A",null,null,null,{"$f":"catp","v":3}]
[3479,"Milosevic Goran","Zajecar Serbia",12.2,12.2,"A",null,null,null,{"$f":"catp","v":3}]
[3704,"Bontoi Mihai","Alexandria",9.1999999999999993,12.2,"A",null,null,null,{"$f":"catp","v":3}]
[2533,"Raduly Marius","Sfantu Gheorghe",34.299999999999997,12.15,"A",null,null,null,{"$f":"catp","v":3}]
[2017,"Achim Paul","Arad",59.9,12.13,"A",null,null,null,{"$f":"catp","v":3}]
[2202,"Suliman Florin","Lumina",48.8,12.13,"A",null,null,null,{"$f":"catp","v":3}]
[2303,"Comanoiu Andrei","Bucuresti",43.7,12.13,"A",null,null,null,{"$f":"catp","v":3}]
[2593,"Capra Arthur","Vatra Dornei",32.299999999999997,12.13,"A",null,null,null,{"$f":"catp","v":3}]
[2663,"Hutanu Daniel","Iasi",29.7,12.1,"A",null,null,null,{"$f":"catp","v":3}]
[2756,"Rifat Bislimi","Alibunar",26.9,12.1,"A",null,null,null,{"$f":"catp","v":3}]
[2992,"Oleinic Denis","Moldova-Edinet",20.8,12.1,"A",null,null,null,{"$f":"catp","v":3}]
[3434,"Coman Gabriel","Bucuresti",12.9,12.1,"A",null,null,null,{"$f":"catp","v":3}]
[3482,"Jantea Florin","Bucuresti",12.1,12.1,"A",null,null,null,{"$f":"catp","v":3}]
[3483,"Burducea Alexandru","Targoviste",12.1,12.1,"A",null,null,null,{"$f":"catp","v":3}]
[3484,"Nitulescu Matei","Bucuresti",12.1,12.1,"A",null,null,null,{"$f":"catp","v":3}]
[3485,"Puiu Viorel","Moldova-Balti",12.1,12.1,"A",null,null,null,{"$f":"catp","v":3}]
[3712,"Petrescu Ovidiu","Pitesti",9.1,12.1,"A",null,null,null,{"$f":"catp","v":3}]
[1125,"Birtalan Attila","Crasna",160.19999999999999,12.07,"A",null,null,null,{"$f":"catp","v":3}]
[1131,"Stanciu Mugur","Videle",159,12.06,"A",null,null,null,{"$f":"catp","v":3}]
[2116,"Neagoe Catalin","Timisoara",53.4,12.05,"AW",null,null,null,{"$f":"catp","v":3}]
[2871,"Sitarciuc Alexandr","Moldova-Balti",24,12,"A",null,null,null,{"$f":"catp","v":3}]
[2872,"Jurovschi Andrei","Satumare",24,12,"A",null,null,null,{"$f":"catp","v":3}]
[2993,"Birloncea Mara","Medias",20.8,12,"AF",null,null,null,{"$f":"catp","v":3}]
[3492,"Marta Silviu","Husi",12,12,"A",null,null,null,{"$f":"catp","v":3}]
[3719,"Simion Robert","Bucuresti",9,12,"A",null,null,null,{"$f":"catp","v":3}]
[1431,"Mihalache Daniel","Buzau",112.4,11.92,"A",null,null,null,{"$f":"catp","v":3}]
[1503,"Balasa Adrian","Alexandria",105.7,11.92,"A",null,null,null,{"$f":"catp","v":3}]
[1715,"Mania Gabriel","Paunesti",84.5,11.9,"A",null,null,null,{"$f":"catp","v":3}]
[1884,"Geanta Tony","Braila",70.099999999999994,11.9,"A",null,null,null,{"$f":"catp","v":3}]
[3498,"Iosim Dumitru","Slatina",11.9,11.9,"A",null,null,null,{"$f":"catp","v":3}]
[3720,"Dinu Mihai","Moreni",9,11.9,"A",null,null,null,{"$f":"catp","v":3}]
[2210,"Avramia Dan","Oniceni",48.3,11.87,"A",null,null,null,{"$f":"catp","v":3}]
[1335,"Cojocariu Vasile","Comanesti",127.7,11.86,"A",null,null,null,{"$f":"catp","v":3}]
[2437,"Ciufudean Lucian","Cluj Napoca",37.299999999999997,11.85,"A",null,null,null,{"$f":"catp","v":3}]
[2381,"Chironda Nica","Moldova-Balti",40.1,11.83,"AF",null,null,null,{"$f":"catp","v":3}]
[1307,"Baicu Andrei","Sinaia",132.6,11.82,"A",null,null,null,{"$f":"catp","v":3}]
[1736,"Paulette Radu","Blaj",82.3,11.82,"A",null,null,null,{"$f":"catp","v":3}]
[1171,"Cojocaru Stefan","Targu Jiu",153.4,11.81,"A",null,null,null,{"$f":"catp","v":3}]
[3512,"Strugariu Ciprian","Radauti",11.8,11.8,"A",null,null,null,{"$f":"catp","v":3}]
[2045,"Szabo Ovidiu","Dej",58.5,11.78,"A",null,null,null,{"$f":"catp","v":3}]
[2226,"Ciurlica Mugurel","Pascani",47.2,11.77,"A",null,null,null,{"$f":"catp","v":3}]
[2436,"Talaba Mihai","Tecuci",37.4,11.75,"A",null,null,null,{"$f":"catp","v":3}]
[3154,"Sandu Adrian","Sfantu Gheorghe",17.7,11.75,"A",null,null,null,{"$f":"catp","v":3}]
[2203,"Mamaliga Robert","Tulcea",48.8,11.73,"A",null,null,null,{"$f":"catp","v":3}]
[1976,"Filip Cristi","Comanesti",62.9,11.7,"AW",null,null,null,{"$f":"catp","v":3}]
[2887,"Gherman Constantin","Curtea de Arges",23.4,11.7,"A",null,null,null,{"$f":"catp","v":3}]
[3516,"Dobai Stefan","Alesd",11.7,11.7,"A",null,null,null,{"$f":"catp","v":3}]
[3517,"Tranoiu Sandel","Hateg",11.7,11.7,"A",null,null,null,{"$f":"catp","v":3}]
[3518,"Samsonescu Catalin","Falticeni",11.7,11.7,"A",null,null,null,{"$f":"catp","v":3}]
[3737,"Gado Ramses","Oradea",8.8000000000000007,11.7,"A",null,null,null,{"$f":"catp","v":3}]
[3166,"Gheorghitoiu Andrei","Brasov",17.5,11.65,"A",null,null,null,{"$f":"catp","v":3}]
[1008,"Marcu Cristian","Alba Iulia",181.5,11.63,"A",null,null,null,{"$f":"catp","v":3}]
[2626,"Samoila Catalin","Tulcea",31.3,11.6,"A",null,null,null,{"$f":"catp","v":3}]
[2897,"Patru Alin","Curtea de Arges",23.2,11.6,"A",null,null,null,{"$f":"catp","v":3}]
[2898,"Negoita Gheorghe","Marasesti",23.2,11.6,"A",null,null,null,{"$f":"catp","v":3}]
[2899,"Amariei Lucian","Piatra Neamt",23.2,11.6,"A",null,null,null,{"$f":"catp","v":3}]
[3527,"Porcariu Gabriel","Barlad",11.6,11.6,"A",null,null,null,{"$f":"catp","v":3}]
[3528,"Ghelan Marius","Oradea",11.6,11.6,"A",null,null,null,{"$f":"catp","v":3}]
[3742,"Banaseanu Dorin","Alexandria",8.6999999999999993,11.6,"A",null,null,null,{"$f":"catp","v":3}]
[3743,"Evghenii Dubrovin","Moldova-Balti",8.6999999999999993,11.6,"A",null,null,null,{"$f":"catp","v":3}]
[1325,"Ulea Andrei","Moinesti",129.4,11.58,"A",null,null,null,{"$f":"catp","v":3}]
[2230,"Drumen Evelina","Vatra Dornei",46.9,11.57,"AF",null,null,null,{"$f":"catp","v":3}]
[2339,"Hidisan Cornel","Campia Turzii",41.9,11.57,"A",null,null,null,{"$f":"catp","v":3}]
[2658,"Minu Cristian","Onesti",29.9,11.57,"A",null,null,null,{"$f":"catp","v":3}]
[2987,"Dobrin Dragos","Alexandria",20.9,11.55,"A",null,null,null,{"$f":"catp","v":3}]
[1631,"Joghiu Ovidiu","Focsani",92,11.53,"A",null,null,null,{"$f":"catp","v":3}]
[2341,"Atanasiu Alexone","Arad",41.8,11.53,"A",null,null,null,{"$f":"catp","v":3}]
[1582,"Gaia Mihai","Iasi",97.5,11.5,"A",null,null,null,{"$f":"catp","v":3}]
[1953,"Csokany Gheorghe","Sannicolau Mare",64.3,11.5,"A",null,null,null,{"$f":"catp","v":3}]
[2603,"Florescu George","Bucuresti",32,11.5,"A",null,null,null,{"$f":"catp","v":3}]
[2751,"Iasinschi Daniel","Suceava",27,11.5,"A",null,null,null,{"$f":"catp","v":3}]
[2906,"Ionita Cristian","Ploiesti",23,11.5,"A",null,null,null,{"$f":"catp","v":3}]
[3532,"Branzei Florin","Piatra Neamt",11.5,11.5,"A",null,null,null,{"$f":"catp","v":3}]
[3533,"Tudor Theodor","Roman",11.5,11.5,"A",null,null,null,{"$f":"catp","v":3}]
[2223,"Cocea Felix","Bucuresti",47.5,11.48,"A",null,null,null,{"$f":"catp","v":3}]
[2818,"Muntean Gabriel","Dorohoi",25.2,11.45,"A",null,null,null,{"$f":"catp","v":3}]
[2910,"Hegyi Augustin","Cluj Napoca",22.9,11.45,"A",null,null,null,{"$f":"catp","v":3}]
[3113,"Onofrei Dan","Oradea",18.5,11.45,"AW",null,null,null,{"$f":"catp","v":3}]
[1769,"Patrascu Marius","Piatra Neamt",78.400000000000006,11.43,"A",null,null,null,{"$f":"catp","v":3}]
[2534,"Kiss Teofil","Oradea",34.299999999999997,11.43,"A",null,null,null,{"$f":"catp","v":3}]
[1062,"Flueraru Gilbert","Iasi",171.3,11.42,"A",null,null,null,{"$f":"catp","v":3}]
[2079,"Popoiu Ion","Motaieni",56.9,11.4,"A",null,null,null,{"$f":"catp","v":3}]
[2915,"Tucuina Dragos","Dumbravita",22.8,11.4,"A",null,null,null,{"$f":"catp","v":3}]
[2916,"Popescu Ionut Bogdan","Ploiesti",22.8,11.4,"A",null,null,null,{"$f":"catp","v":3}]
[3186,"Neagu Dorin Damian","Iasi",17.100000000000001,11.4,"A",null,null,null,{"$f":"catp","v":3}]
[3540,"Malene Petru","Fagaras",11.4,11.4,"A",null,null,null,{"$f":"catp","v":3}]
[3541,"Golban Nicolae","Alba Iulia",11.4,11.4,"AW",null,null,null,{"$f":"catp","v":3}]
[3542,"Miron Cristi","Onesti",11.4,11.4,"A",null,null,null,{"$f":"catp","v":3}]
[1098,"Marginean Cornel","Cluj Napoca",164.5,11.35,"AW",null,null,null,{"$f":"catp","v":3}]
[2964,"Fagyura Leonardo","Tarnaveni",21.5,11.35,"A",null,null,null,{"$f":"catp","v":3}]
[2965,"Wagner Radu","Bucuresti",21.5,11.35,"A",null,null,null,{"$f":"catp","v":3}]
[1810,"Albu Gheorghe","Galati",74.3,11.33,"A",null,null,null,{"$f":"catp","v":3}]
[1102,"Drapac Gheorghe","Brasov",163.69999999999999,11.32,"AD",null,null,null,{"$f":"catp","v":3}]
[1679,"Benko Jozsef","Reghin",86.9,11.32,"A",null,null,null,{"$f":"catp","v":3}]
[2621,"Vrancea Markus","Sibiu",31.4,11.3,"A",null,null,null,{"$f":"catp","v":3}]
[2926,"Haidau Alin","Cluj Napoca",22.6,11.3,"A",null,null,null,{"$f":"catp","v":3}]
[3553,"Calin Narcis","Barlad",11.3,11.3,"A",null,null,null,{"$f":"catp","v":3}]
[3554,"Enache Leonardo","Ramnicu Valcea",11.3,11.3,"A",null,null,null,{"$f":"catp","v":3}]
[3555,"Zdravkovic Milos","Kovin",11.3,11.3,"A",null,null,null,{"$f":"catp","v":3}]
[3758,"Maxim Cristian","Bistrita",8.5,11.3,"AW",null,null,null,{"$f":"catp","v":3}]
[3759,"Pop Ioan","Bistrita",8.5,11.3,"AW",null,null,null,{"$f":"catp","v":3}]
[3760,"Cecan Ghenadie","Moldova-Falesti",8.5,11.3,"A",null,null,null,{"$f":"catp","v":3}]
[1516,"Patru Gabriel","Popesti Leordeni",104.2,11.27,"A",null,null,null,{"$f":"catp","v":3}]
[1845,"Matei Alexandru","Iasi",72,11.27,"A",null,null,null,{"$f":"catp","v":3}]
[1583,"Sava Sinel","Focsani",97.4,11.25,"A",null,null,null,{"$f":"catp","v":3}]
[2051,"Vlasin Marian","Viseu",58.2,11.25,"A",null,null,null,{"$f":"catp","v":3}]
[3200,"Martoiu Gabriel","Targu Jiu",16.8,11.2,"A",null,null,null,{"$f":"catp","v":3}]
[3559,"Iepure Teodor Calin","Aiud",11.2,11.2,"A",null,null,null,{"$f":"catp","v":3}]
[3560,"Haidarli Ion","Moldova-Straseni",11.2,11.2,"A",null,null,null,{"$f":"catp","v":3}]
[1483,"Brodetchi Andrei","Sibiu",107.5,11.16,"A",null,null,null,{"$f":"catp","v":3}]
[1829,"Vaduva Ionut","Pitesti",72.900000000000006,11.16,"A",null,null,null,{"$f":"catp","v":3}]
[922,"Hradszki Sebastian","Sannicolau Mare",203.8,11.15,"A",null,null,null,{"$f":"catp","v":3}]
[1732,"Homana Marius","Stremt",82.6,11.15,"A",null,null,null,{"$f":"catp","v":3}]
[2168,"Bischin Gabriel","Cisnadie",50.5,11.15,"A",null,null,null,{"$f":"catp","v":3}]
[2195,"Ivan Marius","Buzau",49.1,11.13,"A",null,null,null,{"$f":"catp","v":3}]
[1036,"Pamfilie Horatiu","Ludus",176.4,11.1,"A",null,null,null,{"$f":"catp","v":3}]
[2321,"Croitoru Doru","Vaslui",42.9,11.1,"A",null,null,null,{"$f":"catp","v":3}]
[2486,"Olaru Miruna Andreea","Comanesti",35.700000000000003,11.1,"AF",null,null,null,{"$f":"catp","v":3}]
[2509,"Ciobanu Emilian","Moldova-Cahul",35,11.1,"A",null,null,null,{"$f":"catp","v":3}]
[3566,"Neagu Viorel","Medias",11.1,11.1,"A",null,null,null,{"$f":"catp","v":3}]
[3567,"Avram Radu","Tarnaveni",11.1,11.1,"A",null,null,null,{"$f":"catp","v":3}]
[1492,"Caraman Vitalie","Moldova-Cahul",106.8,11.09,"A",null,null,null,{"$f":"catp","v":3}]
[1267,"Agache Sorin","Navodari",138,11.08,"AW",null,null,null,{"$f":"catp","v":3}]
[2494,"Bungeanu Bogdan","Vaslui",35.5,11.07,"A",null,null,null,{"$f":"catp","v":3}]
[2139,"Neagu Nicolae Valentin","Alexandria",51.7,11.03,"A",null,null,null,{"$f":"catp","v":3}]
[1216,"Dragu Raul","Focsani",146.30000000000001,11.01,"A",null,null,null,{"$f":"catp","v":3}]
[2120,"Vargyas Karoly","Joseni",53.1,11,"A",null,null,null,{"$f":"catp","v":3}]
[2521,"Jimborean Dorinel","Apahida",34.700000000000003,11,"A",null,null,null,{"$f":"catp","v":3}]
[2994,"Tronciu Gabriel","Roman",20.8,11,"A",null,null,null,{"$f":"catp","v":3}]
[3211,"Avram Alexandru","Brasov",16.5,11,"A",null,null,null,{"$f":"catp","v":3}]
[3570,"Lorinczi Bela","Gheorgheni",11,11,"AW",null,null,null,{"$f":"catp","v":3}]
[3571,"Taran Narcis","Aiud",11,11,"A",null,null,null,{"$f":"catp","v":3}]
[3572,"Nastic Branko","Ilandza",11,11,"A",null,null,null,{"$f":"catp","v":3}]
[3573,"Dobos Robert","Iasi",11,11,"A",null,null,null,{"$f":"catp","v":3}]
[3574,"Dani Darko","Pancevo",11,11,"A",null,null,null,{"$f":"catp","v":3}]
[1841,"Ciocan Ionut Cristian","Bacau",72.099999999999994,10.98,"A",null,null,null,{"$f":"catp","v":3}]
[1648,"Ivascu Ioan","Viseu",89.8,10.93,"A",null,null,null,{"$f":"catp","v":3}]
[2382,"Tudor Mihai Maximilian","Alexandria",40.1,10.93,"A",null,null,null,{"$f":"catp","v":3}]
[1219,"Huszar Sabin Robert","Ocna Mures",145.80000000000001,10.91,"A",null,null,null,{"$f":"catp","v":3}]
[2611,"Mali Robert","Vama",31.7,10.9,"A",null,null,null,{"$f":"catp","v":3}]
[3581,"Toma Cristian","Oradea",10.9,10.9,"A",null,null,null,{"$f":"catp","v":3}]
[3582,"Ghidiu Valer","Sighisoara",10.9,10.9,"A",null,null,null,{"$f":"catp","v":3}]
[3583,"Zgadan Iustin","Moldova-Cahul",10.9,10.9,"A",null,null,null,{"$f":"catp","v":3}]
[3584,"Buzzoni Amelia","Lombardia Italia",10.9,10.9,"AF",null,null,null,{"$f":"catp","v":3}]
[3792,"Sterie Bogdan","Bucuresti",8.1999999999999993,10.9,"A",null,null,null,{"$f":"catp","v":3}]
[1324,"Prigoana Cristian","Cluj Napoca",130.1,10.88,"A",null,null,null,{"$f":"catp","v":3}]
[2383,"Popa Bogdan","Bucuresti",40.1,10.87,"A",null,null,null,{"$f":"catp","v":3}]
[2501,"Oanta Daniel","Baia Mare",35.299999999999997,10.83,"A",null,null,null,{"$f":"catp","v":3}]
[1136,"Stefan Sorin","Brasov",158.30000000000001,10.8,"A",null,null,null,{"$f":"catp","v":3}]
[3227,"Silviu Niculae","Bucuresti",16.2,10.8,"AW",null,null,null,{"$f":"catp","v":3}]
[3591,"Neghina Vasile","Selimbar",10.8,10.8,"AW",null,null,null,{"$f":"catp","v":3}]
[3592,"Voicu Ion","Amarastii de Jos",10.8,10.8,"A",null,null,null,{"$f":"catp","v":3}]
[3796,"Pap Teteny","Targu Mures",8.1,10.8,"A",null,null,null,{"$f":"catp","v":3}]
[1052,"Pop Daniel Ghe","Cluj Napoca",173.4,10.78,"AW",null,null,null,{"$f":"catp","v":3}]
[1686,"Cercega Dani","Timisoara",86.3,10.73,"A",null,null,null,{"$f":"catp","v":3}]
[2374,"Secu Alexandru","Sibiu",40.299999999999997,10.73,"A",null,null,null,{"$f":"catp","v":3}]
[2777,"Zsigmond Tamas","Gheorgheni",26.4,10.7,"A",null,null,null,{"$f":"catp","v":3}]
[2778,"Pasztor Gyorgy","Sovata",26.4,10.7,"A",null,null,null,{"$f":"catp","v":3}]
[3600,"Todorova Margarita","Moldova-Cahul",10.7,10.7,"AF",null,null,null,{"$f":"catp","v":3}]
[3797,"Mateut Dan","Apahida",8.1,10.7,"A",null,null,null,{"$f":"catp","v":3}]
[1869,"Talos Cristian","Malut",71.099999999999994,10.68,"A",null,null,null,{"$f":"catp","v":3}]
[2974,"Fodor Ianis","Dej",21.3,10.65,"A",null,null,null,{"$f":"catp","v":3}]
[3091,"Mihoc Cristian Stefan","Iasi",18.8,10.65,"A",null,null,null,{"$f":"catp","v":3}]
[1063,"Mesaros Horea Cristin","Ludus",171,10.64,"A",null,null,null,{"$f":"catp","v":3}]
[2090,"Borla Nicolae","Cluj Napoca",55.7,10.63,"A",null,null,null,{"$f":"catp","v":3}]
[2096,"Puisoru Victor","Bucuresti",55.3,10.63,"A",null,null,null,{"$f":"catp","v":3}]
[2761,"Schibinschi Artiom","Bucuresti",26.7,10.63,"A",null,null,null,{"$f":"catp","v":3}]
[2769,"Sibotean Calin","Sibot",26.6,10.6,"A",null,null,null,{"$f":"catp","v":3}]
[2879,"Ichim Andrei","Iasi",23.7,10.6,"A",null,null,null,{"$f":"catp","v":3}]
[2979,"Ciobanu Anton","Tuzla",21.2,10.6,"A",null,null,null,{"$f":"catp","v":3}]
[3606,"Minca Paul","Comanesti",10.6,10.6,"A",null,null,null,{"$f":"catp","v":3}]
[3607,"Teodoru Pavel","Buzau",10.6,10.6,"A",null,null,null,{"$f":"catp","v":3}]
[3608,"Roman Nesterov","Moldova-Drochia",10.6,10.6,"A",null,null,null,{"$f":"catp","v":3}]
[3805,"Plesca Ionel","Vicovu de Jos",8,10.6,"A",null,null,null,{"$f":"catp","v":3}]
[3806,"Kertesz Csaba","Uriu",8,10.6,"A",null,null,null,{"$f":"catp","v":3}]
[2002,"Morun Marian","Braila",61.2,10.58,"A",null,null,null,{"$f":"catp","v":3}]
[1147,"Voinea Ionut","Harsova",156.69999999999999,10.57,"A",null,null,null,{"$f":"catp","v":3}]
[1266,"Dumitru Cosmin","Bucuresti",138.5,10.55,"A",null,null,null,{"$f":"catp","v":3}]
[2163,"Arama Gicu","Braila",50.6,10.53,"AW",null,null,null,{"$f":"catp","v":3}]
[1348,"Rusu Discultu Ion","Iasi",125.9,10.52,"A",null,null,null,{"$f":"catp","v":3}]
[1826,"Petrache Codrut Costin","Ploiesti",73.099999999999994,10.5,"A",null,null,null,{"$f":"catp","v":3}]
[1978,"Croitoru Carli","Craiova",62.8,10.5,"A",null,null,null,{"$f":"catp","v":3}]
[2077,"Vulpescu Emanuel","Caianu Mic",57.1,10.5,"A",null,null,null,{"$f":"catp","v":3}]
[3613,"Tutoveanu Razvan","Brasov",10.5,10.5,"AW",null,null,null,{"$f":"catp","v":3}]
[3614,"Banu Florentin","Timisoara",10.5,10.5,"AW",null,null,null,{"$f":"catp","v":3}]
[3615,"Zgardan Iustin","Moldova-Cahul",10.5,10.5,"A",null,null,null,{"$f":"catp","v":3}]
[3616,"Razgradschii Dmitrii","Moldova-Cazaclia",10.5,10.5,"A",null,null,null,{"$f":"catp","v":3}]
[3816,"Bolog Petrica","Bacau",7.9,10.5,"A",null,null,null,{"$f":"catp","v":3}]
[3817,"Fecioru Cristi","Craiova",7.9,10.5,"A",null,null,null,{"$f":"catp","v":3}]
[1276,"Lozneanu Mihai","Iasi",136.4,10.46,"A",null,null,null,{"$f":"catp","v":3}]
[1870,"Kovacs Iosif","Arad",71.099999999999994,10.45,"A",null,null,null,{"$f":"catp","v":3}]
[1127,"Toma Adrian","Bucuresti",160.1,10.44,"A",null,null,null,{"$f":"catp","v":3}]
[1237,"Illes Kalman","Targu Mures",142.1,10.42,"A",null,null,null,{"$f":"catp","v":3}]
[3256,"Gherghina Raluca","Slatina",15.6,10.4,"AF",null,null,null,{"$f":"catp","v":3}]
[3622,"Portik Erno","Hodosa",10.4,10.4,"A",null,null,null,{"$f":"catp","v":3}]
[3623,"Voicu Dan","Sibiu",10.4,10.4,"A",null,null,null,{"$f":"catp","v":3}]
[3820,"Popovici Mihai","Bucuresti",7.8,10.4,"A",null,null,null,{"$f":"catp","v":3}]
[3821,"Hegedus Simon","Brasov",7.8,10.4,"A",null,null,null,{"$f":"catp","v":3}]
[3822,"Vasile Marian","Bucuresti",7.8,10.4,"A",null,null,null,{"$f":"catp","v":3}]
[3055,"Cristea Ovidiu","Bucuresti",19.5,10.35,"A",null,null,null,{"$f":"catp","v":3}]
[1013,"Badescu Lucian","Oradea",181,10.34,"A",null,null,null,{"$f":"catp","v":3}]
[1998,"Vasiloiu Stefan","Pitesti",61.6,10.33,"A",null,null,null,{"$f":"catp","v":3}]
[1198,"Sabau Radu","Cluj Napoca",148.6,10.31,"AW",null,null,null,{"$f":"catp","v":3}]
[1394,"Laza Gabriel","Piatra Neamt",118.5,10.31,"A",null,null,null,{"$f":"catp","v":3}]
[2247,"Ternauciuc Mihai","Nadrag",46.2,10.3,"A",null,null,null,{"$f":"catp","v":3}]
[3001,"Terteci Ilie Lucian","Ramnicu Valcea",20.6,10.3,"A",null,null,null,{"$f":"catp","v":3}]
[3626,"Ianev Ivan","Moldova-Ceadir-Lunga",10.3,10.3,"A",null,null,null,{"$f":"catp","v":3}]
[3823,"Maftei Ervin","Iasi",7.8,10.3,"A",null,null,null,{"$f":"catp","v":3}]
[1651,"Spancioc Ciprian","Cluj Napoca",89.6,10.25,"A",null,null,null,{"$f":"catp","v":3}]
[2137,"Bulinschi Alexandru","Hunedoara",52,10.25,"A",null,null,null,{"$f":"catp","v":3}]
[2400,"Chelan Catalin","Giroc",39.1,10.25,"A",null,null,null,{"$f":"catp","v":3}]
[1326,"Nedelcu Daniel","Timisoara",129.1,10.220000000000001,"A",null,null,null,{"$f":"catp","v":3}]
[1876,"Serban Florin","Fratautii Noi",70.900000000000006,10.220000000000001,"A",null,null,null,{"$f":"catp","v":3}]
[2474,"Forton Nicusor","Arad",36.200000000000003,10.199999999999999,"A",null,null,null,{"$f":"catp","v":3}]
[2646,"Borbeiu Ciprian","Baia Mare",30.2,10.199999999999999,"A",null,null,null,{"$f":"catp","v":3}]
[3012,"Popescu Razvan","Dumbravita",20.399999999999999,10.199999999999999,"A",null,null,null,{"$f":"catp","v":3}]
[3839,"Ion Radu Bogdan","Bucuresti",7.7,10.199999999999999,"A",null,null,null,{"$f":"catp","v":3}]
[3840,"Tudor Razvan","Botosani",7.7,10.199999999999999,"A",null,null,null,{"$f":"catp","v":3}]
[1506,"Nitu Gheorghe","Craiova",105.4,10.19,"A",null,null,null,{"$f":"catp","v":3}]
[1480,"Velicu Damian Laurentiu","Bucuresti",107.8,10.17,"A",null,null,null,{"$f":"catp","v":3}]
[1531,"Matei Catalin","Sibiu",102.7,10.17,"A",null,null,null,{"$f":"catp","v":3}]
[2651,"Popescu Marius","Suceava",30,10.17,"A",null,null,null,{"$f":"catp","v":3}]
[3017,"Giosan Adrian","Campulung Mold",20.3,10.15,"A",null,null,null,{"$f":"catp","v":3}]
[1905,"Pop Emanuel","Alesd",68.5,10.14,"A",null,null,null,{"$f":"catp","v":3}]
[3178,"Iorga Adrian","Videle",17.3,10.1,"A",null,null,null,{"$f":"catp","v":3}]
[3634,"Ionita Stefan","Macin",10.1,10.1,"A",null,null,null,{"$f":"catp","v":3}]
[3635,"Ulesan Traian","Sibiu",10.1,10.1,"A",null,null,null,{"$f":"catp","v":3}]
[1420,"Tanase Valentin","Piatra Neamt",114.5,10.06,"A",null,null,null,{"$f":"catp","v":3}]
[1031,"Gheorghe Ion","Bucuresti",177.7,10.039999999999999,"AW",null,null,null,{"$f":"catp","v":3}]
[1474,"Ceavdar Andrei","Moldova-Cahul",108.1,10.039999999999999,"A",null,null,null,{"$f":"catp","v":3}]
[1874,"Cozma Dan","Dej",71,10,"A",null,null,null,{"$f":"catp","v":3}]
[3036,"Stamate Eduard","Tecuci",20,10,"A",null,null,null,{"$f":"catp","v":3}]
[3222,"Bora Paul","Cluj Napoca",16.3,10,"A",null,null,null,{"$f":"catp","v":3}]
[3306,"Michis Razvan","Baia Mare",15,10,"A",null,null,null,{"$f":"catp","v":3}]
[3307,"Coroi Sergiu","Moldova-Leova",15,10,"A",null,null,null,{"$f":"catp","v":3}]
[3640,"Kosa Laszlo","Alesd",10,10,"A",null,null,null,{"$f":"catp","v":3}]
[3641,"Verciuc Alexandru","Suceava",10,10,"A",null,null,null,{"$f":"catp","v":3}]
[3642,"Mesca Dorel","Matca",10,10,"A",null,null,null,{"$f":"catp","v":3}]
[3643,"Barban Alexandr","Moldova-Cazaclia",10,10,"A",null,null,null,{"$f":"catp","v":3}]
[3644,"Barban Ivan","Moldova-Cazaclia",10,10,"A",null,null,null,{"$f":"catp","v":3}]
[3851,"Florea Marian","Targoviste",7.5,10,"AW",null,null,null,{"$f":"catp","v":3}]
[3852,"Merca Remus","Arad",7.5,10,"A",null,null,null,{"$f":"catp","v":3}]
[3853,"Tudorica Ionut","Bucuresti",7.5,10,"A",null,null,null,{"$f":"catp","v":3}]
[1800,"Iordan Eduard","Bucuresti",75.400000000000006,9.98,"H",null,null,null,{"$f":"catp","v":4}]
[1458,"Tibirna Petru","Iasi",109.5,9.9600000000000009,"H",null,null,null,{"$f":"catp","v":4}]
[2716,"Bacanu Paulian","Brasov",28.1,9.93,"H",null,null,null,{"$f":"catp","v":4}]
[2848,"Aurica Gabriel","Tecuci",24.5,9.93,"H",null,null,null,{"$f":"catp","v":4}]
[2187,"Khashan Salem","Bucuresti",49.6,9.9,"H",null,null,null,{"$f":"catp","v":4}]
[2591,"Feodorov Gabriel","Tulcea",32.4,9.9,"H",null,null,null,{"$f":"catp","v":4}]
[3107,"Smit Aurel","Craiova",18.600000000000001,9.9,"H",null,null,null,{"$f":"catp","v":4}]
[3662,"Nastase Laurentiu","Arad",9.9,9.9,"H",null,null,null,{"$f":"catp","v":4}]
[3663,"Fedorciuc Gelu","Viseu",9.9,9.9,"H",null,null,null,{"$f":"catp","v":4}]
[1174,"Baidoc Marius Ionut","Zalau",152.1,9.89,"H",null,null,null,{"$f":"catp","v":4}]
[2378,"Gurau Dan","Urlati",40.200000000000003,9.8699999999999992,"H",null,null,null,{"$f":"catp","v":4}]
[1955,"Lungu Tudorel","Tecuci",64.099999999999994,9.86,"H",null,null,null,{"$f":"catp","v":4}]
[2183,"Popa Mihai","Sibiu",49.7,9.83,"HW",null,null,null,{"$f":"catp","v":4}]
[2606,"Caramarin Dumitru","Constanta",31.9,9.83,"H",null,null,null,{"$f":"catp","v":4}]
[2092,"Rusu Adrian","Aiud",55.5,9.8000000000000007,"H",null,null,null,{"$f":"catp","v":4}]
[2315,"Bogdan Tiberiu","Alexandria",43.1,9.8000000000000007,"H",null,null,null,{"$f":"catp","v":4}]
[3667,"Chira Angel","Baia Mare",9.8000000000000007,9.8000000000000007,"HW",null,null,null,{"$f":"catp","v":4}]
[3668,"Codreanu George","Tecuci",9.8000000000000007,9.8000000000000007,"H",null,null,null,{"$f":"catp","v":4}]
[3863,"Toma Aniela","Targoviste",7.4,9.8000000000000007,"HF",null,null,null,{"$f":"catp","v":4}]
[1346,"Pohrib Danut","Matca",126.2,9.7899999999999991,"H",null,null,null,{"$f":"catp","v":4}]
[2724,"Telespan Ilie","Sibiu",27.9,9.77,"H",null,null,null,{"$f":"catp","v":4}]
[2892,"Smadici Cristian","Milisauti",23.3,9.77,"H",null,null,null,{"$f":"catp","v":4}]
[2725,"Catana Vasile","Bacau",27.9,9.75,"HW",null,null,null,{"$f":"catp","v":4}]
[2402,"Cucereavaia Natalia","Moldova-Balti",39,9.73,"HF",null,null,null,{"$f":"catp","v":4}]
[1287,"Hutina Adrian","Targu Mures",134.9,9.7200000000000006,"H",null,null,null,{"$f":"catp","v":4}]
[2368,"Ciurca Ovidiu","Targu Mures",40.6,9.6999999999999993,"HW",null,null,null,{"$f":"catp","v":4}]
[2673,"Savu Ionut","Bilca",29.4,9.6999999999999993,"H",null,null,null,{"$f":"catp","v":4}]
[3059,"Constantinescu Valentin","Vizejdia",19.399999999999999,9.6999999999999993,"H",null,null,null,{"$f":"catp","v":4}]
[3179,"Cojocaru Cosmin","Bucuresti",17.3,9.6999999999999993,"H",null,null,null,{"$f":"catp","v":4}]
[3871,"Neda Cosmin","Lipova",7.3,9.6999999999999993,"H",null,null,null,{"$f":"catp","v":4}]
[1106,"Suciu Daniel","Alba Iulia",162.69999999999999,9.69,"HW",null,null,null,{"$f":"catp","v":4}]
[1639,"Husarciuc Marc","Suceava",91.1,9.68,"HJ",null,null,null,{"$f":"catp","v":4}]
[1255,"Aizner Imre","Ludus",139.80000000000001,9.66,"H",null,null,null,{"$f":"catp","v":4}]
[1981,"Putineanu Andrei","Alexandria",62.7,9.66,"H",null,null,null,{"$f":"catp","v":4}]
[3341,"Pasaila Marius George","Timisoara",14.5,9.65,"H",null,null,null,{"$f":"catp","v":4}]
[2499,"Verciuc Florin","Suceava",35.4,9.6300000000000008,"H",null,null,null,{"$f":"catp","v":4}]
[3672,"Ticala Sorin","Aiud",9.6,9.6,"H",null,null,null,{"$f":"catp","v":4}]
[3673,"Mazilu Dumitru","Bucuresti",9.6,9.6,"H",null,null,null,{"$f":"catp","v":4}]
[3880,"Novac Brani","Drobeta Tr Severin",7.2,9.6,"H",null,null,null,{"$f":"catp","v":4}]
[3881,"Raducan Ionut","Iasi",7.2,9.6,"H",null,null,null,{"$f":"catp","v":4}]
[3882,"Calea George","Drobeta Tr Severin",7.2,9.6,"H",null,null,null,{"$f":"catp","v":4}]
[2869,"Faltisca Eugen","Viseu",24.1,9.5500000000000007,"HW",null,null,null,{"$f":"catp","v":4}]
[3073,"Isopescu Ionut","Fratautii Noi",19.100000000000001,9.5500000000000007,"H",null,null,null,{"$f":"catp","v":4}]
[1051,"Radulescu Marius","Iasi",173.5,9.5399999999999991,"H",null,null,null,{"$f":"catp","v":4}]
[2113,"Pascu Marian","Bucuresti",53.8,9.5299999999999994,"H",null,null,null,{"$f":"catp","v":4}]
[2143,"Calasnicov Matvei","Moldova-Cahul",51.6,9.5,"H",null,null,null,{"$f":"catp","v":4}]
[2614,"Derbac Ivan","Caransebes",31.6,9.5,"H",null,null,null,{"$f":"catp","v":4}]
[3201,"Vintila Antonio","Videle",16.8,9.5,"H",null,null,null,{"$f":"catp","v":4}]
[1235,"Gherasim Rares","Tulcea",142.19999999999999,9.49,"H",null,null,null,{"$f":"catp","v":4}]
[1329,"Ionas Maria","Sibiu",128.80000000000001,9.49,"HF",null,null,null,{"$f":"catp","v":4}]
[1554,"Porojan Florin","Bucuresti",100.2,9.49,"H",null,null,null,{"$f":"catp","v":4}]
[2408,"Szalos Pal Ionut","Timisoara",38.700000000000003,9.4499999999999993,"H",null,null,null,{"$f":"catp","v":4}]
[3360,"Cerciu Marius","Timisoara",14.2,9.4499999999999993,"H",null,null,null,{"$f":"catp","v":4}]
[1909,"Loghin Claudiu","Iasi",67.8,9.42,"H",null,null,null,{"$f":"catp","v":4}]
[2102,"Lazar Mihai","Alexandria",54.8,9.4,"H",null,null,null,{"$f":"catp","v":4}]
[2612,"Tiosea Nicolae","Bucuresti",31.7,9.4,"H",null,null,null,{"$f":"catp","v":4}]
[2647,"Staricov Alexandru","Moldova-Balti",30.2,9.4,"H",null,null,null,{"$f":"catp","v":4}]
[2752,"Zorila Marcel","Moldova-Riscani",27,9.4,"H",null,null,null,{"$f":"catp","v":4}]
[2793,"Tala Lenard","Micfalau",25.9,9.4,"H",null,null,null,{"$f":"catp","v":4}]
[3128,"Bolota Marius","Sibiu",18.2,9.4,"H",null,null,null,{"$f":"catp","v":4}]
[1414,"Dumitru Paul","Bucuresti",115.6,9.3800000000000008,"H",null,null,null,{"$f":"catp","v":4}]
[2367,"Burian Alexandru","Cluj Napoca",40.700000000000003,9.35,"H",null,null,null,{"$f":"catp","v":4}]
[2369,"Bara Titus","Oradea",40.6,9.35,"H",null,null,null,{"$f":"catp","v":4}]
[3097,"Delibaltov Gennadii","Moldova-Taraclia",18.7,9.35,"H",null,null,null,{"$f":"catp","v":4}]
[3098,"Terzinov Dmitri","Moldova-Cazaclia",18.7,9.35,"H",null,null,null,{"$f":"catp","v":4}]
[1538,"Giurgiu Andrei","Sibiu",102.2,9.33,"H",null,null,null,{"$f":"catp","v":4}]
[2480,"Sirbu Ion","Bucuresti",36,9.33,"H",null,null,null,{"$f":"catp","v":4}]
[1532,"Teodorescu Robert","Bucuresti",102.5,9.3000000000000007,"H",null,null,null,{"$f":"catp","v":4}]
[3108,"Dumitru Cosmin","Pitesti",18.600000000000001,9.3000000000000007,"H",null,null,null,{"$f":"catp","v":4}]
[3109,"Savciuc Alexandru","Moldova-Balti",18.600000000000001,9.3000000000000007,"H",null,null,null,{"$f":"catp","v":4}]
[3371,"Coroncan Andrei","Targu Mures",14,9.3000000000000007,"H",null,null,null,{"$f":"catp","v":4}]
[3701,"Vukovic Nemanja","Varset",9.3000000000000007,9.3000000000000007,"H",null,null,null,{"$f":"catp","v":4}]
[1291,"Gaman Alin","Marginenii de Jos",133.9,9.27,"H",null,null,null,{"$f":"catp","v":4}]
[1816,"Selaru Romeo","Alba Iulia",74.099999999999994,9.27,"HW",null,null,null,{"$f":"catp","v":4}]
[3117,"Palade Victor","Bucuresti",18.399999999999999,9.25,"H",null,null,null,{"$f":"catp","v":4}]
[2121,"Leurzeanu George","Bucuresti",53.1,9.24,"H",null,null,null,{"$f":"catp","v":4}]
[2129,"Buta Raul","Petrosani",52.6,9.24,"H",null,null,null,{"$f":"catp","v":4}]
[1113,"Nicoara Doru","Arad",161.80000000000001,9.2100000000000009,"H",null,null,null,{"$f":"catp","v":4}]
[2549,"Rusti Andrei","Bucuresti",33.799999999999997,9.1999999999999993,"H",null,null,null,{"$f":"catp","v":4}]
[2827,"Irimia Tudorel","Onesti",24.9,9.1999999999999993,"H",null,null,null,{"$f":"catp","v":4}]
[3212,"Micula Bogdan","Saliste de Vascau",16.5,9.1999999999999993,"H",null,null,null,{"$f":"catp","v":4}]
[3216,"Layis Rita","Sighetu Marmatiei",16.399999999999999,9.1999999999999993,"HF",null,null,null,{"$f":"catp","v":4}]
[3918,"Trofin Cristian","Brasov",6.9,9.1999999999999993,"H",null,null,null,{"$f":"catp","v":4}]
[3919,"Tuchiulus Emanoil","Galati",6.9,9.1999999999999993,"H",null,null,null,{"$f":"catp","v":4}]
[3920,"Cojocaru Cosmin","Breaza",6.9,9.1999999999999993,"H",null,null,null,{"$f":"catp","v":4}]
[3921,"Rogojina Titus","Cosna",6.9,9.1999999999999993,"H",null,null,null,{"$f":"catp","v":4}]
[2484,"Popescu George","Bucuresti",35.799999999999997,9.17,"HW",null,null,null,{"$f":"catp","v":4}]
[1518,"Popa Andrei Mihai","Ploiesti",104.1,9.15,"H",null,null,null,{"$f":"catp","v":4}]
[2197,"Vigh Marton","Cluj Napoca",49,9.15,"H",null,null,null,{"$f":"catp","v":4}]
[2106,"Mantoiu Daniel","Pucioasa",54.5,9.14,"H",null,null,null,{"$f":"catp","v":4}]
[1951,"Nagy Arpad","Suseni",64.400000000000006,9.1300000000000008,"H",null,null,null,{"$f":"catp","v":4}]
[2272,"Iulian Cristian Mihai","Cluj Napoca",45,9.1300000000000008,"H",null,null,null,{"$f":"catp","v":4}]
[2798,"Ardelean Ovidiu","Zalau",25.8,9.1300000000000008,"H",null,null,null,{"$f":"catp","v":4}]
[1232,"Corodeanu Mihai","Tecuci",143.1,9.11,"H",null,null,null,{"$f":"catp","v":4}]
[2241,"Baldan Ioana","Cluj Napoca",46.4,9.1,"HF",null,null,null,{"$f":"catp","v":4}]
[2933,"Leon Dumitru","Moldova-Cahul",22.5,9.1,"H",null,null,null,{"$f":"catp","v":4}]
[3713,"Porosnicu Catalin","Onesti",9.1,9.1,"H",null,null,null,{"$f":"catp","v":4}]
[3714,"Stanciu Costin","Urlati",9.1,9.1,"H",null,null,null,{"$f":"catp","v":4}]
[3715,"Bereczki Peter","Gherla",9.1,9.1,"H",null,null,null,{"$f":"catp","v":4}]
[3922,"Elgazzar Nicolas","Constanta",6.9,9.1,"H",null,null,null,{"$f":"catp","v":4}]
[3275,"Trandafir Mirel","Valea Lunga",15.2,9.0500000000000007,"H",null,null,null,{"$f":"catp","v":4}]
[2074,"Andrei Marian","Barlad",57.2,9.0399999999999991,"H",null,null,null,{"$f":"catp","v":4}]
[2345,"Cazac Iulia","Moldova-Briceni",41.6,9.0299999999999994,"HF",null,null,null,{"$f":"catp","v":4}]
[2461,"Laczko Csongor","Joseni",36.6,9.0299999999999994,"H",null,null,null,{"$f":"catp","v":4}]
[1965,"Simon Ioan","Giroc",63.3,9.02,"H",null,null,null,{"$f":"catp","v":4}]
[2604,"Hirsescu Cosmin","Bucuresti",32,9,"H",null,null,null,{"$f":"catp","v":4}]
[3395,"Iancu Marius","Videle",13.5,9,"H",null,null,null,{"$f":"catp","v":4}]
[3721,"Voicila Albertino","Urlati",9,9,"H",null,null,null,{"$f":"catp","v":4}]
[3722,"Tanasa Adrian","Resita",9,9,"H",null,null,null,{"$f":"catp","v":4}]
[3723,"Dulca Raul","Dumbravita",9,9,"H",null,null,null,{"$f":"catp","v":4}]
[3724,"Cristian Vasile","Harsova",9,9,"H",null,null,null,{"$f":"catp","v":4}]
[3725,"Guta Claudiu","Pitesti",9,9,"H",null,null,null,{"$f":"catp","v":4}]
[3933,"Pitac Ovidiu","Brasov",6.8,9,"HW",null,null,null,{"$f":"catp","v":4}]
[3934,"Tudor Florian","Bucuresti",6.8,9,"H",null,null,null,{"$f":"catp","v":4}]
[3935,"Bolog Ioan","Targu Mures",6.8,9,"H",null,null,null,{"$f":"catp","v":4}]
[3936,"Jarebe Vasile","Iasi",6.8,9,"H",null,null,null,{"$f":"catp","v":4}]
[1801,"Balint Andrei","Reghin",75.2,8.98,"H",null,null,null,{"$f":"catp","v":4}]
[2179,"Muresan Alexandru","Apahida",49.8,8.98,"H",null,null,null,{"$f":"catp","v":4}]
[1525,"Adamosi Klaudia","Targu Mures",103.4,8.9700000000000006,"HF",null,null,null,{"$f":"catp","v":4}]
[2911,"Avram Marian","Alexandria",22.9,8.9700000000000006,"H",null,null,null,{"$f":"catp","v":4}]
[3396,"Mosneagu Mihnea","Falticeni",13.5,8.9499999999999993,"H",null,null,null,{"$f":"catp","v":4}]
[1264,"Sabau Mircea","Tarnaveni",138.80000000000001,8.9,"H",null,null,null,{"$f":"catp","v":4}]
[2934,"Gheorghe Viorel","Faurei",22.5,8.9,"H",null,null,null,{"$f":"catp","v":4}]
[3148,"Pop Florian Iustin","Constanta",17.8,8.9,"H",null,null,null,{"$f":"catp","v":4}]
[3149,"Calin Dragos","Focsani",17.8,8.9,"H",null,null,null,{"$f":"catp","v":4}]
[3730,"Olteanu Claudiu","Galati",8.9,8.9,"H",null,null,null,{"$f":"catp","v":4}]
[3731,"Herghelegiu Silviu","Bucuresti",8.9,8.9,"H",null,null,null,{"$f":"catp","v":4}]
[3732,"Tudorache Cornel","Bucuresti",8.9,8.9,"H",null,null,null,{"$f":"catp","v":4}]
[1850,"Bobe Ionel","Faurei",71.900000000000006,8.89,"H",null,null,null,{"$f":"catp","v":4}]
[2438,"Venczel Antoniu","Giroc",37.299999999999997,8.8800000000000008,"H",null,null,null,{"$f":"catp","v":4}]
[2379,"Paval Tudor","Iasi",40.200000000000003,8.8699999999999992,"H",null,null,null,{"$f":"catp","v":4}]
[3155,"Borisov David","Moldova-Drochia",17.7,8.85,"H",null,null,null,{"$f":"catp","v":4}]
[3408,"Munteanu Dragos","Bucuresti",13.3,8.85,"H",null,null,null,{"$f":"catp","v":4}]
[1522,"Dobrica Marius","Videle",103.7,8.84,"H",null,null,null,{"$f":"catp","v":4}]
[1987,"Hontaru Dan","Galati",62.5,8.82,"H",null,null,null,{"$f":"catp","v":4}]
[1674,"Hudyma Ihor","Odesa",87.5,8.81,"H",null,null,null,{"$f":"catp","v":4}]
[1706,"Muresan Aris","Gherla",85.2,8.8000000000000007,"H",null,null,null,{"$f":"catp","v":4}]
[2387,"Bucse Stefan","Sibiu",39.799999999999997,8.8000000000000007,"H",null,null,null,{"$f":"catp","v":4}]
[3162,"Bayusz Zoltan","Arad",17.600000000000001,8.8000000000000007,"H",null,null,null,{"$f":"catp","v":4}]
[3951,"Enciu Marcel","Bucuresti",6.6,8.8000000000000007,"HW",null,null,null,{"$f":"catp","v":4}]
[3952,"Talos Ioan","Malut",6.6,8.8000000000000007,"H",null,null,null,{"$f":"catp","v":4}]
[2629,"Bisoc Razvan","Sabaoani",31.2,8.7799999999999994,"HD",null,null,null,{"$f":"catp","v":4}]
[1459,"Soceanu Bogdan","Bucuresti",109.4,8.77,"H",null,null,null,{"$f":"catp","v":4}]
[3167,"Vita Zsolt","Gheorgheni",17.5,8.75,"H",null,null,null,{"$f":"catp","v":4}]
[1714,"Burghelea Liviu","Bucuresti",84.7,8.74,"H",null,null,null,{"$f":"catp","v":4}]
[2078,"Hostiuc Mitica","Botosani",57.1,8.6999999999999993,"H",null,null,null,{"$f":"catp","v":4}]
[2893,"Timplaru Catalin","Galati",23.3,8.6999999999999993,"H",null,null,null,{"$f":"catp","v":4}]
[3744,"Ciuguianu Marian","Curtea de Arges",8.6999999999999993,8.6999999999999993,"H",null,null,null,{"$f":"catp","v":4}]
[3953,"Toncean Claudiu","Reghin",6.6,8.6999999999999993,"H",null,null,null,{"$f":"catp","v":4}]
[1362,"Hosu Andrei","Resita",122.1,8.68,"H",null,null,null,{"$f":"catp","v":4}]
[1646,"Florida Alin Emil","Videle",90,8.68,"H",null,null,null,{"$f":"catp","v":4}]
[1775,"Fogarasi David","Baciu",78,8.68,"H",null,null,null,{"$f":"catp","v":4}]
[1680,"Vilceanu Cosmin","Rovinari",86.9,8.67,"H",null,null,null,{"$f":"catp","v":4}]
[2922,"Sutei Marian","Slobozia",22.7,8.67,"H",null,null,null,{"$f":"catp","v":4}]
[2613,"Suciu Dragos","Constanta",31.7,8.65,"H",null,null,null,{"$f":"catp","v":4}]
[2527,"Dogaru Iurie","Moldova-Cahul",34.5,8.6300000000000008,"H",null,null,null,{"$f":"catp","v":4}]
[1641,"Neculaiu Vasile","Braila",90.3,8.6,"H",null,null,null,{"$f":"catp","v":4}]
[3074,"Dulgheru Alexandru","Bucuresti",19.100000000000001,8.6,"H",null,null,null,{"$f":"catp","v":4}]
[3435,"Petruse Adrian","Zalau",12.9,8.6,"H",null,null,null,{"$f":"catp","v":4}]
[3436,"Serban Felix","Panciu",12.9,8.6,"H",null,null,null,{"$f":"catp","v":4}]
[3750,"Nascu Horea","Cluj Napoca",8.6,8.6,"H",null,null,null,{"$f":"catp","v":4}]
[3751,"Nesterov Roman","Moldova-Drochia",8.6,8.6,"H",null,null,null,{"$f":"catp","v":4}]
[3752,"Tataru Nicolae","Vaslui",8.6,8.6,"H",null,null,null,{"$f":"catp","v":4}]
[2794,"Ogutai Ibadula","Constanta",25.9,8.57,"H",null,null,null,{"$f":"catp","v":4}]
[3321,"Matei Daniel","Pitesti",14.8,8.5500000000000007,"H",null,null,null,{"$f":"catp","v":4}]
[2107,"Sebestyen Tiberiu","Deva",54.4,8.5399999999999991,"H",null,null,null,{"$f":"catp","v":4}]
[1957,"Morar Ovidiu","Tarnaveni",64,8.5299999999999994,"H",null,null,null,{"$f":"catp","v":4}]
[2234,"Maftei Danut","Buzau",46.8,8.5299999999999994,"H",null,null,null,{"$f":"catp","v":4}]
[2550,"Bujuleg Petre","Breaza",33.799999999999997,8.5299999999999994,"H",null,null,null,{"$f":"catp","v":4}]
[2927,"Kondort Arpad","Agnita",22.6,8.5299999999999994,"H",null,null,null,{"$f":"catp","v":4}]
[3761,"Ionescu Alexandru","Bucuresti",8.5,8.5,"H",null,null,null,{"$f":"catp","v":4}]
[3762,"Pop Nicolae","Orastie",8.5,8.5,"H",null,null,null,{"$f":"catp","v":4}]
[3763,"Szilagyi Bencze","Dumbravita",8.5,8.5,"H",null,null,null,{"$f":"catp","v":4}]
[2342,"Dragomanu Ana Maria","Comanesti",41.7,8.48,"HF",null,null,null,{"$f":"catp","v":4}]
[2773,"Balan Codrin","Bucuresti",26.5,8.4700000000000006,"H",null,null,null,{"$f":"catp","v":4}]
[2132,"Spatar Narcis","Dumbraveni SB",52.3,8.4600000000000009,"H",null,null,null,{"$f":"catp","v":4}]
[3223,"Duma Daniel","Sighetu Marmatiei",16.3,8.4499999999999993,"H",null,null,null,{"$f":"catp","v":4}]
[3263,"Croitoru Bogdan","Constanta",15.4,8.4499999999999993,"H",null,null,null,{"$f":"catp","v":4}]
[3445,"Maxim Costel","Moinesti",12.7,8.4499999999999993,"H",null,null,null,{"$f":"catp","v":4}]
[1806,"Matveev Victor Nicolae","Bucuresti",74.7,8.43,"H",null,null,null,{"$f":"catp","v":4}]
[2506,"Ontoiu Catalin","Pitesti",35.1,8.43,"HW",null,null,null,{"$f":"catp","v":4}]
[1541,"Bordeianu Marcel","Bucuresti",101.9,8.4,"H",null,null,null,{"$f":"catp","v":4}]
[2041,"Bunduchi Mircea Andrei","Solont",58.6,8.4,"H",null,null,null,{"$f":"catp","v":4}]
[2227,"Sava Catalin","Pascani",47.1,8.4,"H",null,null,null,{"$f":"catp","v":4}]
[3772,"Oltean Octavian","Targu Mures",8.4,8.4,"H",null,null,null,{"$f":"catp","v":4}]
[3985,"Meltschoh Marius Ionut","Timisoara",6.3,8.4,"H",null,null,null,{"$f":"catp","v":4}]
[1961,"Harabagiu Tudor","Botosani",63.6,8.3800000000000008,"H",null,null,null,{"$f":"catp","v":4}]
[2191,"Cozma Stefan","Apahida",49.3,8.3800000000000008,"H",null,null,null,{"$f":"catp","v":4}]
[2554,"Leseanu Mihaita","Alexandria",33.6,8.3800000000000008,"H",null,null,null,{"$f":"catp","v":4}]
[2054,"Morar Bogdan","Dumbraveni SB",58.1,8.3699999999999992,"HJ",null,null,null,{"$f":"catp","v":4}]
[2348,"Nicusor Dan","Bucuresti",41.5,8.35,"H",null,null,null,{"$f":"catp","v":4}]
[3206,"Grama Aurel","Bistrita",16.7,8.35,"H",null,null,null,{"$f":"catp","v":4}]
[1395,"Benca Lucian","Balan",118.5,8.34,"H",null,null,null,{"$f":"catp","v":4}]
[1726,"Soarice Danut","Faurei",83.2,8.33,"H",null,null,null,{"$f":"catp","v":4}]
[2555,"Vasile Raducu","Jebel",33.6,8.33,"H",null,null,null,{"$f":"catp","v":4}]
[3462,"Coman Violeta","Brasov",12.5,8.3000000000000007,"HF",null,null,null,{"$f":"catp","v":4}]
[3778,"Neiconi Florin","Hateg",8.3000000000000007,8.3000000000000007,"H",null,null,null,{"$f":"catp","v":4}]
[3779,"Gheorghe Mihai","Bucuresti",8.3000000000000007,8.3000000000000007,"H",null,null,null,{"$f":"catp","v":4}]
[3780,"Zlata Alex","Focsani",8.3000000000000007,8.3000000000000007,"H",null,null,null,{"$f":"catp","v":4}]
[3781,"Ionel Dragos","Bistrita",8.3000000000000007,8.3000000000000007,"H",null,null,null,{"$f":"catp","v":4}]
[3782,"Stanescu Maria","Iasi",8.3000000000000007,8.3000000000000007,"HF",null,null,null,{"$f":"catp","v":4}]
[3783,"Mitu Claudiu","Bucuresti",8.3000000000000007,8.3000000000000007,"H",null,null,null,{"$f":"catp","v":4}]
[3784,"Caruntu Constantin","Bucuresti",8.3000000000000007,8.3000000000000007,"H",null,null,null,{"$f":"catp","v":4}]
[3986,"Nicola Gabriela","Timisoara",6.3,8.3000000000000007,"HF",null,null,null,{"$f":"catp","v":4}]
[1836,"Lupean Dumitru","Alba Iulia",72.5,8.2899999999999991,"H",null,null,null,{"$f":"catp","v":4}]
[2071,"Bostan Culita","Moinesti",57.3,8.27,"H",null,null,null,{"$f":"catp","v":4}]
[2664,"Oproi Eugen","Sannicolau Mare",29.7,8.25,"H",null,null,null,{"$f":"catp","v":4}]
[3334,"Patrascuta Octavian","Drobeta Tr Severin",14.7,8.25,"H",null,null,null,{"$f":"catp","v":4}]
[1895,"Titiliuc Alesia","Dersca",69.3,8.24,"HF",null,null,null,{"$f":"catp","v":4}]
[1378,"Toma Cristian","Balotesti",120.6,8.23,"H",null,null,null,{"$f":"catp","v":4}]
[2475,"Barla Catalin","Videle",36.200000000000003,8.23,"H",null,null,null,{"$f":"catp","v":4}]
[2880,"Palaina Nicolae","Curtea de Arges",23.7,8.23,"H",null,null,null,{"$f":"catp","v":4}]
[2975,"Cisco Eldar","Moldova-Balti",21.3,8.23,"H",null,null,null,{"$f":"catp","v":4}]
[1253,"Rus Partenie","Santimbru AB",140,8.2100000000000009,"H",null,null,null,{"$f":"catp","v":4}]
[2770,"Sucilea Adrian","Cluj Napoca",26.6,8.1999999999999993,"H",null,null,null,{"$f":"catp","v":4}]
[3217,"Dubrovin Evghenii","Moldova-Balti",16.399999999999999,8.1999999999999993,"H",null,null,null,{"$f":"catp","v":4}]
[3473,"Pirvu Marian","Caracal",12.3,8.1999999999999993,"H",null,null,null,{"$f":"catp","v":4}]
[3993,"Buruian Ovidiu","Cluj Napoca",6.2,8.1999999999999993,"H",null,null,null,{"$f":"catp","v":4}]
[2409,"Dari Valeriu","Moldova-Cahul",38.700000000000003,8.18,"H",null,null,null,{"$f":"catp","v":4}]
[2439,"Blaga Iulian","Deva",37.299999999999997,8.18,"H",null,null,null,{"$f":"catp","v":4}]
[2567,"Dumitrascu Eduard","Bucuresti",33.299999999999997,8.18,"H",null,null,null,{"$f":"catp","v":4}]
[3037,"Bodea Tudor","Cluj Napoca",20,8.17,"H",null,null,null,{"$f":"catp","v":4}]
[3013,"Chirila Ovidiu","Hunedoara",20.399999999999999,8.1,"H",null,null,null,{"$f":"catp","v":4}]
[3228,"Marin Alexandru","Cateasca",16.2,8.1,"H",null,null,null,{"$f":"catp","v":4}]
[3798,"Albu Iulian","Comanesti",8.1,8.1,"HW",null,null,null,{"$f":"catp","v":4}]
[3799,"Fritz Costel","Slobozia",8.1,8.1,"H",null,null,null,{"$f":"catp","v":4}]
[3996,"Florea Stelian","Bucuresti",6.1,8.1,"H",null,null,null,{"$f":"catp","v":4}]
[3997,"Szentmiklosi Bela","Oradea",6.1,8.1,"H",null,null,null,{"$f":"catp","v":4}]
[2065,"Damian Sebastian","Paulesti",57.7,8.08,"H",null,null,null,{"$f":"catp","v":4}]
[2749,"Vilcea Lucian","Brasov",27.2,8.07,"H",null,null,null,{"$f":"catp","v":4}]
[2894,"Minecan Flavius","Falticeni",23.3,8.0500000000000007,"H",null,null,null,{"$f":"catp","v":4}]
[3486,"Buciu Denis","Bals",12.1,8.0500000000000007,"H",null,null,null,{"$f":"catp","v":4}]
[2058,"Pentescu Adrian","Constanta",58,8.02,"H",null,null,null,{"$f":"catp","v":4}]
[2154,"Kis Jancsi","Cluj Napoca",51,8.02,"H",null,null,null,{"$f":"catp","v":4}]
[2917,"Oniga Florin","Alba Iulia",22.8,8,"H",null,null,null,{"$f":"catp","v":4}]
[3426,"Uzun Alexandr","Moldova-Cazaclia",13,8,"H",null,null,null,{"$f":"catp","v":4}]
[3807,"Balanean Florin","Sibiu",8,8,"H",null,null,null,{"$f":"catp","v":4}]
[3808,"Sauciuc Eduard","Barlad",8,8,"H",null,null,null,{"$f":"catp","v":4}]
[3809,"Albert Szabolcs","Targu Mures",8,8,"H",null,null,null,{"$f":"catp","v":4}]
[4005,"Radu Florin","Ploiesti",6,8,"H",null,null,null,{"$f":"catp","v":4}]
[2547,"Fagaras Daniel","Arad",33.9,7.97,"H",null,null,null,{"$f":"catp","v":4}]
[2959,"Stavarache Andrei","Iasi",21.6,7.97,"H",null,null,null,{"$f":"catp","v":4}]
[2481,"Tin Catalin","Bucuresti",36,7.95,"H",null,null,null,{"$f":"catp","v":4}]
[3054,"Centea Daniel","Dej",19.600000000000001,7.93,"H",null,null,null,{"$f":"catp","v":4}]
[1557,"Dumitrescu Marius","Timisoara",99.9,7.9,"H",null,null,null,{"$f":"catp","v":4}]
[1591,"Biraut Emil","Cluj Napoca",96.5,7.9,"H",null,null,null,{"$f":"catp","v":4}]
[2346,"Horvath Mircea","Orastie",41.6,7.9,"H",null,null,null,{"$f":"catp","v":4}]
[2489,"Comsa Aurel","Nedelea",35.6,7.9,"H",null,null,null,{"$f":"catp","v":4}]
[2738,"Paduraru Giani","Vaslui",27.5,7.9,"H",null,null,null,{"$f":"catp","v":4}]
[4006,"Barau Adrian","Bucuresti",6,7.9,"H",null,null,null,{"$f":"catp","v":4}]
[1846,"Andrei Cozmin Stefanut","Buzau",72,7.89,"H",null,null,null,{"$f":"catp","v":4}]
[2951,"Gheorghita Robert","Cisnadie",21.9,7.87,"H",null,null,null,{"$f":"catp","v":4}]
[3068,"Vasile Iancu","Navodari",19.2,7.87,"H",null,null,null,{"$f":"catp","v":4}]
[1607,"Luca Ioan","Piatra Neamt",95.5,7.85,"H",null,null,null,{"$f":"catp","v":4}]
[2072,"Velcea George","Bucuresti",57.3,7.85,"H",null,null,null,{"$f":"catp","v":4}]
[3044,"Padureanu Costi","Craiova",19.8,7.85,"HW",null,null,null,{"$f":"catp","v":4}]
[3248,"Constantin Cristian","Curtea de Arges",15.7,7.85,"H",null,null,null,{"$f":"catp","v":4}]
[1709,"Sipos Claudiu","Gherla",84.9,7.84,"H",null,null,null,{"$f":"catp","v":4}]
[1911,"Aparaschive Iulian","Botosani",67.7,7.83,"H",null,null,null,{"$f":"catp","v":4}]
[2583,"Ferenczi Laszlo","Sighisoara",32.9,7.83,"H",null,null,null,{"$f":"catp","v":4}]
[1294,"Simion Luana","Cluj Napoca",133.6,7.81,"HF",null,null,null,{"$f":"catp","v":4}]
[2938,"Havas Peter","Targu Mures",22.3,7.8,"H",null,null,null,{"$f":"catp","v":4}]
[3519,"Blaga Mircea","Oradea",11.7,7.8,"H",null,null,null,{"$f":"catp","v":4}]
[3824,"Cutcovschi Damian","Moldova",7.8,7.8,"H",null,null,null,{"$f":"catp","v":4}]
[3825,"Denis Cismas Ionut","Sighisoara",7.8,7.8,"H",null,null,null,{"$f":"catp","v":4}]
[3826,"Mirutoi Toader","Campulung Mold",7.8,7.8,"H",null,null,null,{"$f":"catp","v":4}]
[1373,"Creta Petru","Luna CJ",120.9,7.79,"HW",null,null,null,{"$f":"catp","v":4}]
[3092,"Ungureanu David","Pitesti",18.8,7.77,"H",null,null,null,{"$f":"catp","v":4}]
[2267,"Bege Laszlo","Joseni",45.1,7.76,"H",null,null,null,{"$f":"catp","v":4}]
[3258,"Danescu Emil Dan","Ploiesti",15.5,7.75,"H",null,null,null,{"$f":"catp","v":4}]
[1994,"Curutiu Corin","Dumbraveni SB",62,7.74,"HJ",null,null,null,{"$f":"catp","v":4}]
[2254,"Boldor Serban","Cluj Napoca",45.8,7.72,"H",null,null,null,{"$f":"catp","v":4}]
[2426,"Nica Vladimir","Branesti DB",37.700000000000003,7.72,"H",null,null,null,{"$f":"catp","v":4}]
[1393,"Csiki Ioan","Targu Mures",118.6,7.7,"HW",null,null,null,{"$f":"catp","v":4}]
[2854,"Bognean Adrian","Delenii",24.4,7.7,"H",null,null,null,{"$f":"catp","v":4}]
[3446,"Rusu Andrei","Strejnicu",12.7,7.7,"H",null,null,null,{"$f":"catp","v":4}]
[3841,"Iordache Valentin","Iasi",7.7,7.7,"H",null,null,null,{"$f":"catp","v":4}]
[4032,"Deac Vasile","Ianova",5.8,7.7,"H",null,null,null,{"$f":"catp","v":4}]
[2300,"Peptea Ionut","Bucuresti",43.9,7.68,"H",null,null,null,{"$f":"catp","v":4}]
[2388,"Suci Sandor","Oradea",39.799999999999997,7.68,"H",null,null,null,{"$f":"catp","v":4}]
[2500,"Ciobescu Gabriel Radu","Targu Jiu",35.4,7.68,"H",null,null,null,{"$f":"catp","v":4}]
[2556,"Guita Robert","Cluj Napoca",33.6,7.67,"H",null,null,null,{"$f":"catp","v":4}]
[1567,"Muresan Adrian","Brasov",98.5,7.66,"H",null,null,null,{"$f":"catp","v":4}]
[2405,"Androne Cristian","Braila",38.9,7.65,"H",null,null,null,{"$f":"catp","v":4}]
[2427,"Tomoiu Stefan","Hunedoara",37.700000000000003,7.65,"H",null,null,null,{"$f":"catp","v":4}]
[2980,"Stanciu Teodor","Sighisoara",21.1,7.65,"H",null,null,null,{"$f":"catp","v":4}]
[1559,"Vavura Narcis","Targu Jiu",99.7,7.63,"H",null,null,null,{"$f":"catp","v":4}]
[1739,"Varachin Vitalie","Moldova-Cahul",81.8,7.63,"H",null,null,null,{"$f":"catp","v":4}]
[2568,"Soare Andrei","Bucuresti",33.299999999999997,7.63,"H",null,null,null,{"$f":"catp","v":4}]
[2016,"Nicusan Claudiu","Sibiu",60.2,7.6,"H",null,null,null,{"$f":"catp","v":4}]
[3276,"Pletea Mihaela","Sibiu",15.2,7.6,"HF",null,null,null,{"$f":"catp","v":4}]
[3277,"Niga Corneliu Filaret","Campulung Mold",15.2,7.6,"H",null,null,null,{"$f":"catp","v":4}]
[3843,"Clontea Mircea","Victoria",7.6,7.6,"H",null,null,null,{"$f":"catp","v":4}]
[3844,"Vacaru Liviu","Victoria",7.6,7.6,"H",null,null,null,{"$f":"catp","v":4}]
[3845,"Raduta Viorel","Bacau",7.6,7.6,"H",null,null,null,{"$f":"catp","v":4}]
[2952,"Danciu Beatrice","Brasov",21.8,7.57,"HF",null,null,null,{"$f":"catp","v":4}]
[2375,"Popa Mihai Claudiu","Bucuresti",40.299999999999997,7.54,"H",null,null,null,{"$f":"catp","v":4}]
[2627,"Odajiu Alexandru","Moldova-Briceni",31.3,7.5,"H",null,null,null,{"$f":"catp","v":4}]
[2802,"Surdeanu Petrut Laurentiu","Bucuresti",25.7,7.5,"H",null,null,null,{"$f":"catp","v":4}]
[3308,"Stefanescu Serban","Harsova",15,7.5,"H",null,null,null,{"$f":"catp","v":4}]
[3309,"Edves Vasile","Alba Iulia",15,7.5,"H",null,null,null,{"$f":"catp","v":4}]
[3310,"Caradjov Stepan","Moldova-Leova",15,7.5,"H",null,null,null,{"$f":"catp","v":4}]
[3378,"Mitrea Madalina","Bucuresti",13.8,7.5,"HF",null,null,null,{"$f":"catp","v":4}]
[3556,"Buzoianu Eduard","Oltenita",11.3,7.5,"H",null,null,null,{"$f":"catp","v":4}]
[3854,"Sandru Aurel","Calarasi",7.5,7.5,"H",null,null,null,{"$f":"catp","v":4}]
[1616,"Ion Robert","Bucuresti",94.2,7.48,"H",null,null,null,{"$f":"catp","v":4}]
[1444,"Durlan Andrei","Iasi",111,7.45,"H",null,null,null,{"$f":"catp","v":4}]
[2365,"Avram Alexandru","Dumbraveni SB",40.799999999999997,7.45,"HJ",null,null,null,{"$f":"catp","v":4}]
[3463,"Simion Ionut","Bucuresti",12.5,7.45,"H",null,null,null,{"$f":"catp","v":4}]
[3493,"Voicu Mihai","Ploiesti",12,7.45,"H",null,null,null,{"$f":"catp","v":4}]
[2304,"Gota Adrian","Santimbru AB",43.7,7.44,"H",null,null,null,{"$f":"catp","v":4}]
[2988,"Hanes Onisie","Medias",20.9,7.43,"H",null,null,null,{"$f":"catp","v":4}]
[2609,"Huzoni Viorel","Jibou",31.8,7.4,"H",null,null,null,{"$f":"catp","v":4}]
[3322,"Ceacusta Daria","Moldova-Avdarma",14.8,7.4,"HF",null,null,null,{"$f":"catp","v":4}]
[3323,"Talpa Gheorghe","Moldova-Drochia",14.8,7.4,"H",null,null,null,{"$f":"catp","v":4}]
[3425,"Crisan Ovidiu","Cluj Napoca",13.1,7.4,"H",null,null,null,{"$f":"catp","v":4}]
[2325,"Mihali Fabian","Timisoara",42.5,7.38,"H",null,null,null,{"$f":"catp","v":4}]
[1842,"Ghica Marius","Craiova",72.099999999999994,7.37,"H",null,null,null,{"$f":"catp","v":4}]
[1661,"Huza Noris","Targu Mures",88.5,7.36,"H",null,null,null,{"$f":"catp","v":4}]
[1573,"Herban Cosmin","Hunedoara",98.3,7.34,"H",null,null,null,{"$f":"catp","v":4}]
[1426,"Leon Cristi","Galati",113.5,7.31,"H",null,null,null,{"$f":"catp","v":4}]
[1751,"Popa Gheorghe","Medias",80.2,7.31,"H",null,null,null,{"$f":"catp","v":4}]
[1708,"Trif Marius","Atintis",85,7.3,"H",null,null,null,{"$f":"catp","v":4}]
[3006,"Oana Ion Petru","Cernavoda",20.5,7.3,"H",null,null,null,{"$f":"catp","v":4}]
[3335,"Adam Cristian","Navodari",14.7,7.3,"H",null,null,null,{"$f":"catp","v":4}]
[3339,"Bolos Viorel","Hateg",14.6,7.3,"HW",null,null,null,{"$f":"catp","v":4}]
[3437,"Todea Adrian","Apahida",12.9,7.3,"H",null,null,null,{"$f":"catp","v":4}]
[3575,"Ivancea Iustin","Videle",11,7.3,"H",null,null,null,{"$f":"catp","v":4}]
[3872,"Ciortan Catalin","Cluj Napoca",7.3,7.3,"H",null,null,null,{"$f":"catp","v":4}]
[3873,"Vlad Alexandru","Bucuresti",7.3,7.3,"H",null,null,null,{"$f":"catp","v":4}]
[3874,"Denes Ludovic","Varsolt",7.3,7.3,"H",null,null,null,{"$f":"catp","v":4}]
[3875,"Sauciuc Cosmin","Barlad",7.3,7.3,"H",null,null,null,{"$f":"catp","v":4}]
[3876,"Coaja Matei","Bucuresti",7.3,7.3,"H",null,null,null,{"$f":"catp","v":4}]
[2018,"Cili Denis","Ludus",59.8,7.28,"H",null,null,null,{"$f":"catp","v":4}]
[1637,"Maksymov Oleksandr","Ucraina",91.2,7.27,"H",null,null,null,{"$f":"catp","v":4}]
[1488,"Moise Viorel","Braila",107.1,7.26,"HW",null,null,null,{"$f":"catp","v":4}]
[2418,"Soldan Ionatan","Cajvana",38.299999999999997,7.25,"H",null,null,null,{"$f":"catp","v":4}]
[2557,"Jurgiu Marian","Botosani",33.6,7.25,"HW",null,null,null,{"$f":"catp","v":4}]
[3168,"Barcan Adrian","Piatra Neamt",17.5,7.25,"H",null,null,null,{"$f":"catp","v":4}]
[1574,"Scripet Ovidiu","Bistrita",98.3,7.23,"H",null,null,null,{"$f":"catp","v":4}]
[2592,"Stoian Narcis","Braila",32.4,7.23,"H",null,null,null,{"$f":"catp","v":4}]
[3018,"Apostu Marius","Galati",20.3,7.23,"H",null,null,null,{"$f":"catp","v":4}]
[2265,"Ogrutan Marius","Cluj Napoca",45.2,7.2,"H",null,null,null,{"$f":"catp","v":4}]
[2419,"Dinescu Dan","Oradea",38.299999999999997,7.2,"H",null,null,null,{"$f":"catp","v":4}]
[2622,"Jarebe Massimo","Iasi",31.4,7.2,"H",null,null,null,{"$f":"catp","v":4}]
[3344,"Ivascu Stefan","Viseu",14.4,7.2,"H",null,null,null,{"$f":"catp","v":4}]
[3474,"Marin Bogdan Mihail","Bacau",12.3,7.2,"HW",null,null,null,{"$f":"catp","v":4}]
[3883,"Furdui Anatol","Moldova-Balti",7.2,7.2,"H",null,null,null,{"$f":"catp","v":4}]
[3884,"Constantin Alexandru","Filipestii de Targ",7.2,7.2,"H",null,null,null,{"$f":"catp","v":4}]
[3885,"Dragan Cristian","Bucuresti",7.2,7.2,"H",null,null,null,{"$f":"catp","v":4}]
[2359,"Mate Gellert Gergo","Micfalau",41,7.18,"H",null,null,null,{"$f":"catp","v":4}]
[2586,"Craja Gina Alexandra","Bucuresti",32.6,7.18,"HF",null,null,null,{"$f":"catp","v":4}]
[1999,"Sandru Rares","Dumbraveni SB",61.6,7.17,"HJ",null,null,null,{"$f":"catp","v":4}]
[2415,"Manolache Stefan","Boldesti Scaeni",38.4,7.15,"H",null,null,null,{"$f":"catp","v":4}]
[3122,"Munteanu Elisei","Moldova-Cahul",18.3,7.15,"H",null,null,null,{"$f":"catp","v":4}]
[3355,"Cardas Alexandru","Dumbravita",14.3,7.15,"H",null,null,null,{"$f":"catp","v":4}]
[1552,"Simulescu Dumitru","Craiova",100.5,7.13,"HW",null,null,null,{"$f":"catp","v":4}]
[2668,"Georgescu Marius","Sibiu",29.6,7.13,"H",null,null,null,{"$f":"catp","v":4}]
[3056,"Tabacaru Ciprian","Vaslui",19.5,7.1,"H",null,null,null,{"$f":"catp","v":4}]
[3180,"Cucurigu Paul","Vatra Dornei",17.3,7.1,"H",null,null,null,{"$f":"catp","v":4}]
[3480,"Aprodu Mircea","Bacau",12.2,7.1,"H",null,null,null,{"$f":"catp","v":4}]
[3893,"Oprea Sorin","Galati",7.1,7.1,"H",null,null,null,{"$f":"catp","v":4}]
[1517,"Marinescu Stefan","Bucuresti",104.2,7.09,"H",null,null,null,{"$f":"catp","v":4}]
[1738,"Sandu Dragos","Nasaud",82.1,7.09,"H",null,null,null,{"$f":"catp","v":4}]
[1811,"Hoca Bogdan","Lunca Muresului",74.3,7.09,"H",null,null,null,{"$f":"catp","v":4}]
[3045,"Cojocaru Cristian","Targu Jiu",19.8,7.07,"H",null,null,null,{"$f":"catp","v":4}]
[2528,"Prahoveanu Nicolae","Constanta",34.5,7.05,"H",null,null,null,{"$f":"catp","v":4}]
[3368,"Bodea Aida","Alesd",14.1,7.05,"HF",null,null,null,{"$f":"catp","v":4}]
[3487,"Drinc Ionut","Oradea",12.1,7.05,"H",null,null,null,{"$f":"catp","v":4}]
[1719,"Luca Ioan","Sibiu",84,7.03,"HW",null,null,null,{"$f":"catp","v":4}]
[1882,"Pican Ion","Slatina",70.2,7.03,"H",null,null,null,{"$f":"catp","v":4}]
[2607,"Fleser Marian","Blaj",31.9,7.03,"H",null,null,null,{"$f":"catp","v":4}]
[3069,"Dogaru Mihai","Drobeta Tr Severin",19.2,7.03,"H",null,null,null,{"$f":"catp","v":4}]
[2643,"Bunea Aurel","Salciua",30.3,7,"H",null,null,null,{"$f":"catp","v":4}]
[2935,"Ferenczi Sandor","Targu Mures",22.5,7,"H",null,null,null,{"$f":"catp","v":4}]
[3060,"Burian Ovidiu","Cluj Napoca",19.399999999999999,7,"H",null,null,null,{"$f":"catp","v":4}]
[3110,"Szasz Zoltan","Gheorgheni",18.600000000000001,7,"H",null,null,null,{"$f":"catp","v":4}]
[3372,"Bacain Marian","Calarasi",14,7,"H",null,null,null,{"$f":"catp","v":4}]
[3488,"Goldis Marinel","Arad",12.1,7,"H",null,null,null,{"$f":"catp","v":4}]
[3513,"Dan Alexandru","Alexandria",11.8,7,"H",null,null,null,{"$f":"catp","v":4}]
[3898,"Dumitrana Catalin","Bucuresti",7,7,"H",null,null,null,{"$f":"catp","v":4}]
[3899,"Oltean Tudor","Zalau",7,7,"H",null,null,null,{"$f":"catp","v":4}]
[3900,"Rusu Ion","Vaslui",7,7,"H",null,null,null,{"$f":"catp","v":4}]
[3901,"Stoean Filip","Calarasi",7,7,"H",null,null,null,{"$f":"catp","v":4}]
[4086,"Elekes Csaba","Valea Scurta",5.3,7,"H",null,null,null,{"$f":"catp","v":4}]
[4087,"Crisan Tihamer","Valea Scurta",5.3,7,"H",null,null,null,{"$f":"catp","v":4}]
[4088,"Crisan Romeo","Estelnic",5.3,7,"H",null,null,null,{"$f":"catp","v":4}]
[4089,"Kerekes Tibor","Bretcu",5.3,7,"H",null,null,null,{"$f":"catp","v":4}]
[1885,"Pirlea Dorin","Hunedoara",70.099999999999994,6.98,"H",null,null,null,{"$f":"catp","v":4}]
[3229,"Pruna Stefan Cristian","Pitesti",16.2,6.97,"H",null,null,null,{"$f":"catp","v":4}]
[2028,"Rauh Victor","Moldova-Balti",59.2,6.95,"HW",null,null,null,{"$f":"catp","v":4}]
[1921,"Gota Florin","Santimbru AB",66.7,6.94,"HW",null,null,null,{"$f":"catp","v":4}]
[2160,"Mos Cristian","Tampa",50.8,6.94,"H",null,null,null,{"$f":"catp","v":4}]
[2865,"Csefko Tibi","Giroc",24.2,6.93,"H",null,null,null,{"$f":"catp","v":4}]
[2119,"Ionescu Traian","Galati",53.2,6.92,"H",null,null,null,{"$f":"catp","v":4}]
[2075,"Moldovan Radu","Alba Iulia",57.2,6.91,"H",null,null,null,{"$f":"catp","v":4}]
[2842,"Popa Florin","Oradea",24.6,6.9,"H",null,null,null,{"$f":"catp","v":4}]
[3923,"Ababii Gheorghe","Moldova-Drochia",6.9,6.9,"H",null,null,null,{"$f":"catp","v":4}]
[3924,"Cernat Radu","Moinesti",6.9,6.9,"H",null,null,null,{"$f":"catp","v":4}]
[3925,"Agavriloaie Costica","Moinesti",6.9,6.9,"H",null,null,null,{"$f":"catp","v":4}]
[4104,"Dulgheru Gheorghe","Buzau",5.2,6.9,"H",null,null,null,{"$f":"catp","v":4}]
[1612,"Husarciuc Beniamin","Suceava",94.7,6.88,"H",null,null,null,{"$f":"catp","v":4}]
[2674,"Lazar Ionel","Pufesti",29.4,6.87,"H",null,null,null,{"$f":"catp","v":4}]
[2799,"Zaharia Titi","Fetesti",25.8,6.87,"H",null,null,null,{"$f":"catp","v":4}]
[1647,"Suciu Gheorghe","Alba Iulia",90,6.86,"H",null,null,null,{"$f":"catp","v":4}]
[2370,"Pascu Gabriel","Braila",40.6,6.85,"HW",null,null,null,{"$f":"catp","v":4}]
[3382,"Piper Romeo","Luna CJ",13.7,6.85,"H",null,null,null,{"$f":"catp","v":4}]
[3534,"Ratoi Dorin","Hunedoara",11.5,6.85,"H",null,null,null,{"$f":"catp","v":4}]
[1472,"Radulescu Dan","Bucuresti",108.2,6.84,"H",null,null,null,{"$f":"catp","v":4}]
[1861,"Rosa Vasile","Salciua",71.5,6.84,"HD",null,null,null,{"$f":"catp","v":4}]
[2502,"Vlasin Adrian","Viseu",35.299999999999997,6.83,"H",null,null,null,{"$f":"catp","v":4}]
[2543,"Iancu Laurentiu","Constanta",34.1,6.83,"H",null,null,null,{"$f":"catp","v":4}]
[3386,"Vasile Cristian","Brasov",13.6,6.8,"H",null,null,null,{"$f":"catp","v":4}]
[3443,"Avronova Eva","Moldova-Balti",12.8,6.8,"HF",null,null,null,{"$f":"catp","v":4}]
[3937,"Dragomir Mihai","Armenis",6.8,6.8,"H",null,null,null,{"$f":"catp","v":4}]
[3938,"Cofari Eugen","Sovata",6.8,6.8,"H",null,null,null,{"$f":"catp","v":4}]
[3939,"Toth Rezso","Sovata",6.8,6.8,"H",null,null,null,{"$f":"catp","v":4}]
[1930,"Vigu Cristian","Cluj Napoca",65.900000000000006,6.78,"H",null,null,null,{"$f":"catp","v":4}]
[3139,"Danu Ion","Moldova-Balti",17.899999999999999,6.77,"H",null,null,null,{"$f":"catp","v":4}]
[2937,"Savescu Mihai","Videle",22.4,6.75,"H",null,null,null,{"$f":"catp","v":4}]
[3156,"Pislari Nicolae","Moldova-Drochia",17.7,6.75,"H",null,null,null,{"$f":"catp","v":4}]
[3187,"Covasa Gloria","Pascani",17.100000000000001,6.75,"HF",null,null,null,{"$f":"catp","v":4}]
[3397,"Popescu Andrei","Curtea de Arges",13.5,6.75,"H",null,null,null,{"$f":"catp","v":4}]
[3475,"Dobre Alexandru","Bucuresti",12.3,6.75,"H",null,null,null,{"$f":"catp","v":4}]
[3499,"Driha Catalin","Timisoara",11.9,6.75,"H",null,null,null,{"$f":"catp","v":4}]
[2289,"Dinicescu Ion","Pitesti",44.3,6.74,"HW",null,null,null,{"$f":"catp","v":4}]
[2124,"Mihalcea David","Galati",52.8,6.73,"H",null,null,null,{"$f":"catp","v":4}]
[2701,"Bota Sergiu","Cluj Napoca",28.7,6.73,"H",null,null,null,{"$f":"catp","v":4}]
[1675,"Plaias Krisztian","Targu Mures",87.4,6.72,"H",null,null,null,{"$f":"catp","v":4}]
[1457,"Spaller Teodora","Nasaud",109.6,6.71,"HF",null,null,null,{"$f":"catp","v":4}]
[2049,"Dodon Sebastian","Dej",58.3,6.71,"H",null,null,null,{"$f":"catp","v":4}]
[1605,"Popa Dan Teodor","Tecuci",95.6,6.7,"H",null,null,null,{"$f":"catp","v":4}]
[2471,"Mladin Stefan","Valenii de Munte",36.299999999999997,6.7,"H",null,null,null,{"$f":"catp","v":4}]
[2495,"Miclea Bogdan","Cluj Napoca",35.5,6.7,"H",null,null,null,{"$f":"catp","v":4}]
[2561,"Porumb Cristian","Sibiu",33.5,6.7,"H",null,null,null,{"$f":"catp","v":4}]
[3514,"Milas Andrei","Zalau",11.8,6.7,"H",null,null,null,{"$f":"catp","v":4}]
[3636,"Marius Andrei","Bucuresti",10.1,6.7,"H",null,null,null,{"$f":"catp","v":4}]
[3944,"Galan Ionut","Barlad",6.7,6.7,"H",null,null,null,{"$f":"catp","v":4}]
[3945,"Balaban Dumitru","Barlad",6.7,6.7,"H",null,null,null,{"$f":"catp","v":4}]
[3946,"Vlad Alexandru","Barlad",6.7,6.7,"H",null,null,null,{"$f":"catp","v":4}]
[3947,"Andronache Petrica","Barlad",6.7,6.7,"H",null,null,null,{"$f":"catp","v":4}]
[4113,"Miron Adrian Ovidiu","Bucuresti",5.0999999999999996,6.7,"H",null,null,null,{"$f":"catp","v":4}]
[1576,"Popa Cristian Vasile","Cluj Napoca",98.2,6.68,"H",null,null,null,{"$f":"catp","v":4}]
[2512,"Ilie Razvan","Ploiesti",34.9,6.68,"H",null,null,null,{"$f":"catp","v":4}]
[2706,"Ivanoschi Simion","Timisoara",28.5,6.68,"H",null,null,null,{"$f":"catp","v":4}]
[2039,"Tere Sergiu","Cluj Napoca",58.7,6.67,"H",null,null,null,{"$f":"catp","v":4}]
[2637,"Micu Catalin","Valenii de Munte",30.6,6.67,"H",null,null,null,{"$f":"catp","v":4}]
[2881,"Macarie Ovidiu","Turda",23.7,6.67,"H",null,null,null,{"$f":"catp","v":4}]
[2349,"Vrasti Ioan","Ploiesti",41.5,6.66,"HJ",null,null,null,{"$f":"catp","v":4}]
[2027,"Popescu Tiberiu","Ploiesti",59.3,6.65,"H",null,null,null,{"$f":"catp","v":4}]
[2936,"Ciobanu Mihail","Moldova-Vulcanesti",22.5,6.65,"H",null,null,null,{"$f":"catp","v":4}]
[3188,"Musat Aurel","Bucuresti",17.100000000000001,6.65,"H",null,null,null,{"$f":"catp","v":4}]
[3520,"Dragomir Mircea","Medias",11.7,6.65,"H",null,null,null,{"$f":"catp","v":4}]
[2632,"Csoka Andras","Hunedoara",30.9,6.63,"H",null,null,null,{"$f":"catp","v":4}]
[2717,"Riclea George Eusebiu","Barlad",28.1,6.63,"H",null,null,null,{"$f":"catp","v":4}]
[3169,"Turcinschi Serghei","Moldova-Balti",17.5,6.63,"H",null,null,null,{"$f":"catp","v":4}]
[1666,"Iacob Augustin","Piatra Neamt",88.2,6.62,"H",null,null,null,{"$f":"catp","v":4}]
[2552,"Ilie Victor","Medias",33.700000000000003,6.62,"H",null,null,null,{"$f":"catp","v":4}]
[2440,"Sancu Ianis","Dumbraveni SB",37.299999999999997,6.6,"H",null,null,null,{"$f":"catp","v":4}]
[2895,"Padure Andrei","Agnita",23.3,6.6,"H",null,null,null,{"$f":"catp","v":4}]
[3417,"Grigore Catalin","Cocorastii Mislii",13.2,6.6,"H",null,null,null,{"$f":"catp","v":4}]
[3543,"Morar Aurel Ovidiu","Tarnaveni",11.4,6.6,"H",null,null,null,{"$f":"catp","v":4}]
[3954,"Teodorad Valentin","Slatina",6.6,6.6,"H",null,null,null,{"$f":"catp","v":4}]
[3955,"Dumitru George","Slobozia",6.6,6.6,"H",null,null,null,{"$f":"catp","v":4}]
[3956,"Dinu Catalin","Slobozia",6.6,6.6,"H",null,null,null,{"$f":"catp","v":4}]
[4127,"Buhaianu Bogdan","Bacau",5,6.6,"H",null,null,null,{"$f":"catp","v":4}]
[4128,"Sardeni Teodora","Moinesti",5,6.6,"HF",null,null,null,{"$f":"catp","v":4}]
[4129,"Ilie Alexandra","Voluntari",5,6.6,"HF",null,null,null,{"$f":"catp","v":4}]
[4130,"Dragota Bogdan","Bucuresti",5,6.6,"H",null,null,null,{"$f":"catp","v":4}]
[1763,"Stoica Florin Cristian","Bucuresti",79,6.59,"H",null,null,null,{"$f":"catp","v":4}]
[2652,"Dragan Razvan","Alexandria",30,6.58,"H",null,null,null,{"$f":"catp","v":4}]
[2684,"Craciunescu Vlad","Bucuresti",29.2,6.58,"H",null,null,null,{"$f":"catp","v":4}]
[1824,"Grancea Rares","Sibiu",73.3,6.57,"H",null,null,null,{"$f":"catp","v":4}]
[3232,"Stoica Nicolae","Hunedoara",16.100000000000001,6.57,"H",null,null,null,{"$f":"catp","v":4}]
[2588,"Cimpanu Mihai","Roman",32.5,6.55,"H",null,null,null,{"$f":"catp","v":4}]
[2159,"Chirita Daniel","Bucuresti",50.9,6.54,"H",null,null,null,{"$f":"catp","v":4}]
[2397,"Galea Robert","Arad",39.200000000000003,6.54,"H",null,null,null,{"$f":"catp","v":4}]
[2677,"Stefanescu Eugen","Bucuresti",29.3,6.53,"H",null,null,null,{"$f":"catp","v":4}]
[1604,"Heja Zsolt","Ditrau",95.7,6.52,"H",null,null,null,{"$f":"catp","v":4}]
[2099,"Dragomir Nicolae","Armenis",55,6.51,"H",null,null,null,{"$f":"catp","v":4}]
[1716,"Lazar Adrian","Bucuresti",84.2,6.5,"H",null,null,null,{"$f":"catp","v":4}]
[2520,"Gavriluta Danut","Vadu Moldovei",34.799999999999997,6.5,"H",null,null,null,{"$f":"catp","v":4}]
[3961,"Catana Marius Gabriel","Bucuresti",6.5,6.5,"H",null,null,null,{"$f":"catp","v":4}]
[3962,"Budean Daniel","Gherla",6.5,6.5,"H",null,null,null,{"$f":"catp","v":4}]
[2259,"Apatachioae Augustin","Paunesti",45.5,6.48,"H",null,null,null,{"$f":"catp","v":4}]
[2691,"Grajdianu Constantin","Oniceni",29,6.47,"H",null,null,null,{"$f":"catp","v":4}]
[2599,"Vlaisan Raluca","Vicovu de Jos",32.1,6.45,"HF",null,null,null,{"$f":"catp","v":4}]
[2824,"Costache Dragos Valentin","Vadeni",25,6.45,"H",null,null,null,{"$f":"catp","v":4}]
[3521,"Crisan Casian","Agnita",11.7,6.45,"H",null,null,null,{"$f":"catp","v":4}]
[2144,"Drumen Dumitru","Vatra Dornei",51.6,6.4,"H",null,null,null,{"$f":"catp","v":4}]
[2490,"Babes Robin","Brasov",35.6,6.4,"H",null,null,null,{"$f":"catp","v":4}]
[2762,"Koncsag Csaba","Joseni",26.7,6.4,"H",null,null,null,{"$f":"catp","v":4}]
[3316,"Rujan Paul Adrian","Braila",14.9,6.4,"HW",null,null,null,{"$f":"catp","v":4}]
[3544,"Truta Andrei","Reghin",11.4,6.4,"H",null,null,null,{"$f":"catp","v":4}]
[3973,"Sandu Ionut","Bucuresti",6.4,6.4,"H",null,null,null,{"$f":"catp","v":4}]
[3974,"Mihordea Marius","Bucuresti",6.4,6.4,"H",null,null,null,{"$f":"catp","v":4}]
[3975,"Gavril Madalin","Bucuresti",6.4,6.4,"H",null,null,null,{"$f":"catp","v":4}]
[3976,"Marcu Bogdan Alexandru","Bucuresti",6.4,6.4,"H",null,null,null,{"$f":"catp","v":4}]
[3977,"Comanescu Marian","Branceni",6.4,6.4,"H",null,null,null,{"$f":"catp","v":4}]
[3978,"Oltean Raul","Baia Mare",6.4,6.4,"H",null,null,null,{"$f":"catp","v":4}]
[3979,"Muresan Viorel Florin","Baia Mare",6.4,6.4,"H",null,null,null,{"$f":"catp","v":4}]
[4240,"Preda Filip","Bucuresti",4.8,6.4,"H",null,null,null,{"$f":"catp","v":4}]
[1984,"Giurgiu Alexandru","Sibiu",62.6,6.39,"H",null,null,null,{"$f":"catp","v":4}]
[2551,"Ghita Mihai","Bucuresti",33.799999999999997,6.38,"H",null,null,null,{"$f":"catp","v":4}]
[2843,"Gagiu David","Targoviste",24.6,6.38,"H",null,null,null,{"$f":"catp","v":4}]
[2736,"Marcu Dan Florin","Sibiu",27.6,6.37,"H",null,null,null,{"$f":"catp","v":4}]
[2140,"Bistreanu Sorin","Bucuresti",51.7,6.36,"H",null,null,null,{"$f":"catp","v":4}]
[1779,"Grigore Madalin","Cocorastii Mislii",77.599999999999994,6.35,"H",null,null,null,{"$f":"catp","v":4}]
[3576,"Griga Cristian","Oradea",11,6.35,"H",null,null,null,{"$f":"catp","v":4}]
[3075,"Miculit Alberto","Lipova",19.100000000000001,6.33,"H",null,null,null,{"$f":"catp","v":4}]
[2244,"Heresanu Mihai","Ludus",46.3,6.32,"H",null,null,null,{"$f":"catp","v":4}]
[2421,"Virticosu Teodor","Pascani",38.1,6.32,"H",null,null,null,{"$f":"catp","v":4}]
[2779,"Man Eusebiu","Targu Mures",26.3,6.3,"H",null,null,null,{"$f":"catp","v":4}]
[3987,"Morar Marcel","Campulung Mold",6.3,6.3,"H",null,null,null,{"$f":"catp","v":4}]
[3988,"Majnita Andrei","Viseu",6.3,6.3,"H",null,null,null,{"$f":"catp","v":4}]
[4241,"Gurzun Mihai","Cristesti",4.8,6.3,"H",null,null,null,{"$f":"catp","v":4}]
[2356,"Sarov Daniel","Bucuresti",41.2,6.28,"H",null,null,null,{"$f":"catp","v":4}]
[2633,"Ilisan Costina","Toplita",30.9,6.28,"HF",null,null,null,{"$f":"catp","v":4}]
[2805,"Cretan Radu","Bucuresti",25.6,6.28,"H",null,null,null,{"$f":"catp","v":4}]
[2837,"Savin Medeea","Plopeni SV",24.7,6.28,"HF",null,null,null,{"$f":"catp","v":4}]
[3249,"Miu Maria","Bucuresti",15.7,6.27,"HF",null,null,null,{"$f":"catp","v":4}]
[2298,"Ticu Razvan","Bucuresti",44.1,6.25,"H",null,null,null,{"$f":"catp","v":4}]
[1755,"Costea Mircea","Alba Iulia",79.8,6.22,"H",null,null,null,{"$f":"catp","v":4}]
[2503,"Dumitrascu Alin","Buzau",35.299999999999997,6.2,"H",null,null,null,{"$f":"catp","v":4}]
[2953,"Postolache Valeriu","Pufesti",21.8,6.2,"H",null,null,null,{"$f":"catp","v":4}]
[2960,"Cracanel Gerard","Agnita",21.6,6.2,"H",null,null,null,{"$f":"catp","v":4}]
[2981,"Dragomir Ioan","Cristian SB",21.1,6.2,"HW",null,null,null,{"$f":"catp","v":4}]
[3994,"Boteanu Alexandru","Constanta",6.2,6.2,"H",null,null,null,{"$f":"catp","v":4}]
[4250,"Lulciuc Dumitru Cosmin","Timisoara",4.7,6.2,"H",null,null,null,{"$f":"catp","v":4}]
[4251,"Siclovan Gabriel","Arad",4.7,6.2,"H",null,null,null,{"$f":"catp","v":4}]
[2122,"Tose Cristian","Oradea",52.9,6.19,"H",null,null,null,{"$f":"catp","v":4}]
[1920,"Busega Iulian","Bucuresti",66.900000000000006,6.18,"H",null,null,null,{"$f":"catp","v":4}]
[1962,"Szocs Szilveszter","Borsec",63.6,6.18,"H",null,null,null,{"$f":"catp","v":4}]
[3181,"Moldovan Cristian","Alba Iulia",17.3,6.17,"H",null,null,null,{"$f":"catp","v":4}]
[2572,"Marinescu Bogdan","Bucuresti",33.200000000000003,6.16,"H",null,null,null,{"$f":"catp","v":4}]
[3241,"Sechel Vasile","Viseu",15.8,6.15,"H",null,null,null,{"$f":"catp","v":4}]
[2966,"Pascu Ioan","Targu Mures",21.5,6.13,"H",null,null,null,{"$f":"catp","v":4}]
[3184,"Stamate Eduard","Bucuresti",17.2,6.13,"H",null,null,null,{"$f":"catp","v":4}]
[3259,"Tudose David","Boldesti Scaeni",15.5,6.13,"H",null,null,null,{"$f":"catp","v":4}]
[2641,"Furdui Maria","Simeria",30.4,6.1,"HF",null,null,null,{"$f":"catp","v":4}]
[3213,"Alexandrescu Ionica","Piatra Neamt",16.5,6.1,"H",null,null,null,{"$f":"catp","v":4}]
[3235,"Bot Ioan","Uriu",16,6.1,"H",null,null,null,{"$f":"catp","v":4}]
[3624,"Ungur Florin Tiberiu","Fundu Moldovei",10.4,6.1,"H",null,null,null,{"$f":"catp","v":4}]
[3773,"Paunescu David Stefan","Bucuresti",8.4,6.1,"H",null,null,null,{"$f":"catp","v":4}]
[3998,"Darvasi Ibolya","Salonta",6.1,6.1,"HF",null,null,null,{"$f":"catp","v":4}]
[3999,"Voicu Florin","Arad",6.1,6.1,"HW",null,null,null,{"$f":"catp","v":4}]
[4000,"Podrumar Casian","Arad",6.1,6.1,"H",null,null,null,{"$f":"catp","v":4}]
[4001,"Manda Florin","Arad",6.1,6.1,"H",null,null,null,{"$f":"catp","v":4}]
[4002,"Rizea Doru","Bucuresti",6.1,6.1,"H",null,null,null,{"$f":"catp","v":4}]
[4003,"Berentan Corneliu Petru","Campulung Mold",6.1,6.1,"H",null,null,null,{"$f":"catp","v":4}]
[4261,"Iordache Dragos Gabriel","Constanta",4.5999999999999996,6.1,"H",null,null,null,{"$f":"catp","v":4}]
[4262,"Stoiciuc Codrin","Botosani",4.5999999999999996,6.1,"H",null,null,null,{"$f":"catp","v":4}]
[2138,"Voica Dragos","Timisoara",52,6.09,"H",null,null,null,{"$f":"catp","v":4}]
[2877,"Gheaburcu Romeo","Pucioasa",23.9,6.07,"H",null,null,null,{"$f":"catp","v":4}]
[3311,"Stanescu Fabian","Hunedoara",15,6.07,"H",null,null,null,{"$f":"catp","v":4}]
[3283,"Udvari Zoltan","Delenii",15.1,6.05,"H",null,null,null,{"$f":"catp","v":4}]
[3716,"Tincu Adrian","Bucuresti",9.1,6.05,"H",null,null,null,{"$f":"catp","v":4}]
[3717,"Oteleanu Aurel","Bucuresti",9.1,6.05,"H",null,null,null,{"$f":"catp","v":4}]
[2462,"Nadejde Andrei","Cluj Napoca",36.5,6.04,"H",null,null,null,{"$f":"catp","v":4}]
[3135,"Valea Valentin","Petrosani",18.100000000000001,6.03,"H",null,null,null,{"$f":"catp","v":4}]
[3494,"Safta Marius","Pitesti",12,6,"H",null,null,null,{"$f":"catp","v":4}]
[3593,"Oleinic Cosmin","Moldova-Edinet",10.8,6,"H",null,null,null,{"$f":"catp","v":4}]
[3601,"Uscatu Adelina","Floresti",10.7,6,"HF",null,null,null,{"$f":"catp","v":4}]
[3617,"Mircescu Alexandru","Bucuresti",10.5,6,"H",null,null,null,{"$f":"catp","v":4}]
[4007,"Nastase George","Bucuresti",6,6,"H",null,null,null,{"$f":"catp","v":4}]
[4008,"Pastor Marius","Tarnaveni",6,6,"H",null,null,null,{"$f":"catp","v":4}]
[4009,"Vasla Mihai","Constanta",6,6,"H",null,null,null,{"$f":"catp","v":4}]
[4010,"Soare Sorin","Slobozia",6,6,"H",null,null,null,{"$f":"catp","v":4}]
[4270,"Segall Dan","Iasi",4.5,6,"H",null,null,null,{"$f":"catp","v":4}]
[2956,"Babalean Sebastian","Galanesti",21.7,5.98,"H",null,null,null,{"$f":"catp","v":4}]
[2782,"Crisan Ovidiu","Sibiu",26.2,5.97,"H",null,null,null,{"$f":"catp","v":4}]
[3447,"Filipescu Radu","Bucuresti",12.7,5.95,"H",null,null,null,{"$f":"catp","v":4}]
[3500,"Neagu Costin","Targoviste",11.9,5.95,"H",null,null,null,{"$f":"catp","v":4}]
[3501,"Rosu Ionut","Bucuresti",11.9,5.95,"H",null,null,null,{"$f":"catp","v":4}]
[2787,"Barascu Andrei","Suceava",26.1,5.93,"H",null,null,null,{"$f":"catp","v":4}]
[1629,"Muresan Ana Maria","Cluj Napoca",92.3,5.9,"HF",null,null,null,{"$f":"catp","v":4}]
[3210,"Gergely Istvan","Ditrau",16.600000000000001,5.9,"H",null,null,null,{"$f":"catp","v":4}]
[3733,"Opris Andrei","Zalau",8.9,5.9,"H",null,null,null,{"$f":"catp","v":4}]
[4024,"Cebuc Emma","Dumbravita",5.9,5.9,"HF",null,null,null,{"$f":"catp","v":4}]
[4025,"Petraro Francesco","Alesd",5.9,5.9,"H",null,null,null,{"$f":"catp","v":4}]
[4026,"Farcas Dragos","Targu Mures",5.9,5.9,"H",null,null,null,{"$f":"catp","v":4}]
[1807,"Puiac Elvis","Apahida",74.7,5.88,"H",null,null,null,{"$f":"catp","v":4}]
[2218,"Lupu Vasile","Cluj Napoca",47.8,5.88,"H",null,null,null,{"$f":"catp","v":4}]
[2373,"Mirauta Mihai","Moinesti",40.4,5.88,"H",null,null,null,{"$f":"catp","v":4}]
[2758,"Mihaiuc Matei","Radauti",26.8,5.88,"H",null,null,null,{"$f":"catp","v":4}]
[2825,"Ostrovanu Cosmin","Suceava",25,5.88,"H",null,null,null,{"$f":"catp","v":4}]
[3031,"Raduly Eduard","Sfantu Gheorghe",20.100000000000001,5.88,"H",null,null,null,{"$f":"catp","v":4}]
[1752,"Man Sebastian","Cluj Napoca",80.2,5.85,"HW",null,null,null,{"$f":"catp","v":4}]
[2861,"Neagoie Adrian","Timisoara",24.3,5.85,"H",null,null,null,{"$f":"catp","v":4}]
[2967,"Homana Ioan","Stremt",21.5,5.85,"H",null,null,null,{"$f":"catp","v":4}]
[3007,"Nadejde Mihai","Cluj Napoca",20.5,5.85,"H",null,null,null,{"$f":"catp","v":4}]
[3522,"Zamblau Arsenie","Floresti",11.7,5.85,"HJ",null,null,null,{"$f":"catp","v":4}]
[3523,"Salvari Marcel","Campulung Mold",11.7,5.85,"H",null,null,null,{"$f":"catp","v":4}]
[3585,"Miron Viorel","Iasi",10.9,5.85,"H",null,null,null,{"$f":"catp","v":4}]
[3014,"Peter Stefan","Arad",20.399999999999999,5.83,"H",null,null,null,{"$f":"catp","v":4}]
[2513,"Baltes Ovidiu","Ocna Sibiului",34.9,5.82,"H",null,null,null,{"$f":"catp","v":4}]
[3046,"Popa Mihail","Bucuresti",19.8,5.8,"H",null,null,null,{"$f":"catp","v":4}]
[3250,"Stoian Sebastian","Slobozia",15.7,5.8,"H",null,null,null,{"$f":"catp","v":4}]
[3257,"Dimitrov Claudiu Marian","Suceava",15.6,5.8,"H",null,null,null,{"$f":"catp","v":4}]
[3609,"Iliescu Ion","Bucuresti",10.6,5.8,"H",null,null,null,{"$f":"catp","v":4}]
[3745,"Gheorghe Dan","Constanta",8.6999999999999993,5.8,"H",null,null,null,{"$f":"catp","v":4}]
[4033,"Ilie Sebastian","Bucuresti",5.8,5.8,"H"]
[4304,"Cojocea Florin","Cluj Napoca",4.4000000000000004,5.8,"H",null,null,null,{"$f":"catp","v":4}]
[4305,"Gaga Ioan","Cluj Napoca",4.4000000000000004,5.8,"H",null,null,null,{"$f":"catp","v":4}]
[1830,"Luca Irinel","Calan",72.900000000000006,5.78,"H",null,null,null,{"$f":"catp","v":4}]
[1827,"Burtumac Alin","Balotesti",73,5.76,"HW",null,null,null,{"$f":"catp","v":4}]
[3214,"Calonfirescu Sever","Manastireni",16.5,5.75,"H",null,null,null,{"$f":"catp","v":4}]
[3535,"Cotet George","Pascani",11.5,5.75,"H",null,null,null,{"$f":"catp","v":4}]
[1717,"Gheorghe Catalin","Ploiesti",84.2,5.73,"H",null,null,null,{"$f":"catp","v":4}]
[2585,"Csatlos Bela","Toplita",32.799999999999997,5.73,"H",null,null,null,{"$f":"catp","v":4}]
[2923,"Anghel Valentin","Voluntari",22.7,5.73,"H",null,null,null,{"$f":"catp","v":4}]
[3070,"Arhip George","Botosani",19.2,5.73,"H",null,null,null,{"$f":"catp","v":4}]
[2343,"Susman Alexandru","Alba Iulia",41.7,5.7,"H",null,null,null,{"$f":"catp","v":4}]
[2838,"Boitos Rodica","Oradea",24.7,5.7,"HF",null,null,null,{"$f":"catp","v":4}]
[2855,"Morariu Costel","Gherla",24.4,5.7,"H",null,null,null,{"$f":"catp","v":4}]
[3015,"Marian Ovidiu","Reghin",20.399999999999999,5.7,"H",null,null,null,{"$f":"catp","v":4}]
[4038,"Mihut Benone","Pascani",5.7,5.7,"H",null,null,null,{"$f":"catp","v":4}]
[4039,"Buraciuc Cornel","Nasaud",5.7,5.7,"H",null,null,null,{"$f":"catp","v":4}]
[4040,"Cosmineanu Lucian","Baicoi",5.7,5.7,"H",null,null,null,{"$f":"catp","v":4}]
[4041,"Kali Victor","Cluj Napoca",5.7,5.7,"H",null,null,null,{"$f":"catp","v":4}]
[4042,"Zsolt Kovacs","Bretcu",5.7,5.7,"H",null,null,null,{"$f":"catp","v":4}]
[4043,"Badulescu Daniel Catalin","Urlati",5.7,5.7,"H",null,null,null,{"$f":"catp","v":4}]
[4044,"Ovidiu Luca","Cluj Napoca",5.7,5.7,"H",null,null,null,{"$f":"catp","v":4}]
[1982,"Orosan Vasile","Ludus",62.7,5.68,"H",null,null,null,{"$f":"catp","v":4}]
[3251,"Neacsu Cristian","Bucuresti",15.7,5.67,"H",null,null,null,{"$f":"catp","v":4}]
[3264,"Buica Elisei","Hateg",15.4,5.67,"H",null,null,null,{"$f":"catp","v":4}]
[1946,"Cracana Ionut","Targu Neamt",64.8,5.66,"H",null,null,null,{"$f":"catp","v":4}]
[1858,"Borodi Alin","Cluj Napoca",71.599999999999994,5.65,"H",null,null,null,{"$f":"catp","v":4}]
[2275,"Timoc Bogdan","Cluj Napoca",44.9,5.65,"H",null,null,null,{"$f":"catp","v":4}]
[2573,"Soldan Gica","Cajvana",33.200000000000003,5.65,"H",null,null,null,{"$f":"catp","v":4}]
[2907,"Leseanu Mihnea Gabriel","Alexandria",23,5.65,"H",null,null,null,{"$f":"catp","v":4}]
[3123,"Stoica Liviu Andrei","Slobozia",18.3,5.65,"H",null,null,null,{"$f":"catp","v":4}]
[3402,"Bunea Raul","Targu Mures",13.4,5.65,"H",null,null,null,{"$f":"catp","v":4}]
[3645,"Dragutoiu Petre","Bucuresti",10,5.65,"H",null,null,null,{"$f":"catp","v":4}]
[1787,"Virtopeanu Daniel","Bucuresti",76.8,5.64,"H",null,null,null,{"$f":"catp","v":4}]
[2828,"Albu Cristian","Iasi",24.9,5.63,"H",null,null,null,{"$f":"catp","v":4}]
[2151,"Grozavu Alexandru","Rovinari",51.1,5.62,"H",null,null,null,{"$f":"catp","v":4}]
[2372,"Cserei Gabor","Sovata",40.5,5.6,"H",null,null,null,{"$f":"catp","v":4}]
[2576,"Craus Marian","Bucuresti",33.1,5.6,"H",null,null,null,{"$f":"catp","v":4}]
[2722,"Sava Cristian","Pascani",28,5.6,"H",null,null,null,{"$f":"catp","v":4}]
[2866,"Lengenfelder Johan","Giroc",24.2,5.6,"H",null,null,null,{"$f":"catp","v":4}]
[3008,"Telespan Elena","Sibiu",20.5,5.6,"HF",null,null,null,{"$f":"catp","v":4}]
[3561,"Morariu Catalin","Alba Iulia",11.2,5.6,"H",null,null,null,{"$f":"catp","v":4}]
[3664,"Spatar Peter","Agnita",9.9,5.6,"H",null,null,null,{"$f":"catp","v":4}]
[4051,"Forna Andrei","Apahida",5.6,5.6,"H",null,null,null,{"$f":"catp","v":4}]
[4320,"Bina Eduard","Dumbraveni SB",4.2,5.6,"H",null,null,null,{"$f":"catp","v":4}]
[2173,"Morariu Ioan","Saliste",50.1,5.59,"H",null,null,null,{"$f":"catp","v":4}]
[2708,"Leonard Iulian","Arad",28.4,5.58,"H",null,null,null,{"$f":"catp","v":4}]
[3124,"Leonte Toader","Solont",18.3,5.57,"H",null,null,null,{"$f":"catp","v":4}]
[2496,"Acasandrei Cosmin","Mangalia",35.5,5.56,"H",null,null,null,{"$f":"catp","v":4}]
[2665,"Campian Vlad","Toplita",29.7,5.55,"H",null,null,null,{"$f":"catp","v":4}]
[3361,"Serban Andrei","Bucuresti",14.2,5.55,"H",null,null,null,{"$f":"catp","v":4}]
[2219,"Cheseli Rares","Bucuresti",47.7,5.53,"H",null,null,null,{"$f":"catp","v":4}]
[2702,"Filip Gabriel","Cluj Napoca",28.7,5.53,"H",null,null,null,{"$f":"catp","v":4}]
[2256,"Haralambescu Andrei","Bucuresti",45.6,5.52,"H",null,null,null,{"$f":"catp","v":4}]
[2514,"Popa Raul","Dumbraveni SB",34.9,5.52,"H",null,null,null,{"$f":"catp","v":4}]
[1735,"Dobai Sandor","Targu Mures",82.4,5.51,"H",null,null,null,{"$f":"catp","v":4}]
[2666,"Boca Radu Stefan","Bucuresti",29.7,5.5,"H",null,null,null,{"$f":"catp","v":4}]
[2918,"Ionescu Gabriel","Fetesti",22.8,5.5,"H",null,null,null,{"$f":"catp","v":4}]
[3019,"Sava Sergiu","Cluj Napoca",20.3,5.5,"H",null,null,null,{"$f":"catp","v":4}]
[3020,"Toma Florin Augustin","Slobozia",20.3,5.5,"H",null,null,null,{"$f":"catp","v":4}]
[3577,"Carare Cristinel","Vaslui",11,5.5,"H",null,null,null,{"$f":"catp","v":4}]
[3578,"Apostol Ionut","Cluj Napoca",11,5.5,"H",null,null,null,{"$f":"catp","v":4}]
[3646,"Garaz Razvan","Bistrita",10,5.5,"H",null,null,null,{"$f":"catp","v":4}]
[3674,"Donosa Vasile","Braila",9.6,5.5,"H",null,null,null,{"$f":"catp","v":4}]
[4058,"Balanescu Gheorghe","Slobozia",5.5,5.5,"H",null,null,null,{"$f":"catp","v":4}]
[4059,"Bragaru Marian","Valcau",5.5,5.5,"H",null,null,null,{"$f":"catp","v":4}]
[4060,"Groapa Fane","Galati",5.5,5.5,"H",null,null,null,{"$f":"catp","v":4}]
[4061,"Paran Alex","Hateg",5.5,5.5,"H",null,null,null,{"$f":"catp","v":4}]
[4321,"Nadejde George","Cluj Napoca",4.2,5.5,"H",null,null,null,{"$f":"catp","v":4}]
[3099,"Oprea Ramona","Brasov",18.7,5.48,"HF",null,null,null,{"$f":"catp","v":4}]
[3272,"Alexoi Marius","Calan",15.3,5.47,"H",null,null,null,{"$f":"catp","v":4}]
[3362,"Verdes Laurentiu","Baia Mare",14.2,5.47,"H",null,null,null,{"$f":"catp","v":4}]
[2669,"Lienerth Lukas","Sibiu",29.6,5.45,"H",null,null,null,{"$f":"catp","v":4}]
[2811,"Ureche Vasi","Cajvana",25.5,5.45,"H",null,null,null,{"$f":"catp","v":4}]
[3586,"Fuleki Zoltan","Uriu",10.9,5.45,"H",null,null,null,{"$f":"catp","v":4}]
[2184,"Cristea Calin","Cluj Napoca",49.7,5.44,"H",null,null,null,{"$f":"catp","v":4}]
[3278,"Ivanov Alexandru","Cluj Napoca",15.2,5.43,"H",null,null,null,{"$f":"catp","v":4}]
[2713,"Popa Bogdan","Sibiu",28.2,5.4,"H",null,null,null,{"$f":"catp","v":4}]
[3125,"Teodorescu Cosmin","Bucuresti",18.3,5.4,"H",null,null,null,{"$f":"catp","v":4}]
[4077,"Clisic Iosif","Sannicolau Mare",5.4,5.4,"H",null,null,null,{"$f":"catp","v":4}]
[4078,"Lopadean Daria","Aiud",5.4,5.4,"HF",null,null,null,{"$f":"catp","v":4}]
[4079,"Gal Nicolae","Uriu",5.4,5.4,"H",null,null,null,{"$f":"catp","v":4}]
[4080,"Borceanu Paul Cristian","Pitesti",5.4,5.4,"H",null,null,null,{"$f":"catp","v":4}]
[4081,"Anghel Darius","Pitesti",5.4,5.4,"H",null,null,null,{"$f":"catp","v":4}]
[4334,"Alstani Mariana","Drobeta Tr Severin",4.0999999999999996,5.4,"HF",null,null,null,{"$f":"catp","v":4}]
[4335,"Varga Florian","Gherla",4.0999999999999996,5.4,"H",null,null,null,{"$f":"catp","v":4}]
[4336,"Kovacs Paul","Apahida",4.0999999999999996,5.4,"H",null,null,null,{"$f":"catp","v":4}]
[4337,"Konti Darius","Apahida",4.0999999999999996,5.4,"H",null,null,null,{"$f":"catp","v":4}]
[4338,"Barjac Raul","Prodanesti",4.0999999999999996,5.4,"H",null,null,null,{"$f":"catp","v":4}]
[2507,"Moldovan Alexandru Radu","Cluj Napoca",35.1,5.38,"H",null,null,null,{"$f":"catp","v":4}]
[3057,"Calota Cristian","Tulcea",19.5,5.38,"H",null,null,null,{"$f":"catp","v":4}]
[2800,"Calin Stefan Daniel","Urlati",25.8,5.37,"H",null,null,null,{"$f":"catp","v":4}]
[3202,"Loghin Dumitru","Pascani",16.8,5.35,"H",null,null,null,{"$f":"catp","v":4}]
[3363,"Illes Sandor Ferenc","Targu Mures",14.2,5.35,"H",null,null,null,{"$f":"catp","v":4}]
[3602,"Moldovan Tudor","Cluj Napoca",10.7,5.35,"H",null,null,null,{"$f":"catp","v":4}]
[3800,"Campean Daniel","Santimbru AB",8.1,5.35,"H",null,null,null,{"$f":"catp","v":4}]
[3061,"Gyorgy Adrienn","Targu Mures",19.3,5.33,"H",null,null,null,{"$f":"catp","v":4}]
[3140,"Iftime Costel","Arad",17.899999999999999,5.33,"H",null,null,null,{"$f":"catp","v":4}]
[3236,"Eftene Roberto","Oltenita",16,5.33,"H",null,null,null,{"$f":"catp","v":4}]
[3312,"Stoica Lucian Andrei","Barlad",15,5.3,"H",null,null,null,{"$f":"catp","v":4}]
[3387,"Bantush Mihaela","Moldova-Cahul",13.6,5.3,"HF",null,null,null,{"$f":"catp","v":4}]
[3409,"Ghiurca Gabriel","Bucuresti",13.3,5.3,"H",null,null,null,{"$f":"catp","v":4}]
[3610,"Radulescu Bogdan","Iedera",10.6,5.3,"H",null,null,null,{"$f":"catp","v":4}]
[3633,"Ichim Cristian","Bucuresti",10.199999999999999,5.3,"H",null,null,null,{"$f":"catp","v":4}]
[4090,"Csiki Alexandru","Tarnaveni",5.3,5.3,"H",null,null,null,{"$f":"catp","v":4}]
[4091,"Hurduc Virgil","Barlad",5.3,5.3,"H",null,null,null,{"$f":"catp","v":4}]
[4092,"Berezan Sorin","Vaslui",5.3,5.3,"H",null,null,null,{"$f":"catp","v":4}]
[4093,"Breda Dan","Tarnaveni",5.3,5.3,"H",null,null,null,{"$f":"catp","v":4}]
[4094,"Cirneci Mihai Georgian","Drobeta Tr Severin",5.3,5.3,"H",null,null,null,{"$f":"catp","v":4}]
[4095,"Pantea Erik","Cluj Napoca",5.3,5.3,"H",null,null,null,{"$f":"catp","v":4}]
[4358,"Alexa Cosmin","Cornetu",4,5.3,"H",null,null,null,{"$f":"catp","v":4}]
[4359,"Marian Mihaescu","Ramnicu Valcea",4,5.3,"H",null,null,null,{"$f":"catp","v":4}]
[2844,"Stoica Adrian","Bucuresti",24.6,5.28,"H",null,null,null,{"$f":"catp","v":4}]
[2013,"Kantor Imre","Reghin",60.4,5.26,"H",null,null,null,{"$f":"catp","v":4}]
[3705,"Campean Traian","Apahida",9.1999999999999993,5.25,"H",null,null,null,{"$f":"catp","v":4}]
[3706,"Enache Ion","Ramnicu Valcea",9.1999999999999993,5.25,"H",null,null,null,{"$f":"catp","v":4}]
[1880,"Veres Iulian Cristian","Petrila",70.7,5.24,"H",null,null,null,{"$f":"catp","v":4}]
[2939,"Szekely Gheorghe","Blaj",22.3,5.23,"HW",null,null,null,{"$f":"catp","v":4}]
[3085,"Ungvari Kriszta","Targu Mures",19,5.23,"H",null,null,null,{"$f":"catp","v":4}]
[3141,"Mihaila Maia","Vulcana Pandele",17.899999999999999,5.23,"HF",null,null,null,{"$f":"catp","v":4}]
[2100,"Ianc Adrian","Floresti",55,5.2,"H",null,null,null,{"$f":"catp","v":4}]
[4105,"Pap Gyula","Gheorgheni",5.2,5.2,"H",null,null,null,{"$f":"catp","v":4}]
[4106,"Flesariu Mihai","Agnita",5.2,5.2,"H",null,null,null,{"$f":"catp","v":4}]
[4107,"Irinariu Bianca","Vatra Dornei",5.2,5.2,"HF",null,null,null,{"$f":"catp","v":4}]
[4108,"Lucas Ionut","Botosani",5.2,5.2,"H",null,null,null,{"$f":"catp","v":4}]
[4109,"Macarescu Sebastian","Suceava",5.2,5.2,"H",null,null,null,{"$f":"catp","v":4}]
[4110,"Marcu Alexandru","Sebes",5.2,5.2,"H",null,null,null,{"$f":"catp","v":4}]
[2954,"Badea Cristian","Calarasi",21.8,5.18,"H",null,null,null,{"$f":"catp","v":4}]
[1694,"Popescu Petre","Bucuresti",85.7,5.17,"H",null,null,null,{"$f":"catp","v":4}]
[3062,"Naghiu Raluca","Cluj Napoca",19.3,5.17,"HF",null,null,null,{"$f":"catp","v":4}]
[3438,"Mihailescu Andrei","Bucuresti",12.9,5.17,"H",null,null,null,{"$f":"catp","v":4}]
[3594,"Moldovan Dorel","Bistrita",10.8,5.15,"H",null,null,null,{"$f":"catp","v":4}]
[3627,"Pestritu Stefan","Calarasi",10.3,5.15,"H",null,null,null,{"$f":"catp","v":4}]
[3764,"Frentiu Vasile","Dej",8.5,5.15,"H",null,null,null,{"$f":"catp","v":4}]
[2584,"Cucu Ioan Emanuel","Brasov",32.9,5.14,"H",null,null,null,{"$f":"catp","v":4}]
[1941,"Trif Mihai","Cluj Napoca",65.2,5.13,"HJ",null,null,null,{"$f":"catp","v":4}]
[2746,"Lazar Viorel","Botosani",27.3,5.13,"H",null,null,null,{"$f":"catp","v":4}]
[3453,"Partene Andrei","Iasi",12.6,5.13,"H",null,null,null,{"$f":"catp","v":4}]
[2177,"Tudose Ilariu","Dragasani",49.9,5.1100000000000003,"H",null,null,null,{"$f":"catp","v":4}]
[3233,"Petrescu Alin","Hateg",16.100000000000001,5.0999999999999996,"H",null,null,null,{"$f":"catp","v":4}]
[4114,"Katona Gellert","Targu Mures",5.0999999999999996,5.0999999999999996,"H",null,null,null,{"$f":"catp","v":4}]
[4115,"Jorga Viktorija","Vlajkovac",5.0999999999999996,5.0999999999999996,"HF",null,null,null,{"$f":"catp","v":4}]
[4116,"Roman Lionel","Vlajkovac",5.0999999999999996,5.0999999999999996,"H",null,null,null,{"$f":"catp","v":4}]
[4117,"Dunca Cristian","Sighetu Marmatiei",5.0999999999999996,5.0999999999999996,"H",null,null,null,{"$f":"catp","v":4}]
[4118,"Muntean Mihai","Sibiu",5.0999999999999996,5.0999999999999996,"H",null,null,null,{"$f":"catp","v":4}]
[4119,"Alexandrov Iulian","Constanta",5.0999999999999996,5.0999999999999996,"H",null,null,null,{"$f":"catp","v":4}]
[4120,"Tibor Matei","Borla",5.0999999999999996,5.0999999999999996,"H",null,null,null,{"$f":"catp","v":4}]
[4121,"Anghel Adriana","Sibiu",5.0999999999999996,5.0999999999999996,"HF",null,null,null,{"$f":"catp","v":4}]
[4122,"Petkovic Momcilo","Kovin",5.0999999999999996,5.0999999999999996,"H",null,null,null,{"$f":"catp","v":4}]
[4123,"Hartopeanu Constantin","Arad",5.0999999999999996,5.0999999999999996,"H",null,null,null,{"$f":"catp","v":4}]
[2086,"Tudoran Catalin","Timisoara",56.4,5.08,"H",null,null,null,{"$f":"catp","v":4}]
[2118,"Domokos Jozsef","Targu Mures",53.3,5.08,"H",null,null,null,{"$f":"catp","v":4}]
[2919,"Viziniuc Madalin","Bucuresti",22.8,5.08,"H",null,null,null,{"$f":"catp","v":4}]
[2985,"Richea Adela","Sibiu",21,5.07,"HF",null,null,null,{"$f":"catp","v":4}]
[2306,"Barbu Dorin","Constanta",43.6,5.05,"H",null,null,null,{"$f":"catp","v":4}]
[3454,"Duhan Regina Elena","Bucuresti",12.6,5.05,"HF",null,null,null,{"$f":"catp","v":4}]
[3595,"Petric David","Timisoara",10.8,5.05,"H",null,null,null,{"$f":"catp","v":4}]
[3637,"Virtea Gheorghe","Targu Neamt",10.1,5.05,"H",null,null,null,{"$f":"catp","v":4}]
[3398,"Feraru Stefan","Buzau",13.5,5.03,"H",null,null,null,{"$f":"catp","v":4}]
[1933,"Lumezeanu Cristian","Bucuresti",65.5,5.0199999999999996,"H",null,null,null,{"$f":"catp","v":4}]
[2873,"Costea Costin","Bucuresti",24,5,"H",null,null,null,{"$f":"catp","v":4}]
[3114,"Nicut Andrei","Curtea de Arges",18.5,5,"H",null,null,null,{"$f":"catp","v":4}]
[3242,"Cecan Miroslav","Moldova-Glodeni",15.8,5,"H",null,null,null,{"$f":"catp","v":4}]
[3379,"Pal Marius","Halaucesti",13.8,5,"H",null,null,null,{"$f":"catp","v":4}]
[3464,"Trandafir Iosif","Galati",12.5,5,"H",null,null,null,{"$f":"catp","v":4}]
[3647,"Luca Ionut","Sibiu",10,5,"H",null,null,null,{"$f":"catp","v":4}]
[3648,"Nichitean Narcis","Cluj Napoca",10,5,"H",null,null,null,{"$f":"catp","v":4}]
[3649,"Budeanu Dan","Sannicolau Mare",10,5,"H",null,null,null,{"$f":"catp","v":4}]
[3650,"Balhuc Rares","Halaucesti",10,5,"H",null,null,null,{"$f":"catp","v":4}]
[3651,"Ioja Danut","Calan",10,5,"H",null,null,null,{"$f":"catp","v":4}]
[3652,"Cuiumju Victor","Moldova-Vulcanesti",10,5,"H",null,null,null,{"$f":"catp","v":4}]
[3653,"Amet Denis","Harsova",10,5,"H",null,null,null,{"$f":"catp","v":4}]
[3654,"Feldara David","Agnita",10,5,"H",null,null,null,{"$f":"catp","v":4}]
[3655,"Dudun Ghenadi","Moldova-Taraclia",10,5,"H",null,null,null,{"$f":"catp","v":4}]
[3726,"Vlad Enache","Bucuresti",9,5,"H",null,null,null,{"$f":"catp","v":4}]
[3738,"Harmanescu Petrus","Falticeni",8.8000000000000007,5,"H",null,null,null,{"$f":"catp","v":4}]
[3855,"Boboc Eva","Vatra Dornei",7.5,5,"HF",null,null,null,{"$f":"catp","v":4}]
[3856,"Ionita Daniel","Bucuresti",7.5,5,"H",null,null,null,{"$f":"catp","v":4}]
[3857,"Derzsi Lorand","Targu Mures",7.5,5,"H",null,null,null,{"$f":"catp","v":4}]
[3858,"Pirvulescu Catalin","Rovinari",7.5,5,"H",null,null,null,{"$f":"catp","v":4}]
[3902,"Gavre Natanael","Hateg",7,5,"H",null,null,null,{"$f":"catp","v":4}]
[3903,"Secareanu Adrian","Barlad",7,5,"H",null,null,null,{"$f":"catp","v":4}]
[3904,"Tabara Lucian","Valenii de Munte",7,5,"H",null,null,null,{"$f":"catp","v":4}]
[4131,"Vladu Nicolae","Pitesti",5,5,"H",null,null,null,{"$f":"catp","v":4}]
[4132,"Stanescu Silviu","Baia Mare",5,5,"H",null,null,null,{"$f":"catp","v":4}]
[4133,"Droj Dumitru","Zalau",5,5,"H",null,null,null,{"$f":"catp","v":4}]
[4134,"Matei Daniel","Targoviste",5,5,"H",null,null,null,{"$f":"catp","v":4}]
[4135,"Szabo Zoltan","Cristuru Secuiesc",5,5,"H",null,null,null,{"$f":"catp","v":4}]
[4136,"Bud Adrian","Dej",5,5,"H",null,null,null,{"$f":"catp","v":4}]
[4137,"Scanteie Iulian","Buzau",5,5,"H",null,null,null,{"$f":"catp","v":4}]
[4138,"Sandu Octav Emilian","Cluj Napoca",5,5,"H",null,null,null,{"$f":"catp","v":4}]
[4139,"Simionese Ovidiu","Granicesti",5,5,"H",null,null,null,{"$f":"catp","v":4}]
[4140,"Cristea Andrei Cosmin","Aiud",5,5,"H",null,null,null,{"$f":"catp","v":4}]
[4141,"Fuciu Alexandru","Sighetu Marmatiei",5,5,"H",null,null,null,{"$f":"catp","v":4}]
[4142,"Baiu Teodor","Brasov",5,5,"H",null,null,null,{"$f":"catp","v":4}]
[4143,"Botea Marian","Fieni",5,5,"H",null,null,null,{"$f":"catp","v":4}]
[4144,"Filimon Alexandru","Aiud",5,5,"H",null,null,null,{"$f":"catp","v":4}]
[4145,"Sirbu Vlad","Aiud",5,5,"H",null,null,null,{"$f":"catp","v":4}]
[4146,"Buta Sebastian","Tarnaveni",5,5,"H",null,null,null,{"$f":"catp","v":4}]
[4147,"Czimbalmos Gyula","Lazarea",5,5,"H",null,null,null,{"$f":"catp","v":4}]
[4148,"Kadar Levente","Odorheiu Secuiesc",5,5,"H",null,null,null,{"$f":"catp","v":4}]
[4149,"Lupu Dan","Pascani",5,5,"H",null,null,null,{"$f":"catp","v":4}]
[4150,"Nemeth Alesia","Dumbravita",5,5,"HF",null,null,null,{"$f":"catp","v":4}]
[4151,"Selaru Victoras","Adjud",5,5,"H",null,null,null,{"$f":"catp","v":4}]
[4152,"Tanase Antonia","Bucuresti",5,5,"HF",null,null,null,{"$f":"catp","v":4}]
[4153,"Codreanu Daria","Bucuresti",5,5,"HF",null,null,null,{"$f":"catp","v":4}]
[4154,"Rosu Victor","Nasaud",5,5,"H",null,null,null,{"$f":"catp","v":4}]
[4155,"Mihaita Nicolae","Bucuresti",5,5,"H",null,null,null,{"$f":"catp","v":4}]
[4156,"Curcin Vladimir","Varset",5,5,"H",null,null,null,{"$f":"catp","v":4}]
[4157,"Pop George","Sibiu",5,5,"H",null,null,null,{"$f":"catp","v":4}]
[4158,"Cordun Eugen","Sibiu",5,5,"H",null,null,null,{"$f":"catp","v":4}]
[4159,"Milentijevic Isidora","Vlajkovac",5,5,"HF",null,null,null,{"$f":"catp","v":4}]
[4160,"Olteanu Dorel","Bucuresti",5,5,"H",null,null,null,{"$f":"catp","v":4}]
[4161,"Manciu George","Cluj Napoca",5,5,"H",null,null,null,{"$f":"catp","v":4}]
[4162,"Olaru Mara","Floresti",5,5,"HF",null,null,null,{"$f":"catp","v":4}]
[4163,"Lazarescu Ioan","Caransebes",5,5,"H",null,null,null,{"$f":"catp","v":4}]
[4164,"Bedreiga Petrica Alin","Husi",5,5,"H",null,null,null,{"$f":"catp","v":4}]
[4165,"Cristea Calin","Targu Mures",5,5,"H",null,null,null,{"$f":"catp","v":4}]
[4166,"Bartha Szabolcs Gyula","Targu Mures",5,5,"H",null,null,null,{"$f":"catp","v":4}]
[4167,"Rarinca Claudiu","Matca",5,5,"H",null,null,null,{"$f":"catp","v":4}]
[4168,"Deli Iura","Moldova-Budjac",5,5,"H",null,null,null,{"$f":"catp","v":4}]
[4169,"Bejan Nicolae","Iasi",5,5,"H",null,null,null,{"$f":"catp","v":4}]
[4170,"Gabor David","Agnita",5,5,"H",null,null,null,{"$f":"catp","v":4}]
[4171,"Sava Elena","Bucuresti",5,5,"HF",null,null,null,{"$f":"catp","v":4}]
[4172,"Zavate Silviu","Bucuresti",5,5,"H",null,null,null,{"$f":"catp","v":4}]
[4173,"Rebegea Vasile","Barlad",5,5,"H",null,null,null,{"$f":"catp","v":4}]
[4174,"Anton Viorel","Barlad",5,5,"H",null,null,null,{"$f":"catp","v":4}]
[4175,"Buica Petrica","Hateg",5,5,"H",null,null,null,{"$f":"catp","v":4}]
[4176,"Manita Claudiu","Santamaria Orlea",5,5,"H",null,null,null,{"$f":"catp","v":4}]
[4177,"Silaghi Adrian","Dumbravita",5,5,"H",null,null,null,{"$f":"catp","v":4}]
[4178,"Neamtu Marius","Campia Turzii",5,5,"H",null,null,null,{"$f":"catp","v":4}]
[4179,"Atasiei Bogdan","Floresti",5,5,"H",null,null,null,{"$f":"catp","v":4}]
[4180,"Rakosi Adrian","Floresti",5,5,"H",null,null,null,{"$f":"catp","v":4}]
[4181,"Ani Cosmin","Popesti CJ",5,5,"H",null,null,null,{"$f":"catp","v":4}]
[4182,"Enache Costel","Bucuresti",5,5,"H",null,null,null,{"$f":"catp","v":4}]
[4183,"Sas Florin","Oradea",5,5,"H",null,null,null,{"$f":"catp","v":4}]
[4184,"Parota Mircea","Alexandria",5,5,"H",null,null,null,{"$f":"catp","v":4}]
[4185,"Mihaes Tudor","Adjud",5,5,"H",null,null,null,{"$f":"catp","v":4}]
[4186,"Raducioiu Daniel","Bucuresti",5,5,"H",null,null,null,{"$f":"catp","v":4}]
[4187,"Savu George Eusebiu","Vulcana Bai",5,5,"H",null,null,null,{"$f":"catp","v":4}]
[4188,"Roca Liliana","Tarnaveni",5,5,"HF",null,null,null,{"$f":"catp","v":4}]
[4189,"Joneczek Sandra","Dumbravita",5,5,"HF",null,null,null,{"$f":"catp","v":4}]
[4190,"Ion Patrick","Bucuresti",5,5,"H",null,null,null,{"$f":"catp","v":4}]
[4191,"Demenciuc Iurie","Moldova-Balti",5,5,"H",null,null,null,{"$f":"catp","v":4}]
[4192,"Belea Beniamin","Cajvana",5,5,"H",null,null,null,{"$f":"catp","v":4}]
[4193,"Pancaricean Emil","Sibiu",5,5,"H",null,null,null,{"$f":"catp","v":4}]
[4194,"Arabadji Iurie","Iasi",5,5,"H",null,null,null,{"$f":"catp","v":4}]
[4195,"Leibold Angela","Germania",5,5,"HF",null,null,null,{"$f":"catp","v":4}]
[4196,"Huruiala Andrei","Ramnicu Valcea",5,5,"H",null,null,null,{"$f":"catp","v":4}]
[4197,"Buraga Emilian","Iasi",5,5,"H",null,null,null,{"$f":"catp","v":4}]
[4198,"Pancevac Ivan","Pancevo",5,5,"H",null,null,null,{"$f":"catp","v":4}]
[4199,"Jelea Iulian","Aroneanu",5,5,"H",null,null,null,{"$f":"catp","v":4}]
[4200,"Plescan Dan","Aroneanu",5,5,"H",null,null,null,{"$f":"catp","v":4}]
[4201,"Stratiev Ivan","Moldova-Taraclia",5,5,"H",null,null,null,{"$f":"catp","v":4}]
[4202,"Pall Roland","Tarnaveni",5,5,"H",null,null,null,{"$f":"catp","v":4}]
[4203,"Balhuc Marian Andrei","Halaucesti",5,5,"H",null,null,null,{"$f":"catp","v":4}]
[4204,"Salvan Horatiu","Cluj Napoca",5,5,"H",null,null,null,{"$f":"catp","v":4}]
[4205,"Moldovan Nicu","Orastie",5,5,"H",null,null,null,{"$f":"catp","v":4}]
[4206,"Buzzoni Clara","Lombardia Italia",5,5,"HF",null,null,null,{"$f":"catp","v":4}]
[4207,"Burz Adrian Gheorghe","Fagaras",5,5,"H",null,null,null,{"$f":"catp","v":4}]
[4208,"Pausian Claudiu","Cluj Napoca",5,5,"H",null,null,null,{"$f":"catp","v":4}]
[4209,"Papuc David","Bucuresti",5,5,"H",null,null,null,{"$f":"catp","v":4}]
[4210,"Mihai Laurentiu","Bucuresti",5,5,"H",null,null,null,{"$f":"catp","v":4}]
[4211,"Ionescu Dumitru","Bucuresti",5,5,"H",null,null,null,{"$f":"catp","v":4}]
[4417,"Lupu Claudiu","Brasov",3.8,5,"H",null,null,null,{"$f":"catp","v":4}]
[4418,"Tudor Cosmin","Buzau",3.8,5,"H",null,null,null,{"$f":"catp","v":4}]
[4419,"Bokor Zoltan Sr","Brasov",3.8,5,"H",null,null,null,{"$f":"catp","v":4}]
[4420,"Gritto Geza","Medias",3.8,5,"H",null,null,null,{"$f":"catp","v":4}]
[4421,"Caranfilian Eduard","Bucuresti",3.8,5,"H",null,null,null,{"$f":"catp","v":4}]
[4422,"Kercedi Catalin","Tarnaveni",3.8,5,"H",null,null,null,{"$f":"catp","v":4}]
[4423,"Bira Mitache","Constanta",3.8,5,"H",null,null,null,{"$f":"catp","v":4}]
[4424,"Antonescu Dan","Bucuresti",3.8,5,"H",null,null,null,{"$f":"catp","v":4}]
[4425,"Catargiu Andrei","Bucuresti",3.8,5,"H",null,null,null,{"$f":"catp","v":4}]
[4426,"Udila Emanuel","Bucuresti",3.8,5,"H",null,null,null,{"$f":"catp","v":4}]
[4427,"Opran Gavril","Bucuresti",3.8,5,"H",null,null,null,{"$f":"catp","v":4}]
[4428,"Acsinte Andrei","Roman",3.8,5,"H",null,null,null,{"$f":"catp","v":4}]
[4429,"Velea Alin","Bucuresti",3.8,5,"H",null,null,null,{"$f":"catp","v":4}]
[4430,"Marcu David","Iasi",3.8,5,"H",null,null,null,{"$f":"catp","v":4}]
[4431,"Prelipceanu Ciprian","Iasi",3.8,5,"H",null,null,null,{"$f":"catp","v":4}]
[4432,"Sosa Sebastian","Aiud",3.8,5,"H",null,null,null,{"$f":"catp","v":4}]
[4433,"Simon Robert","Cluj Napoca",3.8,5,"H",null,null,null,{"$f":"catp","v":4}]
[4434,"Coman Alexandru","Bucuresti",3.8,5,"H",null,null,null,{"$f":"catp","v":4}]
[4435,"Tita Dan","Domnesti",3.8,5,"H",null,null,null,{"$f":"catp","v":4}]
[4436,"Generosu Catalin","Alexandria",3.8,5,"H",null,null,null,{"$f":"catp","v":4}]
[4437,"Batrinu Florin Andrei Catalin","Alexandria",3.8,5,"H",null,null,null,{"$f":"catp","v":4}]
[4438,"Chebac Moiz","Galati",3.8,5,"H",null,null,null,{"$f":"catp","v":4}]
[4439,"Varga Zoltan","Bucuresti",3.8,5,"H",null,null,null,{"$f":"catp","v":4}]
[4440,"Stan Tiberiu Dan","Iasi",3.8,5,"H",null,null,null,{"$f":"catp","v":4}]
[4441,"Tintarcu Gabriel","Bucuresti",3.8,5,"H",null,null,null,{"$f":"catp","v":4}]
[4442,"Ciornuleta Denis Stefan","Focsani",3.8,5,"H",null,null,null,{"$f":"catp","v":4}]
[4443,"Belba Mihai","Baile Herculane",3.8,5,"H",null,null,null,{"$f":"catp","v":4}]
[4444,"Furdui Damian","Moldova-Balti",3.8,5,"H",null,null,null,{"$f":"catp","v":4}]
[2066,"Bruzan Cosmin","Calan",57.7,4.99,"H",null,null,null,{"$f":"catp","v":4}]
[1859,"Petre Gabriel","Bucuresti",71.599999999999994,4.9800000000000004,"H",null,null,null,{"$f":"catp","v":4}]
[2795,"Tonciu Mihai","Branesti",25.9,4.9800000000000004,"H",null,null,null,{"$f":"catp","v":4}]
[2133,"Stancu Gheorghe","Brazi",52.3,4.95,"H",null,null,null,{"$f":"catp","v":4}]
[3502,"Ardeleanu Marcel","Focsani",11.9,4.95,"H",null,null,null,{"$f":"catp","v":4}]
[3665,"Brebu Liviu","Barlad",9.9,4.95,"H",null,null,null,{"$f":"catp","v":4}]
[3666,"Popescu Mariana","Radauti",9.9,4.95,"HF",null,null,null,{"$f":"catp","v":4}]
[3746,"Funaru Raul","Cluj Napoca",8.6999999999999993,4.95,"H",null,null,null,{"$f":"catp","v":4}]
[2135,"Orga Adrian","Ludus",52.2,4.9400000000000004,"H",null,null,null,{"$f":"catp","v":4}]
[2594,"David Sergiu Danut","Bucuresti",32.299999999999997,4.9400000000000004,"H",null,null,null,{"$f":"catp","v":4}]
[2577,"Oprea Adrian","Bucuresti",33.1,4.93,"H",null,null,null,{"$f":"catp","v":4}]
[2644,"Nemeti Zoltan","Oradea",30.3,4.93,"H",null,null,null,{"$f":"catp","v":4}]
[2961,"Grecu Radu","Iasi",21.6,4.93,"H",null,null,null,{"$f":"catp","v":4}]
[2962,"Bohotineanu Florin","Vaslui",21.6,4.9000000000000004,"H",null,null,null,{"$f":"catp","v":4}]
[3388,"Iotu Mihaita Sorin","Alexandria",13.6,4.9000000000000004,"HD",null,null,null,{"$f":"catp","v":4}]
[3403,"Oprea Cosmin","Calan",13.4,4.9000000000000004,"H",null,null,null,{"$f":"catp","v":4}]
[3476,"Popa David","Aiud",12.3,4.9000000000000004,"H",null,null,null,{"$f":"catp","v":4}]
[3495,"Batir Alexandru","Bucuresti",12,4.9000000000000004,"H",null,null,null,{"$f":"catp","v":4}]
[3747,"Ploia Marius","Sibiu",8.6999999999999993,4.9000000000000004,"H",null,null,null,{"$f":"catp","v":4}]
[3753,"Laszlo Cristina","Arad",8.6,4.9000000000000004,"HF",null,null,null,{"$f":"catp","v":4}]
[3785,"Vilcu Viorel","Tulcea",8.3000000000000007,4.9000000000000004,"H",null,null,null,{"$f":"catp","v":4}]
[3864,"Chirea Alex","Bals",7.4,4.9000000000000004,"H",null,null,null,{"$f":"catp","v":4}]
[4235,"Dezso Attila","Dej",4.9000000000000004,4.9000000000000004,"HW",null,null,null,{"$f":"catp","v":4}]
[4236,"Bors Marian","Barlad",4.9000000000000004,4.9000000000000004,"H",null,null,null,{"$f":"catp","v":4}]
[4237,"Serban Marius Catalin","Barlad",4.9000000000000004,4.9000000000000004,"H",null,null,null,{"$f":"catp","v":4}]
[4450,"Cosmin Alexa","Cornetu",3.7,4.9000000000000004,"HF",null,null,null,{"$f":"catp","v":4}]
[1902,"Avadanei Maria","Cluj Napoca",68.7,4.8899999999999997,"HF",null,null,null,{"$f":"catp","v":4}]
[2108,"Hoca Daniel","Lunca Muresului",54.4,4.8899999999999997,"H",null,null,null,{"$f":"catp","v":4}]
[3063,"Lacatusu Aurelian","Iasi",19.3,4.87,"H",null,null,null,{"$f":"catp","v":4}]
[2623,"Popa Adrian","Hunedoara",31.4,4.8600000000000003,"H",null,null,null,{"$f":"catp","v":4}]
[2042,"Span Maria","Sibiu",58.6,4.8499999999999996,"HF",null,null,null,{"$f":"catp","v":4}]
[3669,"Murvai Bela","Delenii",9.6999999999999993,4.8499999999999996,"H",null,null,null,{"$f":"catp","v":4}]
[3739,"Tofan Sebastian","Lipova",8.8000000000000007,4.8499999999999996,"H",null,null,null,{"$f":"catp","v":4}]
[2821,"Mosnegutu Laurentiu","Dorohoi",25.1,4.83,"H",null,null,null,{"$f":"catp","v":4}]
[3039,"Filat Maria","Bucuresti",19.899999999999999,4.83,"HF",null,null,null,{"$f":"catp","v":4}]
[2704,"Gales Ioan","Suceava",28.6,4.8,"H",null,null,null,{"$f":"catp","v":4}]
[2819,"Coaja Constantin","Bucuresti",25.2,4.8,"H",null,null,null,{"$f":"catp","v":4}]
[2912,"Paun Carmen","Alexandria",22.9,4.8,"HF",null,null,null,{"$f":"catp","v":4}]
[3142,"Gal Csaby","Alesd",17.899999999999999,4.8,"H",null,null,null,{"$f":"catp","v":4}]
[3317,"Demian Radu","Oradea",14.9,4.8,"H",null,null,null,{"$f":"catp","v":4}]
[3675,"Bigiu Florin","Tecuci",9.6,4.8,"H",null,null,null,{"$f":"catp","v":4}]
[3676,"Tudosie David","Ploiesti",9.6,4.8,"H",null,null,null,{"$f":"catp","v":4}]
[3765,"Fulop Lehel","Sovata",8.5,4.8,"H",null,null,null,{"$f":"catp","v":4}]
[4242,"Ankar Mohamed","Timisoara",4.8,4.8,"H",null,null,null,{"$f":"catp","v":4}]
[4243,"Bizo Virgil","Brad",4.8,4.8,"H",null,null,null,{"$f":"catp","v":4}]
[4244,"Ghedreutan Gheorghe","Moldova-Drochia",4.8,4.8,"H",null,null,null,{"$f":"catp","v":4}]
[4245,"Barbu Denis","Bucuresti",4.8,4.8,"H",null,null,null,{"$f":"catp","v":4}]
[4246,"Stoica Ovidiu","Bucuresti",4.8,4.8,"H",null,null,null,{"$f":"catp","v":4}]
[4247,"Butusina Samuel","Arad",4.8,4.8,"H",null,null,null,{"$f":"catp","v":4}]
[4456,"Grigoras Andrei","Cluj Napoca",3.6,4.8,"H",null,null,null,{"$f":"catp","v":4}]
[4457,"Craciun Dragos","Filipestii de Targ",3.6,4.8,"H",null,null,null,{"$f":"catp","v":4}]
[4458,"Ienci Daniel","Targu Mures",3.6,4.8,"H",null,null,null,{"$f":"catp","v":4}]
[4459,"Olaru Mara","Cluj Napoca",3.6,4.8,"HF",null,null,null,{"$f":"catp","v":4}]
[4460,"Popov Iurie","Moldova-Balti",3.6,4.8,"H",null,null,null,{"$f":"catp","v":4}]
[2004,"Ene Daniel","Ploiesti",61,4.79,"H",null,null,null,{"$f":"catp","v":4}]
[2900,"Diaconu Daniel","Timisoara",23.2,4.78,"H",null,null,null,{"$f":"catp","v":4}]
[3143,"Pruna Cristian","Ploiesti",17.899999999999999,4.75,"H",null,null,null,{"$f":"catp","v":4}]
[3313,"Urzica Pavel","Piatra Neamt",15,4.75,"H",null,null,null,{"$f":"catp","v":4}]
[3536,"Tofalvi Erzsebet","Odorheiu Secuiesc",11.5,4.75,"HF",null,null,null,{"$f":"catp","v":4}]
[3774,"Pop Alexia","Lugoj",8.4,4.75,"HF",null,null,null,{"$f":"catp","v":4}]
[3786,"Zaharia Dorin","Targu Mures",8.3000000000000007,4.75,"H",null,null,null,{"$f":"catp","v":4}]
[2678,"Duagi Ervin","Galati",29.3,4.74,"H",null,null,null,{"$f":"catp","v":4}]
[2696,"Ristica Alexandru","Craiova",28.9,4.74,"H",null,null,null,{"$f":"catp","v":4}]
[3207,"Kovacs Attila","Covasna",16.7,4.7300000000000004,"H",null,null,null,{"$f":"catp","v":4}]
[2747,"Todea Mircea","Cluj Napoca",27.3,4.7,"H",null,null,null,{"$f":"catp","v":4}]
[3265,"Blaga Daria","Cluj Napoca",15.4,4.7,"HF",null,null,null,{"$f":"catp","v":4}]
[3689,"Ursan Stefan","Manastireni",9.4,4.7,"H",null,null,null,{"$f":"catp","v":4}]
[3690,"Capalnas Vasile","Bistrita",9.4,4.7,"H",null,null,null,{"$f":"catp","v":4}]
[3787,"Bej Ioan","Arad",8.3000000000000007,4.7,"H",null,null,null,{"$f":"catp","v":4}]
[3810,"Simionov Iura","Hunedoara",8,4.7,"H",null,null,null,{"$f":"catp","v":4}]
[4252,"Dinu Cristian","Sotanga",4.7,4.7,"H",null,null,null,{"$f":"catp","v":4}]
[4253,"Agbas Veaceslav","Moldova-Ceadir-Lunga",4.7,4.7,"H",null,null,null,{"$f":"catp","v":4}]
[4254,"Manzala Catalin","Buzau",4.7,4.7,"H",null,null,null,{"$f":"catp","v":4}]
[4461,"Mandrean Gabriel","Hunedoara",3.6,4.7,"H",null,null,null,{"$f":"catp","v":4}]
[4462,"Mosgoreanu Codrut","Bucuresti",3.6,4.7,"H",null,null,null,{"$f":"catp","v":4}]
[4463,"Dima Gabriel","Braila",3.6,4.7,"H",null,null,null,{"$f":"catp","v":4}]
[4464,"Borbil Octavian","Sibiu",3.6,4.7,"H",null,null,null,{"$f":"catp","v":4}]
[2363,"Ploscar Claudiu","Cluj Napoca",40.9,4.67,"H",null,null,null,{"$f":"catp","v":4}]
[2447,"Andrei Maria","Ludus",37,4.67,"HF",null,null,null,{"$f":"catp","v":4}]
[3230,"Streche Andrei","Bucuresti",16.2,4.67,"H",null,null,null,{"$f":"catp","v":4}]
[3410,"Bora Robert","Constanta",13.3,4.67,"H",null,null,null,{"$f":"catp","v":4}]
[2464,"Buraciuc Raluca","Nasaud",36.4,4.6500000000000004,"HF",null,null,null,{"$f":"catp","v":4}]
[2989,"Radovan Goran","Timisoara",20.9,4.6500000000000004,"H",null,null,null,{"$f":"catp","v":4}]
[3399,"Szasz Csongor","Gheorgheni",13.5,4.6500000000000004,"H",null,null,null,{"$f":"catp","v":4}]
[3801,"Simionescu Robert","Alexandria",8.1,4.6500000000000004,"H",null,null,null,{"$f":"catp","v":4}]
[3811,"Abdi Shenol","Bucuresti",8,4.6500000000000004,"H",null,null,null,{"$f":"catp","v":4}]
[2448,"Pralea David Constantin","Alba Iulia",37,4.62,"H",null,null,null,{"$f":"catp","v":4}]
[2901,"Bzovii Elena","Moldova-Cahul",23.2,4.5999999999999996,"HF",null,null,null,{"$f":"catp","v":4}]
[3185,"Gliga Lavinia","Reghin",17.2,4.5999999999999996,"HF",null,null,null,{"$f":"catp","v":4}]
[3336,"Berbecanu Andrei","Videle",14.7,4.5999999999999996,"H",null,null,null,{"$f":"catp","v":4}]
[3455,"Radu Lucian","Bucuresti",12.6,4.5999999999999996,"H",null,null,null,{"$f":"catp","v":4}]
[3707,"Moldovan Mihai","Toplita",9.1999999999999993,4.5999999999999996,"H",null,null,null,{"$f":"catp","v":4}]
[3766,"Luca Iulian","Bucuresti",8.5,4.5999999999999996,"H",null,null,null,{"$f":"catp","v":4}]
[3788,"Alexandru Matei","Cluj Napoca",8.3000000000000007,4.5999999999999996,"H",null,null,null,{"$f":"catp","v":4}]
[3812,"Salmanov Serghei","Moldova-Balti",8,4.5999999999999996,"H",null,null,null,{"$f":"catp","v":4}]
[3926,"Rosenbaum Vladimir","Timisoara",6.9,4.5999999999999996,"H",null,null,null,{"$f":"catp","v":4}]
[3927,"Schnepp Michael","Brasov",6.9,4.5999999999999996,"H",null,null,null,{"$f":"catp","v":4}]
[3928,"Dancioiu Antonio","Targoviste",6.9,4.5999999999999996,"H",null,null,null,{"$f":"catp","v":4}]
[3929,"Raduta Alexandra","Targoviste",6.9,4.5999999999999996,"HF",null,null,null,{"$f":"catp","v":4}]
[3930,"Bolovaneanu Vlad","Bucuresti",6.9,4.5999999999999996,"H",null,null,null,{"$f":"catp","v":4}]
[4263,"Berchi Ioan","Arad",4.5999999999999996,4.5999999999999996,"H",null,null,null,{"$f":"catp","v":4}]
[4264,"Damian Vasile","Nasaud",4.5999999999999996,4.5999999999999996,"H",null,null,null,{"$f":"catp","v":4}]
[4265,"Bilibok Csongor","Gheorgheni",4.5999999999999996,4.5999999999999996,"H",null,null,null,{"$f":"catp","v":4}]
[4266,"Tartu Tiberiu","Teius",4.5999999999999996,4.5999999999999996,"H",null,null,null,{"$f":"catp","v":4}]
[4267,"Bucin Claudiu","Targu Mures",4.5999999999999996,4.5999999999999996,"H",null,null,null,{"$f":"catp","v":4}]
[4268,"Toma Andrei","Reghin",4.5999999999999996,4.5999999999999996,"H",null,null,null,{"$f":"catp","v":4}]
[4476,"Ganga Alexandru","Suceava",3.5,4.5999999999999996,"H",null,null,null,{"$f":"catp","v":4}]
[2689,"Munteanu Stefan","Piatra Neamt",29.1,4.58,"H",null,null,null,{"$f":"catp","v":4}]
[3628,"Nicolae Sorin","Targoviste",10.3,4.55,"H",null,null,null,{"$f":"catp","v":4}]
[3718,"Ciulei Adrian","Movila",9.1,4.55,"HW",null,null,null,{"$f":"catp","v":4}]
[2302,"Rosu Nicolae","Sibiu",43.8,4.53,"H",null,null,null,{"$f":"catp","v":4}]
[3115,"Dumitrache Daniel","Sinaia",18.5,4.53,"H",null,null,null,{"$f":"catp","v":4}]
[3224,"Condrea Nicolae","Alba Iulia",16.3,4.5,"H",null,null,null,{"$f":"catp","v":4}]
[3503,"Ternauciuc Octavian","Nadrag",11.9,4.5,"H",null,null,null,{"$f":"catp","v":4}]
[3727,"Nasui Gavrila","Cluj Napoca",9,4.5,"H",null,null,null,{"$f":"catp","v":4}]
[3728,"Nemet Istvan Levente","Delenii",9,4.5,"H",null,null,null,{"$f":"catp","v":4}]
[4271,"Craciunescu Mihai","Calarasi",4.5,4.5,"H",null,null,null,{"$f":"catp","v":4}]
[4272,"Fodor Attila","Vanatori",4.5,4.5,"H",null,null,null,{"$f":"catp","v":4}]
[4273,"Ghinea Costin","Moinesti",4.5,4.5,"H",null,null,null,{"$f":"catp","v":4}]
[4274,"Kolumban Elek","Targu Mures",4.5,4.5,"H",null,null,null,{"$f":"catp","v":4}]
[4275,"Cangia Tudor","Tulcea",4.5,4.5,"H",null,null,null,{"$f":"catp","v":4}]
[4276,"Aloman Mircea","Andrasesti",4.5,4.5,"H",null,null,null,{"$f":"catp","v":4}]
[4277,"Triteanu Ovidiu","Cluj Napoca",4.5,4.5,"H",null,null,null,{"$f":"catp","v":4}]
[4278,"Chiper Codrin Gabriel","Bacau",4.5,4.5,"H",null,null,null,{"$f":"catp","v":4}]
[4279,"Lepadatu Robert","Priboieni",4.5,4.5,"H",null,null,null,{"$f":"catp","v":4}]
[4280,"Biris Alexandru","Sighisoara",4.5,4.5,"H",null,null,null,{"$f":"catp","v":4}]
[4281,"Dinescu Alin","Bucuresti",4.5,4.5,"H",null,null,null,{"$f":"catp","v":4}]
[4529,"Gheorghe Alexandru","Pitesti",3.4,4.5,"H",null,null,null,{"$f":"catp","v":4}]
[4530,"Dragomer Tamas","Bretcu",3.4,4.5,"H",null,null,null,{"$f":"catp","v":4}]
[4531,"Iconaru Madalin","Alexandria",3.4,4.5,"H",null,null,null,{"$f":"catp","v":4}]
[4532,"Baidanac Radu","Alexandria",3.4,4.5,"H",null,null,null,{"$f":"catp","v":4}]
[4533,"Preda Ion","Targoviste",3.4,4.5,"H",null,null,null,{"$f":"catp","v":4}]
[4534,"Dicu Bogdan","Voinesti DB",3.4,4.5,"H",null,null,null,{"$f":"catp","v":4}]
[4535,"Musceleanu Stefan","Buftea",3.4,4.5,"H",null,null,null,{"$f":"catp","v":4}]
[4536,"Balan Florin","Brasov",3.4,4.5,"H",null,null,null,{"$f":"catp","v":4}]
[4537,"Vagasi Zoltan","Brasov",3.4,4.5,"H",null,null,null,{"$f":"catp","v":4}]
[2589,"Andrei Lucian","Nasaud",32.5,4.4800000000000004,"H"]
[2839,"Toderita Catalina","Bucuresti",24.7,4.4800000000000004,"HF",null,null,null,{"$f":"catp","v":4}]
[3243,"Boicu Victor","Vatra Dornei",15.8,4.4800000000000004,"H",null,null,null,{"$f":"catp","v":4}]
[3562,"Ilie Marius Viorel","Brasov",11.2,4.45,"H",null,null,null,{"$f":"catp","v":4}]
[3734,"Obis Akos","Berveni",8.9,4.45,"H",null,null,null,{"$f":"catp","v":4}]
[3735,"Macovei Costel","Iasi",8.9,4.45,"H",null,null,null,{"$f":"catp","v":4}]
[3175,"Szekely Attila","Arad",17.399999999999999,4.43,"H",null,null,null,{"$f":"catp","v":4}]
[2393,"Ivanov Alexandru","Moldova-Cahul",39.700000000000003,4.41,"H",null,null,null,{"$f":"catp","v":4}]
[2394,"Vescan Lucian","Cluj Napoca",39.4,4.4000000000000004,"H",null,null,null,{"$f":"catp","v":4}]
[2801,"Bzovii Teodora","Moldova-Cahul",25.8,4.4000000000000004,"HF",null,null,null,{"$f":"catp","v":4}]
[3050,"Mosneagu Mario","Partestii de Jos",19.7,4.4000000000000004,"H",null,null,null,{"$f":"catp","v":4}]
[3076,"Jitaru Stefan","Piatra Neamt",19.100000000000001,4.4000000000000004,"H",null,null,null,{"$f":"catp","v":4}]
[3198,"Gurita Ionut","Tulcea",16.899999999999999,4.4000000000000004,"H",null,null,null,{"$f":"catp","v":4}]
[3568,"Savu Andrei","Targoviste",11.1,4.4000000000000004,"H",null,null,null,{"$f":"catp","v":4}]
[3842,"Ploia Tudor","Sibiu",7.7,4.4000000000000004,"H",null,null,null,{"$f":"catp","v":4}]
[3957,"Caciandone Stere","Constanta",6.6,4.4000000000000004,"H",null,null,null,{"$f":"catp","v":4}]
[3958,"Ciurez Vladimir","Bucuresti",6.6,4.4000000000000004,"H",null,null,null,{"$f":"catp","v":4}]
[3959,"Dragomirescu Stefan","Bucuresti",6.6,4.4000000000000004,"H",null,null,null,{"$f":"catp","v":4}]
[4306,"Terna David","Moldova-Balti",4.4000000000000004,4.4000000000000004,"H",null,null,null,{"$f":"catp","v":4}]
[4307,"Jujonescu Paul","Nadrag",4.4000000000000004,4.4000000000000004,"H",null,null,null,{"$f":"catp","v":4}]
[4308,"Farcas Rares","Targu Mures",4.4000000000000004,4.4000000000000004,"H",null,null,null,{"$f":"catp","v":4}]
[4309,"Tudorache Ciprian","Ploiesti",4.4000000000000004,4.4000000000000004,"H",null,null,null,{"$f":"catp","v":4}]
[4310,"Masnita Andrei","Viseu",4.4000000000000004,4.4000000000000004,"H",null,null,null,{"$f":"catp","v":4}]
[4545,"Morosan Dana","Vatra Dornei",3.3,4.4000000000000004,"HF",null,null,null,{"$f":"catp","v":4}]
[4546,"Patras Claudiu","Iasi",3.3,4.4000000000000004,"H",null,null,null,{"$f":"catp","v":4}]
[4547,"Stamatin Alexandru","Tibanesti",3.3,4.4000000000000004,"H",null,null,null,{"$f":"catp","v":4}]
[4548,"Ticlos Cristian","Iasi",3.3,4.4000000000000004,"H",null,null,null,{"$f":"catp","v":4}]
[4549,"Minea Robert","Brasov",3.3,4.4000000000000004,"H",null,null,null,{"$f":"catp","v":4}]
[4550,"Pascariu Cosmin","Suceava",3.3,4.4000000000000004,"H",null,null,null,{"$f":"catp","v":4}]
[4551,"Deabluc Samuel","Dumbraveni SV",3.3,4.4000000000000004,"H",null,null,null,{"$f":"catp","v":4}]
[2882,"Petrache Stefan","Blaj",23.7,4.38,"H",null,null,null,{"$f":"catp","v":4}]
[3489,"Predoi Bogdan","Rosiori de Vede",12.1,4.37,"H",null,null,null,{"$f":"catp","v":4}]
[3596,"Toma Calaraseanu","Bucuresti",10.8,4.37,"H",null,null,null,{"$f":"catp","v":4}]
[2888,"Bregar Dan","Alba Iulia",23.4,4.3600000000000003,"HW",null,null,null,{"$f":"catp","v":4}]
[3793,"Borsa Sorin","Bistrita",8.1999999999999993,4.3499999999999996,"H",null,null,null,{"$f":"catp","v":4}]
[3827,"Carp Marius","Bucuresti",7.8,4.3499999999999996,"H",null,null,null,{"$f":"catp","v":4}]
[3828,"Cailean Daniel","Turda",7.8,4.3499999999999996,"H",null,null,null,{"$f":"catp","v":4}]
[3846,"Bolovaneanu Vlad","Targoviste",7.6,4.3499999999999996,"H",null,null,null,{"$f":"catp","v":4}]
[2856,"Bozga Luisa","Dobric",24.4,4.33,"HF",null,null,null,{"$f":"catp","v":4}]
[3504,"Popa Yannis","Pitesti",11.9,4.33,"H",null,null,null,{"$f":"catp","v":4}]
[3524,"Sava Ionut","Bacau",11.7,4.33,"H",null,null,null,{"$f":"catp","v":4}]
[2535,"Andrei Vasile Ilie","Ludus",34.299999999999997,4.3099999999999996,"H",null,null,null,{"$f":"catp","v":4}]
[2675,"Istina Lucas","Arad",29.4,4.3,"H",null,null,null,{"$f":"catp","v":4}]
[3100,"Neica Sorin","Brasov",18.7,4.3,"H",null,null,null,{"$f":"catp","v":4}]
[3345,"Marcu Mario","Bucovat",14.4,4.3,"H",null,null,null,{"$f":"catp","v":4}]
[3611,"Bodoni Renata","Targu Mures",10.6,4.3,"HF",null,null,null,{"$f":"catp","v":4}]
[3754,"Talpa Artiom","Moldova-Balti",8.6,4.3,"H",null,null,null,{"$f":"catp","v":4}]
[3755,"Vasiliu Aurel","Barlad",8.6,4.3,"H",null,null,null,{"$f":"catp","v":4}]
[3963,"Eden Memet","Constanta",6.5,4.3,"H",null,null,null,{"$f":"catp","v":4}]
[4313,"Tudosie Marcel","Ploiesti",4.3,4.3,"H",null,null,null,{"$f":"catp","v":4}]
[4314,"Vaida Szilard","Bistrita",4.3,4.3,"H",null,null,null,{"$f":"catp","v":4}]
[4315,"Buzdea Stefanel","Iasi",4.3,4.3,"H",null,null,null,{"$f":"catp","v":4}]
[4552,"Butunoiu Dorin","Brasov",3.3,4.3,"H",null,null,null,{"$f":"catp","v":4}]
[4553,"Bocean Andrei Emanuel","Apahida",3.3,4.3,"H",null,null,null,{"$f":"catp","v":4}]
[4554,"Stoleru Matei","Iasi",3.3,4.3,"H",null,null,null,{"$f":"catp","v":4}]
[4555,"Enea Manuel","Iasi",3.3,4.3,"H",null,null,null,{"$f":"catp","v":4}]
[4556,"Patric Filip","Cluj Napoca",3.3,4.3,"H",null,null,null,{"$f":"catp","v":4}]
[2311,"Mesaros Ovidiu","Valenii de Munte",43.4,4.29,"H",null,null,null,{"$f":"catp","v":4}]
[3182,"Burga Ionut","Bucuresti",17.3,4.28,"H",null,null,null,{"$f":"catp","v":4}]
[3496,"Petrov Marius","Lovrin",12,4.2699999999999996,"H",null,null,null,{"$f":"catp","v":4}]
[2806,"Voivod Mihai","Cluj Napoca",25.6,4.25,"H",null,null,null,{"$f":"catp","v":4}]
[3047,"Kifor Razvan","Bran",19.8,4.25,"H",null,null,null,{"$f":"catp","v":4}]
[3400,"Coman Denis","Cluj Napoca",13.5,4.25,"H",null,null,null,{"$f":"catp","v":4}]
[3767,"Buicea Andra","Pitesti",8.5,4.25,"HF",null,null,null,{"$f":"catp","v":4}]
[3829,"Budusan Claudiu","Dej",7.8,4.25,"H",null,null,null,{"$f":"catp","v":4}]
[3032,"Hutan Cosmin","Salcea",20.100000000000001,4.2300000000000004,"H",null,null,null,{"$f":"catp","v":4}]
[2416,"Acu Rares","Bucuresti",38.4,4.21,"H",null,null,null,{"$f":"catp","v":4}]
[2581,"Selejan Laurentiu","Arad",33,4.2,"H",null,null,null,{"$f":"catp","v":4}]
[2796,"Radulescu Catalin","Ploiesti",25.9,4.2,"HD",null,null,null,{"$f":"catp","v":4}]
[3051,"Oprita Miruna","Nasaud",19.7,4.2,"HF",null,null,null,{"$f":"catp","v":4}]
[3603,"Novac Gabriel","Targoviste",10.7,4.2,"H",null,null,null,{"$f":"catp","v":4}]
[3708,"Crutian Alexei","Moldova-Balti",9.1999999999999993,4.2,"H",null,null,null,{"$f":"catp","v":4}]
[3775,"Deaconu Adrian","Sibiu",8.4,4.2,"H",null,null,null,{"$f":"catp","v":4}]
[3865,"Delev Paula","Moldova-Balti",7.4,4.2,"HF",null,null,null,{"$f":"catp","v":4}]
[3886,"Gheorghe Eduard","Targoviste",7.2,4.2,"H",null,null,null,{"$f":"catp","v":4}]
[3989,"Mialau Marius","Zalau",6.3,4.2,"H",null,null,null,{"$f":"catp","v":4}]
[4322,"Berei Roland","Satu Mare",4.2,4.2,"H",null,null,null,{"$f":"catp","v":4}]
[4323,"Bartha Arpad","Micfalau",4.2,4.2,"H",null,null,null,{"$f":"catp","v":4}]
[4324,"Gaspar Zsolt Endre","Pericei",4.2,4.2,"H",null,null,null,{"$f":"catp","v":4}]
[4325,"Muntean Radu","Floresti",4.2,4.2,"H",null,null,null,{"$f":"catp","v":4}]
[4326,"Iancu Vasile","Zalau",4.2,4.2,"H",null,null,null,{"$f":"catp","v":4}]
[4327,"Platon Dan","Beclean",4.2,4.2,"H",null,null,null,{"$f":"catp","v":4}]
[4328,"Ghica Nicolae","Gornet Cricov",4.2,4.2,"H",null,null,null,{"$f":"catp","v":4}]
[4567,"Croitoru Ianiss","Brasov",3.2,4.2,"H",null,null,null,{"$f":"catp","v":4}]
[4568,"Carcea David","Galanesti",3.2,4.2,"H",null,null,null,{"$f":"catp","v":4}]
[4569,"Brasoveanu Arthur","Brasov",3.2,4.2,"H",null,null,null,{"$f":"catp","v":4}]
[2634,"Popovici Rares Andrei","Brasov",30.8,4.1500000000000004,"H",null,null,null,{"$f":"catp","v":4}]
[2788,"Szep Octavian","Nasaud",26.1,4.1500000000000004,"H",null,null,null,{"$f":"catp","v":4}]
[2976,"Radovan Dusan","Timisoara",21.3,4.1500000000000004,"H",null,null,null,{"$f":"catp","v":4}]
[3597,"Turtoi Costin","Tulcea",10.8,4.1500000000000004,"H",null,null,null,{"$f":"catp","v":4}]
[3789,"Kopka David","Arad",8.3000000000000007,4.1500000000000004,"H",null,null,null,{"$f":"catp","v":4}]
[3866,"Burnar Ioan","Viseu",7.4,4.1500000000000004,"H",null,null,null,{"$f":"catp","v":4}]
[2327,"Andrei Cornel","Nasaud",42.4,4.13,"H",null,null,null,{"$f":"catp","v":4}]
[2574,"Ispas Marius","Sebes",33.200000000000003,4.13,"H",null,null,null,{"$f":"catp","v":4}]
[2948,"Borsan Adrian","Cluj Napoca",22,4.13,"H",null,null,null,{"$f":"catp","v":4}]
[3383,"Dumitru Denis","Navodari",13.7,4.13,"H",null,null,null,{"$f":"catp","v":4}]
[3557,"Caracuda Andrei","Sibiu",11.3,4.13,"H",null,null,null,{"$f":"catp","v":4}]
[2220,"Grigore Mihai","Bucuresti",47.7,4.1100000000000003,"H",null,null,null,{"$f":"catp","v":4}]
[2279,"Cucu Gabriela","Brasov",44.7,4.0999999999999996,"HF",null,null,null,{"$f":"catp","v":4}]
[2849,"Prisacaru Razvan","Iasi",24.5,4.0999999999999996,"H",null,null,null,{"$f":"catp","v":4}]
[2968,"Gheorghe Radu Andrei","Ploiesti",21.5,4.0999999999999996,"H",null,null,null,{"$f":"catp","v":4}]
[3176,"Risteiu Paul","Alba Iulia",17.399999999999999,4.0999999999999996,"H",null,null,null,{"$f":"catp","v":4}]
[3389,"Herdes Gabriel","Putna",13.6,4.0999999999999996,"H",null,null,null,{"$f":"catp","v":4}]
[3638,"Incze Geza","Targu Mures",10.1,4.0999999999999996,"H",null,null,null,{"$f":"catp","v":4}]
[3794,"Drimbau Calin","Marghita",8.1999999999999993,4.0999999999999996,"H",null,null,null,{"$f":"catp","v":4}]
[3795,"Veress Csaba","Sovata",8.1999999999999993,4.0999999999999996,"H",null,null,null,{"$f":"catp","v":4}]
[4339,"Dobai Istvan","Cluj Napoca",4.0999999999999996,4.0999999999999996,"H",null,null,null,{"$f":"catp","v":4}]
[4340,"Paraschiv Mihai","Targu Neamt",4.0999999999999996,4.0999999999999996,"H",null,null,null,{"$f":"catp","v":4}]
[4341,"Ciolpan Grigore","Viseu",4.0999999999999996,4.0999999999999996,"H",null,null,null,{"$f":"catp","v":4}]
[4342,"Piper Mirel","Luna CJ",4.0999999999999996,4.0999999999999996,"H",null,null,null,{"$f":"catp","v":4}]
[4343,"Stoica Ion","Slobozia",4.0999999999999996,4.0999999999999996,"H",null,null,null,{"$f":"catp","v":4}]
[4344,"Ionescu Aurelian","Campulung Mold",4.0999999999999996,4.0999999999999996,"H",null,null,null,{"$f":"catp","v":4}]
[4345,"Fedorciuc Elias","Viseu",4.0999999999999996,4.0999999999999996,"H",null,null,null,{"$f":"catp","v":4}]
[4346,"Ilisan Alex","Toplita",4.0999999999999996,4.0999999999999996,"H",null,null,null,{"$f":"catp","v":4}]
[4347,"Garbacea Ionut","Slobozia",4.0999999999999996,4.0999999999999996,"H",null,null,null,{"$f":"catp","v":4}]
[4348,"Chidovat David","Darmanesti SV",4.0999999999999996,4.0999999999999996,"H",null,null,null,{"$f":"catp","v":4}]
[4349,"Baies Daniel","Sibiu",4.0999999999999996,4.0999999999999996,"H",null,null,null,{"$f":"catp","v":4}]
[4350,"Linoiu Alexandru","Constanta",4.0999999999999996,4.0999999999999996,"H",null,null,null,{"$f":"catp","v":4}]
[4351,"Jevdic Aleksandar","Varset",4.0999999999999996,4.0999999999999996,"H",null,null,null,{"$f":"catp","v":4}]
[4352,"Malama Robert","Slobozia",4.0999999999999996,4.0999999999999996,"H",null,null,null,{"$f":"catp","v":4}]
[4353,"Eftimie Gabriel","Slobozia",4.0999999999999996,4.0999999999999996,"H",null,null,null,{"$f":"catp","v":4}]
[4354,"Cozma Adrian","Targu Neamt",4.0999999999999996,4.0999999999999996,"H",null,null,null,{"$f":"catp","v":4}]
[4355,"Stoica Pedro","Cluj Napoca",4.0999999999999996,4.0999999999999996,"H",null,null,null,{"$f":"catp","v":4}]
[4572,"Pop Eugen","Bistrita",3.1,4.0999999999999996,"H",null,null,null,{"$f":"catp","v":4}]
[4573,"Sopterean Ioan","Bistrita",3.1,4.0999999999999996,"H",null,null,null,{"$f":"catp","v":4}]
[4574,"Istrate Adrian","Bistrita",3.1,4.0999999999999996,"HW",null,null,null,{"$f":"catp","v":4}]
[4575,"Astanoaiei Adrian","Arad",3.1,4.0999999999999996,"H",null,null,null,{"$f":"catp","v":4}]
[4576,"Canpan Radu","Bistrita",3.1,4.0999999999999996,"H",null,null,null,{"$f":"catp","v":4}]
[4577,"Palagheanu Luis","Plopeni SV",3.1,4.0999999999999996,"HJ",null,null,null,{"$f":"catp","v":4}]
[4578,"Tudor Raisa","Pitesti",3.1,4.0999999999999996,"HF",null,null,null,{"$f":"catp","v":4}]
[4579,"Negrila Marius","Mioveni",3.1,4.0999999999999996,"H",null,null,null,{"$f":"catp","v":4}]
[4580,"Popescu Adrian","Pitesti",3.1,4.0999999999999996,"H",null,null,null,{"$f":"catp","v":4}]
[4581,"Antal Kevin Martin","Tarcaia",3.1,4.0999999999999996,"H",null,null,null,{"$f":"catp","v":4}]
[2679,"Cozma Maria","Dej",29.3,4.08,"HF",null,null,null,{"$f":"catp","v":4}]
[3040,"Petrisor Alexandru","Craiova",19.899999999999999,4.08,"H",null,null,null,{"$f":"catp","v":4}]
[3052,"Longauer Tiberiu","Brasov",19.7,4.08,"H",null,null,null,{"$f":"catp","v":4}]
[3203,"Ionita Dan","Bucuresti",16.8,4.08,"H",null,null,null,{"$f":"catp","v":4}]
[3002,"Muresan Nicolaie","Cluj Napoca",20.6,4.07,"H",null,null,null,{"$f":"catp","v":4}]
[2050,"Ciorlip Sorin","Hunedoara",58.3,4.0599999999999996,"H",null,null,null,{"$f":"catp","v":4}]
[3390,"Matei Alexandru","Pitesti",13.6,4.05,"H",null,null,null,{"$f":"catp","v":4}]
[3756,"Lapadat Claudia","Hunedoara",8.6,4.05,"HF",null,null,null,{"$f":"catp","v":4}]
[2783,"Bradina Daniel","Calan",26.2,4.04,"H",null,null,null,{"$f":"catp","v":4}]
[2676,"Moldovan Alexandru","Nasaud",29.4,4.03,"H",null,null,null,{"$f":"catp","v":4}]
[3238,"Suceava Raul","Targu Mures",15.9,4.03,"H",null,null,null,{"$f":"catp","v":4}]
[3260,"Gonzales Levi","Deva",15.5,4.03,"H",null,null,null,{"$f":"catp","v":4}]
[2290,"Moroldi Antonio","Targu Mures",44.3,4.01,"H",null,null,null,{"$f":"catp","v":4}]
[3101,"Marcu Paul","Sibiu",18.7,4,"H",null,null,null,{"$f":"catp","v":4}]
[3116,"Lemhenyi Tamas","Gheorgheni",18.5,4,"H",null,null,null,{"$f":"catp","v":4}]
[3477,"Maranceac Victoria","Moldova-Balti",12.3,4,"HF",null,null,null,{"$f":"catp","v":4}]
[3877,"Patulea Mirel","Bucuresti",7.3,4,"H",null,null,null,{"$f":"catp","v":4}]
[3878,"Sarlea Tiberiu","Blaj",7.3,4,"H",null,null,null,{"$f":"catp","v":4}]
[4011,"Negoita Ionut Silviu","Bucuresti",6,4,"H",null,null,null,{"$f":"catp","v":4}]
[4012,"Varga Istvan","Targu Mures",6,4,"H",null,null,null,{"$f":"catp","v":4}]
[4013,"Bodea Cezar","Alesd",6,4,"H",null,null,null,{"$f":"catp","v":4}]
[4014,"Durlai George","Barlad",6,4,"H",null,null,null,{"$f":"catp","v":4}]
[4015,"Sarbu Bogdan","Gligoresti",6,4,"H",null,null,null,{"$f":"catp","v":4}]
[4016,"Pop Crina Julieta","Cluj Napoca",6,4,"HF",null,null,null,{"$f":"catp","v":4}]
[4360,"Achim Georgel","Calarasi",4,4,"H",null,null,null,{"$f":"catp","v":4}]
[4361,"Foris Andrei","Baia Mare",4,4,"H",null,null,null,{"$f":"catp","v":4}]
[4362,"Nechita Victor","Pascani",4,4,"H",null,null,null,{"$f":"catp","v":4}]
[4363,"Aron Razvan","Fenes",4,4,"H",null,null,null,{"$f":"catp","v":4}]
[4364,"Lupse Cezara","Baia Mare",4,4,"HF",null,null,null,{"$f":"catp","v":4}]
[4365,"Osan George","Floresti",4,4,"H",null,null,null,{"$f":"catp","v":4}]
[4366,"Curutiu Traian","Dumbraveni SB",4,4,"H",null,null,null,{"$f":"catp","v":4}]
[4367,"Blahuta Luca","Alesd",4,4,"H",null,null,null,{"$f":"catp","v":4}]
[4368,"Manea Ionel","Barlad",4,4,"H",null,null,null,{"$f":"catp","v":4}]
[4369,"Istrate Victor","Barlad",4,4,"H",null,null,null,{"$f":"catp","v":4}]
[4370,"Scerra Ercole","Agnita",4,4,"H",null,null,null,{"$f":"catp","v":4}]
[4371,"Dobre Nicolae","Alesd",4,4,"H",null,null,null,{"$f":"catp","v":4}]
[4372,"Enache Ion","Curtea de Arges",4,4,"H",null,null,null,{"$f":"catp","v":4}]
[4373,"Scirlet Stelian","Jaristea",4,4,"H",null,null,null,{"$f":"catp","v":4}]
[4374,"Cili Denisa","Ludus",4,4,"HF",null,null,null,{"$f":"catp","v":4}]
[4375,"Pacurar Marius","Ludus",4,4,"H",null,null,null,{"$f":"catp","v":4}]
[4376,"Mircea Florin","Harsova",4,4,"H",null,null,null,{"$f":"catp","v":4}]
[4584,"Trascau Ovidiu","Bucuresti",3,4,"H",null,null,null,{"$f":"catp","v":4}]
[4585,"Oanta Flavian","Alexandria",3,4,"H",null,null,null,{"$f":"catp","v":4}]
[4586,"Halamaghe Dan Catalin","Tulcea",3,4,"H",null,null,null,{"$f":"catp","v":4}]
[4587,"Diaconu Vasile Iliuta","Izvoarele",3,4,"H",null,null,null,{"$f":"catp","v":4}]
[4588,"Petrisor Mihai Marinel","Sibiu",3,4,"H",null,null,null,{"$f":"catp","v":4}]
[4589,"Dancu Luminita","Sibiu",3,4,"HF",null,null,null,{"$f":"catp","v":4}]
[4590,"Stroe Florin","Brasov",3,4,"H",null,null,null,{"$f":"catp","v":4}]
[4591,"Tatu Bogdan","Sanpetru",3,4,"H",null,null,null,{"$f":"catp","v":4}]
[4592,"Popa Bogdan","Navodari",3,4,"H",null,null,null,{"$f":"catp","v":4}]
[4593,"Timofte Razvan","Hunedoara",3,4,"H",null,null,null,{"$f":"catp","v":4}]
[2807,"Mares Andrei","Bucuresti",25.6,3.98,"H",null,null,null,{"$f":"catp","v":4}]
[3374,"Cusmir Raul","Oradea",13.9,3.98,"H",null,null,null,{"$f":"catp","v":4}]
[3490,"Ceausescu Rebeca","Pitesti",12.1,3.97,"HF",null,null,null,{"$f":"catp","v":4}]
[2055,"Tobosaru Stefan","Brasov",58.1,3.96,"H",null,null,null,{"$f":"catp","v":4}]
[2902,"Valcica Razvan Daniel","Uricani",23.2,3.96,"H",null,null,null,{"$f":"catp","v":4}]
[3537,"Bogdan Daniel","Sibiu",11.5,3.95,"H",null,null,null,{"$f":"catp","v":4}]
[3702,"Iosca Sandu","Bucuresti",9.3000000000000007,3.95,"H",null,null,null,{"$f":"catp","v":4}]
[3887,"Iacoban Beniamin","Cajvana",7.2,3.95,"H",null,null,null,{"$f":"catp","v":4}]
[3189,"Stegariu Vladut","Iasi",17.100000000000001,3.93,"H",null,null,null,{"$f":"catp","v":4}]
[3337,"Mohonea Angel","Braila",14.7,3.93,"H",null,null,null,{"$f":"catp","v":4}]
[3679,"Bizau Robin","Chisoda",9.5,3.93,"H",null,null,null,{"$f":"catp","v":4}]
[3579,"Mares Ionel","Blaj",11,3.9,"H",null,null,null,{"$f":"catp","v":4}]
[3587,"Mihailov Serghei","Moldova-Balti",10.9,3.9,"H",null,null,null,{"$f":"catp","v":4}]
[3618,"Stanciu Mario Andrei","Fieni",10.5,3.9,"H",null,null,null,{"$f":"catp","v":4}]
[3629,"Bradu Georgel","Barlad",10.3,3.9,"H",null,null,null,{"$f":"catp","v":4}]
[3830,"Tanase Constantin","Slatina",7.8,3.9,"H",null,null,null,{"$f":"catp","v":4}]
[3831,"Irini Florin Lutu","Fratautii Vechi",7.8,3.9,"H",null,null,null,{"$f":"catp","v":4}]
[3832,"Isumbeli Afanasii","Moldova-Cahul",7.8,3.9,"H",null,null,null,{"$f":"catp","v":4}]
[3888,"Gavrilescu Petru Albert","Vaslui",7.2,3.9,"H",null,null,null,{"$f":"catp","v":4}]
[3889,"Trusca Claudiu","Drobeta Tr Severin",7.2,3.9,"H",null,null,null,{"$f":"catp","v":4}]
[4404,"Bejinariu Valentin","Iasi",3.9,3.9,"H",null,null,null,{"$f":"catp","v":4}]
[4405,"Vasile Rares","Sibiu",3.9,3.9,"H",null,null,null,{"$f":"catp","v":4}]
[4406,"Pavel Catalin","Iasi",3.9,3.9,"H",null,null,null,{"$f":"catp","v":4}]
[4407,"Potoroaca Dragos","Valea Lupului",3.9,3.9,"H",null,null,null,{"$f":"catp","v":4}]
[4408,"Brinza Paul","Iasi",3.9,3.9,"H",null,null,null,{"$f":"catp","v":4}]
[4409,"Chihaia Ianis","Iasi",3.9,3.9,"H",null,null,null,{"$f":"catp","v":4}]
[4410,"Hopirtean Remus","Alba Iulia",3.9,3.9,"H",null,null,null,{"$f":"catp","v":4}]
[4594,"Herte Cristian","Oradea",3,3.9,"H",null,null,null,{"$f":"catp","v":4}]
[2305,"Seica Gheorghe","Oradea",43.7,3.89,"H",null,null,null,{"$f":"catp","v":4}]
[3111,"Vrasti Timeea","Ploiesti",18.600000000000001,3.88,"HF",null,null,null,{"$f":"catp","v":4}]
[3375,"Lucineti Gabriel","Sighetu Marmatiei",13.9,3.87,"H",null,null,null,{"$f":"catp","v":4}]
[2465,"Andrei Alin","Nasaud",36.4,3.85,"H",null,null,null,{"$f":"catp","v":4}]
[3980,"Cretu Ionut","Bacau",6.4,3.85,"H",null,null,null,{"$f":"catp","v":4}]
[3266,"Oana Alexandru","Barlad",15.4,3.83,"H",null,null,null,{"$f":"catp","v":4}]
[3384,"Popov Alexandr","Moldova-Balti",13.7,3.83,"H",null,null,null,{"$f":"catp","v":4}]
[3847,"Bialis Nina","Dumbravita",7.6,3.8,"HF",null,null,null,{"$f":"catp","v":4}]
[3905,"Buzila Marcel","Cluj Napoca",7,3.8,"H",null,null,null,{"$f":"catp","v":4}]
[3948,"Nichifor Dorin","Bucuresti",6.7,3.8,"H",null,null,null,{"$f":"catp","v":4}]
[3964,"Bozga Codrin","Vatra Dornei",6.5,3.8,"H",null,null,null,{"$f":"catp","v":4}]
[4045,"Daia Cristina","Bucuresti",5.7,3.8,"HFW",null,null,null,{"$f":"catp","v":4}]
[4445,"Draghin Florin","Caransebes",3.8,3.8,"H",null,null,null,{"$f":"catp","v":4}]
[4446,"Velcea Rebeca","Bucuresti",3.8,3.8,"HF",null,null,null,{"$f":"catp","v":4}]
[4447,"Alexandrescu Eduard","Bucuresti",3.8,3.8,"H",null,null,null,{"$f":"catp","v":4}]
[4448,"Dobre Ionel","Bucuresti",3.8,3.8,"H",null,null,null,{"$f":"catp","v":4}]
[4661,"Caraman Ionel","Tulcea",2.9,3.8,"H",null,null,null,{"$f":"catp","v":4}]
[4662,"Andrei Radu","Tulcea",2.9,3.8,"H",null,null,null,{"$f":"catp","v":4}]
[4663,"Krempels Peter","Bucuresti",2.9,3.8,"H",null,null,null,{"$f":"catp","v":4}]
[4664,"Mardare Adrian","Tulcea",2.9,3.8,"H",null,null,null,{"$f":"catp","v":4}]
[4665,"Bulgaria Dan","Deva",2.9,3.8,"H",null,null,null,{"$f":"catp","v":4}]
[4666,"Slupetchi Victor Gabriel","Brasov",2.9,3.8,"H",null,null,null,{"$f":"catp","v":4}]
[4667,"Nichifor Ianis","Bucuresti",2.9,3.8,"H",null,null,null,{"$f":"catp","v":4}]
[2231,"Stavarache Cornel","Targoviste",46.9,3.78,"H",null,null,null,{"$f":"catp","v":4}]
[2431,"Ispas Cristian","Sebes",37.6,3.78,"H",null,null,null,{"$f":"catp","v":4}]
[3364,"Cristea Cristian Claudiu","Blaj",14.2,3.77,"H",null,null,null,{"$f":"catp","v":4}]
[2422,"Domnescu Mirela","Iasi",38.1,3.75,"HF",null,null,null,{"$f":"catp","v":4}]
[3680,"Szocs Gaspar","Gheorgheni",9.5,3.75,"H",null,null,null,{"$f":"catp","v":4}]
[3681,"Barboiu Adrian","Curtea de Arges",9.5,3.75,"H",null,null,null,{"$f":"catp","v":4}]
[3682,"Burechita Marian","Vaslui",9.5,3.75,"H",null,null,null,{"$f":"catp","v":4}]
[3790,"Costin Filip","Iasi",8.3000000000000007,3.75,"H",null,null,null,{"$f":"catp","v":4}]
[3791,"Rusu Matei","Constanta",8.3000000000000007,3.75,"H",null,null,null,{"$f":"catp","v":4}]
[3859,"Hirleata Andrei","Bucuresti",7.5,3.75,"H",null,null,null,{"$f":"catp","v":4}]
[3890,"Cristian Enache","Bucuresti",7.2,3.75,"H",null,null,null,{"$f":"catp","v":4}]
[3981,"Popa Gheorghe","Brasov",6.4,3.75,"H",null,null,null,{"$f":"catp","v":4}]
[2803,"Soare Aurel","Targoviste",25.7,3.74,"H",null,null,null,{"$f":"catp","v":4}]
[3144,"Taschina Petru","Barlad",17.899999999999999,3.73,"H",null,null,null,{"$f":"catp","v":4}]
[3491,"Radu Gabriel Bogdan","Sibiu",12.1,3.73,"H",null,null,null,{"$f":"catp","v":4}]
[3604,"Ghita Eric","Sibiu",10.7,3.73,"H",null,null,null,{"$f":"catp","v":4}]
[3619,"Stinea Adrian","Sibiu",10.5,3.73,"H",null,null,null,{"$f":"catp","v":4}]
[3112,"Ungureanu Adrian","Piatra Neamt",18.600000000000001,3.7,"H",null,null,null,{"$f":"catp","v":4}]
[3391,"Irimia Viorel","Comanesti",13.6,3.7,"H",null,null,null,{"$f":"catp","v":4}]
[3670,"Marinescu Dan","Ramnicu Valcea",9.6999999999999993,3.7,"H",null,null,null,{"$f":"catp","v":4}]
[3691,"Balasoiu Mihai","Novaci",9.4,3.7,"H",null,null,null,{"$f":"catp","v":4}]
[3692,"Moise Valentin","Ploiesti",9.4,3.7,"H",null,null,null,{"$f":"catp","v":4}]
[3867,"Manciu Adrian","Cluj Napoca",7.4,3.7,"H",null,null,null,{"$f":"catp","v":4}]
[3868,"Eftemita Polina","Moldova-Balti",7.4,3.7,"HF",null,null,null,{"$f":"catp","v":4}]
[4046,"Bighiu Florin","Tecuci",5.7,3.7,"H",null,null,null,{"$f":"catp","v":4}]
[4451,"Constantin Ciprian","Buzau",3.7,3.7,"H",null,null,null,{"$f":"catp","v":4}]
[4452,"Ilie Viorel","Matca",3.7,3.7,"H",null,null,null,{"$f":"catp","v":4}]
[4453,"Trif Radu","Ludus",3.7,3.7,"H",null,null,null,{"$f":"catp","v":4}]
[4454,"Girboni Adrian Iacob","Timisoara",3.7,3.7,"H",null,null,null,{"$f":"catp","v":4}]
[4455,"Craciunel Rares Andrei","Giroc",3.7,3.7,"H",null,null,null,{"$f":"catp","v":4}]
[4673,"Oana Ion","Bucuresti",2.8,3.7,"H",null,null,null,{"$f":"catp","v":4}]
[4674,"Bobocea Teodor","Buzau",2.8,3.7,"H",null,null,null,{"$f":"catp","v":4}]
[4675,"Sevastita Sebastian","Buzau",2.8,3.7,"H",null,null,null,{"$f":"catp","v":4}]
[4676,"Nierges Athanasie","Cluj Napoca",2.8,3.7,"H",null,null,null,{"$f":"catp","v":4}]
[4677,"Nierges Pavel","Cluj Napoca",2.8,3.7,"H",null,null,null,{"$f":"catp","v":4}]
[3465,"Bodnar Alexandra Ioana","Vicovu de Sus",12.5,3.68,"HFJ",null,null,null,{"$f":"catp","v":4}]
[3385,"Sas Gabriel","Timisoara",13.7,3.67,"H",null,null,null,{"$f":"catp","v":4}]
[3126,"Niculescu Marin","Bucuresti",18.3,3.65,"HW",null,null,null,{"$f":"catp","v":4}]
[3703,"Balan Cristian","Tecuci",9.3000000000000007,3.65,"H",null,null,null,{"$f":"catp","v":4}]
[3940,"Tanase Marian","Drobeta Tr Severin",6.8,3.65,"H",null,null,null,{"$f":"catp","v":4}]
[3941,"Klein Ferenc","Reghin",6.8,3.65,"H",null,null,null,{"$f":"catp","v":4}]
[3021,"Ilea Daria","Aiud",20.3,3.6,"HF",null,null,null,{"$f":"catp","v":4}]
[3525,"Grosu Gheorghita","Targu Neamt",11.7,3.6,"H",null,null,null,{"$f":"catp","v":4}]
[3748,"Ion Ion","Ploiesti",8.6999999999999993,3.6,"H",null,null,null,{"$f":"catp","v":4}]
[3949,"Moldovan Ionut","Agnita",6.7,3.6,"H",null,null,null,{"$f":"catp","v":4}]
[4052,"Soare Bogdan","Targoviste",5.6,3.6,"H",null,null,null,{"$f":"catp","v":4}]
[4053,"Kovaci Stefan","Buhusi",5.6,3.6,"H",null,null,null,{"$f":"catp","v":4}]
[4054,"Petrici Sergiu","Calan",5.6,3.6,"H",null,null,null,{"$f":"catp","v":4}]
[4465,"Loghin Cristian","Pascani",3.6,3.6,"H",null,null,null,{"$f":"catp","v":4}]
[4466,"Cotos Maria","Straja",3.6,3.6,"HF",null,null,null,{"$f":"catp","v":4}]
[4467,"Draganescu Laurentiu","Pascani",3.6,3.6,"H",null,null,null,{"$f":"catp","v":4}]
[4468,"Larion Alexandru","Suceava",3.6,3.6,"H",null,null,null,{"$f":"catp","v":4}]
[4469,"Corozel Vasile","Barlad",3.6,3.6,"H",null,null,null,{"$f":"catp","v":4}]
[4470,"Astefanoaie Bogdan","Pascani",3.6,3.6,"H",null,null,null,{"$f":"catp","v":4}]
[4471,"Astefanoaie David","Pascani",3.6,3.6,"H",null,null,null,{"$f":"catp","v":4}]
[4472,"Chitigoi Gabriel","Buhusi",3.6,3.6,"H",null,null,null,{"$f":"catp","v":4}]
[4473,"Dascalu Matei","Buhusi",3.6,3.6,"H",null,null,null,{"$f":"catp","v":4}]
[4474,"Apreotesei Alex","Piatra Neamt",3.6,3.6,"H",null,null,null,{"$f":"catp","v":4}]
[4475,"Argesanu Johnny","Barlad",3.6,3.6,"H",null,null,null,{"$f":"catp","v":4}]
[4680,"Nesta Claudiu","Bucuresti",2.7,3.6,"H",null,null,null,{"$f":"catp","v":4}]
[2423,"Tegzes Angela","Stejeris",38.1,3.59,"HFW",null,null,null,{"$f":"catp","v":4}]
[3448,"Stanescu Ladislau","Hunedoara",12.7,3.58,"H",null,null,null,{"$f":"catp","v":4}]
[3683,"Barbus David","Luna de Sus",9.5,3.57,"H",null,null,null,{"$f":"catp","v":4}]
[3894,"Pich Ioan","Viseu",7.1,3.55,"H",null,null,null,{"$f":"catp","v":4}]
[3895,"Derzsi Gabor","Hunedoara",7.1,3.55,"H",null,null,null,{"$f":"catp","v":4}]
[3896,"Bran Miruna","Buhusi",7.1,3.55,"HF",null,null,null,{"$f":"catp","v":4}]
[3931,"Tose Petre","Oradea",6.9,3.55,"H",null,null,null,{"$f":"catp","v":4}]
[3960,"Munteanu Dragos","Tulcea",6.6,3.55,"H",null,null,null,{"$f":"catp","v":4}]
[2638,"Matei Razvan","Sibiu",30.6,3.53,"H",null,null,null,{"$f":"catp","v":4}]
[3449,"Badiu Patricia","Floresti",12.7,3.53,"HF",null,null,null,{"$f":"catp","v":4}]
[3466,"Chesintan Luca","Lipova",12.5,3.5,"H",null,null,null,{"$f":"catp","v":4}]
[3588,"Enache Cristian","Bucuresti",10.9,3.5,"H",null,null,null,{"$f":"catp","v":4}]
[3729,"Constantin Andrei","Buzau",9,3.5,"H",null,null,null,{"$f":"catp","v":4}]
[3768,"Teodor Cata","Baia Mare",8.5,3.5,"H",null,null,null,{"$f":"catp","v":4}]
[3906,"Barabas Victor","Suceava",7,3.5,"H",null,null,null,{"$f":"catp","v":4}]
[3907,"Savu Maria Cornelia","Bilca",7,3.5,"HF",null,null,null,{"$f":"catp","v":4}]
[3908,"Leonescu David","Alesd",7,3.5,"H",null,null,null,{"$f":"catp","v":4}]
[3965,"Ticlete Stefan Cosmin","Drobeta Tr Severin",6.5,3.5,"H",null,null,null,{"$f":"catp","v":4}]
[3966,"Craciun Rafael","Videle",6.5,3.5,"H",null,null,null,{"$f":"catp","v":4}]
[4017,"Mocan Marius","Cluj Napoca",6,3.5,"H",null,null,null,{"$f":"catp","v":4}]
[4027,"Antonescu Nicolae","Pitesti",5.9,3.5,"H",null,null,null,{"$f":"catp","v":4}]
[4034,"Pop Radu","Hunedoara",5.8,3.5,"H",null,null,null,{"$f":"catp","v":4}]
[4035,"Marinescu Ioana","Bucuresti",5.8,3.5,"HF",null,null,null,{"$f":"catp","v":4}]
[4062,"Zaharia Dorin","Suceava",5.5,3.5,"H",null,null,null,{"$f":"catp","v":4}]
[4096,"Nicu Luca Stefan","Ramnicu Valcea",5.3,3.5,"H",null,null,null,{"$f":"catp","v":4}]
[4477,"Oprea Ionut","Constanta",3.5,3.5,"H",null,null,null,{"$f":"catp","v":4}]
[4478,"Tibre Florina","Cluj Napoca",3.5,3.5,"HF",null,null,null,{"$f":"catp","v":4}]
[4479,"Buda Nelu","Arad",3.5,3.5,"H",null,null,null,{"$f":"catp","v":4}]
[4480,"Codin Mihai","Bucuresti",3.5,3.5,"H",null,null,null,{"$f":"catp","v":4}]
[4481,"Grigoras Dinu","Pascani",3.5,3.5,"H",null,null,null,{"$f":"catp","v":4}]
[4482,"Zorilla Andrei","Moldova-Ceadir-Lunga",3.5,3.5,"H",null,null,null,{"$f":"catp","v":4}]
[4483,"Voicu Mihai","Bucuresti",3.5,3.5,"H",null,null,null,{"$f":"catp","v":4}]
[4484,"Nyanzeh Eric","Bucuresti",3.5,3.5,"H",null,null,null,{"$f":"catp","v":4}]
[4485,"Oprea Ovidiu","Calan",3.5,3.5,"H",null,null,null,{"$f":"catp","v":4}]
[4486,"Lucky Cristina","Comanesti",3.5,3.5,"HF",null,null,null,{"$f":"catp","v":4}]
[4487,"Mocanu Gabriel Iustin","Bacau",3.5,3.5,"H",null,null,null,{"$f":"catp","v":4}]
[4488,"Neagu Dumitru","Branceni",3.5,3.5,"H",null,null,null,{"$f":"catp","v":4}]
[4489,"Terteci Ilie Alin","Ramnicu Valcea",3.5,3.5,"H",null,null,null,{"$f":"catp","v":4}]
[4490,"Petrean Calin Filip","Arad",3.5,3.5,"H",null,null,null,{"$f":"catp","v":4}]
[4491,"Luca Sorin","Arad",3.5,3.5,"H",null,null,null,{"$f":"catp","v":4}]
[4492,"Cotruta Alexandru Florin","Vaslui",3.5,3.5,"H",null,null,null,{"$f":"catp","v":4}]
[4493,"Chelaru Tudor","Iasi",3.5,3.5,"H",null,null,null,{"$f":"catp","v":4}]
[4494,"Oliusceac Arina","Moldova-Balti",3.5,3.5,"HF",null,null,null,{"$f":"catp","v":4}]
[4495,"Terzi Vasili","Moldova-Ceadir-Lunga",3.5,3.5,"H",null,null,null,{"$f":"catp","v":4}]
[4496,"Pascov Stepan","Moldova-Tvardita",3.5,3.5,"H",null,null,null,{"$f":"catp","v":4}]
[4497,"Samoila Georgel","Bucuresti",3.5,3.5,"H",null,null,null,{"$f":"catp","v":4}]
[4498,"Mihalache Luca","Mogosesti",3.5,3.5,"H",null,null,null,{"$f":"catp","v":4}]
[4499,"Bucalaete Andrei","Alimpesti GJ",3.5,3.5,"H",null,null,null,{"$f":"catp","v":4}]
[4500,"Stanescu Victor","Baia Mare",3.5,3.5,"H",null,null,null,{"$f":"catp","v":4}]
[4501,"Matei Artur","Orasu Nou",3.5,3.5,"H",null,null,null,{"$f":"catp","v":4}]
[4502,"Bruma Ion","Harsova",3.5,3.5,"H",null,null,null,{"$f":"catp","v":4}]
[4681,"Tudureanu Ioan","Navodari",2.7,3.5,"H",null,null,null,{"$f":"catp","v":4}]
[4682,"Vasile Augustin","Brasov",2.7,3.5,"H",null,null,null,{"$f":"catp","v":4}]
[4683,"Nicolae Dana Gabriela","Brasov",2.7,3.5,"HF",null,null,null,{"$f":"catp","v":4}]
[4684,"Petrean Liviu","Zalau",2.7,3.5,"H",null,null,null,{"$f":"catp","v":4}]
[4685,"Hadar Onisim","Chiuza",2.7,3.5,"H",null,null,null,{"$f":"catp","v":4}]
[4686,"Solomon Milan","Cluj Napoca",2.7,3.5,"H",null,null,null,{"$f":"catp","v":4}]
[4687,"Tirla Madalin","Stei",2.7,3.5,"H",null,null,null,{"$f":"catp","v":4}]
[4688,"Gules Florin","Brasov",2.7,3.5,"H",null,null,null,{"$f":"catp","v":4}]
[3802,"Coroama Mircea","Suceava",8.1,3.45,"H",null,null,null,{"$f":"catp","v":4}]
[4111,"Spereatu Darius","Dobrotesti",5.2,3.45,"H",null,null,null,{"$f":"catp","v":4}]
[3136,"Deak Sandor","Cluj Napoca",18,3.43,"H",null,null,null,{"$f":"catp","v":4}]
[3234,"Muresan Alexandra","Cluj Napoca",16.100000000000001,3.43,"HF",null,null,null,{"$f":"catp","v":4}]
[3324,"Bajko Daniel","Sarmas",14.8,3.43,"H",null,null,null,{"$f":"catp","v":4}]
[3625,"Zaharia Danut","Braila",10.4,3.43,"H",null,null,null,{"$f":"catp","v":4}]
[2600,"Dutu Constantin","Galati",32.1,3.4,"H",null,null,null,{"$f":"catp","v":4}]
[3244,"Lienerth Markus","Sibiu",15.8,3.4,"H",null,null,null,{"$f":"catp","v":4}]
[3897,"Balan David Andrei","Targu Jiu",7.1,3.4,"H",null,null,null,{"$f":"catp","v":4}]
[3942,"Deac Isabela","Dumbravita",6.8,3.4,"HF",null,null,null,{"$f":"catp","v":4}]
[4028,"Iosca George","Bucuresti",5.9,3.4,"H",null,null,null,{"$f":"catp","v":4}]
[4082,"Necula Florin","Straoane",5.4,3.4,"H",null,null,null,{"$f":"catp","v":4}]
[4083,"Dabucean Matei","Hateg",5.4,3.4,"H",null,null,null,{"$f":"catp","v":4}]
[4124,"Rudy Vrany","Targu Jiu",5.0999999999999996,3.4,"H",null,null,null,{"$f":"catp","v":4}]
[4538,"Cristea Gabriel","Straoane",3.4,3.4,"H",null,null,null,{"$f":"catp","v":4}]
[4539,"Todos Alexandru","Moldova-Cahul",3.4,3.4,"H",null,null,null,{"$f":"catp","v":4}]
[4540,"Suru Mihai","Hunedoara",3.4,3.4,"H",null,null,null,{"$f":"catp","v":4}]
[2648,"Popescu Alex","Hateg",30.1,3.36,"H",null,null,null,{"$f":"catp","v":4}]
[3467,"Radu Albert","Brasov",12.5,3.35,"H",null,null,null,{"$f":"catp","v":4}]
[3848,"Crisan Patrik","Oradea",7.6,3.35,"H",null,null,null,{"$f":"catp","v":4}]
[4055,"Raducanu Kevin Ionut","Targoviste",5.6,3.35,"H",null,null,null,{"$f":"catp","v":4}]
[3086,"Maris Andrei","Piatra Neamt",19,3.33,"H",null,null,null,{"$f":"catp","v":4}]
[3563,"Paul Marian","Gherla",11.2,3.33,"H",null,null,null,{"$f":"catp","v":4}]
[3325,"Radu Eric","Brasov",14.8,3.3,"H",null,null,null,{"$f":"catp","v":4}]
[3346,"Itcus Marian","Sucevita",14.4,3.3,"H",null,null,null,{"$f":"catp","v":4}]
[3803,"Illyes Elemer","Ditrau",8.1,3.3,"H",null,null,null,{"$f":"catp","v":4}]
[4097,"Istratescu Albert Mihai","Targoviste",5.3,3.3,"H",null,null,null,{"$f":"catp","v":4}]
[4098,"Neagu Alexandru","Bucuresti",5.3,3.3,"H",null,null,null,{"$f":"catp","v":4}]
[4212,"Morut Sebastian","Oradea",5,3.3,"H",null,null,null,{"$f":"catp","v":4}]
[4557,"Rus Nicolae","Oradea",3.3,3.3,"H",null,null,null,{"$f":"catp","v":4}]
[4558,"Pop Vasile","Dej",3.3,3.3,"H",null,null,null,{"$f":"catp","v":4}]
[4559,"Aga Dan","Putna",3.3,3.3,"H",null,null,null,{"$f":"catp","v":4}]
[4560,"Tabacu Alexandra","Giarmata",3.3,3.3,"HF",null,null,null,{"$f":"catp","v":4}]
[4561,"Tataranu Daniel","Slatina",3.3,3.3,"H",null,null,null,{"$f":"catp","v":4}]
[4562,"Serban Marius","Vaslui",3.3,3.3,"H",null,null,null,{"$f":"catp","v":4}]
[4563,"Pintilie Cristi","Vaslui",3.3,3.3,"H",null,null,null,{"$f":"catp","v":4}]
[4564,"Popa Vasile","Vaslui",3.3,3.3,"H",null,null,null,{"$f":"catp","v":4}]
[4565,"Tataru Alexandru","Vaslui",3.3,3.3,"H",null,null,null,{"$f":"catp","v":4}]
[4566,"Fagas Alberto","Arad",3.3,3.3,"H",null,null,null,{"$f":"catp","v":4}]
[4700,"Cheranu Alex","Ramnicu Valcea",2.5,3.3,"H",null,null,null,{"$f":"catp","v":4}]
[4701,"Moise Daniel","Mioveni",2.5,3.3,"H",null,null,null,{"$f":"catp","v":4}]
[3456,"Stefan Mihai","Craiova",12.6,3.27,"H",null,null,null,{"$f":"catp","v":4}]
[3818,"Stanciu Alexander","Vatra Dornei",7.9,3.27,"H",null,null,null,{"$f":"catp","v":4}]
[2711,"Petrut Luminita","Targu Mures",28.3,3.25,"HF",null,null,null,{"$f":"catp","v":4}]
[3267,"Szep Carolina","Nasaud",15.4,3.25,"HF",null,null,null,{"$f":"catp","v":4}]
[3967,"Lazar Bogdan","Nasaud",6.5,3.25,"H",null,null,null,{"$f":"catp","v":4}]
[3968,"Sava Dumitru","Fetesti",6.5,3.25,"H",null,null,null,{"$f":"catp","v":4}]
[4047,"Crasnojon Alexandra","Moldova-Balti",5.7,3.25,"HF",null,null,null,{"$f":"catp","v":4}]
[3526,"Badea Alexandru","Bucuresti",11.7,3.23,"H",null,null,null,{"$f":"catp","v":4}]
[3545,"Tarnavean Sorin","Cluj Napoca",11.4,3.23,"H",null,null,null,{"$f":"catp","v":4}]
[3404,"Turcut Radu","Cluj Napoca",13.4,3.2,"H",null,null,null,{"$f":"catp","v":4}]
[3529,"Filip Patric","Cluj Napoca",11.6,3.2,"H",null,null,null,{"$f":"catp","v":4}]
[3564,"Blaga Alexandru","Iasi",11.2,3.2,"H",null,null,null,{"$f":"catp","v":4}]
[3776,"Marin Costel","Cateasca",8.4,3.2,"H",null,null,null,{"$f":"catp","v":4}]
[3932,"Sorin Iulian","Bucuresti",6.9,3.2,"H",null,null,null,{"$f":"catp","v":4}]
[3982,"Coca Mircea","Topoloveni",6.4,3.2,"H",null,null,null,{"$f":"catp","v":4}]
[4048,"Rugina Mihail","Bucuresti",5.7,3.2,"H",null,null,null,{"$f":"catp","v":4}]
[4099,"Macovei Viorel","Suceava",5.3,3.2,"H",null,null,null,{"$f":"catp","v":4}]
[4570,"Ceolca Robert","Sibiu",3.2,3.2,"H",null,null,null,{"$f":"catp","v":4}]
[4571,"Rusu Paul","Cluj Napoca",3.2,3.2,"H",null,null,null,{"$f":"catp","v":4}]
[4767,"Stan Adrian","Brasov",2.4,3.2,"H",null,null,null,{"$f":"catp","v":4}]
[4768,"Varzaru Alexandru","Bucuresti",2.4,3.2,"H",null,null,null,{"$f":"catp","v":4}]
[4769,"Grecu Adelin","Bucuresti",2.4,3.2,"H",null,null,null,{"$f":"catp","v":4}]
[3041,"Dirlea Ana","Aiud",19.899999999999999,3.17,"HF",null,null,null,{"$f":"catp","v":4}]
[3749,"Staicu Ovidiu","Targoviste",8.6999999999999993,3.17,"H",null,null,null,{"$f":"catp","v":4}]
[3439,"Teaca Gabriel","Rosiori de Vede",12.9,3.15,"H",null,null,null,{"$f":"catp","v":4}]
[3833,"Janosi Levente","Ciumani",7.8,3.15,"H",null,null,null,{"$f":"catp","v":4}]
[3990,"Buica Elias","Hateg",6.3,3.15,"H",null,null,null,{"$f":"catp","v":4}]
[4248,"Preda Rares","Bals",4.8,3.15,"H",null,null,null,{"$f":"catp","v":4}]
[3245,"Armene Ionel","Barlad",15.8,3.13,"H",null,null,null,{"$f":"catp","v":4}]
[3053,"Ilie Radu","Iasi",19.7,3.1,"H",null,null,null,{"$f":"catp","v":4}]
[3598,"Comanoiu Claudiu","Bucuresti",10.8,3.1,"H",null,null,null,{"$f":"catp","v":4}]
[4063,"Duman Constantin","Alexandria",5.5,3.1,"H",null,null,null,{"$f":"catp","v":4}]
[4084,"Honciu Bogdan","Bucuresti",5.4,3.1,"H",null,null,null,{"$f":"catp","v":4}]
[4125,"Popa Romica","Pascani",5.0999999999999996,3.1,"H",null,null,null,{"$f":"catp","v":4}]
[4582,"Gavrilei Adelina","Pascani",3.1,3.1,"HF",null,null,null,{"$f":"catp","v":4}]
[4583,"Ciurdea Danut","Mogoseni",3.1,3.1,"H",null,null,null,{"$f":"catp","v":4}]
[4770,"Pena Marian","Bucuresti",2.4,3.1,"H",null,null,null,{"$f":"catp","v":4}]
[4771,"Ulman Tudor","Bucuresti",2.4,3.1,"H",null,null,null,{"$f":"catp","v":4}]
[4772,"Constantinescu Gabriel","Bucuresti",2.4,3.1,"H",null,null,null,{"$f":"catp","v":4}]
[3605,"Szekely Claudia","Targu Mures",10.7,3.07,"HF",null,null,null,{"$f":"catp","v":4}]
[3709,"Zorila Victor","Craiova",9.1999999999999993,3.07,"H",null,null,null,{"$f":"catp","v":4}]
[3834,"Moldovan Claudiu","Dej",7.8,3.07,"H",null,null,null,{"$f":"catp","v":4}]
[2410,"Florean Luca","Lunca Muresului",38.700000000000003,3.05,"H",null,null,null,{"$f":"catp","v":4}]
[3849,"Portik Matyas","Miercurea Ciuc",7.6,3.05,"H",null,null,null,{"$f":"catp","v":4}]
[4004,"Chindea Emilian","Targu Neamt",6.1,3.05,"H",null,null,null,{"$f":"catp","v":4}]
[4126,"Vatavu Eduard","Coarnele Caprei",5.0999999999999996,3.05,"H",null,null,null,{"$f":"catp","v":4}]
[2949,"Parvan Dumitru","Deva",22,3.03,"H",null,null,null,{"$f":"catp","v":4}]
[3252,"Heresanu Dumitru","Sibiu",15.7,3.03,"H",null,null,null,{"$f":"catp","v":4}]
[3580,"Pintilie Maria","Iasi",11,3.03,"HF",null,null,null,{"$f":"catp","v":4}]
[3599,"Miron Gheorghe","Bucuresti",10.8,3.03,"H",null,null,null,{"$f":"catp","v":4}]
[3656,"Rezus Oana","Sibiu",10,3.03,"HF",null,null,null,{"$f":"catp","v":4}]
[3813,"Bocai Marius","Blaj",8,3.03,"H",null,null,null,{"$f":"catp","v":4}]
[3835,"Lantos Monica","Targu Mures",7.8,3,"HF",null,null,null,{"$f":"catp","v":4}]
[3879,"Poraico Xenia","Moldova-Balti",7.3,3,"HF",null,null,null,{"$f":"catp","v":4}]
[3909,"Stanamirescu Ianis","Hateg",7,3,"H",null,null,null,{"$f":"catp","v":4}]
[3983,"Kozi Zoltan Szabolcs","Brasov",6.4,3,"H",null,null,null,{"$f":"catp","v":4}]
[4018,"Dancu Luminita","Medias",6,3,"HF",null,null,null,{"$f":"catp","v":4}]
[4019,"Coica Laurentia","Iasi",6,3,"HF",null,null,null,{"$f":"catp","v":4}]
[4020,"Deaconu Lucian","Curtea de Arges",6,3,"H",null,null,null,{"$f":"catp","v":4}]
[4021,"Corniet Nicolai","Moldova-Balti",6,3,"H",null,null,null,{"$f":"catp","v":4}]
[4064,"Cozma Florina","Baia Mare",5.5,3,"HF",null,null,null,{"$f":"catp","v":4}]
[4100,"Stoian Gabriel","Alexandria",5.3,3,"H",null,null,null,{"$f":"catp","v":4}]
[4101,"Lungu Tatiana","Moldova-Balti",5.3,3,"HF",null,null,null,{"$f":"catp","v":4}]
[4102,"Cravcenco Dmitrii","Ucraina-Kiev",5.3,3,"H"]
[4213,"Drulea Radu Vlad","Jimbolia",5,3,"H",null,null,null,{"$f":"catp","v":4}]
[4214,"Zamfir Stefan","Urlati",5,3,"H",null,null,null,{"$f":"catp","v":4}]
[4215,"Birloncea Claudiu","Medias",5,3,"H",null,null,null,{"$f":"catp","v":4}]
[4216,"Vasilache Lucica","Barlad",5,3,"H",null,null,null,{"$f":"catp","v":4}]
[4217,"Cristea Adrian","Bucuresti",5,3,"H",null,null,null,{"$f":"catp","v":4}]
[4218,"Bosbiciu Stefan","Nasaud",5,3,"H",null,null,null,{"$f":"catp","v":4}]
[4282,"Apostol Valentin","Alexandria",4.5,3,"H",null,null,null,{"$f":"catp","v":4}]
[4283,"Lehel Csiki","Brasov",4.5,3,"H",null,null,null,{"$f":"catp","v":4}]
[4284,"Sisu Florian","Alexandria",4.5,3,"H",null,null,null,{"$f":"catp","v":4}]
[4595,"Piscoiu Viorel","Buzias",3,3,"H",null,null,null,{"$f":"catp","v":4}]
[4596,"Maciuc Sorin","Suceava",3,3,"H",null,null,null,{"$f":"catp","v":4}]
[4597,"Hriban Stefan","Viseu",3,3,"H",null,null,null,{"$f":"catp","v":4}]
[4598,"Stan Constantin","Slobozia",3,3,"H",null,null,null,{"$f":"catp","v":4}]
[4599,"Suhan George","Curtea de Arges",3,3,"H",null,null,null,{"$f":"catp","v":4}]
[4600,"Stoia Alesia","Timisoara",3,3,"HF",null,null,null,{"$f":"catp","v":4}]
[4601,"Rusu Stefan","Deva",3,3,"H",null,null,null,{"$f":"catp","v":4}]
[4602,"Bugariu Teodora","Lugoj",3,3,"HF",null,null,null,{"$f":"catp","v":4}]
[4603,"Monciu Florin","Greci",3,3,"H",null,null,null,{"$f":"catp","v":4}]
[4604,"Dragomir Iulian","Targoviste",3,3,"H",null,null,null,{"$f":"catp","v":4}]
[4605,"Tonu Pavel","Moldova-Balti",3,3,"H",null,null,null,{"$f":"catp","v":4}]
[4606,"Balan Norocel","Bucuresti",3,3,"H",null,null,null,{"$f":"catp","v":4}]
[4607,"Muresan Mihai","Malut",3,3,"H",null,null,null,{"$f":"catp","v":4}]
[4608,"Tobol Arsenii","Moldova-Balti",3,3,"H",null,null,null,{"$f":"catp","v":4}]
[4609,"Furdui Iulian","Moldova-Balti",3,3,"H",null,null,null,{"$f":"catp","v":4}]
[4610,"Salgau Viorel","Barlad",3,3,"H",null,null,null,{"$f":"catp","v":4}]
[4611,"Kaposta Dominic","Arad",3,3,"H",null,null,null,{"$f":"catp","v":4}]
[4612,"Bocea Georgia","Dumbravita",3,3,"HF",null,null,null,{"$f":"catp","v":4}]
[4613,"Caruntu David","Dumbravita",3,3,"H",null,null,null,{"$f":"catp","v":4}]
[4614,"Moraru Marcel","Timisoara",3,3,"H",null,null,null,{"$f":"catp","v":4}]
[4615,"Carabas Adrian","Timisoara",3,3,"H",null,null,null,{"$f":"catp","v":4}]
[4616,"Caruntu Razvan","Dumbravita",3,3,"H",null,null,null,{"$f":"catp","v":4}]
[4617,"Doda Cosmin","Chisineu Cris",3,3,"H",null,null,null,{"$f":"catp","v":4}]
[4618,"Gheorghiasa Catalin","Sighisoara",3,3,"H",null,null,null,{"$f":"catp","v":4}]
[4619,"Felicia Persida","Baia Mare",3,3,"HF",null,null,null,{"$f":"catp","v":4}]
[4620,"Dobrea Nicolae","Alesd",3,3,"H",null,null,null,{"$f":"catp","v":4}]
[4621,"Dobai Patricia","Alesd",3,3,"HF",null,null,null,{"$f":"catp","v":4}]
[4622,"Popescu Tudor","Cluj Napoca",3,3,"H",null,null,null,{"$f":"catp","v":4}]
[4623,"Chirita Ion","Frasinet",3,3,"H",null,null,null,{"$f":"catp","v":4}]
[4624,"Calin Cosmin","Navodari",3,3,"H",null,null,null,{"$f":"catp","v":4}]
[4625,"Ditu Constantin","Tulcea",3,3,"H",null,null,null,{"$f":"catp","v":4}]
[4626,"Eftinoiu Andri","Ploiesti",3,3,"H",null,null,null,{"$f":"catp","v":4}]
[4627,"Manea Florin","Fetesti",3,3,"H",null,null,null,{"$f":"catp","v":4}]
[4628,"Dosoftei Kevin","Arad",3,3,"H",null,null,null,{"$f":"catp","v":4}]
[4629,"Ionica Marian","Curtea de Arges",3,3,"H",null,null,null,{"$f":"catp","v":4}]
[4630,"Roman Jon","Vlajkovac",3,3,"H",null,null,null,{"$f":"catp","v":4}]
[4631,"Stankovic Marko","Kumane",3,3,"H",null,null,null,{"$f":"catp","v":4}]
[4632,"Cocerva Nica","Moldova-Balti",3,3,"H",null,null,null,{"$f":"catp","v":4}]
[4633,"Tudose Laurentiu","Comanesti",3,3,"H",null,null,null,{"$f":"catp","v":4}]
[4634,"Neculai Robert Haisuc","Iasi",3,3,"H",null,null,null,{"$f":"catp","v":4}]
[4635,"Moldovan Petrut Sorin","Beclean",3,3,"H",null,null,null,{"$f":"catp","v":4}]
[4636,"Munteanu Mariana","Moldova-Cahul",3,3,"HF",null,null,null,{"$f":"catp","v":4}]
[4637,"Dunca Andrei","Viseu",3,3,"H",null,null,null,{"$f":"catp","v":4}]
[4638,"Galban Dorel","Viseu",3,3,"H",null,null,null,{"$f":"catp","v":4}]
[4639,"Stoica Rares","Ludus",3,3,"H",null,null,null,{"$f":"catp","v":4}]
[4640,"Heghedus Dumitru","Cicarlau",3,3,"H",null,null,null,{"$f":"catp","v":4}]
[4641,"Chesche Mihai","Harsova",3,3,"H",null,null,null,{"$f":"catp","v":4}]
[4642,"Rugina Ionut Mihai","Ciobanu",3,3,"H",null,null,null,{"$f":"catp","v":4}]
[4643,"Vranceanu Marian","Harsova",3,3,"H",null,null,null,{"$f":"catp","v":4}]
[4644,"Spulber Oana Raluca","Bacau",3,3,"HF",null,null,null,{"$f":"catp","v":4}]
[4645,"Buzdea Stefan","Iasi",3,3,"H",null,null,null,{"$f":"catp","v":4}]
[4773,"Radu Adrian","Bucuresti",2.2999999999999998,3,"H",null,null,null,{"$f":"catp","v":4}]
[4774,"Modirca Daniel","Ucraina",2.2999999999999998,3,"H",null,null,null,{"$f":"catp","v":4}]
[4775,"Stetco Teodor","Sighetu Marmatiei",2.2999999999999998,3,"H",null,null,null,{"$f":"catp","v":4}]
[4776,"Baltariu Remus","Suceava",2.2999999999999998,3,"H",null,null,null,{"$f":"catp","v":4}]
[4777,"Ifrim Dragos","Navodari",2.2999999999999998,3,"H",null,null,null,{"$f":"catp","v":4}]
[4778,"Ciocanel Stefan","Botosani",2.2999999999999998,3,"H",null,null,null,{"$f":"catp","v":4}]
[4779,"Donca Daniel","Brasov",2.2999999999999998,3,"H",null,null,null,{"$f":"catp","v":4}]
[4780,"Nica Sebastian","Bucuresti",2.2999999999999998,3,"H",null,null,null,{"$f":"catp","v":4}]
[4781,"Man Adelin","Targu Mures",2.2999999999999998,3,"H",null,null,null,{"$f":"catp","v":4}]
[4782,"Kalinsky Victor","Ucraina",2.2999999999999998,3,"H",null,null,null,{"$f":"catp","v":4}]
[4783,"Matei Vlad","Alexandria",2.2999999999999998,3,"H",null,null,null,{"$f":"catp","v":4}]
[4784,"Degau Toni","Stei",2.2999999999999998,3,"H",null,null,null,{"$f":"catp","v":4}]
[4785,"Filip Marcu","Stei",2.2999999999999998,3,"H",null,null,null,{"$f":"catp","v":4}]
[4786,"Goldis Robert","Stei",2.2999999999999998,3,"H",null,null,null,{"$f":"catp","v":4}]
[4787,"Milos Stefan","Alexandria",2.2999999999999998,3,"H",null,null,null,{"$f":"catp","v":4}]
[4788,"Barbu Marian","Alexandria",2.2999999999999998,3,"H",null,null,null,{"$f":"catp","v":4}]
[4789,"Sandu Liviu Sorinel","Alexandria",2.2999999999999998,3,"H",null,null,null,{"$f":"catp","v":4}]
[4790,"Symeonidis Alex","Brasov",2.2999999999999998,3,"H",null,null,null,{"$f":"catp","v":4}]
[4791,"Muresan Nelu","Stei",2.2999999999999998,3,"H",null,null,null,{"$f":"catp","v":4}]
[4792,"Grigore Bogdan","Ramnicu Valcea",2.2999999999999998,3,"H",null,null,null,{"$f":"catp","v":4}]
[4793,"Stanca Sophia","Navodari",2.2999999999999998,3,"HF",null,null,null,{"$f":"catp","v":4}]
[4794,"Vulpe Cristian","Navodari",2.2999999999999998,3,"H",null,null,null,{"$f":"catp","v":4}]
[4795,"Dostatean Danut","Sibiu",2.2999999999999998,3,"H",null,null,null,{"$f":"catp","v":4}]
[2743,"Borodi Levi","Dobric",27.4,2.98,"H",null,null,null,{"$f":"catp","v":4}]
[3677,"Balan Andrei Tiberiu","Timisoara",9.6,2.97,"H",null,null,null,{"$f":"catp","v":4}]
[3891,"Popovici Mircea","Caracal",7.2,2.97,"H",null,null,null,{"$f":"catp","v":4}]
[2428,"Lumezeanu Adelina","Bucuresti",37.700000000000003,2.96,"HF",null,null,null,{"$f":"catp","v":4}]
[3444,"Muhammad Shehzad","Sibiu",12.8,2.95,"H",null,null,null,{"$f":"catp","v":4}]
[4029,"Albu Stefan","Iasi",5.9,2.95,"H",null,null,null,{"$f":"catp","v":4}]
[4030,"Tirnoveanu Robert","Cluj Napoca",5.9,2.95,"H",null,null,null,{"$f":"catp","v":4}]
[4031,"Faladau Ovidiu","Aiud",5.9,2.95,"H",null,null,null,{"$f":"catp","v":4}]
[4112,"Wagner Max","Arad",5.2,2.95,"H",null,null,null,{"$f":"catp","v":4}]
[4219,"Bucsa Eugen Marcel","Apahida",5,2.95,"H",null,null,null,{"$f":"catp","v":4}]
[2659,"Milea Darius","Galati",29.9,2.93,"H",null,null,null,{"$f":"catp","v":4}]
[3836,"Cheranu Alexandru","Ramnicu Valcea",7.8,2.9,"H",null,null,null,{"$f":"catp","v":4}]
[4668,"Caldaruse Roland","Craiova",2.9,2.9,"H",null,null,null,{"$f":"catp","v":4}]
[4669,"Cimpoes Bogdan","Moldova",2.9,2.9,"H",null,null,null,{"$f":"catp","v":4}]
[4670,"Boda Horatiu","Sibiu",2.9,2.9,"H",null,null,null,{"$f":"catp","v":4}]
[4671,"Florea Albert","Sibiu",2.9,2.9,"H",null,null,null,{"$f":"catp","v":4}]
[4672,"Sofronie Robert Cristian","Sibiu",2.9,2.9,"H",null,null,null,{"$f":"catp","v":4}]
[4796,"Mos Florin","Arad",2.2000000000000002,2.9,"H",null,null,null,{"$f":"catp","v":4}]
[3190,"Baldan Eric","Cluj Napoca",17.100000000000001,2.88,"H",null,null,null,{"$f":"catp","v":4}]
[3239,"Baldan Andrei","Cluj Napoca",15.9,2.88,"H",null,null,null,{"$f":"catp","v":4}]
[3261,"Ursu Ciprian","Calan",15.5,2.88,"H",null,null,null,{"$f":"catp","v":4}]
[3457,"Pascariu Andrei Razvan","Iasi",12.6,2.87,"H",null,null,null,{"$f":"catp","v":4}]
[3850,"Mateut Ionut","Zalau",7.6,2.87,"H",null,null,null,{"$f":"catp","v":4}]
[4049,"Hupca Ricardo","Straoane",5.7,2.85,"H",null,null,null,{"$f":"catp","v":4}]
[3392,"Alexandru Anghel","Bucuresti",13.6,2.83,"H",null,null,null,{"$f":"catp","v":4}]
[3892,"Simionov Sebastian","Navodari",7.2,2.83,"H",null,null,null,{"$f":"catp","v":4}]
[2878,"Oprinca Mariana","Targu Mures",23.9,2.82,"HF",null,null,null,{"$f":"catp","v":4}]
[4050,"Crihana Ciprian","Bucuresti",5.7,2.8,"H",null,null,null,{"$f":"catp","v":4}]
[4056,"Hategan Nicolae","Alba Iulia",5.6,2.8,"H",null,null,null,{"$f":"catp","v":4}]
[4057,"Zugravu Alexandru","Barlad",5.6,2.8,"H",null,null,null,{"$f":"catp","v":4}]
[4238,"Puscovici Matei","Sibiu",4.9000000000000004,2.8,"H",null,null,null,{"$f":"catp","v":4}]
[4239,"Lincan Alexandru","Bucuresti",4.9000000000000004,2.8,"H",null,null,null,{"$f":"catp","v":4}]
[4329,"Armanu Razvan","Bucuresti",4.2,2.8,"H",null,null,null,{"$f":"catp","v":4}]
[4678,"Papiu Lucian","Cluj Napoca",2.8,2.8,"H",null,null,null,{"$f":"catp","v":4}]
[4679,"Dansolean Stefan","Cluj Napoca",2.8,2.8,"H",null,null,null,{"$f":"catp","v":4}]
[4797,"Calomfirescu Vlad","Bucuresti",2.1,2.8,"H",null,null,null,{"$f":"catp","v":4}]
[4798,"Selejan Cristian","Timisoara",2.1,2.8,"H",null,null,null,{"$f":"catp","v":4}]
[3505,"Cocea Radu","Bucuresti",11.9,2.77,"H",null,null,null,{"$f":"catp","v":4}]
[3837,"Musat Filip","Lipanesti",7.8,2.77,"H",null,null,null,{"$f":"catp","v":4}]
[3657,"Stoica Ayana Maria","Slobozia",10,2.75,"HF",null,null,null,{"$f":"catp","v":4}]
[3860,"Hobinca Cezar","Iasi",7.5,2.75,"H",null,null,null,{"$f":"catp","v":4}]
[4065,"Cuznetova Polina","Moldova-Comrat",5.5,2.75,"HF",null,null,null,{"$f":"catp","v":4}]
[4066,"Stancila Luca","Iasi",5.5,2.75,"H",null,null,null,{"$f":"catp","v":4}]
[4067,"Lazarescu Adina","Iasi",5.5,2.75,"HF",null,null,null,{"$f":"catp","v":4}]
[4255,"Buleandra Radu","Craiova",4.7,2.75,"H",null,null,null,{"$f":"catp","v":4}]
[4256,"Mocanu Constantin","Muncel",4.7,2.75,"H",null,null,null,{"$f":"catp","v":4}]
[4257,"Stoica Denis Andrei","Alexandria",4.7,2.75,"H",null,null,null,{"$f":"catp","v":4}]
[4258,"Maldaianu Stefan","Alexandria",4.7,2.75,"H",null,null,null,{"$f":"catp","v":4}]
[4330,"Cracanel Gerard Sr","Agnita",4.2,2.75,"H",null,null,null,{"$f":"catp","v":4}]
[4331,"Alexandrescu Cristi","Alexandria",4.2,2.75,"H",null,null,null,{"$f":"catp","v":4}]
[4332,"Pascu Alin","Drobeta Tr Severin",4.2,2.75,"H",null,null,null,{"$f":"catp","v":4}]
[3022,"Varga Codrut","Luna CJ",20.3,2.7,"H",null,null,null,{"$f":"catp","v":4}]
[3678,"Bilibok Kristof","Gheorgheni",9.6,2.7,"H",null,null,null,{"$f":"catp","v":4}]
[3869,"Iancu Stefan","Hateg",7.4,2.7,"H",null,null,null,{"$f":"catp","v":4}]
[4249,"Stefanescu Alin","Sucevita",4.8,2.7,"H",null,null,null,{"$f":"catp","v":4}]
[4259,"Mladin Rahela","Valenii de Munte",4.7,2.7,"HF",null,null,null,{"$f":"catp","v":4}]
[4356,"Fota Cosmin","Buftea",4.0999999999999996,2.7,"H",null,null,null,{"$f":"catp","v":4}]
[4689,"Raicu David","Filipestii de Targ",2.7,2.7,"H",null,null,null,{"$f":"catp","v":4}]
[4690,"Nita Ion","Ploiesti",2.7,2.7,"H",null,null,null,{"$f":"catp","v":4}]
[4691,"Defta Mihai","Iedera",2.7,2.7,"H",null,null,null,{"$f":"catp","v":4}]
[4799,"Oniscu Amalia","Constanta",2.1,2.7,"HF",null,null,null,{"$f":"catp","v":4}]
[4800,"Abrudan Cosmin","Apahida",2.1,2.7,"H",null,null,null,{"$f":"catp","v":4}]
[3538,"Bercea Darius Marian","Iasi",11.5,2.67,"H",null,null,null,{"$f":"catp","v":4}]
[3684,"Frincu Iustin","Ploiesti",9.5,2.67,"H",null,null,null,{"$f":"catp","v":4}]
[3736,"Anghelus Flavius","Lipova",8.9,2.67,"H",null,null,null,{"$f":"catp","v":4}]
[3314,"Cuzincu Iulian","Bucuresti",15,2.65,"H",null,null,null,{"$f":"catp","v":4}]
[3468,"Tarnavean Robert","Cluj Napoca",12.5,2.65,"H",null,null,null,{"$f":"catp","v":4}]
[4103,"Voinescu Dan","Lugoj",5.3,2.65,"H",null,null,null,{"$f":"catp","v":4}]
[4260,"Anghel Patrick","Voluntari",4.7,2.65,"H",null,null,null,{"$f":"catp","v":4}]
[4269,"Mate David","Timisoara",4.5999999999999996,2.65,"H",null,null,null,{"$f":"catp","v":4}]
[4377,"Paraschiv Florin","Dobrotesti",4,2.65,"H",null,null,null,{"$f":"catp","v":4}]
[3170,"Cocis Radu","Lunca Muresului",17.5,2.63,"H",null,null,null,{"$f":"catp","v":4}]
[3710,"Sterpu Gabriel","Navodari",9.1999999999999993,2.63,"H",null,null,null,{"$f":"catp","v":4}]
[4411,"Andriy Buldyzhov","Targu Mures",3.9,2.6,"H",null,null,null,{"$f":"catp","v":4}]
[4692,"Marin Mircea","Bucuresti",2.6,2.6,"H",null,null,null,{"$f":"catp","v":4}]
[4693,"Dumitrescu Mihai","Slobozia",2.6,2.6,"H",null,null,null,{"$f":"catp","v":4}]
[4694,"Sterie Cristian","Bucuresti",2.6,2.6,"H",null,null,null,{"$f":"catp","v":4}]
[4695,"Oprica Robert","Cristian SB",2.6,2.6,"H",null,null,null,{"$f":"catp","v":4}]
[4696,"Oprica Stefan","Sibiu",2.6,2.6,"H",null,null,null,{"$f":"catp","v":4}]
[4697,"Mihalca Claudiu","Cluj Napoca",2.6,2.6,"H",null,null,null,{"$f":"catp","v":4}]
[4698,"Tirnoveanu Sorin","Cluj Napoca",2.6,2.6,"H",null,null,null,{"$f":"catp","v":4}]
[4699,"Michilea Razvan","Manastireni",2.6,2.6,"H",null,null,null,{"$f":"catp","v":4}]
[3458,"Simon Csongor","Targu Mures",12.6,2.58,"H",null,null,null,{"$f":"catp","v":4}]
[2727,"Tibre Lucian","Cluj Napoca",27.8,2.57,"H",null,null,null,{"$f":"catp","v":4}]
[2862,"Iliescu Patricia","Snagov",24.3,2.57,"HF",null,null,null,{"$f":"catp","v":4}]
[3769,"Ilie Mihai Serban","Sibiu",8.5,2.57,"H",null,null,null,{"$f":"catp","v":4}]
[3838,"Filip Maia","Cluj Napoca",7.8,2.57,"HF",null,null,null,{"$f":"catp","v":4}]
[3427,"Chirita Ioana","Targu Mures",13,2.5499999999999998,"HF",null,null,null,{"$f":"catp","v":4}]
[3630,"Avramescu Claudiu","Bucuresti",10.3,2.5499999999999998,"H",null,null,null,{"$f":"catp","v":4}]
[4285,"Calinoiu Matei","Sibiu",4.5,2.5499999999999998,"H",null,null,null,{"$f":"catp","v":4}]
[4412,"Neagu Darius","Bucuresti",3.9,2.5499999999999998,"H",null,null,null,{"$f":"catp","v":4}]
[4413,"Dutan Ionut Marius","Bucuresti",3.9,2.5499999999999998,"H",null,null,null,{"$f":"catp","v":4}]
[3284,"Fazakas Antal","Suseni",15.1,2.54,"H",null,null,null,{"$f":"catp","v":4}]
[3711,"Rusanovschi Adrian","Oradea",9.1999999999999993,2.5299999999999998,"H",null,null,null,{"$f":"catp","v":4}]
[3478,"Pnacsek Andrei","Lunca Muresului",12.3,2.52,"H",null,null,null,{"$f":"catp","v":4}]
[3326,"Turbatu Rares","Fieni",14.8,2.5,"H",null,null,null,{"$f":"catp","v":4}]
[3658,"Onet Denis","Utvin",10,2.5,"H",null,null,null,{"$f":"catp","v":4}]
[3910,"Borbeiu Paul","Baia Mare",7,2.5,"H",null,null,null,{"$f":"catp","v":4}]
[3911,"Tulei Marius","Iasi",7,2.5,"H",null,null,null,{"$f":"catp","v":4}]
[3943,"Blaj Cristian","Navodari",6.8,2.5,"H",null,null,null,{"$f":"catp","v":4}]
[3991,"Cuzmin Gabriel","Navodari",6.3,2.5,"H",null,null,null,{"$f":"catp","v":4}]
[3992,"Nuta Petru","Sibiu",6.3,2.5,"H",null,null,null,{"$f":"catp","v":4}]
[3995,"Paris Ianis Nicolas","Navodari",6.2,2.5,"H",null,null,null,{"$f":"catp","v":4}]
[4068,"Chichernea Paul","Bucuresti",5.5,2.5,"H",null,null,null,{"$f":"catp","v":4}]
[4220,"Argesanu David","Barlad",5,2.5,"H",null,null,null,{"$f":"catp","v":4}]
[4221,"Nedealcova Daria","Moldova-Avdarma",5,2.5,"HF",null,null,null,{"$f":"catp","v":4}]
[4222,"Ionescu Dragos","Buhusi",5,2.5,"H",null,null,null,{"$f":"catp","v":4}]
[4223,"Pufulete Andrei Razvan","Bucuresti",5,2.5,"H",null,null,null,{"$f":"catp","v":4}]
[4224,"Radief Cristian Dan","Constanta",5,2.5,"H",null,null,null,{"$f":"catp","v":4}]
[4225,"Mihalachi Luca","Mogosesti",5,2.5,"H",null,null,null,{"$f":"catp","v":4}]
[4286,"Stan Stefan","Mangalia",4.5,2.5,"H",null,null,null,{"$f":"catp","v":4}]
[4287,"Stoian Mihaita Cezar","Navodari",4.5,2.5,"H",null,null,null,{"$f":"catp","v":4}]
[4288,"Palagheanu Elvis","Plopeni SV",4.5,2.5,"H",null,null,null,{"$f":"catp","v":4}]
[4289,"Ciobanu Edi","Lugoj",4.5,2.5,"H",null,null,null,{"$f":"catp","v":4}]
[4290,"Moldoveanu Rares","Bucuresti",4.5,2.5,"H",null,null,null,{"$f":"catp","v":4}]
[4291,"Calpacci Olga","Moldova-Ceadir-Lunga",4.5,2.5,"HF",null,null,null,{"$f":"catp","v":4}]
[4292,"Pop Alexandru","Viseu",4.5,2.5,"H",null,null,null,{"$f":"catp","v":4}]
[4293,"Urs Lucian","Nasaud",4.5,2.5,"H",null,null,null,{"$f":"catp","v":4}]
[4294,"Negulescu Florin Adrian","Bucuresti",4.5,2.5,"H",null,null,null,{"$f":"catp","v":4}]
[4295,"Acatrinei Ciprian","Iasi",4.5,2.5,"H",null,null,null,{"$f":"catp","v":4}]
[4296,"Jurchita Paul Ionut","Mosnita Veche",4.5,2.5,"H",null,null,null,{"$f":"catp","v":4}]
[4311,"Ciurdea Gheorghe","Mogosesti",4.4000000000000004,2.5,"H",null,null,null,{"$f":"catp","v":4}]
[4312,"Ioana Mihai","Bucuresti",4.4000000000000004,2.5,"H",null,null,null,{"$f":"catp","v":4}]
[4316,"Caileanu Patrick","Sibiu",4.3,2.5,"H",null,null,null,{"$f":"catp","v":4}]
[4317,"Gavriliuc Sorin","Botosani",4.3,2.5,"H",null,null,null,{"$f":"catp","v":4}]
[4318,"Serban Lucian Gabriel","Bucuresti",4.3,2.5,"H",null,null,null,{"$f":"catp","v":4}]
[4702,"Tiganescu Ionut","Stulpicani",2.5,2.5,"H",null,null,null,{"$f":"catp","v":4}]
[4703,"Bratu Valentin","Bucuresti",2.5,2.5,"H",null,null,null,{"$f":"catp","v":4}]
[4704,"Cata Teodor","Baia Mare",2.5,2.5,"H",null,null,null,{"$f":"catp","v":4}]
[4705,"Gaspar Janos","Cristuru Secuiesc",2.5,2.5,"H",null,null,null,{"$f":"catp","v":4}]
[4706,"Brandusa Marius","Sighisoara",2.5,2.5,"H",null,null,null,{"$f":"catp","v":4}]
[4707,"Dascalu Sergiu","Vorona",2.5,2.5,"H",null,null,null,{"$f":"catp","v":4}]
[4708,"Pasca Vlad","Targu Mures",2.5,2.5,"H",null,null,null,{"$f":"catp","v":4}]
[4709,"Vukovic Zoran","Varset",2.5,2.5,"H",null,null,null,{"$f":"catp","v":4}]
[4710,"Tcaciuc Sebastian","Suceava",2.5,2.5,"H",null,null,null,{"$f":"catp","v":4}]
[4711,"Haidau David","Buhusi",2.5,2.5,"H",null,null,null,{"$f":"catp","v":4}]
[4712,"Bohotineanu Stefan","Vaslui",2.5,2.5,"H",null,null,null,{"$f":"catp","v":4}]
[4713,"Stir Andrei","Hunedoara",2.5,2.5,"H",null,null,null,{"$f":"catp","v":4}]
[4714,"Balcan Gigi","Buhusi",2.5,2.5,"H",null,null,null,{"$f":"catp","v":4}]
[4715,"Bejenariu Andrei","Arghira",2.5,2.5,"H",null,null,null,{"$f":"catp","v":4}]
[4716,"Punga Ovidiu","Bucuresti",2.5,2.5,"H",null,null,null,{"$f":"catp","v":4}]
[4717,"Giubila Alessandro","Popesti Leordeni",2.5,2.5,"H",null,null,null,{"$f":"catp","v":4}]
[4718,"Mozes Andrei","Santamaria Orlea",2.5,2.5,"H",null,null,null,{"$f":"catp","v":4}]
[4719,"Farcas Carla","Dumbravita",2.5,2.5,"HF",null,null,null,{"$f":"catp","v":4}]
[4720,"Alexe Daria","Dumbravita",2.5,2.5,"HF",null,null,null,{"$f":"catp","v":4}]
[4721,"Dima Alexandru","Dumbravita",2.5,2.5,"H",null,null,null,{"$f":"catp","v":4}]
[4722,"Herbei Tudor","Dumbravita",2.5,2.5,"H",null,null,null,{"$f":"catp","v":4}]
[4723,"Lup Levi","Dumbravita",2.5,2.5,"H",null,null,null,{"$f":"catp","v":4}]
[4724,"Corduneanu Eduard","Suceava",2.5,2.5,"H",null,null,null,{"$f":"catp","v":4}]
[4725,"Cernat Ionut","Moinesti",2.5,2.5,"H",null,null,null,{"$f":"catp","v":4}]
[4726,"Stanica Ciprian","Pitesti",2.5,2.5,"H",null,null,null,{"$f":"catp","v":4}]
[4727,"Duta David","Curtea de Arges",2.5,2.5,"H",null,null,null,{"$f":"catp","v":4}]
[4728,"Petcu Mihai","Vaslui",2.5,2.5,"H",null,null,null,{"$f":"catp","v":4}]
[4729,"Marcel Adam","Sighisoara",2.5,2.5,"H",null,null,null,{"$f":"catp","v":4}]
[4730,"Moian Calin","Sighisoara",2.5,2.5,"H",null,null,null,{"$f":"catp","v":4}]
[4731,"Necula Andrei","Arad",2.5,2.5,"H",null,null,null,{"$f":"catp","v":4}]
[4732,"Furtuna Serghei","Moldova-Balti",2.5,2.5,"H",null,null,null,{"$f":"catp","v":4}]
[4733,"Pastusoc Cornel","Moldova-Edinet",2.5,2.5,"H",null,null,null,{"$f":"catp","v":4}]
[4734,"Roman Marcel","Sebes",2.5,2.5,"H",null,null,null,{"$f":"catp","v":4}]
[4735,"Dasca Laurentiu","Bucuresti",2.5,2.5,"H",null,null,null,{"$f":"catp","v":4}]
[4736,"Fenesan Alex","Turda",2.5,2.5,"H",null,null,null,{"$f":"catp","v":4}]
[4737,"Moldovan Nicolae Ioan","Poienita",2.5,2.5,"H",null,null,null,{"$f":"catp","v":4}]
[4738,"Dumitras Matia","Vorona",2.5,2.5,"H",null,null,null,{"$f":"catp","v":4}]
[4739,"Cotoara Daniel","Iasi",2.5,2.5,"H",null,null,null,{"$f":"catp","v":4}]
[4740,"Furdui Lia","Moldova-Balti",2.5,2.5,"HF",null,null,null,{"$f":"catp","v":4}]
[4741,"Ciobanu Sebastian","Mogosesti",2.5,2.5,"H",null,null,null,{"$f":"catp","v":4}]
[4742,"Simonfi Maghiar","Jibou",2.5,2.5,"H",null,null,null,{"$f":"catp","v":4}]
[4743,"Teaca Andrei","Rosiori de Vede",2.5,2.5,"H",null,null,null,{"$f":"catp","v":4}]
[4744,"Chesa Rares","Viseu",2.5,2.5,"H",null,null,null,{"$f":"catp","v":4}]
[4745,"Faiciuc Alex","Viseu",2.5,2.5,"H",null,null,null,{"$f":"catp","v":4}]
[4746,"Draganescu Denis","Pascani",2.5,2.5,"H",null,null,null,{"$f":"catp","v":4}]
[4747,"Malama Felix","Slobozia",2.5,2.5,"H",null,null,null,{"$f":"catp","v":4}]
[4748,"Anton Cristian","Constanta",2.5,2.5,"H",null,null,null,{"$f":"catp","v":4}]
[4749,"Varga Cosmina","Ludus",2.5,2.5,"HF",null,null,null,{"$f":"catp","v":4}]
[4750,"Kercedi Laur","Tarnaveni",2.5,2.5,"H",null,null,null,{"$f":"catp","v":4}]
[4751,"Ciurdea Ionut","Mogoseni",2.5,2.5,"H",null,null,null,{"$f":"catp","v":4}]
[4752,"Dan Bogdan","Orastie",2.5,2.5,"H",null,null,null,{"$f":"catp","v":4}]
[4753,"Sarandi Ion","Moldova-Avdarma",2.5,2.5,"H",null,null,null,{"$f":"catp","v":4}]
[4754,"Sava Mihai Andrei","Malaiesti",2.5,2.5,"H",null,null,null,{"$f":"catp","v":4}]
[4755,"Toma Alexandru","Bucuresti",2.5,2.5,"H",null,null,null,{"$f":"catp","v":4}]
[4756,"Lucan Alex","Tisauti",2.5,2.5,"H",null,null,null,{"$f":"catp","v":4}]
[4757,"Berco Vlad","Suceava",2.5,2.5,"H",null,null,null,{"$f":"catp","v":4}]
[4758,"Alexa Vicol","Zvoristea",2.5,2.5,"H",null,null,null,{"$f":"catp","v":4}]
[4759,"Iacos Rares","Baia Mare",2.5,2.5,"H",null,null,null,{"$f":"catp","v":4}]
[4760,"Piscoran Alexander","Baia Mare",2.5,2.5,"H",null,null,null,{"$f":"catp","v":4}]
[4761,"Motica Alexandru","Cicarlau",2.5,2.5,"H",null,null,null,{"$f":"catp","v":4}]
[4762,"Coman Mihaita","Harsova",2.5,2.5,"H",null,null,null,{"$f":"catp","v":4}]
[4763,"Tanase Adrian","Harsova",2.5,2.5,"H",null,null,null,{"$f":"catp","v":4}]
[4764,"Lungu Andrei George","Roman",2.5,2.5,"H",null,null,null,{"$f":"catp","v":4}]
[4765,"Morosanu Dan","Targu Neamt",2.5,2.5,"H",null,null,null,{"$f":"catp","v":4}]
[4766,"Urzica Ionut","Piatra Neamt",2.5,2.5,"H",null,null,null,{"$f":"catp","v":4}]
[5013,"Dinu Vladimir","Bucuresti",1.9,2.5,"H",null,null,null,{"$f":"catp","v":4}]
[5014,"Telman Matei","Deva",1.9,2.5,"H",null,null,null,{"$f":"catp","v":4}]
[5015,"Nitulescu Bogdan","Sibiu",1.9,2.5,"H",null,null,null,{"$f":"catp","v":4}]
[5016,"Corbeanu David","Slatina",1.9,2.5,"H",null,null,null,{"$f":"catp","v":4}]
[5017,"Flocea Codrin","Vatra Dornei",1.9,2.5,"H",null,null,null,{"$f":"catp","v":4}]
[5018,"Dragomir Noemi","Brasov",1.9,2.5,"HF",null,null,null,{"$f":"catp","v":4}]
[5019,"Nutiu Alexandru","Oradea",1.9,2.5,"H",null,null,null,{"$f":"catp","v":4}]
[5020,"Mocanu Radu","Ramnicu Valcea",1.9,2.5,"H",null,null,null,{"$f":"catp","v":4}]
[5021,"Ionescu Dan","Iasi",1.9,2.5,"H",null,null,null,{"$f":"catp","v":4}]
[5022,"Maican Atanase Marian","Brasov",1.9,2.5,"H",null,null,null,{"$f":"catp","v":4}]
[5023,"Strinu Paul","Drobeta Tr Severin",1.9,2.5,"H",null,null,null,{"$f":"catp","v":4}]
[5024,"Arovich Laszlo","Ucraina",1.9,2.5,"H",null,null,null,{"$f":"catp","v":4}]
[5025,"Venture Taras","Ucraina",1.9,2.5,"H",null,null,null,{"$f":"catp","v":4}]
[5026,"Alexandrescu Antonie","Voluntari",1.9,2.5,"H",null,null,null,{"$f":"catp","v":4}]
[5027,"Carmazan Andra","Deva",1.9,2.5,"HF",null,null,null,{"$f":"catp","v":4}]
[5028,"Banulescu Cristian","Brasov",1.9,2.5,"H",null,null,null,{"$f":"catp","v":4}]
[5029,"Putineanu Gabriel","Alexandria",1.9,2.5,"H",null,null,null,{"$f":"catp","v":4}]
[5030,"Santos Ivo","Bucuresti",1.9,2.5,"H",null,null,null,{"$f":"catp","v":4}]
[5031,"Arseni Mihai","Moinesti",1.9,2.5,"H",null,null,null,{"$f":"catp","v":4}]
[5032,"Prisecariu Darius","Moinesti",1.9,2.5,"H",null,null,null,{"$f":"catp","v":4}]
[5033,"Cuc Remus","Hotarel",1.9,2.5,"H",null,null,null,{"$f":"catp","v":4}]
[5034,"Litescu Radu","Otopeni",1.9,2.5,"H",null,null,null,{"$f":"catp","v":4}]
[5035,"Ionescu Sebastian","Buzau",1.9,2.5,"H",null,null,null,{"$f":"catp","v":4}]
[5036,"Popescu Matei","Alexandria",1.9,2.5,"H",null,null,null,{"$f":"catp","v":4}]
[5037,"Pantelimon Sorin","Craiova",1.9,2.5,"H",null,null,null,{"$f":"catp","v":4}]
[5038,"Petrache Matei","Buzau",1.9,2.5,"H",null,null,null,{"$f":"catp","v":4}]
[5039,"Marginean Ovidiu","Aiud",1.9,2.5,"H",null,null,null,{"$f":"catp","v":4}]
[5040,"Bocos David Nicolas","Apahida",1.9,2.5,"H",null,null,null,{"$f":"catp","v":4}]
[5041,"Prundeanu Ovidiu","Drobeta Tr Severin",1.9,2.5,"H",null,null,null,{"$f":"catp","v":4}]
[5042,"Banu Codrin","Brasov",1.9,2.5,"H",null,null,null,{"$f":"catp","v":4}]
[5043,"Grosu Andrei","Stei",1.9,2.5,"H",null,null,null,{"$f":"catp","v":4}]
[5044,"Turcu Alexandru","Craiova",1.9,2.5,"H",null,null,null,{"$f":"catp","v":4}]
[5045,"Andries Natalia","Navodari",1.9,2.5,"HF",null,null,null,{"$f":"catp","v":4}]
[5046,"Ene Denis","Navodari",1.9,2.5,"H",null,null,null,{"$f":"catp","v":4}]
[5047,"Ene Alexandru","Navodari",1.9,2.5,"H",null,null,null,{"$f":"catp","v":4}]
[5048,"Ifrim Alexandru","Navodari",1.9,2.5,"H",null,null,null,{"$f":"catp","v":4}]
[5049,"Hamza Yanis","Targoviste",1.9,2.5,"H",null,null,null,{"$f":"catp","v":4}]
[5050,"Lilea Edi","Targoviste",1.9,2.5,"H",null,null,null,{"$f":"catp","v":4}]
[5051,"Cisco Elina","Moldova-Balti",1.9,2.5,"HF",null,null,null,{"$f":"catp","v":4}]
[5052,"Movila Agata","Moldova-Balti",1.9,2.5,"HF",null,null,null,{"$f":"catp","v":4}]
[5053,"Vizitiu David","Botosani",1.9,2.5,"H",null,null,null,{"$f":"catp","v":4}]
[3757,"Tutuianu Radu","Timisoara",8.6,2.4500000000000002,"H",null,null,null,{"$f":"catp","v":4}]
[2635,"Florean Renata","Lunca Muresului",30.8,2.44,"HF",null,null,null,{"$f":"catp","v":4}]
[3262,"Barna Florin","Blaj",15.5,2.4300000000000002,"H",null,null,null,{"$f":"catp","v":4}]
[3740,"Herlo Ioan","Arad",8.8000000000000007,2.4300000000000002,"H",null,null,null,{"$f":"catp","v":4}]
[3038,"Dodon Vlad","Dej",20,2.4,"H",null,null,null,{"$f":"catp","v":4}]
[3741,"Orosz Silviu","Dumbraveni SB",8.8000000000000007,2.4,"HJ",null,null,null,{"$f":"catp","v":4}]
[3777,"Ionas Radu","Sibiu",8.4,2.4,"H",null,null,null,{"$f":"catp","v":4}]
[3984,"Ranca Mihai","Aiud",6.4,2.4,"H",null,null,null,{"$f":"catp","v":4}]
[4319,"Majeri Adrian","Bistrita",4.3,2.4,"H",null,null,null,{"$f":"catp","v":4}]
[4357,"Musat Mihai","Lipanesti",4.0999999999999996,2.4,"H",null,null,null,{"$f":"catp","v":4}]
[3950,"Gheorghe Constantin","Paulesti",6.7,2.35,"H",null,null,null,{"$f":"catp","v":4}]
[4333,"Simon Andrei","Popesti Leordeni",4.2,2.35,"H",null,null,null,{"$f":"catp","v":4}]
[3469,"Kiss David","Miercurea Ciuc",12.5,2.33,"H",null,null,null,{"$f":"catp","v":4}]
[3770,"Zaharia Tudor","Suceava",8.5,2.33,"H",null,null,null,{"$f":"catp","v":4}]
[3969,"Covaci Eduardo","Arad",6.5,2.33,"H",null,null,null,{"$f":"catp","v":4}]
[4036,"Soldan Maxim","Cajvana",5.8,2.33,"H",null,null,null,{"$f":"catp","v":4}]
[4037,"Bura Ionut Virgil","Cluj Napoca",5.8,2.33,"H",null,null,null,{"$f":"catp","v":4}]
[3279,"Maier Ciprian","Sebes",15.2,2.2999999999999998,"H",null,null,null,{"$f":"catp","v":4}]
[3804,"Loloiu Maia","Sibiu",8.1,2.2999999999999998,"HF",null,null,null,{"$f":"catp","v":4}]
[3009,"Damian Toma","Comanesti",20.5,2.25,"H",null,null,null,{"$f":"catp","v":4}]
[3620,"Tulei Stefan","Iasi",10.5,2.25,"H",null,null,null,{"$f":"catp","v":4}]
[3970,"Hreamata Sorin","Pascani",6.5,2.25,"H",null,null,null,{"$f":"catp","v":4}]
[3971,"Zaharii Narcis","Falticeni",6.5,2.25,"H",null,null,null,{"$f":"catp","v":4}]
[4069,"Rosu David Mugurel","Comanesti",5.5,2.25,"H",null,null,null,{"$f":"catp","v":4}]
[4297,"Popa Alexandru Arthur","Arad",4.5,2.25,"H",null,null,null,{"$f":"catp","v":4}]
[4298,"Petcu Nicolas","Buhusi",4.5,2.25,"H",null,null,null,{"$f":"catp","v":4}]
[4299,"Doroftei Kevyn","Arad",4.5,2.25,"H",null,null,null,{"$f":"catp","v":4}]
[4300,"Osipov Dmitrii","Moldova-Comrat",4.5,2.25,"H",null,null,null,{"$f":"catp","v":4}]
[4301,"Gotea Denis","Hateg",4.5,2.25,"H",null,null,null,{"$f":"catp","v":4}]
[4378,"Butnaru Damian","Mogosesti",4,2.25,"H",null,null,null,{"$f":"catp","v":4}]
[4379,"Marcu Catalin","Moinesti",4,2.25,"H",null,null,null,{"$f":"catp","v":4}]
[4380,"Roxin Andrei","Arad",4,2.25,"H",null,null,null,{"$f":"catp","v":4}]
[4381,"Andras Robert","Hateg",4,2.25,"H",null,null,null,{"$f":"catp","v":4}]
[4382,"Paunas Raul","Navodari",4,2.25,"H",null,null,null,{"$f":"catp","v":4}]
[4414,"Cangea Tudor","Galati",3.9,2.25,"H",null,null,null,{"$f":"catp","v":4}]
[4415,"Beian Luca","Floresti",3.9,2.25,"H",null,null,null,{"$f":"catp","v":4}]
[4416,"Melniciuc Elena","Vatra Dornei",3.9,2.25,"HF",null,null,null,{"$f":"catp","v":4}]
[4541,"Irimia Marian","Ploiesti",3.4,2.25,"H",null,null,null,{"$f":"catp","v":4}]
[4542,"Pintea Larisa","Deva",3.4,2.25,"HF",null,null,null,{"$f":"catp","v":4}]
[4543,"Eparu Darius","Iasi",3.4,2.25,"H",null,null,null,{"$f":"catp","v":4}]
[4544,"Lako Valentin","Targu Mures",3.4,2.25,"H",null,null,null,{"$f":"catp","v":4}]
[3814,"Frisan Andrei","Nasaud",8,2.17,"H",null,null,null,{"$f":"catp","v":4}]
[3819,"Rotaru Ianis","Galati",7.9,2.17,"H",null,null,null,{"$f":"catp","v":4}]
[3870,"Dumitru Daria","Navodari",7.4,2.17,"HF",null,null,null,{"$f":"catp","v":4}]
[4070,"Petrache Lucian","Bucuresti",5.5,2.17,"H",null,null,null,{"$f":"catp","v":4}]
[4085,"Briceag Bebe","Targoviste",5.4,2.17,"H",null,null,null,{"$f":"catp","v":4}]
[3318,"Nemes Iasmina","Lunca Muresului",14.9,2.13,"HF",null,null,null,{"$f":"catp","v":4}]
[3685,"Mato Petru","Timisoara",9.5,2.13,"H",null,null,null,{"$f":"catp","v":4}]
[3129,"Hoca Lucas","Lunca Muresului",18.2,2.1,"H",null,null,null,{"$f":"catp","v":4}]
[2857,"Catinean Anda","Targu Mures",24.4,2.08,"HF",null,null,null,{"$f":"catp","v":4}]
[3171,"Varga Bianca","Luna CJ",17.5,2,"HF",null,null,null,{"$f":"catp","v":4}]
[3428,"Pustianu Raul","Lunca Muresului",13,2,"H",null,null,null,{"$f":"catp","v":4}]
[3497,"Macovei Tudor","Bucuresti",12,2,"H",null,null,null,{"$f":"catp","v":4}]
[3621,"Csibi Razvan","Lunca Muresului",10.5,2,"H",null,null,null,{"$f":"catp","v":4}]
[3686,"Vasincu Octavian Laurentiu","Iasi",9.5,2,"H",null,null,null,{"$f":"catp","v":4}]
[3771,"Chiriac Andrei","Bucuresti",8.5,2,"H",null,null,null,{"$f":"catp","v":4}]
[3815,"Naghi Bianca","Lunca Muresului",8,2,"HF",null,null,null,{"$f":"catp","v":4}]
[3861,"Milian Iulian","Hunedoara",7.5,2,"H",null,null,null,{"$f":"catp","v":4}]
[3862,"Blaj Filip","Iasi",7.5,2,"H",null,null,null,{"$f":"catp","v":4}]
[3912,"Cont Mircea","Hunedoara",7,2,"H",null,null,null,{"$f":"catp","v":4}]
[3913,"Ignat Darius","Arad",7,2,"H",null,null,null,{"$f":"catp","v":4}]
[3914,"Pal Norbert","Joseni",7,2,"H",null,null,null,{"$f":"catp","v":4}]
[3915,"Nagy Kristof","Targu Mures",7,2,"H",null,null,null,{"$f":"catp","v":4}]
[3916,"Ionica Codrin","Comanesti",7,2,"H",null,null,null,{"$f":"catp","v":4}]
[3917,"Manoiu Nicolae Sebastian","Fieni",7,2,"H",null,null,null,{"$f":"catp","v":4}]
[3972,"Bistreanu Petru","Bucuresti",6.5,2,"H",null,null,null,{"$f":"catp","v":4}]
[4022,"Enache Adrian Victor","Ploiesti",6,2,"H",null,null,null,{"$f":"catp","v":4}]
[4023,"Nitescu Maria Tereza","Jucu",6,2,"HF",null,null,null,{"$f":"catp","v":4}]
[4071,"Stir Bogdan","Telega",5.5,2,"H",null,null,null,{"$f":"catp","v":4}]
[4072,"Lupu Rares","Navodari",5.5,2,"H",null,null,null,{"$f":"catp","v":4}]
[4073,"Milos Alexandru","Alexandria",5.5,2,"H",null,null,null,{"$f":"catp","v":4}]
[4074,"Faladau Madalina","Aiud",5.5,2,"HF",null,null,null,{"$f":"catp","v":4}]
[4075,"Musat Tudor","Lipanesti",5.5,2,"H",null,null,null,{"$f":"catp","v":4}]
[4076,"Vass Richard","Sovata",5.5,2,"H",null,null,null,{"$f":"catp","v":4}]
[4226,"Popescu Cristina","Boldesti Scaeni",5,2,"HF",null,null,null,{"$f":"catp","v":4}]
[4227,"Szalisznyo Luca","Lugoj",5,2,"H",null,null,null,{"$f":"catp","v":4}]
[4228,"Contes Vasile","Timisoara",5,2,"H",null,null,null,{"$f":"catp","v":4}]
[4229,"Chiriac Adrian","Bucuresti",5,2,"H",null,null,null,{"$f":"catp","v":4}]
[4230,"Popa Alexandra","Sibiu",5,2,"HF",null,null,null,{"$f":"catp","v":4}]
[4231,"Moldovan Andrei","Bucuresti",5,2,"H",null,null,null,{"$f":"catp","v":4}]
[4232,"Tasedan Marcel","Arad",5,2,"H",null,null,null,{"$f":"catp","v":4}]
[4233,"Maria Stefania Izabela","Targoviste",5,2,"HF",null,null,null,{"$f":"catp","v":4}]
[4234,"Cutar Ionut","Targoviste",5,2,"H",null,null,null,{"$f":"catp","v":4}]
[4302,"Luca Maria","Lunca Muresului",4.5,2,"HF",null,null,null,{"$f":"catp","v":4}]
[4303,"Pnacsek Alex","Lunca Muresului",4.5,2,"H",null,null,null,{"$f":"catp","v":4}]
[4383,"Lungu Raul","Tecuci",4,2,"H",null,null,null,{"$f":"catp","v":4}]
[4384,"Podhora Cristina","Alesd",4,2,"HF",null,null,null,{"$f":"catp","v":4}]
[4385,"Ene Camelia","Barlad",4,2,"HF",null,null,null,{"$f":"catp","v":4}]
[4386,"Orga Denis","Gligoresti",4,2,"H",null,null,null,{"$f":"catp","v":4}]
[4387,"Balaban Cosmin","Focsani",4,2,"H",null,null,null,{"$f":"catp","v":4}]
[4388,"Bordeianu Alice","Bucuresti",4,2,"HF",null,null,null,{"$f":"catp","v":4}]
[4389,"Coman Radu","Campina",4,2,"H",null,null,null,{"$f":"catp","v":4}]
[4390,"Stanciu Stefan","Urlati",4,2,"H",null,null,null,{"$f":"catp","v":4}]
[4391,"Bernea Daniel","Bucuresti",4,2,"H",null,null,null,{"$f":"catp","v":4}]
[4392,"Tabara Sebastian","Valenii de Munte",4,2,"H",null,null,null,{"$f":"catp","v":4}]
[4393,"Voicu Denis","Navodari",4,2,"H",null,null,null,{"$f":"catp","v":4}]
[4394,"Racz Peter","Targu Mures",4,2,"H",null,null,null,{"$f":"catp","v":4}]
[4395,"Bordea Diana","Calan",4,2,"HF",null,null,null,{"$f":"catp","v":4}]
[4396,"Orban Darius","Siret",4,2,"H",null,null,null,{"$f":"catp","v":4}]
[4397,"Cirsmar Stefan","Siret",4,2,"H",null,null,null,{"$f":"catp","v":4}]
[4398,"Stinea Adrian","Cluj Napoca",4,2,"H",null,null,null,{"$f":"catp","v":4}]
[4399,"Pojoni Oliver","Orastie",4,2,"H",null,null,null,{"$f":"catp","v":4}]
[4400,"Penciuc Danut","Cluj Napoca",4,2,"H",null,null,null,{"$f":"catp","v":4}]
[4401,"Deli Victoria","Moldova-Comrat",4,2,"HF",null,null,null,{"$f":"catp","v":4}]
[4402,"Iordachi Adrian Stanga","Adjud",4,2,"HW",null,null,null,{"$f":"catp","v":4}]
[4403,"Trif Claudiu","Sebes",4,2,"H",null,null,null,{"$f":"catp","v":4}]
[4503,"Ipate Bogdan","Pascani",3.5,2,"H",null,null,null,{"$f":"catp","v":4}]
[4504,"Telecan Mircea Vasile","Apahida",3.5,2,"H",null,null,null,{"$f":"catp","v":4}]
[4505,"Diaconu Mariana","Moinesti",3.5,2,"HF",null,null,null,{"$f":"catp","v":4}]
[4506,"Baciu Adrian","Giarmata",3.5,2,"H",null,null,null,{"$f":"catp","v":4}]
[4507,"Milcica Andrei","Brasov",3.5,2,"H",null,null,null,{"$f":"catp","v":4}]
[4508,"Popa Luca","Floresti",3.5,2,"H",null,null,null,{"$f":"catp","v":4}]
[4509,"Neacsu Radu","Bucuresti",3.5,2,"H",null,null,null,{"$f":"catp","v":4}]
[4510,"Mocanu Marius","Baicoi",3.5,2,"H",null,null,null,{"$f":"catp","v":4}]
[4511,"Sztan Eric Traian","Buzau",3.5,2,"H",null,null,null,{"$f":"catp","v":4}]
[4512,"Ciobanu Andrei","Iasi",3.5,2,"H",null,null,null,{"$f":"catp","v":4}]
[4513,"Ciobanu Ioana","Pitesti",3.5,2,"HF",null,null,null,{"$f":"catp","v":4}]
[4514,"Apetrei Constantin","Iasi",3.5,2,"H",null,null,null,{"$f":"catp","v":4}]
[4515,"Besteala Andrei","Alexandria",3.5,2,"H",null,null,null,{"$f":"catp","v":4}]
[4516,"Cotun Leo","Suceava",3.5,2,"H",null,null,null,{"$f":"catp","v":4}]
[4517,"Balaceanu Iulian","Drobeta Tr Severin",3.5,2,"H",null,null,null,{"$f":"catp","v":4}]
[4518,"Balaceanu Mihai","Drobeta Tr Severin",3.5,2,"H",null,null,null,{"$f":"catp","v":4}]
[4519,"Martiniuc Cosmin","Viseu",3.5,2,"H"]
[4520,"Coman Razvan","Lugoj",3.5,2,"H",null,null,null,{"$f":"catp","v":4}]
[4521,"Bartha Nimrod","Oradea",3.5,2,"H",null,null,null,{"$f":"catp","v":4}]
[4522,"Pantecan Alex","Bucuresti",3.5,2,"H",null,null,null,{"$f":"catp","v":4}]
[4523,"Tirulnic Evgheni","Bucuresti",3.5,2,"H",null,null,null,{"$f":"catp","v":4}]
[4524,"Roman Raisa","Alexandria",3.5,2,"HF",null,null,null,{"$f":"catp","v":4}]
[4525,"Radoi Ianis","Alexandria",3.5,2,"H",null,null,null,{"$f":"catp","v":4}]
[4526,"Iordache Alexandru","Bucuresti",3.5,2,"H",null,null,null,{"$f":"catp","v":4}]
[4527,"Crivat Matei","Bucuresti",3.5,2,"H",null,null,null,{"$f":"catp","v":4}]
[4528,"Vladescu Oana","Cluj Napoca",3.5,2,"HF",null,null,null,{"$f":"catp","v":4}]
[4646,"Turlui Rares","Bals",3,2,"H",null,null,null,{"$f":"catp","v":4}]
[4647,"Preda Antonia","Bals",3,2,"HF",null,null,null,{"$f":"catp","v":4}]
[4648,"Smadici Adrian","Milisauti",3,2,"H",null,null,null,{"$f":"catp","v":4}]
[4649,"Fudulu Sorin Gigi","Alexandria",3,2,"H",null,null,null,{"$f":"catp","v":4}]
[4650,"Oprea Raul","Dobrotesti",3,2,"H",null,null,null,{"$f":"catp","v":4}]
[4651,"Croitoru Ionut","Iasi",3,2,"H",null,null,null,{"$f":"catp","v":4}]
[4652,"Liculescu Vlad","Bucuresti",3,2,"H",null,null,null,{"$f":"catp","v":4}]
[4653,"Fordon Alin","Campani",3,2,"H",null,null,null,{"$f":"catp","v":4}]
[4654,"Alecu Cristian","Targoviste",3,2,"H",null,null,null,{"$f":"catp","v":4}]
[4655,"Faur Sebastian","Bucuresti",3,2,"H",null,null,null,{"$f":"catp","v":4}]
[4656,"Szitar Mihai","Bucuresti",3,2,"H",null,null,null,{"$f":"catp","v":4}]
[4657,"Kupan David","Lunca Muresului",3,2,"H",null,null,null,{"$f":"catp","v":4}]
[4658,"Domokos David","Lunca Muresului",3,2,"H",null,null,null,{"$f":"catp","v":4}]
[4659,"Manea Florian","Fetesti",3,2,"H",null,null,null,{"$f":"catp","v":4}]
[4660,"Simion Mircea","Targu Jiu",3,2,"H",null,null,null,{"$f":"catp","v":4}]
[4801,"Pop Daniel","Cluj Napoca",2,2,"H",null,null,null,{"$f":"catp","v":4}]
[4802,"Palamariuc Mihai","Onesti",2,2,"H",null,null,null,{"$f":"catp","v":4}]
[4803,"Buga Mihai","Alexandria",2,2,"H",null,null,null,{"$f":"catp","v":4}]
[4804,"Carciog Ionut Alexandru","Calarasi",2,2,"H",null,null,null,{"$f":"catp","v":4}]
[4805,"Frent George","Arad",2,2,"H",null,null,null,{"$f":"catp","v":4}]
[4806,"Nopcea Marius","Hateg",2,2,"H",null,null,null,{"$f":"catp","v":4}]
[4807,"Caba Ciprian","Putna",2,2,"H",null,null,null,{"$f":"catp","v":4}]
[4808,"Marin George Remus","Tulcea",2,2,"H",null,null,null,{"$f":"catp","v":4}]
[4809,"Bulancea Victor","Curtea de Arges",2,2,"H",null,null,null,{"$f":"catp","v":4}]
[4810,"Nistor Mirela","Cisnadie",2,2,"HF",null,null,null,{"$f":"catp","v":4}]
[4811,"Profir Alexandru","Tecuci",2,2,"H",null,null,null,{"$f":"catp","v":4}]
[4812,"Ciortescu Mihai","Iasi",2,2,"H",null,null,null,{"$f":"catp","v":4}]
[4813,"Doghi Ciprian","Apahida",2,2,"H",null,null,null,{"$f":"catp","v":4}]
[4814,"Gojkov Milan","Varset",2,2,"H",null,null,null,{"$f":"catp","v":4}]
[4815,"Marin Goran","Varset",2,2,"H",null,null,null,{"$f":"catp","v":4}]
[4816,"Raduta Luis","Darmanesti",2,2,"H",null,null,null,{"$f":"catp","v":4}]
[4817,"Ion Alexandru","Darmanesti",2,2,"H",null,null,null,{"$f":"catp","v":4}]
[4818,"Sfera Mihai","Lokve",2,2,"H",null,null,null,{"$f":"catp","v":4}]
[4819,"Dima George","Ploiesti",2,2,"H",null,null,null,{"$f":"catp","v":4}]
[4820,"Baluta Vlad","Buhusi",2,2,"H",null,null,null,{"$f":"catp","v":4}]
[4821,"David Andrei","Slobozia",2,2,"H",null,null,null,{"$f":"catp","v":4}]
[4822,"Iojiban Victor","Balan",2,2,"H",null,null,null,{"$f":"catp","v":4}]
[4823,"Badalan Adina","Drobeta Tr Severin",2,2,"HF",null,null,null,{"$f":"catp","v":4}]
[4824,"Balazs Anna","Toplita",2,2,"HF",null,null,null,{"$f":"catp","v":4}]
[4825,"Andrei Bogdan","Jijila",2,2,"H",null,null,null,{"$f":"catp","v":4}]
[4826,"Gologan Vlad","Faurei",2,2,"H",null,null,null,{"$f":"catp","v":4}]
[4827,"Saftoiu Claudiu","Bucuresti",2,2,"H",null,null,null,{"$f":"catp","v":4}]
[4828,"Ianc Bogdan","Floresti",2,2,"H",null,null,null,{"$f":"catp","v":4}]
[4829,"Cazac Abel","Radauti",2,2,"H",null,null,null,{"$f":"catp","v":4}]
[4830,"Ichim David","Buhusi",2,2,"H",null,null,null,{"$f":"catp","v":4}]
[4831,"Uram Mihai","Tulcea",2,2,"H",null,null,null,{"$f":"catp","v":4}]
[4832,"Diaconu Ionut","Moinesti",2,2,"H",null,null,null,{"$f":"catp","v":4}]
[4833,"Baciu Alexandru","Giarmata",2,2,"H",null,null,null,{"$f":"catp","v":4}]
[4834,"Chironda Leonid","Moldova",2,2,"H",null,null,null,{"$f":"catp","v":4}]
[4835,"Muntean Tudor","Floresti",2,2,"H",null,null,null,{"$f":"catp","v":4}]
[4836,"Lungu Efrem","Giarmata",2,2,"H",null,null,null,{"$f":"catp","v":4}]
[4837,"Miculici Vlad","Floresti",2,2,"H",null,null,null,{"$f":"catp","v":4}]
[4838,"Bara Natanael","Oradea",2,2,"H",null,null,null,{"$f":"catp","v":4}]
[4839,"Lupu Gabriel Ionel","Piatra Neamt",2,2,"H",null,null,null,{"$f":"catp","v":4}]
[4840,"Arama Ciprian","Buhusi",2,2,"H",null,null,null,{"$f":"catp","v":4}]
[4841,"Lipovanu Stefan","Buhusi",2,2,"H",null,null,null,{"$f":"catp","v":4}]
[4842,"Smisleaeva Liudmila","Moldova-Balti",2,2,"HF",null,null,null,{"$f":"catp","v":4}]
[4843,"Binzari Stanislav","Moldova-Balti",2,2,"H",null,null,null,{"$f":"catp","v":4}]
[4844,"Tanca Paul","Floresti",2,2,"H",null,null,null,{"$f":"catp","v":4}]
[4845,"Gherghevici Calin","Bucuresti",2,2,"H",null,null,null,{"$f":"catp","v":4}]
[4846,"Martinescu Alessio","Barlad",2,2,"H",null,null,null,{"$f":"catp","v":4}]
[4847,"Jora Daria","Barlad",2,2,"HF",null,null,null,{"$f":"catp","v":4}]
[4848,"Sabo Ioan","Alba Iulia",2,2,"H",null,null,null,{"$f":"catp","v":4}]
[4849,"Farcas Flavian","Bulzestii de Sus",2,2,"H",null,null,null,{"$f":"catp","v":4}]
[4850,"Buiturian Ionel","Santamaria Orlea",2,2,"H",null,null,null,{"$f":"catp","v":4}]
[4851,"Leordean Leontin","Balomir",2,2,"H",null,null,null,{"$f":"catp","v":4}]
[4852,"Blaj Victor","Dumbravita",2,2,"H",null,null,null,{"$f":"catp","v":4}]
[4853,"Moise Silviu","Timisoara",2,2,"H",null,null,null,{"$f":"catp","v":4}]
[4854,"Stoi Vlad","Timisoara",2,2,"H",null,null,null,{"$f":"catp","v":4}]
[4855,"Eremie Liviu","Dumbravita",2,2,"H",null,null,null,{"$f":"catp","v":4}]
[4856,"Deac Adrian","Dumbravita",2,2,"H",null,null,null,{"$f":"catp","v":4}]
[4857,"Carnu Miruna","Dumbravita",2,2,"HF",null,null,null,{"$f":"catp","v":4}]
[4858,"Voica Larisa","Filipestii de Targ",2,2,"HF",null,null,null,{"$f":"catp","v":4}]
[4859,"Lambru Cristian","Slobozia",2,2,"H",null,null,null,{"$f":"catp","v":4}]
[4860,"Panduru Liviu","Calarasi",2,2,"H",null,null,null,{"$f":"catp","v":4}]
[4861,"Matei Sorin","Buzau",2,2,"H",null,null,null,{"$f":"catp","v":4}]
[4862,"Cretu Ricardo","Luna CJ",2,2,"H",null,null,null,{"$f":"catp","v":4}]
[4863,"Todea Ioan","Rasca",2,2,"H",null,null,null,{"$f":"catp","v":4}]
[4864,"Orza Razvan","Suceava",2,2,"H",null,null,null,{"$f":"catp","v":4}]
[4865,"Rusu Victor","Suceava",2,2,"H",null,null,null,{"$f":"catp","v":4}]
[4866,"Cazaciuc Marius","Suceava",2,2,"H",null,null,null,{"$f":"catp","v":4}]
[4867,"Mara Cristina","Comanesti",2,2,"HF",null,null,null,{"$f":"catp","v":4}]
[4868,"Mocondoi Gheorghita","Moinesti",2,2,"H",null,null,null,{"$f":"catp","v":4}]
[4869,"Chira Ciprian","Magiresti",2,2,"H",null,null,null,{"$f":"catp","v":4}]
[4870,"Bujenita Elena","Galati",2,2,"HF",null,null,null,{"$f":"catp","v":4}]
[4871,"Pacuret Geraldina","Pitesti",2,2,"HF",null,null,null,{"$f":"catp","v":4}]
[4872,"Predutoiu Andrei","Pitesti",2,2,"H",null,null,null,{"$f":"catp","v":4}]
[4873,"Puskas Attila","Sovata",2,2,"H",null,null,null,{"$f":"catp","v":4}]
[4874,"Pirta Sara","Oradea",2,2,"HF",null,null,null,{"$f":"catp","v":4}]
[4875,"Rada Matei","Oradea",2,2,"H",null,null,null,{"$f":"catp","v":4}]
[4876,"Miculaiciuc Daniel Ioan","Ileanda",2,2,"H",null,null,null,{"$f":"catp","v":4}]
[4877,"Nichita Petru","Sibiu",2,2,"H",null,null,null,{"$f":"catp","v":4}]
[4878,"Oprea Mihai","Cluj Napoca",2,2,"H",null,null,null,{"$f":"catp","v":4}]
[4879,"Constantinescu Liviu","Curtea de Arges",2,2,"H",null,null,null,{"$f":"catp","v":4}]
[4880,"Oancea Andrei","Curtea de Arges",2,2,"H",null,null,null,{"$f":"catp","v":4}]
[4881,"Vasilache Geoni","Matca",2,2,"H",null,null,null,{"$f":"catp","v":4}]
[4882,"Balan Liviu","Tecuci",2,2,"H",null,null,null,{"$f":"catp","v":4}]
[4883,"Mladin Vasile","Calan",2,2,"H",null,null,null,{"$f":"catp","v":4}]
[4884,"Zorfie Daniel","Baru",2,2,"H",null,null,null,{"$f":"catp","v":4}]
[4885,"Burhui Radu","Buhusi",2,2,"H",null,null,null,{"$f":"catp","v":4}]
[4886,"Dita Diana","Bucuresti",2,2,"HF",null,null,null,{"$f":"catp","v":4}]
[4887,"Barlianu Liviu","Vaslui",2,2,"H",null,null,null,{"$f":"catp","v":4}]
[4888,"Copacinschi Raisa","Vaslui",2,2,"HF",null,null,null,{"$f":"catp","v":4}]
[4889,"Chirica Dragos","Vaslui",2,2,"H",null,null,null,{"$f":"catp","v":4}]
[4890,"Stoica Ioan Cristian","Targoviste",2,2,"H",null,null,null,{"$f":"catp","v":4}]
[4891,"Olteanu Stefan","Sighisoara",2,2,"H",null,null,null,{"$f":"catp","v":4}]
[4892,"Teodorescu Ovidiu","Sighisoara",2,2,"H",null,null,null,{"$f":"catp","v":4}]
[4893,"Meyndt Alexander","Sighisoara",2,2,"H",null,null,null,{"$f":"catp","v":4}]
[4894,"Simo Pal Levente","Sighisoara",2,2,"H",null,null,null,{"$f":"catp","v":4}]
[4895,"Andreica Gabriel","Viseu",2,2,"H",null,null,null,{"$f":"catp","v":4}]
[4896,"Rad Solomon","Viseu",2,2,"H",null,null,null,{"$f":"catp","v":4}]
[4897,"Nan Marius","Tarnaveni",2,2,"H",null,null,null,{"$f":"catp","v":4}]
[4898,"Mandache Andreea","Bucuresti",2,2,"HF",null,null,null,{"$f":"catp","v":4}]
[4899,"Mladin Stelian","Calan",2,2,"H",null,null,null,{"$f":"catp","v":4}]
[4900,"Caba Alin","Putna",2,2,"H",null,null,null,{"$f":"catp","v":4}]
[4901,"Carpaci Szanto Cristian","Ludus",2,2,"H",null,null,null,{"$f":"catp","v":4}]
[4902,"Huruba Ilie","Targu Mures",2,2,"H",null,null,null,{"$f":"catp","v":4}]
[4903,"Necula Gabriel","Arad",2,2,"H",null,null,null,{"$f":"catp","v":4}]
[4904,"Pantea Gratian","Arad",2,2,"H",null,null,null,{"$f":"catp","v":4}]
[4905,"Daroiu Augustin","Bucuresti",2,2,"H",null,null,null,{"$f":"catp","v":4}]
[4906,"Dabu Alex","Bucuresti",2,2,"H",null,null,null,{"$f":"catp","v":4}]
[4907,"Mondoaca Matteo","Rosiori de Vede",2,2,"H",null,null,null,{"$f":"catp","v":4}]
[4908,"Baicu Angelo","Bucuresti",2,2,"H",null,null,null,{"$f":"catp","v":4}]
[4909,"Pastusoc Cristi","Moldova-Edinet",2,2,"H",null,null,null,{"$f":"catp","v":4}]
[4910,"Gabriel Coman","Bucuresti",2,2,"H",null,null,null,{"$f":"catp","v":4}]
[4911,"Nalboiu David","Craiova",2,2,"H",null,null,null,{"$f":"catp","v":4}]
[4912,"Cirstea Matei","Craiova",2,2,"H",null,null,null,{"$f":"catp","v":4}]
[4913,"Patrascu Erik","Navodari",2,2,"H",null,null,null,{"$f":"catp","v":4}]
[4914,"Orbocea Alesia","Navodari",2,2,"HF",null,null,null,{"$f":"catp","v":4}]
[4915,"Langa Timotei","Dumbraveni SV",2,2,"H",null,null,null,{"$f":"catp","v":4}]
[4916,"Prodan Daniel","Lunca Muresului",2,2,"H",null,null,null,{"$f":"catp","v":4}]
[4917,"Cut Dan","Caransebes",2,2,"H",null,null,null,{"$f":"catp","v":4}]
[4918,"Oprea Marian","Bucuresti",2,2,"H",null,null,null,{"$f":"catp","v":4}]
[4919,"Dicu Andrei","Bucuresti",2,2,"H",null,null,null,{"$f":"catp","v":4}]
[4920,"Ghimpau Stefan","Bucuresti",2,2,"H",null,null,null,{"$f":"catp","v":4}]
[4921,"Ifrim Mihai","Falticeni",2,2,"H",null,null,null,{"$f":"catp","v":4}]
[4922,"Ceornei Andrei","Falticeni",2,2,"H",null,null,null,{"$f":"catp","v":4}]
[4923,"Avram Mihai","Sibiu",2,2,"H",null,null,null,{"$f":"catp","v":4}]
[4924,"Tudorascu Mircea","Orastie",2,2,"H",null,null,null,{"$f":"catp","v":4}]
[4925,"Cata Doru","Baia Mare",2,2,"H",null,null,null,{"$f":"catp","v":4}]
[4926,"Taga Mario","Barlad",2,2,"H",null,null,null,{"$f":"catp","v":4}]
[4927,"Linoiu Mircea","Constanta",2,2,"H",null,null,null,{"$f":"catp","v":4}]
[4928,"Rusti Denis","Arad",2,2,"H",null,null,null,{"$f":"catp","v":4}]
[4929,"Cirja Sorin","Arad",2,2,"H",null,null,null,{"$f":"catp","v":4}]
[4930,"Cirja Anita","Arad",2,2,"HF",null,null,null,{"$f":"catp","v":4}]
[4931,"Cirja Timea","Arad",2,2,"HF",null,null,null,{"$f":"catp","v":4}]
[4932,"Antonas Cristian","Dorohoi",2,2,"H",null,null,null,{"$f":"catp","v":4}]
[4933,"Ailoaie Cosmin Marian","Vorona",2,2,"H",null,null,null,{"$f":"catp","v":4}]
[4934,"Iordachioaea Filip","Pitesti",2,2,"H",null,null,null,{"$f":"catp","v":4}]
[4935,"Malureanu Grigore","Focsani",2,2,"H",null,null,null,{"$f":"catp","v":4}]
[4936,"Constantin Luca Andrei","Focsani",2,2,"H",null,null,null,{"$f":"catp","v":4}]
[4937,"Gegea Dimitrie","Straoane",2,2,"H",null,null,null,{"$f":"catp","v":4}]
[4938,"Bogatan Marius","Cluj Napoca",2,2,"H",null,null,null,{"$f":"catp","v":4}]
[4939,"Supciuc Apollinaria","Moldova-Balti",2,2,"HF",null,null,null,{"$f":"catp","v":4}]
[4940,"Ceaica Ilia","Moldova-Balti",2,2,"H",null,null,null,{"$f":"catp","v":4}]
[4941,"Saric Artiom","Moldova-Balti",2,2,"H",null,null,null,{"$f":"catp","v":4}]
[4942,"Virla Teodor","Pitesti",2,2,"H",null,null,null,{"$f":"catp","v":4}]
[4943,"Ungureanu Rares","Pascani",2,2,"H",null,null,null,{"$f":"catp","v":4}]
[4944,"Dragan Paul","Zalau",2,2,"H",null,null,null,{"$f":"catp","v":4}]
[4945,"Boncoi Bogdan","Sinaia",2,2,"H",null,null,null,{"$f":"catp","v":4}]
[4946,"Ulesan Alexandru","Sibiu",2,2,"H",null,null,null,{"$f":"catp","v":4}]
[4947,"Mozes Florin","Sibiu",2,2,"H",null,null,null,{"$f":"catp","v":4}]
[4948,"Cretu Catalin","Floresti",2,2,"H",null,null,null,{"$f":"catp","v":4}]
[4949,"Stoian Mihnea","Alexandria",2,2,"H",null,null,null,{"$f":"catp","v":4}]
[4950,"Dinca Bogdan","Alexandria",2,2,"H",null,null,null,{"$f":"catp","v":4}]
[4951,"Cosma Cosmin","Iasi",2,2,"H",null,null,null,{"$f":"catp","v":4}]
[4952,"Muresan Paul","Uriu",2,2,"H",null,null,null,{"$f":"catp","v":4}]
[4953,"Fazecas Daniel","Malut",2,2,"H",null,null,null,{"$f":"catp","v":4}]
[4954,"Stefan Nicolas","Magurele",2,2,"H",null,null,null,{"$f":"catp","v":4}]
[4955,"Borza Sergiu","Moldova-Leova",2,2,"H",null,null,null,{"$f":"catp","v":4}]
[4956,"Tomoiaga Daniel","Viseu",2,2,"H",null,null,null,{"$f":"catp","v":4}]
[4957,"Potlog Nicolae","Viseu",2,2,"H",null,null,null,{"$f":"catp","v":4}]
[4958,"Chesa Dragos","Viseu",2,2,"H",null,null,null,{"$f":"catp","v":4}]
[4959,"Dunca Daniel","Viseu",2,2,"H",null,null,null,{"$f":"catp","v":4}]
[4960,"Mechetiuc Daniel","Viseu",2,2,"H",null,null,null,{"$f":"catp","v":4}]
[4961,"Faiciuc Damian","Viseu",2,2,"H",null,null,null,{"$f":"catp","v":4}]
[4962,"Ciotlaus Ilarie","Hunedoara",2,2,"H",null,null,null,{"$f":"catp","v":4}]
[4963,"Petre Viorel","Bucuresti",2,2,"H",null,null,null,{"$f":"catp","v":4}]
[4964,"Albu Alexandra","Pascani",2,2,"HF",null,null,null,{"$f":"catp","v":4}]
[4965,"Barbu Cristian","Slobozia",2,2,"H",null,null,null,{"$f":"catp","v":4}]
[4966,"Anton Ioan","Constanta",2,2,"H",null,null,null,{"$f":"catp","v":4}]
[4967,"Anton Nicolae","Constanta",2,2,"H",null,null,null,{"$f":"catp","v":4}]
[4968,"Mihalache Antonia","Ludus",2,2,"HF",null,null,null,{"$f":"catp","v":4}]
[4969,"Viski Darius Andrei","Ludus",2,2,"H",null,null,null,{"$f":"catp","v":4}]
[4970,"Bordea Cristian","Giroc",2,2,"H",null,null,null,{"$f":"catp","v":4}]
[4971,"Dumitras Victor","Giroc",2,2,"H",null,null,null,{"$f":"catp","v":4}]
[4972,"Mocanu Mihai","Halaucesti",2,2,"H",null,null,null,{"$f":"catp","v":4}]
[4973,"Marin Marcus","Agnita",2,2,"H",null,null,null,{"$f":"catp","v":4}]
[4974,"Joarza Constantin","Sibiu",2,2,"H",null,null,null,{"$f":"catp","v":4}]
[4975,"Oprea David","Constanta",2,2,"H",null,null,null,{"$f":"catp","v":4}]
[4976,"Tremurici Marian","Tulcea",2,2,"H",null,null,null,{"$f":"catp","v":4}]
[4977,"Platon Mihai","Jurilovca",2,2,"H",null,null,null,{"$f":"catp","v":4}]
[4978,"Nitu Adrian","Sibiu",2,2,"H",null,null,null,{"$f":"catp","v":4}]
[4979,"Galan Edoardo","Corocaesti SV",2,2,"H",null,null,null,{"$f":"catp","v":4}]
[4980,"Iavorenciuc Matei","Suceava",2,2,"H",null,null,null,{"$f":"catp","v":4}]
[4981,"Tibu Stefania","Scheia SV",2,2,"HF",null,null,null,{"$f":"catp","v":4}]
[4982,"Berco Veaceslav","Suceava",2,2,"H",null,null,null,{"$f":"catp","v":4}]
[4983,"Leonte Vlad","Suceava",2,2,"H",null,null,null,{"$f":"catp","v":4}]
[4984,"Pricop Stefan","Suceava",2,2,"H",null,null,null,{"$f":"catp","v":4}]
[4985,"Demian Elvira","Baia Mare",2,2,"HF",null,null,null,{"$f":"catp","v":4}]
[4986,"Pop Ionut","Cicarlau",2,2,"H",null,null,null,{"$f":"catp","v":4}]
[4987,"Motica Dumitru Ion","Cicarlau",2,2,"H",null,null,null,{"$f":"catp","v":4}]
[4988,"Aramescu Neculai","Harsova",2,2,"H",null,null,null,{"$f":"catp","v":4}]
[4989,"Grecu Costel","Harsova",2,2,"H",null,null,null,{"$f":"catp","v":4}]
[4990,"Serban Mircea","Harsova",2,2,"H",null,null,null,{"$f":"catp","v":4}]
[4991,"Sava Marian","Harsova",2,2,"H",null,null,null,{"$f":"catp","v":4}]
[4992,"Holban Ionut","Harsova",2,2,"H",null,null,null,{"$f":"catp","v":4}]
[4993,"Buzera Matei","Timisoara",2,2,"H",null,null,null,{"$f":"catp","v":4}]
[4994,"Caploiu Elena","Giarmata",2,2,"HF",null,null,null,{"$f":"catp","v":4}]
[4995,"Paunescu Antonia","Giarmata",2,2,"HF",null,null,null,{"$f":"catp","v":4}]
[4996,"Ivan Cristina","Iasi",2,2,"HF",null,null,null,{"$f":"catp","v":4}]
[4997,"Costandache Narcis","Iasi",2,2,"H",null,null,null,{"$f":"catp","v":4}]
[4998,"Istrate Robert","Alexandria",2,2,"H",null,null,null,{"$f":"catp","v":4}]
[4999,"Mares Antoaneta","Blaj",2,2,"HF",null,null,null,{"$f":"catp","v":4}]
[5000,"Wang Norman","Suceava",2,2,"H",null,null,null,{"$f":"catp","v":4}]
[5001,"Jurchita Ovidiu","Mosnita Veche",2,2,"H",null,null,null,{"$f":"catp","v":4}]
[5002,"Vasilache Rafael","Buhusi",2,2,"H",null,null,null,{"$f":"catp","v":4}]
[5003,"Buzdea Casian","Iasi",2,2,"H",null,null,null,{"$f":"catp","v":4}]
[5004,"Pustianu Lucas","Lunca Muresului",2,2,"H",null,null,null,{"$f":"catp","v":4}]
[5005,"Termure Alvaro","Dobric",2,2,"H",null,null,null,{"$f":"catp","v":4}]
[5006,"Chiriac Alexandru","Bucuresti",2,2,"H",null,null,null,{"$f":"catp","v":4}]
[5007,"Trandafir Raul","Bucuresti",2,2,"H",null,null,null,{"$f":"catp","v":4}]
[5008,"Doru Vasile","Snagov",2,2,"H",null,null,null,{"$f":"catp","v":4}]
[5009,"Dobre Matei","Targoviste",2,2,"H",null,null,null,{"$f":"catp","v":4}]
[5010,"Bratescu Alexandru","Bucuresti",2,2,"H",null,null,null,{"$f":"catp","v":4}]
[5011,"Ene Daniel","Bucuresti",2,2,"H",null,null,null,{"$f":"catp","v":4}]
[5012,"Ene Alexandru","Bucuresti",2,2,"H",null,null,null,{"$f":"catp","v":4}]
[5054,"Pop Stefan","Bistrita",1.5,2,"HW",null,null,null,{"$f":"catp","v":4}]
[5055,"Span Adrian","Bistrita",1.5,2,"H",null,null,null,{"$f":"catp","v":4}]
[5056,"Grosu Octavian","Botosani",1.5,2,"H",null,null,null,{"$f":"catp","v":4}]
[5057,"Bocsan Ilie","Caransebes",1.5,2,"H",null,null,null,{"$f":"catp","v":4}]
[5058,"Mihail Dragos","Constanta",1.5,2,"H",null,null,null,{"$f":"catp","v":4}]
[5059,"Dochita Mircea","Braila",1.5,2,"H",null,null,null,{"$f":"catp","v":4}]
[5060,"Man Alexandru","Dej",1.5,2,"H",null,null,null,{"$f":"catp","v":4}]
[5061,"Ungureanu Costinel","Drobeta Tr Severin",1.5,2,"H",null,null,null,{"$f":"catp","v":4}]
[5062,"Badiu Neculae","Braila",1.5,2,"H",null,null,null,{"$f":"catp","v":4}]
[5063,"Rusu Alexandru","Bistrita",1.5,2,"HW",null,null,null,{"$f":"catp","v":4}]
[5064,"Miron Stefan","Resita",1.5,2,"H",null,null,null,{"$f":"catp","v":4}]
[5065,"Ceocea Elena","Tulcea",1.5,2,"HF",null,null,null,{"$f":"catp","v":4}]
[5066,"Toader Andrei","Bucuresti",1.5,2,"H",null,null,null,{"$f":"catp","v":4}]
[5067,"Milos Eugen","Alexandria",1.5,2,"H",null,null,null,{"$f":"catp","v":4}]
[5068,"Cozma Georgiana","Bistrita",1.5,2,"HF",null,null,null,{"$f":"catp","v":4}]
[5069,"Radu George","Targoviste",1.5,2,"H",null,null,null,{"$f":"catp","v":4}]
[5070,"Galateanu Lucian","Suceava",1.5,2,"H",null,null,null,{"$f":"catp","v":4}]
[5071,"Cozma Delia","Bistrita",1.5,2,"HF",null,null,null,{"$f":"catp","v":4}]
[5072,"Vlaicu Victor","Zalau",1.5,2,"H",null,null,null,{"$f":"catp","v":4}]
[5073,"Pop Ioan Sorin","Dej",1.5,2,"H",null,null,null,{"$f":"catp","v":4}]
[5074,"Titiliuc Costel","Dersca",1.5,2,"H",null,null,null,{"$f":"catp","v":4}]
[5075,"Szabo Luka Kazmer","Miercurea Ciuc",1.5,2,"H",null,null,null,{"$f":"catp","v":4}]
[5076,"Tufis Razvan","Bucuresti",1.5,2,"H",null,null,null,{"$f":"catp","v":4}]
[5077,"Spatar Denis","Agnita",1.5,2,"H",null,null,null,{"$f":"catp","v":4}]
[5078,"Floca Raul","Sibiu",1.5,2,"H",null,null,null,{"$f":"catp","v":4}]
[5079,"Simota Florin","Radauti",1.5,2,"H",null,null,null,{"$f":"catp","v":4}]
[5080,"Terhes George","Zalau",1.5,2,"H",null,null,null,{"$f":"catp","v":4}]
[5081,"Zaharie Sofia","Radauti",1.5,2,"HF",null,null,null,{"$f":"catp","v":4}]
[5082,"Cangea Todor","Moldova-Cahul",1.5,2,"H",null,null,null,{"$f":"catp","v":4}]
[5083,"Bajko Tamas","Targu Secuiesc",1.5,2,"H",null,null,null,{"$f":"catp","v":4}]
[5084,"Benko Istvan","Targu Secuiesc",1.5,2,"H",null,null,null,{"$f":"catp","v":4}]
[5085,"Patrascu George","Tulcea",1.5,2,"H",null,null,null,{"$f":"catp","v":4}]
[5086,"Manescu David","Bucuresti",1.5,2,"H",null,null,null,{"$f":"catp","v":4}]
[5087,"Carcea Daria","Galanesti",1.5,2,"HF",null,null,null,{"$f":"catp","v":4}]
[5088,"Manolache Andrei","Iasi",1.5,2,"H",null,null,null,{"$f":"catp","v":4}]
[5089,"Gaga Ioana","Cluj Napoca",1.5,2,"HF",null,null,null,{"$f":"catp","v":4}]
[5090,"Radu Corvin","Sibiu",1.5,2,"H",null,null,null,{"$f":"catp","v":4}]
[5091,"Plumb Gabriel","Comarnic",1.5,2,"H",null,null,null,{"$f":"catp","v":4}]
[5092,"Tufeanu Bogdan","Slatina",1.5,2,"H",null,null,null,{"$f":"catp","v":4}]
[5093,"Belenesi Istvan","Oradea",1.5,2,"H",null,null,null,{"$f":"catp","v":4}]
[5094,"Anbrus Stefan","Bistrita",1.5,2,"H",null,null,null,{"$f":"catp","v":4}]
[5095,"Schemel Mihai","Bistrita",1.5,2,"H",null,null,null,{"$f":"catp","v":4}]
[5096,"Constantin Alexandru","Cluj Napoca",1.5,2,"H",null,null,null,{"$f":"catp","v":4}]
[5097,"Babadac Patricia","Slatina",1.5,2,"HF",null,null,null,{"$f":"catp","v":4}]
[5098,"Lazar Emilian","Navodari",1.5,2,"H",null,null,null,{"$f":"catp","v":4}]
[5099,"Zamfir Robert","Constanta",1.5,2,"H",null,null,null,{"$f":"catp","v":4}]
[5100,"Moraru David","Constanta",1.5,2,"H",null,null,null,{"$f":"catp","v":4}]
[5101,"Benchea Celestin","Iasi",1.5,2,"H",null,null,null,{"$f":"catp","v":4}]
[5102,"Bragus Sorin","Bucuresti",1.5,2,"H",null,null,null,{"$f":"catp","v":4}]
[5103,"Ciubar Codrut","Bucuresti",1.5,2,"H",null,null,null,{"$f":"catp","v":4}]
[5104,"Cheran Tiberiu","Bucuresti",1.5,2,"H",null,null,null,{"$f":"catp","v":4}]
[5105,"Bojan Alina","Alexandria",1.5,2,"HF",null,null,null,{"$f":"catp","v":4}]
[5106,"Serban Claudio","Alexandria",1.5,2,"H",null,null,null,{"$f":"catp","v":4}]
[5107,"Bokor Barna","Targu Mures",1.5,2,"H",null,null,null,{"$f":"catp","v":4}]
[5108,"Ionescu Vlad Alex","Brasov",1.5,2,"H",null,null,null,{"$f":"catp","v":4}]
[5109,"Sagau Damian","Brasov",1.5,2,"H",null,null,null,{"$f":"catp","v":4}]
[5110,"Mateut David Jr","Apahida",1.5,2,"H",null,null,null,{"$f":"catp","v":4}]
[5111,"Baluta George","Tulcea",1.5,2,"H",null,null,null,{"$f":"catp","v":4}]
[5112,"Ene Aurel","Tulcea",1.5,2,"H",null,null,null,{"$f":"catp","v":4}]
[5113,"Tipa Aurel Maxim","Solonet",1.5,2,"H",null,null,null,{"$f":"catp","v":4}]
[5114,"Manastireanu Andrei","Botosani",1.5,2,"H",null,null,null,{"$f":"catp","v":4}]
[5115,"Donea George","Brasov",1.5,2,"H",null,null,null,{"$f":"catp","v":4}]
[5116,"Dragu Bogdan","Brasov",1.5,2,"H",null,null,null,{"$f":"catp","v":4}]
[5117,"Grosu Alexandru","Brasov",1.5,2,"H",null,null,null,{"$f":"catp","v":4}]
[5118,"Rizescu David","Ramnicu Valcea",1.5,2,"H",null,null,null,{"$f":"catp","v":4}]
[5119,"Balaj Cristian","Navodari",1.5,2,"H",null,null,null,{"$f":"catp","v":4}]
[5120,"Nicu Daniel","Ramnicu Valcea",1.5,2,"H",null,null,null,{"$f":"catp","v":4}]
[5121,"Enache Ionut","Ramnicu Valcea",1.5,2,"H",null,null,null,{"$f":"catp","v":4}]
[5122,"Incze Szilard","Miercurea Ciuc",1.5,2,"H",null,null,null,{"$f":"catp","v":4}]
[5123,"Trifan Stefan","Galati",1.5,2,"H",null,null,null,{"$f":"catp","v":4}]
[5124,"Burtea Iustin Gabriel","Galati",1.5,2,"H",null,null,null,{"$f":"catp","v":4}]
[5125,"Trifan Valentin","Galati",1.5,2,"H",null,null,null,{"$f":"catp","v":4}]
[5126,"Modiga Patrick","Arad",1.5,2,"H",null,null,null,{"$f":"catp","v":4}]
[5127,"Meszaros Mircea","Oradea",1.5,2,"H",null,null,null,{"$f":"catp","v":4}]
[5128,"Sabau Florin","Oradea",1.5,2,"H",null,null,null,{"$f":"catp","v":4}]
[5129,"Nan Luca","Oradea",1.5,2,"H",null,null,null,{"$f":"catp","v":4}]
[5130,"Mada Razvan","Oradea",1.5,2,"H",null,null,null,{"$f":"catp","v":4}]
[5131,"Merlici Daniel","Bucuresti",1.5,2,"H",null,null,null,{"$f":"catp","v":4}]
[5132,"Pop Vlad","Viseu",1.5,2,"H",null,null,null,{"$f":"catp","v":4}]
[5133,"Munteanu Sorin","Baia Mare",1.5,2,"H",null,null,null,{"$f":"catp","v":4}]
[5134,"Bartha Zoltan","Oradea",1.5,2,"H",null,null,null,{"$f":"catp","v":4}]
[5135,"Hodorog Ana Maria","Oradea",1.5,2,"HF",null,null,null,{"$f":"catp","v":4}]
[5136,"Ailinca Cristina","Brasov",1.5,2,"HF",null,null,null,{"$f":"catp","v":4}]
[5137,"Lupu Vladimir Nicolas","Brasov",1.5,2,"H",null,null,null,{"$f":"catp","v":4}]
[5138,"Popa Marius","Brasov",1.5,2,"H",null,null,null,{"$f":"catp","v":4}]
[5139,"Dobrean Ruben","Faget",1.5,2,"H",null,null,null,{"$f":"catp","v":4}]
[5140,"Stoica Carmen","Lunca Muresului",1.5,2,"HF",null,null,null,{"$f":"catp","v":4}]
[5141,"Stoica Flavia","Lunca Muresului",1.5,2,"HF",null,null,null,{"$f":"catp","v":4}]
[5142,"Cerciu Samir","Timisoara",1.5,2,"H",null,null,null,{"$f":"catp","v":4}]
[5143,"Sandor Bela","Sfantu Gheorghe",1.5,2,"H",null,null,null,{"$f":"catp","v":4}]
[5144,"Dima Ionel","Braila",1.5,2,"H",null,null,null,{"$f":"catp","v":4}]
[5145,"Enus Claudiu","Videle",1.5,2,"H",null,null,null,{"$f":"catp","v":4}]
[5146,"Voicu Sergiu","Bucuresti",1.5,2,"H",null,null,null,{"$f":"catp","v":4}]
[5147,"Anghel Vlad","Bucuresti",1.5,2,"H",null,null,null,{"$f":"catp","v":4}]
[5148,"Tesleanu Catalin","Bucuresti",1.5,2,"H",null,null,null,{"$f":"catp","v":4}]
[5149,"Florea Daniel","Bucuresti",1.5,2,"H",null,null,null,{"$f":"catp","v":4}]
[5150,"Brezaie Andrei","Alexandria",1.5,2,"H",null,null,null,{"$f":"catp","v":4}]
[5151,"Timar Alex","Targu Mures",1.5,2,"H",null,null,null,{"$f":"catp","v":4}]
[5152,"Csiszer Sandor","Targu Mures",1.5,2,"H",null,null,null,{"$f":"catp","v":4}]
[5153,"Armanu Cristian","Bucuresti",1.5,2,"H",null,null,null,{"$f":"catp","v":4}]
[5154,"Moldovan Sorin","Beclean",1.5,2,"H",null,null,null,{"$f":"catp","v":4}]
[5155,"Malutan Corneliu","Chiuza",1.5,2,"H",null,null,null,{"$f":"catp","v":4}]
[5156,"Constantin Vlad","Bucuresti",1.5,2,"H",null,null,null,{"$f":"catp","v":4}]
[5157,"Dutu Alexandru","Ploiesti",1.5,2,"H",null,null,null,{"$f":"catp","v":4}]
[5158,"Ghinea Dragos","Moinesti",1.5,2,"H",null,null,null,{"$f":"catp","v":4}]
[5159,"Mocan Betuel","Stei",1.5,2,"H",null,null,null,{"$f":"catp","v":4}]
[5160,"Mocan Elias","Stei",1.5,2,"H",null,null,null,{"$f":"catp","v":4}]
[5161,"Manole Daria","Bucuresti",1.5,2,"HF",null,null,null,{"$f":"catp","v":4}]
[5162,"Anghel Ciprian","Buzau",1.5,2,"H",null,null,null,{"$f":"catp","v":4}]
[5163,"Mavrodineanu Gabriel","Alexandria",1.5,2,"H",null,null,null,{"$f":"catp","v":4}]
[5164,"Stoinea Mihai","Alexandria",1.5,2,"H",null,null,null,{"$f":"catp","v":4}]
[5165,"Sandu Adrian Stefan","Slatina",1.5,2,"H",null,null,null,{"$f":"catp","v":4}]
[5166,"Codreanu Iulia","Vatra Dornei",1.5,2,"HF",null,null,null,{"$f":"catp","v":4}]
[5167,"Oprea Daciana","Aiud",1.5,2,"HF",null,null,null,{"$f":"catp","v":4}]
[5168,"Duma Tiberiu","Sibiu",1.5,2,"H",null,null,null,{"$f":"catp","v":4}]
[5169,"Lupchian Elisa","Suceava",1.5,2,"HF",null,null,null,{"$f":"catp","v":4}]
[5170,"Pataki Albertina","Targu Mures",1.5,2,"HF",null,null,null,{"$f":"catp","v":4}]
[5171,"Cimpei Alexandru","Bucuresti",1.5,2,"H",null,null,null,{"$f":"catp","v":4}]
[5172,"Alfred Knobel","Bucuresti",1.5,2,"H",null,null,null,{"$f":"catp","v":4}]
[5173,"Casu Marius","Bucuresti",1.5,2,"H",null,null,null,{"$f":"catp","v":4}]
[5174,"Baias Calin","Floresti",1.5,2,"H",null,null,null,{"$f":"catp","v":4}]
[5175,"Tosu Alexandru","Floresti",1.5,2,"H",null,null,null,{"$f":"catp","v":4}]
[5176,"Nierges Ioan","Cluj Napoca",1.5,2,"H",null,null,null,{"$f":"catp","v":4}]
[5177,"Nita Darius","Videle",1.5,2,"H",null,null,null,{"$f":"catp","v":4}]
[5178,"Ghebaur Adi","Bucuresti",1.5,2,"H",null,null,null,{"$f":"catp","v":4}]
[5179,"Cristea Catalina","Bucuresti",1.5,2,"HF",null,null,null,{"$f":"catp","v":4}]
[5180,"Burcea Valentin","Bucuresti",1.5,2,"H",null,null,null,{"$f":"catp","v":4}]
[5181,"Pop Sorin","Viseu",1.5,2,"H",null,null,null,{"$f":"catp","v":4}]
[5182,"Puscas Gabriel","Oradea",1.5,2,"H",null,null,null,{"$f":"catp","v":4}]
[5183,"Manea Patricia","Baia Mare",1.5,2,"H",null,null,null,{"$f":"catp","v":4}]
[5184,"Ciubotaru Bogdan Florin","Bucuresti",1.5,2,"H",null,null,null,{"$f":"catp","v":4}]
[5185,"Sisak Francisc","Brasov",1.5,2,"H",null,null,null,{"$f":"catp","v":4}]
[5186,"Marcoci Andrei","Brasov",1.5,2,"H",null,null,null,{"$f":"catp","v":4}]
[5187,"Ciocoiu Alexandru","Brasov",1.5,2,"H",null,null,null,{"$f":"catp","v":4}]
[5188,"Andries Cristina","Brasov",1.5,2,"HF",null,null,null,{"$f":"catp","v":4}]
[5189,"Papadopol Alexandru","Brasov",1.5,2,"H",null,null,null,{"$f":"catp","v":4}]
[5190,"Paris Denis","Navodari",1.5,2,"H",null,null,null,{"$f":"catp","v":4}]
[5191,"Danca Cezar","Navodari",1.5,2,"H",null,null,null,{"$f":"catp","v":4}]
[5192,"Mosteanu Luca","Navodari",1.5,2,"H",null,null,null,{"$f":"catp","v":4}]
[5193,"Simionov Eduard","Navodari",1.5,2,"H",null,null,null,{"$f":"catp","v":4}]
[5194,"Feraru Nicolas Cezar","Navodari",1.5,2,"H",null,null,null,{"$f":"catp","v":4}]
[5195,"Lungeanu Cezar","Targoviste",1.5,2,"H",null,null,null,{"$f":"catp","v":4}]
[5196,"Vasile Cristian","Bucuresti",1.5,2,"H",null,null,null,{"$f":"catp","v":4}]
[5197,"Radulescu Fredy Romeo","Bucuresti",1.5,2,"H",null,null,null,{"$f":"catp","v":4}]
[5198,"Crihan Tudor","Bucuresti",1.5,2,"H",null,null,null,{"$f":"catp","v":4}]
[5199,"Tulburi Ion","Moldova-Balti",1.5,2,"H",null,null,null,{"$f":"catp","v":4}]
[5200,"Guleaeva Miseli","Moldova-Balti",1.5,2,"H",null,null,null,{"$f":"catp","v":4}]
[5201,"Albot Nicolae","Moldova-Balti",1.5,2,"H",null,null,null,{"$f":"catp","v":4}]
[5202,"Railean Robert","Moldova-Balti",1.5,2,"H",null,null,null,{"$f":"catp","v":4}]
[5203,"Raducan Adrian","Sibiu",1.5,2,"H",null,null,null,{"$f":"catp","v":4}]
[5204,"Dorner Thomas","Germania",1.5,2,"H",null,null,null,{"$f":"catp","v":4}]
[5205,"Nanu Ingrid","Botosani",1.5,2,"HF",null,null,null,{"$f":"catp","v":4}]
[5206,"Pavaliceanu David","Botosani",1.5,2,"H",null,null,null,{"$f":"catp","v":4}]
[5207,"Hurduzeu Fanel","Armenis",1.5,2,"H",null,null,null,{"$f":"catp","v":4}]
[4449,"Contiu Flaviu","Floresti",3.8,0,"",null,null,null,{"$f":"catp","v":9}]
[6001,null,null,0,0,"",null,null,null,{"$f":"catp","v":9}]
[6002,null,null,0,0,"",null,null,null,{"$f":"catp","v":9}]
[6003,null,null,0,0,"",null,null,null,{"$f":"catp","v":9}]
[6004,null,null,0,0,"",null,null,null,{"$f":"catp","v":9}]
[6005,null,null,0,0,"",null,null,null,{"$f":"catp","v":9}]
[6006,null,null,0,0,"",null,null,null,{"$f":"catp","v":9}]
[6007,null,null,0,0,"",null,null,null,{"$f":"catp","v":9}]
[6008,null,null,0,0,"",null,null,null,{"$f":"catp","v":9}]
[6009,null,null,0,0,"",null,null,null,{"$f":"catp","v":9}]
[6010,null,null,0,0,"",null,null,null,{"$f":"catp","v":9}]
[6011,null,null,0,0,"",null,null,null,{"$f":"catp","v":9}]
[6012,null,null,0,0,"",null,null,null,{"$f":"catp","v":9}]
[6013,null,null,0,0,"",null,null,null,{"$f":"catp","v":9}]
[6014,null,null,0,0,"",null,null,null,{"$f":"catp","v":9}]
[6015,null,null,0,0,"",null,null,null,{"$f":"catp","v":9}]
[6016,null,null,0,0,"",null,null,null,{"$f":"catp","v":9}]
[6017,null,null,0,0,"",null,null,null,{"$f":"catp","v":9}]
[6018,null,null,0,0,"",null,null,null,{"$f":"catp","v":9}]
[6019,null,null,0,0,"",null,null,null,{"$f":"catp","v":9}]
[6020,null,null,0,0,"",null,null,null,{"$f":"catp","v":9}]
[6021,null,null,0,0,"",null,null,null,{"$f":"catp","v":9}]
[6022,null,null,0,0,"",null,null,null,{"$f":"catp","v":9}]
[6023,null,null,0,0,"",null,null,null,{"$f":"catp","v":9}]
[6024,null,null,0,0,"",null,null,null,{"$f":"catp","v":9}]
[6025,null,null,0,0,"",null,null,null,{"$f":"catp","v":9}]
[6026,null,null,0,0,"",null,null,null,{"$f":"catp","v":9}]
[6027,null,null,0,0,"",null,null,null,{"$f":"catp","v":9}]
[6028,null,null,0,0,"",null,null,null,{"$f":"catp","v":9}]
[6029,null,null,0,0,"",null,null,null,{"$f":"catp","v":9}]
[6030,null,null,0,0,"",null,null,null,{"$f":"catp","v":9}]
[6031,null,null,0,0,"",null,null,null,{"$f":"catp","v":9}]
[6032,null,null,0,0,"",null,null,null,{"$f":"catp","v":9}]
[6033,null,null,0,0,"",null,null,null,{"$f":"catp","v":9}]
[6034,null,null,0,0,"",null,null,null,{"$f":"catp","v":9}]
[6035,null,null,0,0,"",null,null,null,{"$f":"catp","v":9}]
[6036,null,null,0,0,"",null,null,null,{"$f":"catp","v":9}]
[6037,null,null,0,0,"",null,null,null,{"$f":"catp","v":9}]
[6038,null,null,0,0,"",null,null,null,{"$f":"catp","v":9}]
[6039,null,null,0,0,"",null,null,null,{"$f":"catp","v":9}]
[6040,null,null,0,0,"",null,null,null,{"$f":"catp","v":9}]
[6041,null,null,0,0,"",null,null,null,{"$f":"catp","v":9}]
[6042,null,null,0,0,"",null,null,null,{"$f":"catp","v":9}]
[6043,null,null,0,0,"",null,null,null,{"$f":"catp","v":9}]
[6044,null,null,0,0,"",null,null,null,{"$f":"catp","v":9}]
[6045,null,null,0,0,"",null,null,null,{"$f":"catp","v":9}]
[6046,null,null,0,0,"",null,null,null,{"$f":"catp","v":9}]
[6047,null,null,0,0,"",null,null,null,{"$f":"catp","v":9}]
[6048,null,null,0,0,"",null,null,null,{"$f":"catp","v":9}]
[6049,null,null,0,0,"",null,null,null,{"$f":"catp","v":9}]
[6050,null,null,0,0,"",null,null,null,{"$f":"catp","v":9}]
[6051,null,null,0,0,"",null,null,null,{"$f":"catp","v":9}]
[6052,null,null,0,0,"",null,null,null,{"$f":"catp","v":9}]
[6053,null,null,0,0,"",null,null,null,{"$f":"catp","v":9}]
[6054,null,null,0,0,"",null,null,null,{"$f":"catp","v":9}]
[6055,null,null,0,0,"",null,null,null,{"$f":"catp","v":9}]
[6056,null,null,0,0,"",null,null,null,{"$f":"catp","v":9}]
[6057,null,null,0,0,"",null,null,null,{"$f":"catp","v":9}]
[6058,null,null,0,0,"",null,null,null,{"$f":"catp","v":9}]
[6059,null,null,0,0,"",null,null,null,{"$f":"catp","v":9}]
[6060,null,null,0,0,"",null,null,null,{"$f":"catp","v":9}]
[6061,null,null,0,0,"",null,null,null,{"$f":"catp","v":9}]
[6062,null,null,0,0,"",null,null,null,{"$f":"catp","v":9}]
[6063,null,null,0,0,"",null,null,null,{"$f":"catp","v":9}]
[6064,null,null,0,0,"",null,null,null,{"$f":"catp","v":9}]
[6065,null,null,0,0,"",null,null,null,{"$f":"catp","v":9}]
[6066,null,null,0,0,"",null,null,null,{"$f":"catp","v":9}]
[6067,null,null,0,0,"",null,null,null,{"$f":"catp","v":9}]
[6068,null,null,0,0,"",null,null,null,{"$f":"catp","v":9}]
[6069,null,null,0,0,"",null,null,null,{"$f":"catp","v":9}]
[6070,null,null,0,0,"",null,null,null,{"$f":"catp","v":9}]
[6071,null,null,0,0,"",null,null,null,{"$f":"catp","v":9}]
[6072,null,null,0,0,"",null,null,null,{"$f":"catp","v":9}]
[6073,null,null,0,0,"",null,null,null,{"$f":"catp","v":9}]
[6074,null,null,0,0,"",null,null,null,{"$f":"catp","v":9}]
[6075,null,null,0,0,"",null,null,null,{"$f":"catp","v":9}]
[6076,null,null,0,0,"",null,null,null,{"$f":"catp","v":9}]
[6077,null,null,0,0,"",null,null,null,{"$f":"catp","v":9}]
[6078,null,null,0,0,"",null,null,null,{"$f":"catp","v":9}]
[6079,null,null,0,0,"",null,null,null,{"$f":"catp","v":9}]
[6080,null,null,0,0,"",null,null,null,{"$f":"catp","v":9}]
[6081,null,null,0,0,"",null,null,null,{"$f":"catp","v":9}]
[6082,null,null,0,0,"",null,null,null,{"$f":"catp","v":9}]
[6083,null,null,0,0,"",null,null,null,{"$f":"catp","v":9}]
[6084,null,null,0,0,"",null,null,null,{"$f":"catp","v":9}]
[6085,null,null,0,0,"",null,null,null,{"$f":"catp","v":9}]
[6086,null,null,0,0,"",null,null,null,{"$f":"catp","v":9}]
[6087,null,null,0,0,"",null,null,null,{"$f":"catp","v":9}]
[6088,null,null,0,0,"",null,null,null,{"$f":"catp","v":9}]
[6089,null,null,0,0,"",null,null,null,{"$f":"catp","v":9}]
[6090,null,null,0,0,"",null,null,null,{"$f":"catp","v":9}]
[6091,null,null,0,0,"",null,null,null,{"$f":"catp","v":9}]
[6092,null,null,0,0,"",null,null,null,{"$f":"catp","v":9}]
[6093,null,null,0,0,"",null,null,null,{"$f":"catp","v":9}]
[6094,null,null,0,0,"",null,null,null,{"$f":"catp","v":9}]
[6095,null,null,0,0,"",null,null,null,{"$f":"catp","v":9}]
[6096,null,null,0,0,"",null,null,null,{"$f":"catp","v":9}]
[6097,null,null,0,0,"",null,null,null,{"$f":"catp","v":9}]
[6098,null,null,0,0,"",null,null,null,{"$f":"catp","v":9}]
[6099,null,null,0,0,"",null,null,null,{"$f":"catp","v":9}]
[6100,null,null,0,0,"",null,null,null,{"$f":"catp","v":9}]
[6101,null,null,0,0,"",null,null,null,{"$f":"catp","v":9}]
[6102,null,null,0,0,"",null,null,null,{"$f":"catp","v":9}]
[6103,null,null,0,0,"",null,null,null,{"$f":"catp","v":9}]
[6104,null,null,0,0,"",null,null,null,{"$f":"catp","v":9}]
[6105,null,null,0,0,"",null,null,null,{"$f":"catp","v":9}]
[6106,null,null,0,0,"",null,null,null,{"$f":"catp","v":9}]
[6107,null,null,0,0,"",null,null,null,{"$f":"catp","v":9}]
[6108,null,null,0,0,"",null,null,null,{"$f":"catp","v":9}]
[6109,null,null,0,0,"",null,null,null,{"$f":"catp","v":9}]
[6110,null,null,0,0,"",null,null,null,{"$f":"catp","v":9}]
[6111,null,null,0,0,"",null,null,null,{"$f":"catp","v":9}]
[6112,null,null,0,0,"",null,null,null,{"$f":"catp","v":9}]
[6113,null,null,0,0,"",null,null,null,{"$f":"catp","v":9}]
[6114,null,null,0,0,"",null,null,null,{"$f":"catp","v":9}]
[6115,null,null,0,0,"",null,null,null,{"$f":"catp","v":9}]
[6116,null,null,0,0,"",null,null,null,{"$f":"catp","v":9}]
[6117,null,null,0,0,"",null,null,null,{"$f":"catp","v":9}]
[6118,null,null,0,0,"",null,null,null,{"$f":"catp","v":9}]
[6119,null,null,0,0,"",null,null,null,{"$f":"catp","v":9}]
[6120,null,null,0,0,"",null,null,null,{"$f":"catp","v":9}]
[6121,null,null,0,0,"",null,null,null,{"$f":"catp","v":9}]
[6122,null,null,0,0,"",null,null,null,{"$f":"catp","v":9}]
[6123,null,null,0,0,"",null,null,null,{"$f":"catp","v":9}]
[6124,null,null,0,0,"",null,null,null,{"$f":"catp","v":9}]
[6125,null,null,0,0,"",null,null,null,{"$f":"catp","v":9}]
[6126,null,null,0,0,"",null,null,null,{"$f":"catp","v":9}]
[6127,null,null,0,0,"",null,null,null,{"$f":"catp","v":9}]
[6128,null,null,0,0,"",null,null,null,{"$f":"catp","v":9}]
[6129,null,null,0,0,"",null,null,null,{"$f":"catp","v":9}]
[6130,null,null,0,0,"",null,null,null,{"$f":"catp","v":9}]
[6131,null,null,0,0,"",null,null,null,{"$f":"catp","v":9}]
[6132,null,null,0,0,"",null,null,null,{"$f":"catp","v":9}]
[6133,null,null,0,0,"",null,null,null,{"$f":"catp","v":9}]
[6134,null,null,0,0,"",null,null,null,{"$f":"catp","v":9}]
[6135,null,null,0,0,"",null,null,null,{"$f":"catp","v":9}]
[6136,null,null,0,0,"",null,null,null,{"$f":"catp","v":9}]
[6137,null,null,0,0,"",null,null,null,{"$f":"catp","v":9}]
[6138,null,null,0,0,"",null,null,null,{"$f":"catp","v":9}]
[6139,null,null,0,0,"",null,null,null,{"$f":"catp","v":9}]
[6140,null,null,0,0,"",null,null,null,{"$f":"catp","v":9}]
[6141,null,null,0,0,"",null,null,null,{"$f":"catp","v":9}]
[6142,null,null,0,0,"",null,null,null,{"$f":"catp","v":9}]
[6143,null,null,0,0,"",null,null,null,{"$f":"catp","v":9}]
[6144,null,null,0,0,"",null,null,null,{"$f":"catp","v":9}]
[6145,null,null,0,0,"",null,null,null,{"$f":"catp","v":9}]
[6146,null,null,0,0,"",null,null,null,{"$f":"catp","v":9}]
[6147,null,null,0,0,"",null,null,null,{"$f":"catp","v":9}]
[6148,null,null,0,0,"",null,null,null,{"$f":"catp","v":9}]
[6149,null,null,0,0,"",null,null,null,{"$f":"catp","v":9}]
[6150,null,null,0,0,"",null,null,null,{"$f":"catp","v":9}]
[6151,null,null,0,0,"",null,null,null,{"$f":"catp","v":9}]
[6152,null,null,0,0,"",null,null,null,{"$f":"catp","v":9}]
[6153,null,null,0,0,"",null,null,null,{"$f":"catp","v":9}]
[6154,null,null,0,0,"",null,null,null,{"$f":"catp","v":9}]
[6155,null,null,0,0,"",null,null,null,{"$f":"catp","v":9}]
[6156,null,null,0,0,"",null,null,null,{"$f":"catp","v":9}]
[6157,null,null,0,0,"",null,null,null,{"$f":"catp","v":9}]
[6158,null,null,0,0,"",null,null,null,{"$f":"catp","v":9}]
[6159,null,null,0,0,"",null,null,null,{"$f":"catp","v":9}]
[6160,null,null,0,0,"",null,null,null,{"$f":"catp","v":9}]
[6161,null,null,0,0,"",null,null,null,{"$f":"catp","v":9}]
[6162,null,null,0,0,"",null,null,null,{"$f":"catp","v":9}]
[6163,null,null,0,0,"",null,null,null,{"$f":"catp","v":9}]
[6164,null,null,0,0,"",null,null,null,{"$f":"catp","v":9}]
[6165,null,null,0,0,"",null,null,null,{"$f":"catp","v":9}]
[6166,null,null,0,0,"",null,null,null,{"$f":"catp","v":9}]
[6167,null,null,0,0,"",null,null,null,{"$f":"catp","v":9}]
[6168,null,null,0,0,"",null,null,null,{"$f":"catp","v":9}]
[6169,null,null,0,0,"",null,null,null,{"$f":"catp","v":9}]
[6170,null,null,0,0,"",null,null,null,{"$f":"catp","v":9}]
[6171,null,null,0,0,"",null,null,null,{"$f":"catp","v":9}]
[6172,null,null,0,0,"",null,null,null,{"$f":"catp","v":9}]
[6173,null,null,0,0,"",null,null,null,{"$f":"catp","v":9}]
[6174,null,null,0,0,"",null,null,null,{"$f":"catp","v":9}]
[null,null,null,null,null,null,null,null,null,{"$f":"catp","v":9}]
[null,null,null,null,null,null,null,null,null,{"$f":"catp","v":9}]
[null,null,null,null,null,null,null,null,null,{"$f":"catp","v":9}]
[null,null,null,null,null,null,null,null,null,{"$f":"catp","v":9}]
[null,null,null,null,null,null,null,null,null,{"$f":"catp","v":9}]
[null,null,null,null,null,null,null,null,null,{"$f":"catp","v":9}]
[null,null,null,null,null,null,null,null,null,{"$f":"catp","v":9}]
[null,null,null,null,null,null,null,null,null,{"$f":"catp","v":9}]
[null,null,null,null,null,null,null,null,null,{"$f":"catp","v":9}]
[null,null,null,null,null,null,null,null,null,{"$f":"catp","v":9}]
[null,null,null,null,null,null,null,null,null,{"$f":"catp","v":9}]
[null,null,null,null,null,null,null,null,null,{"$f":"catp","v":9}]
[null,null,null,null,null,null,null,null,null,{"$f":"catp","v":9}]
[null,null,null,null,null,null,null,null,null,{"$f":"catp","v":9}]
[null,null,null,null,null,null,null,null,null,{"$f":"catp","v":9}]
[null,null,null,null,null,null,null,null,null,{"$f":"catp","v":9}]
[null,null,null,null,null,null,null,null,null,{"$f":"catp","v":9}]
[null,null,null,null,null,null,null,null,null,{"$f":"catp","v":9}]
[null,null,null,null,null,null,null,null,null,{"$f":"catp","v":9}]
[null,null,null,null,null,null,null,null,null,{"$f":"catp","v":9}]
[null,null,null,null,null,null,null,null,null,{"$f":"catp","v":9}]
[null,null,null,null,null,null,null,null,null,{"$f":"catp","v":9}]
[null,null,null,null,null,null,null,null,null,{"$f":"catp","v":9}]
[null,null,null,null,null,null,null,null,null,{"$f":"catp","v":9}]
[null,null,null,null,null,null,null,null,null,{"$f":"catp","v":9}]
[null,null,null,null,null,null,null,null,null,{"$f":"catp","v":9}]
[null,null,null,null,null,null,null,null,null,{"$f":"catp","v":9}]
[null,null,null,null,null,null,null,null,null,{"$f":"catp","v":9}]
[null,null,null,null,null,null,null,null,null,{"$f":"catp","v":9}]
[null,null,null,null,null,null,null,null,null,{"$f":"catp","v":9}]
[null,null,null,null,null,null,null,null,null,{"$f":"catp","v":9}]
[null,null,null,null,null,null,null,null,null,{"$f":"catp","v":9}]
[null,null,null,null,null,null,null,null,null,{"$f":"catp","v":9}]
[null,null,null,null,null,null,null,null,null,{"$f":"catp","v":9}]
[null,null,null,null,null,null,null,null,null,{"$f":"catp","v":9}]
[null,null,null,null,null,null,null,null,null,{"$f":"catp","v":9}]
[null,null,null,null,null,null,null,null,null,{"$f":"catp","v":9}]
[null,null,null,null,null,null,null,null,null,{"$f":"catp","v":9}]
[null,null,null,null,null,null,null,null,null,{"$f":"catp","v":9}]
[null,null,null,null,null,null,null,null,null,{"$f":"catp","v":9}]
[null,null,null,null,null,null,null,null,null,{"$f":"catp","v":9}]
[null,null,null,null,null,null,null,null,null,{"$f":"catp","v":9}]
[null,null,null,null,null,null,null,null,null,{"$f":"catp","v":9}]
[null,null,null,null,null,null,null,null,null,{"$f":"catp","v":9}]
[null,null,null,null,null,null,null,null,null,{"$f":"catp","v":9}]
[null,null,null,null,null,null,null,null,null,{"$f":"catp","v":9}]
[null,null,null,null,null,null,null,null,null,{"$f":"catp","v":9}]
[null,null,null,null,null,null,null,null,null,{"$f":"catp","v":9}]
[null,null,null,null,null,null,null,null,null,{"$f":"catp","v":9}]
[null,null,null,null,null,null,null,null,null,{"$f":"catp","v":9}]
[null,null,null,null,null,null,null,null,null,{"$f":"catp","v":9}]
[null,null,null,null,null,null,null,null,null,{"$f":"catp","v":9}]
[null,null,null,null,null,null,null,null,null,{"$f":"catp","v":9}]
[null,null,null,null,null,null,null,null,null,{"$f":"catp","v":9}]
[null,null,null,null,null,null,null,null,null,{"$f":"catp","v":9}]
[null,null,null,null,null,null,null,null,null,{"$f":"catp","v":9}]
[null,null,null,null,null,null,null,null,null,{"$f":"catp","v":9}]
[null,null,null,null,null,null,null,null,null,{"$f":"catp","v":9}]
[null,null,null,null,null,null,null,null,null,{"$f":"catp","v":9}]
[null,null,null,null,null,null,null,null,null,{"$f":"catp","v":9}]
[null,null,null,null,null,null,null,null,null,{"$f":"catp","v":9}]
[null,null,null,null,null,null,null,null,null,{"$f":"catp","v":9}]
[null,null,null,null,null,null,null,null,null,{"$f":"catp","v":9}]
[null,null,null,null,null,null,null,null,null,{"$f":"catp","v":9}]
[null,null,null,null,null,null,null,null,null,{"$f":"catp","v":9}]
[null,null,null,null,null,null,null,null,null,{"$f":"catp","v":9}]
[null,null,null,null,null,null,null,null,null,{"$f":"catp","v":9}]
[null,null,null,null,null,null,null,null,null,{"$f":"catp","v":9}]
[null,null,null,null,null,null,null,null,null,{"$f":"catp","v":9}]
[null,null,null,null,null,null,null,null,null,{"$f":"catp","v":9}]
[null,null,null,null,null,null,null,null,null,{"$f":"catp","v":9}]
[null,null,null,null,null,null,null,null,null,{"$f":"catp","v":9}]
[null,null,null,null,null,null,null,null,null,{"$f":"catp","v":9}]
[null,null,null,null,null,null,null,null,null,{"$f":"catp","v":9}]
[null,null,null,null,null,null,null,null,null,{"$f":"catp","v":9}]
[null,null,null,null,null,null,null,null,null,{"$f":"catp","v":9}]
[null,null,null,null,null,null,null,null,null,{"$f":"catp","v":9}]
[null,null,null,null,null,null,null,null,null,{"$f":"catp","v":9}]
[null,null,null,null,null,null,null,null,null,{"$f":"catp","v":9}]
[null,null,null,null,null,null,null,null,null,{"$f":"catp","v":9}]
[null,null,null,null,null,null,null,null,null,{"$f":"catp","v":9}]
[null,null,null,null,null,null,null,null,null,{"$f":"catp","v":9}]
[null,null,null,null,null,null,null,null,null,{"$f":"catp","v":9}]
[null,null,null,null,null,null,null,null,null,{"$f":"catp","v":9}]
[null,null,null,null,null,null,null,null,null,{"$f":"catp","v":9}]
[null,null,null,null,null,null,null,null,null,{"$f":"catp","v":9}]
[null,null,null,null,null,null,null,null,null,{"$f":"catp","v":9}]
[null,null,null,null,null,null,null,null,null,{"$f":"catp","v":9}]
[null,null,null,null,null,null,null,null,null,{"$f":"catp","v":9}]
[null,null,null,null,null,null,null,null,null,{"$f":"catp","v":9}]
[null,null,null,null,null,null,null,null,null,{"$f":"catp","v":9}]
[null,null,null,null,null,null,null,null,null,{"$f":"catp","v":9}]
[null,null,null,null,null,null,null,null,null,{"$f":"catp","v":9}]
[null,null,null,null,null,null,null,null,null,{"$f":"catp","v":9}]
[null,null,null,null,null,null,null,null,null,{"$f":"catp","v":9}]
[null,null,null,null,null,null,null,null,null,{"$f":"catp","v":9}]
[null,null,null,null,null,null,null,null,null,{"$f":"catp","v":9}]
[null,null,null,null,null,null,null,null,null,{"$f":"catp","v":9}]
[null,null,null,null,null,null,null,null,null,{"$f":"catp","v":9}]
[null,null,null,null,null,null,null,null,null,{"$f":"catp","v":9}]
[null,null,null,null,null,null,null,null,null,{"$f":"catp","v":9}]
[null,null,null,null,null,null,null,null,null,{"$f":"catp","v":9}]
[null,null,null,null,null,null,null,null,null,{"$f":"catp","v":9}]
[null,null,null,null,null,null,null,null,null,{"$f":"catp","v":9}]
[null,null,null,null,null,null,null,null,null,{"$f":"catp","v":9}]
[null,null,null,null,null,null,null,null,null,{"$f":"catp","v":9}]
[null,null,null,null,null,null,null,null,null,{"$f":"catp","v":9}]
[null,null,null,null,null,null,null,null,null,{"$f":"catp","v":9}]
[null,null,null,null,null,null,null,null,null,{"$f":"catp","v":9}]
[null,null,null,null,null,null,null,null,null,{"$f":"catp","v":9}]
[null,null,null,null,null,null,null,null,null,{"$f":"catp","v":9}]
[null,null,null,null,null,null,null,null,null,{"$f":"catp","v":9}]
[null,null,null,null,null,null,null,null,null,{"$f":"catp","v":9}]
[null,null,null,null,null,null,null,null,null,{"$f":"catp","v":9}]
[null,null,null,null,null,null,null,null,null,{"$f":"catp","v":9}]
[null,null,null,null,null,null,null,null,null,{"$f":"catp","v":9}]
[null,null,null,null,null,null,null,null,null,{"$f":"catp","v":9}]
[null,null,null,null,null,null,null,null,null,{"$f":"catp","v":9}]
[null,null,null,null,null,null,null,null,null,{"$f":"catp","v":9}]
[null,null,null,null,null,null,null,null,null,{"$f":"catp","v":9}]
[null,null,null,null,null,null,null,null,null,{"$f":"catp","v":9}]
[null,null,null,null,null,null,null,null,null,{"$f":"catp","v":9}]
[null,null,null,null,null,null,null,null,null,{"$f":"catp","v":9}]
[null,null,null,null,null,null,null,null,null,{"$f":"catp","v":9}]
[null,null,null,null,null,null,null,null,null,{"$f":"catp","v":9}]
[null,null,null,null,null,null,null,null,null,{"$f":"catp","v":9}]
[null,null,null,null,null,null,null,null,null,{"$f":"catp","v":9}]
[null,null,null,null,null,null,null,null,null,{"$f":"catp","v":9}]
[null,null,null,null,null,null,null,null,null,{"$f":"catp","v":9}]
[null,null,null,null,null,null,null,null,null,{"$f":"catp","v":9}]
[null,null,null,null,null,null,null,null,null,{"$f":"catp","v":9}]
[null,null,null,null,null,null,null,null,null,{"$f":"catp","v":9}]
[null,null,null,null,null,null,null,null,null,{"$f":"catp","v":9}]
[null,null,null,null,null,null,null,null,null,{"$f":"catp","v":9}]
[null,null,null,null,null,null,null,null,null,{"$f":"catp","v":9}]
[null,null,null,null,null,null,null,null,null,{"$f":"catp","v":9}]
[null,null,null,null,null,null,null,null,null,{"$f":"catp","v":9}]
[null,null,null,null,null,null,null,null,null,{"$f":"catp","v":9}]
[null,null,null,null,null,null,null,null,null,{"$f":"catp","v":9}]
[null,null,null,null,null,null,null,null,null,{"$f":"catp","v":9}]
[null,null,null,null,null,null,null,null,null,{"$f":"catp","v":9}]
[null,null,null,null,null,null,null,null,null,{"$f":"catp","v":9}]
[null,null,null,null,null,null,null,null,null,{"$f":"catp","v":9}]
[null,null,null,null,null,null,null,null,null,{"$f":"catp","v":9}]
[null,null,null,null,null,null,null,null,null,{"$f":"catp","v":9}]
[null,null,null,null,null,null,null,null,null,{"$f":"catp","v":9}]
[null,null,null,null,null,null,null,null,null,{"$f":"catp","v":9}]
[null,null,null,null,null,null,null,null,null,{"$f":"catp","v":9}]
[null,null,null,null,null,null,null,null,null,{"$f":"catp","v":9}]
[null,null,null,null,null,null,null,null,null,{"$f":"catp","v":9}]
[null,null,null,null,null,null,null,null,null,{"$f":"catp","v":9}]
[null,null,null,null,null,null,null,null,null,{"$f":"catp","v":9}]
[null,null,null,null,null,null,null,null,null,{"$f":"catp","v":9}]
[null,null,null,null,null,null,null,null,null,{"$f":"catp","v":9}]
[null,null,null,null,null,null,null,null,null,{"$f":"catp","v":9}]
[null,null,null,null,null,null,null,null,null,{"$f":"catp","v":9}]
[null,null,null,null,null,null,null,null,null,{"$f":"catp","v":9}]
[null,null,null,null,null,null,null,null,null,{"$f":"catp","v":9}]
[null,null,null,null,null,null,null,null,null,{"$f":"catp","v":9}]
[null,null,null,null,null,null,null,null,null,{"$f":"catp","v":9}]
[null,null,null,null,null,null,null,null,null,{"$f":"catp","v":9}]
[null,null,null,null,null,null,null,null,null,{"$f":"catp","v":9}]
[null,null,null,null,null,null,null,null,null,{"$f":"catp","v":9}]
[null,null,null,null,null,null,null,null,null,{"$f":"catp","v":9}]
[null,null,null,null,null,null,null,null,null,{"$f":"catp","v":9}]
[null,null,null,null,null,null,null,null,null,{"$f":"catp","v":9}]
[null,null,null,null,null,null,null,null,null,{"$f":"catp","v":9}]
[null,null,null,null,null,null,null,null,null,{"$f":"catp","v":9}]
[null,null,null,null,null,null,null,null,null,{"$f":"catp","v":9}]
[null,null,null,null,null,null,null,null,null,{"$f":"catp","v":9}]
[null,null,null,null,null,null,null,null,null,{"$f":"catp","v":9}]
[null,null,null,null,null,null,null,null,null,{"$f":"catp","v":9}]
[null,null,null,null,null,null,null,null,null,{"$f":"catp","v":9}]
[null,null,null,null,null,null,null,null,null,{"$f":"catp","v":9}]
[null,null,null,null,null,null,null,null,null,{"$f":"catp","v":9}]
[null,null,null,null,null,null,null,null,null,{"$f":"catp","v":9}]
[null,null,null,null,null,null,null,null,null,{"$f":"catp","v":9}]
[null,null,null,null,null,null,null,null,null,{"$f":"catp","v":9}]
[null,null,null,null,null,null,null,null,null,{"$f":"catp","v":9}]
[null,null,null,null,null,null,null,null,null,{"$f":"catp","v":9}]
[null,null,null,null,null,null,null,null,null,{"$f":"catp","v":9}]
[null,null,null,null,null,null,null,null,null,{"$f":"catp","v":9}]
[null,null,null,null,null,null,null,null,null,{"$f":"catp","v":9}]
[null,null,null,null,null,null,null,null,null,{"$f":"catp","v":9}]
[null,null,null,null,null,null,null,null,null,{"$f":"catp","v":9}]
[null,null,null,null,null,null,null,null,null,{"$f":"catp","v":9}]
[null,null,null,null,null,null,null,null,null,{"$f":"catp","v":9}]
[null,null,null,null,null,null,null,null,null,{"$f":"catp","v":9}]
[null,null,null,null,null,null,null,null,null,{"$f":"catp","v":9}]
[null,null,null,null,null,null,null,null,null,{"$f":"catp","v":9}]
[null,null,null,null,null,null,null,null,null,{"$f":"catp","v":9}]
[null,null,null,null,null,null,null,null,null,{"$f":"catp","v":9}]
[null,null,null,null,null,null,null,null,null,{"$f":"catp","v":9}]
[null,null,null,null,null,null,null,null,null,{"$f":"catp","v":9}]
[null,null,null,null,null,null,null,null,null,{"$f":"catp","v":9}]
[null,null,null,null,null,null,null,null,null,{"$f":"catp","v":9}]
[null,null,null,null,null,null,null,null,null,{"$f":"catp","v":9}]
[null,null,null,null,null,null,null,null,null,{"$f":"catp","v":9}]
[null,null,null,null,null,null,null,null,null,{"$f":"catp","v":9}]
[null,null,null,null,null,null,null,null,null,{"$f":"catp","v":9}]
[null,null,null,null,null,null,null,null,null,{"$f":"catp","v":9}]
[null,null,null,null,null,null,null,null,null,{"$f":"catp","v":9}]
[null,null,null,null,null,null,null,null,null,{"$f":"catp","v":9}]
[null,null,null,null,null,null,null,null,null,{"$f":"catp","v":9}]
[null,null,null,null,null,null,null,null,null,{"$f":"catp","v":9}]
[null,null,null,null,null,null,null,null,null,{"$f":"catp","v":9}]
[null,null,null,null,null,null,null,null,null,{"$f":"catp","v":9}]
[null,null,null,null,null,null,null,null,null,{"$f":"catp","v":9}]
[null,null,null,null,null,null,null,null,null,{"$f":"catp","v":9}]
[null,null,null,null,null,null,null,null,null,{"$f":"catp","v":9}]
[null,null,null,null,null,null,null,null,null,{"$f":"catp","v":9}]
[null,null,null,null,null,null,null,null,null,{"$f":"catp","v":9}]
[null,null,null,null,null,null,null,null,null,{"$f":"catp","v":9}]

{"sheet":"CLS","index":6,"n_rows":7,"n_cols":40,"rows_kept":7,"cut":false,"hidden":false,"merged":[]}
["Poz","Nume_si_prenume","Localitate","Pct","MP","Cat",{"$f":"COUNTA(G2:G6001)","v":0},null,null,null,"Cls","EL","V S","V I","V G",null,null,null,null,"EL","V S","V I","0v EL",{"$f":"IF(Start!$D$8=1,\"G1\",\"\")","v":""},{"$f":"IF(Start!$D$8=1,\"L1\",\"\")","v":""},"V G",null,null,null,null,{"$f":"Start!$L$6","v":0},{"$f":"IFERROR(VLOOKUP(AE1,AE2:AF7,2,TRUE),4)","v":0},{"$f":"IFERROR(VLOOKUP(AE1,AE2:AG7,3,TRUE),4)","v":0},"fm",null,null,null,null,null,{"$f":"MAX($A:$A)","v":0}]
[null,null,null,null,null,null,null,null,null,null,null,null,null,null,null,null,null,null,null,null,null,null,null,null,null,null,null,null,null,null,0,0,null,{"$f":"Start!$D$8","v":6}]
[null,null,null,null,null,null,null,null,null,null,null,null,null,null,null,null,null,null,null,null,null,null,null,null,null,null,null,null,null,null,1,1,4]
[null,null,null,null,null,null,null,null,null,null,null,null,null,null,null,null,null,null,null,null,null,null,null,null,null,null,null,null,null,null,9,2,8]
[null,null,null,null,null,null,null,null,null,null,null,null,null,null,null,null,null,null,null,null,null,null,null,null,null,null,null,null,null,null,17,3,16]
[null,null,null,null,null,null,null,null,null,null,null,null,null,null,null,null,null,null,null,null,null,null,null,null,null,null,null,null,null,null,33,4,32,{"$f":"Elim.!$H$7","v":0}]
[null,null,null,null,null,null,null,null,null,null,null,null,null,null,null,null,null,null,null,null,null,null,null,null,null,null,null,null,null,null,65]

{"sheet":"www","index":7,"n_rows":86,"n_cols":34,"rows_kept":86,"cut":false,"hidden":true,"merged":[]}
["Poz","Nume_si_prenume","Localitate","Pct","MP","Cat",{"$f":"COUNTA(G2:G6021)","v":15},null,null,null,"Cls","EL","V S","V I","V G",null,null,null,null,"EL","V S","V I","0v EL",{"$f":"IF(Start!$D$8=1,\"G1\",\"\")","v":""},{"$f":"IF(Start!$D$8=1,\"L1\",\"\")","v":""},"V G",null,null,null,null,{"$f":"Start!$L$6","v":0},{"$f":"IFERROR(VLOOKUP(AE1,AE2:AF7,2,TRUE),4)","v":0},{"$f":"IFERROR(VLOOKUP(AE1,AE2:AG7,3,TRUE),4)","v":0},"fm"]
[null,null,null,null,null,null,null,null,null,null,null,null,null,null,null,null,null,null,{"$f":"IF($A2=\"\",\"\",IF(P2=\"\",S1,P2&IF(Q2=\"\",\"\",\" - \")&Q2))","v":""},{"$f":"IF($AH$2=1,$Y2,IFERROR(VLOOKUP($B2&\",\"&$A2,tEL,2,FALSE),\"\"))","v":""},{"$f":"IF($AH$2=1,\"\",V_sup)","v":""},{"$f":"IF($AH$2=1,$X2,V_inf)","v":""},{"$f":"IF(AND($AH$2>1,$T2<>\"\",$T2>v0),0,\"\")","v":""},{"$f":"IF($AH$2=1,v_1,\"\")","v":""},{"$f":"IF(AND(v_1L>0,v_1L<5),v_1L,\"\")","v":""},{"$f":"IF(AND(T2>8,W2=0),SUM(U2:V2),\"\")","v":""},null,null,null,null,0,0,null,{"$f":"Start!$D$8","v":6}]
[null,null,null,null,null,null,null,null,null,null,null,null,null,null,null,null,null,null,null,null,null,null,null,null,null,null,null,null,null,null,1,1,4]
[null,null,null,null,null,null,null,null,null,null,null,null,null,null,null,null,null,null,null,null,null,null,null,null,null,null,null,null,null,null,9,2,8]
[null,null,null,null,null,null,null,null,null,null,null,null,null,null,null,null,null,null,null,null,null,null,null,null,null,null,null,null,null,null,17,3,16]
[null,null,null,null,null,null,null,null,null,null,null,null,null,null,null,null,null,null,null,null,null,null,null,null,null,null,null,null,null,null,33,4,32,{"$f":"Elim.!$H$7","v":0}]
[null,null,null,null,null,null,null,null,null,null,null,null,null,null,null,null,null,null,null,null,null,null,null,null,null,null,null,null,null,null,65]
[]
[]
[]
[{"$f":"Start!$A$1 & \" \" & Start!$C$1 & \" - \" & Start!$D$1","v":"localitate data - categorie"}]
[{"$f":"INT(ROW(A12)/25)+1","v":1}]
[{"$f":"\"Gr.inferioara nr. \"&A12","v":"Gr.inferioara nr. 1"},null,"Masa nr. ",null,null,null,null,null,null,null,null,null,null,null,"Clasament Partial"]
[null,"Nume si prenume","Localitate",1,2,3,4,5,6,7,"V","LOC","Cls",{"$f":"IF(SUM($K15:$K21)>0,$A12&\"  \",\"\")","v":""},"AVg","AVp","Vp","Poz","Vp","Avp","Avg","Loc"]
[1,{"$f":"IFERROR(UPPER(VLOOKUP($M15,CLS!$A:$C,2,FALSE)),\"\")","v":""},{"$f":"IFERROR(VLOOKUP($M15,CLS!$A:$C,3,FALSE),\"\")","v":""},null,null,null,null,null,null,null,{"$f":"scv($D15:$J15)","v":""}]
[2,{"$f":"IFERROR(UPPER(VLOOKUP($M16,CLS!$A:$C,2,FALSE)),\"\")","v":""},{"$f":"IFERROR(VLOOKUP($M16,CLS!$A:$C,3,FALSE),\"\")","v":""},{"$f":"sg(E15)","v":""},null,null,null,null,null,null,""]
[3,{"$f":"IFERROR(UPPER(VLOOKUP($M17,CLS!$A:$C,2,FALSE)),\"\")","v":""},{"$f":"IFERROR(VLOOKUP($M17,CLS!$A:$C,3,FALSE),\"\")","v":""},{"$f":"sg(F15)","v":""},{"$f":"sg(F16)","v":""},null,null,null,null,null,""]
[4,{"$f":"IFERROR(UPPER(VLOOKUP($M18,CLS!$A:$C,2,FALSE)),\"\")","v":""},{"$f":"IFERROR(VLOOKUP($M18,CLS!$A:$C,3,FALSE),\"\")","v":""},{"$f":"sg(G15)","v":""},{"$f":"sg(G16)","v":""},{"$f":"sg(G17)","v":""},null,null,null,null,""]
[5,{"$f":"IFERROR(UPPER(VLOOKUP($M19,CLS!$A:$C,2,FALSE)),\"\")","v":""},{"$f":"IFERROR(VLOOKUP($M19,CLS!$A:$C,3,FALSE),\"\")","v":""},{"$f":"sg(H15)","v":""},{"$f":"sg(H16)","v":""},{"$f":"sg(H17)","v":""},{"$f":"sg(H18)","v":""},null,null,null,""]
[6,{"$f":"IFERROR(UPPER(VLOOKUP($M20,CLS!$A:$C,2,FALSE)),\"\")","v":""},{"$f":"IFERROR(VLOOKUP($M20,CLS!$A:$C,3,FALSE),\"\")","v":""},{"$f":"sg(I15)","v":""},{"$f":"sg(I16)","v":""},{"$f":"sg(I17)","v":""},{"$f":"sg(I18)","v":""},{"$f":"sg(I19)","v":""},null,null,""]
[7,{"$f":"IFERROR(UPPER(VLOOKUP($M21,CLS!$A:$C,2,FALSE)),\"\")","v":""},{"$f":"IFERROR(VLOOKUP($M21,CLS!$A:$C,3,FALSE),\"\")","v":""},{"$f":"sg(J15)","v":""},{"$f":"sg(J16)","v":""},{"$f":"sg(J17)","v":""},{"$f":"sg(J18)","v":""},{"$f":"sg(J19)","v":""},{"$f":"sg(J20)","v":""},null,""]
[null,{"$f":"7-COUNTBLANK(B15:B21)","v":0}]
[null,{"$f":"\"Se califica primii: \" &jci","v":"Se califica primii: 4"}]
[null,{"$f":"IF(jxi>0,\"si cele mai bune \"& jxi&\" locuri \" & jci+1,\"\")","v":""}]
[]
[]
[]
[]
[]
[]
[]
[]
[]
[]
[]
[]
[]
[]
[]
[]
[{"$f":"Start!$A$1 & \" \" & Start!$C$1 & \" - \" & Start!$D$1","v":"localitate data - categorie"}]
[{"$f":"INT(ROW(A42)/25)+1","v":2}]
[{"$f":"\"Gr.superioara nr. \"&A42","v":"Gr.superioara nr. 2"},null,"Masa nr. ",null,null,null,null,null,null,null,null,null,null,null,"Clasament Partial"]
[null,"Nume si prenume","Localitate",1,2,3,4,null,"V","LOC","Cls",{"$f":"IF(SUM($I45:$I48)>0,$A42&\"  \",\"\")","v":""},null,null,"AVg","AVp","Vp","Poz","Vp","Avp","Avg","Loc"]
[1,{"$f":"IFERROR(UPPER(VLOOKUP($K45,CLS!$A:$C,2,FALSE)),\"\")","v":""},{"$f":"IFERROR(VLOOKUP($K45,CLS!$A:$C,3,FALSE),\"\")","v":""},null,null,null,null,null,{"$f":"scv($D45:$G45)","v":""}]
[2,{"$f":"IFERROR(UPPER(VLOOKUP($K46,CLS!$A:$C,2,FALSE)),\"\")","v":""},{"$f":"IFERROR(VLOOKUP($K46,CLS!$A:$C,3,FALSE),\"\")","v":""},{"$f":"sg(E45)","v":""},null,null,null,null,{"$f":"scv($D46:$G46)","v":""}]
[3,{"$f":"IFERROR(UPPER(VLOOKUP($K47,CLS!$A:$C,2,FALSE)),\"\")","v":""},{"$f":"IFERROR(VLOOKUP($K47,CLS!$A:$C,3,FALSE),\"\")","v":""},{"$f":"sg(F45)","v":""},{"$f":"sg(F46)","v":""},null,null,null,{"$f":"scv($D47:$G47)","v":""}]
[4,{"$f":"IFERROR(UPPER(VLOOKUP($K48,CLS!$A:$C,2,FALSE)),\"\")","v":""},{"$f":"IFERROR(VLOOKUP($K48,CLS!$A:$C,3,FALSE),\"\")","v":""},{"$f":"sg(G45)","v":""},{"$f":"sg(G46)","v":""},{"$f":"sg(G47)","v":""},null,null,{"$f":"scv($D48:$G48)","v":""}]
[null,{"$f":"4-COUNTBLANK(B45:B48)","v":0},{"$f":"\"Se califica primii \" &jcs & IF(jxs>0,\" si cele mai bune \"& jxs&\" locuri \" & jcs+1,\"\")","v":"Se califica primii 2"}]
["Meci","Jucatori",null,"Set 1","Set 2","Set 3","Set 4",null,"Set 5"]
["1--4",{"$f":"IFERROR(PROPER(VLOOKUP(LEFT(A51,1)+0,$A45:$B48,2,FALSE)) & \"  -  \" &PROPER(VLOOKUP(RIGHT(A51,1)+0,$A45:$B48,2,FALSE)),\"\")","v":"  -  "}]
["2--3",{"$f":"IFERROR(PROPER(VLOOKUP(LEFT(A52,1)+0,$A45:$B48,2,FALSE)) & \"  -  \" &PROPER(VLOOKUP(RIGHT(A52,1)+0,$A45:$B48,2,FALSE)),\"\")","v":"  -  "}]
["1--3",{"$f":"IFERROR(PROPER(VLOOKUP(LEFT(A53,1)+0,$A45:$B48,2,FALSE)) & \"  -  \" &PROPER(VLOOKUP(RIGHT(A53,1)+0,$A45:$B48,2,FALSE)),\"\")","v":"  -  "}]
["2--4",{"$f":"IFERROR(PROPER(VLOOKUP(LEFT(A54,1)+0,$A45:$B48,2,FALSE)) & \"  -  \" &PROPER(VLOOKUP(RIGHT(A54,1)+0,$A45:$B48,2,FALSE)),\"\")","v":"  -  "}]
["1--2",{"$f":"IFERROR(PROPER(VLOOKUP(LEFT(A55,1)+0,$A45:$B48,2,FALSE)) & \"  -  \" &PROPER(VLOOKUP(RIGHT(A55,1)+0,$A45:$B48,2,FALSE)),\"\")","v":"  -  "}]
["3--4",{"$f":"IFERROR(PROPER(VLOOKUP(LEFT(A56,1)+0,$A45:$B48,2,FALSE)) & \"  -  \" &PROPER(VLOOKUP(RIGHT(A56,1)+0,$A45:$B48,2,FALSE)),\"\")","v":"  -  "}]
[]
[]
[]
[]
[]
[]
[]
[]
[]
[]
[]
[]
[]
[]
[{"$f":"Start!$A$1 & \" \" & Start!$C$1 & \" - \" & Start!$D$1","v":"localitate data - categorie"}]
[{"$f":"INT(ROW(A72)/25)+1","v":3}]
[{"$f":"\"Gr.inferioara nr. \"&A72","v":"Gr.inferioara nr. 3"},null,"Masa nr. ",null,null,null,null,null,null,null,null,null,null,null,null,null,null,null,null,"Clasament Partial"]
[null,"Nume si prenume","Localitate",1,2,3,4,5,6,7,8,9,10,11,12,"V","LOC","Cls",{"$f":"IF(SUM($K75:$K81)>0,$A72&\"  \",\"\")","v":""},"AVg","AVp","Vp","Poz","Vp","Avp","Avg","Loc"]
[1,{"$f":"IFERROR(UPPER(VLOOKUP($R75,CLS!$A:$C,2,FALSE)),\"\")","v":""},{"$f":"IFERROR(VLOOKUP($R75,CLS!$A:$C,3,FALSE),\"\")","v":""},null,null,null,null,null,null,null,null,null,null,null,null,{"$f":"scv($D75:$O75)","v":""}]
[2,{"$f":"IFERROR(UPPER(VLOOKUP($R76,CLS!$A:$C,2,FALSE)),\"\")","v":""},{"$f":"IFERROR(VLOOKUP($R76,CLS!$A:$C,3,FALSE),\"\")","v":""},{"$f":"sg(E75)","v":""},null,null,null,null,null,null,null,null,null,null,null,{"$f":"scv($D76:$O76)","v":""}]
[3,{"$f":"IFERROR(UPPER(VLOOKUP($R77,CLS!$A:$C,2,FALSE)),\"\")","v":""},{"$f":"IFERROR(VLOOKUP($R77,CLS!$A:$C,3,FALSE),\"\")","v":""},{"$f":"sg(F75)","v":""},{"$f":"sg(F76)","v":""},null,null,null,null,null,null,null,null,null,null,""]
[4,{"$f":"IFERROR(UPPER(VLOOKUP($R78,CLS!$A:$C,2,FALSE)),\"\")","v":""},{"$f":"IFERROR(VLOOKUP($R78,CLS!$A:$C,3,FALSE),\"\")","v":""},{"$f":"sg(G75)","v":""},{"$f":"sg(G76)","v":""},{"$f":"sg(G77)","v":""},null,null,null,null,null,null,null,null,null,""]
[5,{"$f":"IFERROR(UPPER(VLOOKUP($R79,CLS!$A:$C,2,FALSE)),\"\")","v":""},{"$f":"IFERROR(VLOOKUP($R79,CLS!$A:$C,3,FALSE),\"\")","v":""},{"$f":"sg(H75)","v":""},{"$f":"sg(H76)","v":""},{"$f":"sg(H77)","v":""},{"$f":"sg(H78)","v":""},null,null,null,null,null,null,null,null,""]
[6,{"$f":"IFERROR(UPPER(VLOOKUP($R80,CLS!$A:$C,2,FALSE)),\"\")","v":""},{"$f":"IFERROR(VLOOKUP($R80,CLS!$A:$C,3,FALSE),\"\")","v":""},{"$f":"sg(I75)","v":""},{"$f":"sg(I76)","v":""},{"$f":"sg(I77)","v":""},{"$f":"sg(I78)","v":""},{"$f":"sg(I79)","v":""},null,null,null,null,null,null,null,""]
[7,{"$f":"IFERROR(UPPER(VLOOKUP($R81,CLS!$A:$C,2,FALSE)),\"\")","v":""},{"$f":"IFERROR(VLOOKUP($R81,CLS!$A:$C,3,FALSE),\"\")","v":""},{"$f":"sg(J75)","v":""},{"$f":"sg(J76)","v":""},{"$f":"sg(J77)","v":""},{"$f":"sg(J78)","v":""},{"$f":"sg(J79)","v":""},{"$f":"sg(J80)","v":""},null,null,null,null,null,null,""]
[8,{"$f":"IFERROR(UPPER(VLOOKUP($R82,CLS!$A:$C,2,FALSE)),\"\")","v":""},{"$f":"IFERROR(VLOOKUP($R82,CLS!$A:$C,3,FALSE),\"\")","v":""},{"$f":"sg(K75)","v":""},{"$f":"sg(K76)","v":""},{"$f":"sg(K77)","v":""},{"$f":"sg(K78)","v":""},{"$f":"sg(K79)","v":""},{"$f":"sg(K80)","v":""},{"$f":"sg(K81)","v":""},null,null,null,null,null,""]
[9,{"$f":"IFERROR(UPPER(VLOOKUP($R83,CLS!$A:$C,2,FALSE)),\"\")","v":""},{"$f":"IFERROR(VLOOKUP($R83,CLS!$A:$C,3,FALSE),\"\")","v":""},{"$f":"sg(L75)","v":""},{"$f":"sg(L76)","v":""},{"$f":"sg(L77)","v":""},{"$f":"sg(L78)","v":""},{"$f":"sg(L79)","v":""},{"$f":"sg(L80)","v":""},{"$f":"sg(L81)","v":""},{"$f":"sg(L82)","v":""},null,null,null,null,""]
[10,{"$f":"IFERROR(UPPER(VLOOKUP($R84,CLS!$A:$C,2,FALSE)),\"\")","v":""},{"$f":"IFERROR(VLOOKUP($R84,CLS!$A:$C,3,FALSE),\"\")","v":""},{"$f":"sg(M75)","v":""},{"$f":"sg(M76)","v":""},{"$f":"sg(M77)","v":""},{"$f":"sg(M78)","v":""},{"$f":"sg(M79)","v":""},{"$f":"sg(M80)","v":""},{"$f":"sg(M81)","v":""},{"$f":"sg(M82)","v":""},{"$f":"sg(M83)","v":""},null,null,null,""]
[11,{"$f":"IFERROR(UPPER(VLOOKUP($R85,CLS!$A:$C,2,FALSE)),\"\")","v":""},{"$f":"IFERROR(VLOOKUP($R85,CLS!$A:$C,3,FALSE),\"\")","v":""},{"$f":"sg(N75)","v":""},{"$f":"sg(N76)","v":""},{"$f":"sg(N77)","v":""},{"$f":"sg(N78)","v":""},{"$f":"sg(N79)","v":""},{"$f":"sg(N80)","v":""},{"$f":"sg(N81)","v":""},{"$f":"sg(N82)","v":""},{"$f":"sg(N83)","v":""},{"$f":"sg(N84)","v":""},null,null,""]
[12,{"$f":"IFERROR(UPPER(VLOOKUP($R86,CLS!$A:$C,2,FALSE)),\"\")","v":""},{"$f":"IFERROR(VLOOKUP($R86,CLS!$A:$C,3,FALSE),\"\")","v":""},{"$f":"sg(O75)","v":""},{"$f":"sg(O76)","v":""},{"$f":"sg(O77)","v":""},{"$f":"sg(O78)","v":""},{"$f":"sg(O79)","v":""},{"$f":"sg(O80)","v":""},{"$f":"sg(O81)","v":""},{"$f":"sg(O82)","v":""},{"$f":"sg(O83)","v":""},{"$f":"sg(O84)","v":""},{"$f":"sg(O85)","v":""},null,""]

{"sheet":"Rezultate","index":8,"n_rows":0,"n_cols":0,"rows_kept":0,"cut":false,"hidden":true,"merged":[]}

{"sheet":"Grupe","index":9,"n_rows":1,"n_cols":13,"rows_kept":1,"cut":false,"hidden":false,"merged":[]}
[null,"Grupe inferioare",null,null,null,null,null,null,null,"Masa nr.",null,"Dubluri","Culori lipsa"]

{"sheet":"Gr.1","index":10,"n_rows":1,"n_cols":35,"rows_kept":1,"cut":false,"hidden":false,"merged":[]}
[null,null,null,null,null,null,null,null,null,null,null,null,null,null,null,null,null,null,null,null,null,null,null,null,null,null,null,null,null,null,null,null,null,null,{"$f":"12-COUNTBLANK($B$5:$B$16)","v":0}]

{"sheet":"Gr.inf.","index":11,"n_rows":834,"n_cols":49,"rows_kept":834,"cut":false,"hidden":false,"merged":[]}
[null,null,null,null,null,null,null,null,null,null,null,null,null,null,null,null,null,null,null,null,null,null,null,null,null,{"$f":"CONCATENATE($N$4,$N$29,$N$54,$N$79,$N$104,$N$129,$N$154,$N$179,$N$204,$N$229,$N$254,$N$279,$N$304,$N$329,$N$354,$N$379,$N$404,$N$429,$N$454,$N$479,$N$504,$N$529,$N$554,$N$579)","v":""},null,null,null,null,null,null,null,null,{"$f":"MAX($B:$B)","v":0},null,null,"3-0","3-1","3-2","2-3","1-3","0-3","2-0","2-1","1-2","0-2","1-0","0-1"]
[]
[]
[]
[]
[]
[]
[]
[]
[]
[]
[]
[]
[]
[]
[]
[]
[]
[]
[]
[]
[]
[]
[]
[]
[]
[]
[]
[]
[]
[]
[]
[]
[]
[]
[]
[]
[]
[]
[]
[]
[]
[]
[]
[]
[]
[]
[]
[]
[]
[]
[]
[]
[]
[]
[]
[]
[]
[]
[]
[]
[]
[]
[]
[]
[]
[]
[]
[]
[]
[]
[]
[]
[]
[]
[]
[]
[]
[]
[]
[]
[]
[]
[]
[]
[]
[]
[]
[]
[]
[]
[]
[]
[]
[]
[]
[]
[]
[]
[]
[]
[]
[]
[]
[]
[]
[]
[]
[]
[]
[]
[]
[]
[]
[]
[]
[]
[]
[]
[]
[]
[]
[]
[]
[]
[]
[]
[]
[]
[]
[]
[]
[]
[]
[]
[]
[]
[]
[]
[]
[]
[]
[]
[]
[]
[]
[]
[]
[]
[]
[]
[]
[]
[]
[]
[]
[]
[]
[]
[]
[]
[]
[]
[]
[]
[]
[]
[]
[]
[]
[]
[]
[]
[]
[]
[]
[]
[]
[]
[]
[]
[]
[]
[]
[]
[]
[]
[]
[]
[]
[]
[]
[]
[]
[]
[]
[]
[]
[]
[]
[]
[]
[]
[]
[]
[]
[]
[]
[]
[]
[]
[]
[]
[]
[]
[]
[]
[]
[]
[]
[]
[]
[]
[]
[]
[]
[]
[]
[]
[]
[]
[]
[]
[]
[]
[]
[]
[]
[]
[]
[]
[]
[]
[]
[]
[]
[]
[]
[]
[]
[]
[]
[]
[]
[]
[]
[]
[]
[]
[]
[]
[]
[]
[]
[]
[]
[]
[]
[]
[]
[]
[]
[]
[]
[]
[]
[]
[]
[]
[]
[]
[]
[]
[]
[]
[]
[]
[]
[]
[]
[]
[]
[]
[]
[]
[]
[]
[]
[]
[]
[]
[]
[]
[]
[]
[]
[]
[]
[]
[]
[]
[]
[]
[]
[]
[]
[]
[]
[]
[]
[]
[]
[]
[]
[]
[]
[]
[]
[]
[]
[]
[]
[]
[]
[]
[]
[]
[]
[]
[]
[]
[]
[]
[]
[]
[]
[]
[]
[]
[]
[]
[]
[]
[]
[]
[]
[]
[]
[]
[]
[]
[]
[]
[]
[]
[]
[]
[]
[]
[]
[]
[]
[]
[]
[]
[]
[]
[]
[]
[]
[]
[]
[]
[]
[]
[]
[]
[]
[]
[]
[]
[]
[]
[]
[]
[]
[]
[]
[]
[]
[]
[]
[]
[]
[]
[]
[]
[]
[]
[]
[]
[]
[]
[]
[]
[]
[]
[]
[]
[]
[]
[]
[]
[]
[]
[]
[]
[]
[]
[]
[]
[]
[]
[]
[]
[]
[]
[]
[]
[]
[]
[]
[]
[]
[]
[]
[]
[]
[]
[]
[]
[]
[]
[]
[]
[]
[]
[]
[]
[]
[]
[]
[]
[]
[]
[]
[]
[]
[]
[]
[]
[]
[]
[]
[]
[]
[]
[]
[]
[]
[]
[]
[]
[]
[]
[]
[]
[]
[]
[]
[]
[]
[]
[]
[]
[]
[]
[]
[]
[]
[]
[]
[]
[]
[]
[]
[]
[]
[]
[]
[]
[]
[]
[]
[]
[]
[]
[]
[]
[]
[]
[]
[]
[]
[]
[]
[]
[]
[]
[]
[]
[]
[]
[]
[]
[]
[]
[]
[]
[]
[]
[]
[]
[]
[]
[]
[]
[]
[]
[]
[]
[]
[]
[]
[]
[]
[]
[]
[]
[]
[]
[]
[]
[]
[]
[]
[]
[]
[]
[]
[]
[]
[]
[]
[]
[]
[]
[]
[]
[]
[]
[]
[]
[]
[]
[]
[]
[]
[]
[]
[]
[]
[]
[]
[]
[]
[]
[]
[]
[]
[]
[]
[]
[]
[]
[]
[]
[]
[]
[]
[]
[]
[]
[]
[]
[]
[]
[]
[]
[]
[]
[]
[]
[]
[]
[]
[]
[]
[]
[]
[]
[]
[]
[]
[]
[]
[]
[]
[]
[]
[]
[]
[]
[]
[]
[]
[]
[]
[]
[]
[]
[]
[]
[]
[]
[]
[]
[]
[]
[]
[]
[]
[]
[]
[]
[]
[]
[]
[]
[]
[]
[]
[]
[]
[]
[]
[]
[]
[]
[]
[]
[]
[]
[]
[]
[]
[]
[]
[]
[]
[]
[]
[]
[]
[]
[]
[]
[]
[]
[]
[]
[]
[]
[]
[]
[]
[]
[]
[]
[]
[]
[]
[]
[]
[]
[]
[]
[]
[]
[]
[]
[]
[]
[]
[]
[]
[]
[]
[]
[]
[]
[]
[]
[]
[]
[]
[]
[]
[]
[]
[]
[]
[]
[]
[]
[]
[]
[]
[]
[]
[]
[]
[]
[]
[]
[]
[]
[]
[]
[]
[]
[]
[]
[]
[]
[]
[]
[]
[]
[]
[]
[]
[]
[]
[]
[]
[]
[]
[]
[]
[]
[]
[]
[]
[]
[]
[]
[]
[]
[]
[]
[]
[]
[]
[]
[]
[]
[]
[]
[]
[]
[]
[]
[]
[]
[]
[]
[]
[]
[]
[]
[]
[]
[null,{"$f":"IF(jxi>0,\"si cele mai bune \"& jxi&\" locuri \" & jci+1,\"\")","v":""}]
[]
[]
[]
[]
[]
[]
[]
[]
[]
[]
[]
[]
[]
[]
[]
[]
[null,null,null,null,null,null,null,null,null,null,null,null,null,null,"",""]
[null,null,null,null,null,null,null,null,null,null,null,null,null,null,"",""]
[null,null,null,null,null,null,null,null,null,null,null,null,null,null,null,""]
[null,null,null,null,null,null,null,null,null,null,null,null,null,null,null,""]

{"sheet":"Gr.sup.","index":12,"n_rows":834,"n_cols":35,"rows_kept":834,"cut":false,"hidden":false,"merged":[]}
[null,null,null,null,null,null,null,null,null,null,null,null,null,null,null,null,null,null,null,null,null,null,null,null,null,{"$f":"CONCATENATE($L$4,$L$29,$L$54,$L$79,$L$104,$L$129,$L$154,$L$179,$L$204,$L$229,$L$254,$L$279,$L$304,$L$329,$L$354,$L$379,$L$404,$L$429,$L$454,$L$479,$L$504,$L$529,$L$554,$L$579)","v":""},null,null,null,null,null,null,null,null,{"$f":"MAX($B:$B)","v":0}]
[]
[]
[]
[]
[]
[]
[]
[]
[]
[]
[]
[]
[]
[]
[]
[]
[]
[]
[]
[]
[]
[]
[]
[]
[]
[]
[]
[]
[]
[]
[]
[]
[]
[]
[]
[]
[]
[]
[]
[]
[]
[]
[]
[]
[]
[]
[]
[]
[]
[]
[]
[]
[]
[]
[]
[]
[]
[]
[]
[]
[]
[]
[]
[]
[]
[]
[]
[]
[]
[]
[]
[]
[]
[]
[]
[]
[]
[]
[]
[]
[]
[]
[]
[]
[]
[]
[]
[]
[]
[]
[]
[]
[]
[]
[]
[]
[]
[]
[]
[]
[]
[]
[]
[]
[]
[]
[]
[]
[]
[]
[]
[]
[]
[]
[]
[]
[]
[]
[]
[]
[]
[]
[]
[]
[]
[]
[]
[]
[]
[]
[]
[]
[]
[]
[]
[]
[]
[]
[]
[]
[]
[]
[]
[]
[]
[]
[]
[]
[]
[]
[]
[]
[]
[]
[]
[]
[]
[]
[]
[]
[]
[]
[]
[]
[]
[]
[]
[]
[]
[]
[]
[]
[]
[]
[]
[]
[]
[]
[]
[]
[]
[]
[]
[]
[]
[]
[]
[]
[]
[]
[]
[]
[]
[]
[]
[]
[]
[]
[]
[]
[]
[]
[]
[]
[]
[]
[]
[]
[]
[]
[]
[]
[]
[]
[]
[]
[]
[]
[]
[]
[]
[]
[]
[]
[]
[]
[]
[]
[]
[]
[]
[]
[]
[]
[]
[]
[]
[]
[]
[]
[]
[]
[]
[]
[]
[]
[]
[]
[]
[]
[]
[]
[]
[]
[]
[]
[]
[]
[]
[]
[]
[]
[]
[]
[]
[]
[]
[]
[]
[]
[]
[]
[]
[]
[]
[]
[]
[]
[]
[]
[]
[]
[]
[]
[]
[]
[]
[]
[]
[]
[]
[]
[]
[]
[]
[]
[]
[]
[]
[]
[]
[]
[]
[]
[]
[]
[]
[]
[]
[]
[]
[]
[]
[]
[]
[]
[]
[]
[]
[]
[]
[]
[]
[]
[]
[]
[]
[]
[]
[]
[]
[]
[]
[]
[]
[]
[]
[]
[]
[]
[]
[]
[]
[]
[]
[]
[]
[]
[]
[]
[]
[]
[]
[]
[]
[]
[]
[]
[]
[]
[]
[]
[]
[]
[]
[]
[]
[]
[]
[]
[]
[]
[]
[]
[]
[]
[]
[]
[]
[]
[]
[]
[]
[]
[]
[]
[]
[]
[]
[]
[]
[]
[]
[]
[]
[]
[]
[]
[]
[]
[]
[]
[]
[]
[]
[]
[]
[]
[]
[]
[]
[]
[]
[]
[]
[]
[]
[]
[]
[]
[]
[]
[]
[]
[]
[]
[]
[]
[]
[]
[]
[]
[]
[]
[]
[]
[]
[]
[]
[]
[]
[]
[]
[]
[]
[]
[]
[]
[]
[]
[]
[]
[]
[]
[]
[]
[]
[]
[]
[]
[]
[]
[]
[]
[]
[]
[]
[]
[]
[]
[]
[]
[]
[]
[]
[]
[]
[]
[]
[]
[]
[]
[]
[]
[]
[]
[]
[]
[]
[]
[]
[]
[]
[]
[]
[]
[]
[]
[]
[]
[]
[]
[]
[]
[]
[]
[]
[]
[]
[]
[]
[]
[]
[]
[]
[]
[]
[]
[]
[]
[]
[]
[]
[]
[]
[]
[]
[]
[]
[]
[]
[]
[]
[]
[]
[]
[]
[]
[]
[]
[]
[]
[]
[]
[]
[]
[]
[]
[]
[]
[]
[]
[]
[]
[]
[]
[]
[]
[]
[]
[]
[]
[]
[]
[]
[]
[]
[]
[]
[]
[]
[]
[]
[]
[]
[]
[]
[]
[]
[]
[]
[]
[]
[]
[]
[]
[]
[]
[]
[]
[]
[]
[]
[]
[]
[]
[]
[]
[]
[]
[]
[]
[]
[]
[]
[]
[]
[]
[]
[]
[]
[]
[]
[]
[]
[]
[]
[]
[]
[]
[]
[]
[]
[]
[]
[]
[]
[]
[]
[]
[]
[]
[]
[]
[]
[]
[]
[]
[]
[]
[]
[]
[]
[]
[]
[]
[]
[]
[]
[]
[]
[]
[]
[]
[]
[]
[]
[]
[]
[]
[]
[]
[]
[]
[]
[]
[]
[]
[]
[]
[]
[]
[]
[]
[]
[]
[]
[]
[]
[]
[]
[]
[]
[]
[]
[]
[]
[]
[]
[]
[]
[]
[]
[]
[]
[]
[]
[]
[]
[]
[]
[]
[]
[]
[]
[]
[]
[]
[]
[]
[]
[]
[]
[]
[]
[]
[]
[]
[]
[]
[]
[]
[]
[]
[]
[]
[]
[]
[]
[]
[]
[]
[]
[]
[]
[]
[]
[]
[]
[]
[]
[]
[]
[]
[]
[]
[]
[]
[]
[]
[]
[]
[]
[]
[]
[]
[]
[]
[]
[]
[]
[]
[]
[]
[]
[]
[]
[]
[]
[]
[]
[]
[]
[]
[]
[]
[]
[]
[]
[]
[]
[]
[]
[]
[]
[]
[]
[]
[]
[]
[]
[]
[]
[]
[]
[]
[]
[]
[]
[]
[]
[]
[]
[]
[]
[]
[]
[]
[]
[]
[null,{"$f":"IF(jxs>0,\"si cele mai bune \"& jxs&\" locuri \" & jcs+1,\"\")","v":""}]
[]
[]
[]
[]
[]
[]
[]
[]
[]
[]
[]
[]
[]
[]
[]
[]
[]
[]
[null,null,null,null,null,null,null,null,null,null,null,null,null,null,"",""]
[null,null,null,null,null,null,null,null,null,null,null,null,null,null,"",""]
[null,null,null,null,null,null,null,null,null,null,null,null,null,null,null,""]
[null,null,null,null,null,null,null,null,null,null,null,null,null,null,null,""]

{"sheet":"Arb.inf.","index":13,"n_rows":34,"n_cols":44,"rows_kept":34,"cut":false,"hidden":false,"merged":[]}
[null,null,null,null,null,null,null,null,null,null,null,null,null,null,null,"Ora","Durata",null,null,4,"Arbitru",5,"Arbitru",6,"Arbitru",7,"Arbitru",null,null,null,{"$f":"nlc(INDEX(Gr.inf.!$A:$A,ROW(AE1)-10*INT(ROW(AE1)/35)))","v":""}]
[null,null,null,null,null,null,null,null,null,null,null,null,null,null,null,"10:00:00","00:15:00",null,1,"1--4",2,"2--5",3,"1--6",4,"2--7",1]
[null,null,null,null,null,null,null,null,null,null,null,null,null,null,null,null,null,null,2,"2--3",4,"3--4",1,"2--5",6,"3--6",2,null,null,null,{"$f":"nlc(INDEX(Gr.inf.!$A:$A,ROW(AE3)-10*INT(ROW(AE3)/35)))","v":""},null,"Masa nr. ",{"$f":"nlc(INDEX(Gr.inf.!$D:$D,ROW(AH3)-10*INT(ROW(AH3)/35)))","v":""}]
[null,null,null,null,null,null,null,null,null,null,null,null,null,null,null,null,null,null,3,"1--3",2,"1--5",4,"3--4",2,"4--5",6,null,null,null,null,"Nume si prenume","Localitate",1,2,3,4,5,6,7,"V","LOC"]
[null,null,null,null,null,null,null,null,null,null,null,null,null,null,null,null,null,null,4,"2--4",3,"2--3",5,"1--5",3,"1--7",4,null,null,null,1,{"$f":"nlc(INDEX(Gr.inf.!$B:$B,ROW(AF5)-10*INT(ROW(AF5)/35)))","v":""},{"$f":"nlc(INDEX(Gr.inf.!$C:$C,ROW(AG5)-10*INT(ROW(AG5)/35)))","v":""}]
[null,null,null,null,null,null,null,null,null,null,null,null,null,null,null,null,null,null,5,"1--2",4,"1--4",2,"4--6",1,"2--5",7,null,null,null,2,{"$f":"nlc(INDEX(Gr.inf.!$B:$B,ROW(AF6)-10*INT(ROW(AF6)/35)))","v":""},{"$f":"nlc(INDEX(Gr.inf.!$C:$C,ROW(AG6)-10*INT(ROW(AG6)/35)))","v":""}]
[null,null,null,null,null,null,null,null,null,null,null,null,null,null,null,null,null,null,6,"3--4",1,"3--5",1,"2--3",6,"3--4",5,null,null,null,3,{"$f":"nlc(INDEX(Gr.inf.!$B:$B,ROW(AF7)-10*INT(ROW(AF7)/35)))","v":""},{"$f":"nlc(INDEX(Gr.inf.!$C:$C,ROW(AG7)-10*INT(ROW(AG7)/35)))","v":""}]
[null,null,null,null,null,null,null,null,null,null,null,null,null,null,null,null,null,null,7,"-","-","2--4",5,"1--4",2,"1--6",3,null,null,null,4,{"$f":"nlc(INDEX(Gr.inf.!$B:$B,ROW(AF8)-10*INT(ROW(AF8)/35)))","v":""},{"$f":"nlc(INDEX(Gr.inf.!$C:$C,ROW(AG8)-10*INT(ROW(AG8)/35)))","v":""}]
[null,null,null,null,null,null,null,null,null,null,null,null,null,null,null,null,null,null,8,"-","-","1--3",2,"3--5",4,"5--7",1,null,null,null,5,{"$f":"nlc(INDEX(Gr.inf.!$B:$B,ROW(AF9)-10*INT(ROW(AF9)/35)))","v":""},{"$f":"nlc(INDEX(Gr.inf.!$C:$C,ROW(AG9)-10*INT(ROW(AG9)/35)))","v":""}]
[null,null,null,null,null,null,null,null,null,null,null,null,null,null,null,null,null,null,9,"-","-","4--5",3,"2--6",5,"2--3",7,null,null,null,6,{"$f":"nlc(INDEX(Gr.inf.!$B:$B,ROW(AF10)-10*INT(ROW(AF10)/35)))","v":""},{"$f":"nlc(INDEX(Gr.inf.!$C:$C,ROW(AG10)-10*INT(ROW(AG10)/35)))","v":""}]
[null,null,null,null,null,null,null,null,null,null,null,null,null,null,null,null,null,null,10,"-","-","1--2",4,"1--3",6,"1--5",2,null,null,null,7,{"$f":"nlc(INDEX(Gr.inf.!$B:$B,ROW(AF11)-10*INT(ROW(AF11)/35)))","v":""},{"$f":"nlc(INDEX(Gr.inf.!$C:$C,ROW(AG11)-10*INT(ROW(AG11)/35)))","v":""}]
[null,null,null,null,null,null,null,null,null,null,null,null,null,null,null,null,null,null,11,"-","-","-","-","2--4",3,"4--6",5]
[null,null,null,null,null,null,null,null,null,null,null,null,null,null,null,null,null,null,12,"-","-","-","-","5--6",4,"3--7",6,null,null,null,"Meci","Jucator 1","Jucator 2","Set 1","Set 2","Set 3","Set 4","Set 5","Scor","Arbitru",null,"Timp\nestim.",{"$f":"7-COUNTBLANK(AF5:AF11)","v":0}]
[null,null,null,null,null,null,null,null,null,null,null,null,null,null,null,null,null,null,13,"-","-","-","-","1--2",5,"1--4",3,null,null,null,{"$f":"IFERROR(VLOOKUP(AQ14,$S:$AA,AQ13*2-6,FALSE),\"\")","v":""},{"$f":"IFERROR(PROPER(VLOOKUP(LEFT(AE14,1)+0,AE5:AF11,2,FALSE)),\"\")","v":""},{"$f":"IFERROR(PROPER(VLOOKUP(RIGHT(AE14,1)+0,AE5:AF11,2,FALSE)),\"\")","v":""},null,null,null,null,null,null,{"$f":"IFERROR(lfs(PROPER(VLOOKUP(AR14,AE5:AF11,2,FALSE))),\"\")","v":""},null,{"$f":"$P$2","v":"10:00:00"},1,{"$f":"IFERROR(VLOOKUP(AQ14,$S:$AA,AQ13*2-5,FALSE),\"\")","v":""}]
[null,null,null,null,null,null,null,null,null,null,null,null,null,null,null,null,null,null,14,"-","-","-","-","3--6",1,"3--5",4,null,null,null,{"$f":"IFERROR(VLOOKUP(AQ15,$S:$AA,AQ13*2-6,FALSE),\"\")","v":""},{"$f":"IFERROR(PROPER(VLOOKUP(LEFT(AE15,1)+0,AE5:AF11,2,FALSE)),\"\")","v":""},{"$f":"IFERROR(PROPER(VLOOKUP(RIGHT(AE15,1)+0,AE5:AF11,2,FALSE)),\"\")","v":""},null,null,null,null,null,null,{"$f":"IFERROR(lfs(PROPER(VLOOKUP(AR15,AE5:AF11,2,FALSE))),\"\")","v":""},null,{"$f":"AP14+$Q$2","v":"10:15:00"},2,{"$f":"IFERROR(VLOOKUP(AQ15,$S:$AA,AQ13*2-5,FALSE),\"\")","v":""}]
[null,null,null,null,null,null,null,null,null,null,null,null,null,null,null,null,null,null,15,"-","-","-","-","4--5",3,"2--6",5,null,null,null,{"$f":"IFERROR(VLOOKUP(AQ16,$S:$AA,AQ13*2-6,FALSE),\"\")","v":""},{"$f":"IFERROR(PROPER(VLOOKUP(LEFT(AE16,1)+0,AE5:AF11,2,FALSE)),\"\")","v":""},{"$f":"IFERROR(PROPER(VLOOKUP(RIGHT(AE16,1)+0,AE5:AF11,2,FALSE)),\"\")","v":""},null,null,null,null,null,null,{"$f":"IFERROR(lfs(PROPER(VLOOKUP(AR16,AE5:AF11,2,FALSE))),\"\")","v":""},null,"10:30:00",3,{"$f":"IFERROR(VLOOKUP(AQ16,$S:$AA,AQ13*2-5,FALSE),\"\")","v":""}]
[null,null,null,null,null,null,null,null,null,null,null,null,null,null,null,null,null,null,16,"-","-","-","-","-","-","1--3",2,null,null,null,{"$f":"IFERROR(VLOOKUP(AQ17,$S:$AA,AQ13*2-6,FALSE),\"\")","v":""},{"$f":"IFERROR(PROPER(VLOOKUP(LEFT(AE17,1)+0,AE5:AF11,2,FALSE)),\"\")","v":""},{"$f":"IFERROR(PROPER(VLOOKUP(RIGHT(AE17,1)+0,AE5:AF11,2,FALSE)),\"\")","v":""},null,null,null,null,null,null,{"$f":"IFERROR(lfs(PROPER(VLOOKUP(AR17,AE5:AF11,2,FALSE))),\"\")","v":""},null,"10:45:00",4,{"$f":"IFERROR(VLOOKUP(AQ17,$S:$AA,AQ13*2-5,FALSE),\"\")","v":""}]
[null,null,null,null,null,null,null,null,null,null,null,null,null,null,null,null,null,null,17,"-","-","-","-","-","-","2--4",3,null,null,null,{"$f":"IFERROR(VLOOKUP(AQ18,$S:$AA,AQ13*2-6,FALSE),\"\")","v":""},{"$f":"IFERROR(PROPER(VLOOKUP(LEFT(AE18,1)+0,AE5:AF11,2,FALSE)),\"\")","v":""},{"$f":"IFERROR(PROPER(VLOOKUP(RIGHT(AE18,1)+0,AE5:AF11,2,FALSE)),\"\")","v":""},null,null,null,null,null,null,{"$f":"IFERROR(lfs(PROPER(VLOOKUP(AR18,AE5:AF11,2,FALSE))),\"\")","v":""},null,"11:00:00",5,{"$f":"IFERROR(VLOOKUP(AQ18,$S:$AA,AQ13*2-5,FALSE),\"\")","v":""}]
[null,null,null,null,null,null,null,null,null,null,null,null,null,null,null,null,null,null,18,"-","-","-","-","-","-","6--7",4,null,null,null,{"$f":"IFERROR(VLOOKUP(AQ19,$S:$AA,AQ13*2-6,FALSE),\"\")","v":""},{"$f":"IFERROR(PROPER(VLOOKUP(LEFT(AE19,1)+0,AE5:AF11,2,FALSE)),\"\")","v":""},{"$f":"IFERROR(PROPER(VLOOKUP(RIGHT(AE19,1)+0,AE5:AF11,2,FALSE)),\"\")","v":""},null,null,null,null,null,null,{"$f":"IFERROR(lfs(PROPER(VLOOKUP(AR19,AE5:AF11,2,FALSE))),\"\")","v":""},null,"11:15:00",6,{"$f":"IFERROR(VLOOKUP(AQ19,$S:$AA,AQ13*2-5,FALSE),\"\")","v":""}]
[null,null,null,null,null,null,null,null,null,null,null,null,null,null,null,null,null,null,19,"-","-","-","-","-","-","1--2",7,null,null,null,{"$f":"IFERROR(VLOOKUP(AQ20,$S:$AA,AQ13*2-6,FALSE),\"\")","v":""},{"$f":"IFERROR(PROPER(VLOOKUP(LEFT(AE20,1)+0,AE5:AF11,2,FALSE)),\"\")","v":""},{"$f":"IFERROR(PROPER(VLOOKUP(RIGHT(AE20,1)+0,AE5:AF11,2,FALSE)),\"\")","v":""},null,null,null,null,null,null,{"$f":"IFERROR(lfs(PROPER(VLOOKUP(AR20,AE5:AF11,2,FALSE))),\"\")","v":""},null,"11:30:00",7,{"$f":"IFERROR(VLOOKUP(AQ20,$S:$AA,AQ13*2-5,FALSE),\"\")","v":""}]
[null,null,null,null,null,null,null,null,null,null,null,null,null,null,null,null,null,null,20,"-","-","-","-","-","-","5--6",1,null,null,null,{"$f":"IFERROR(VLOOKUP(AQ21,$S:$AA,AQ13*2-6,FALSE),\"\")","v":""},{"$f":"IFERROR(PROPER(VLOOKUP(LEFT(AE21,1)+0,AE5:AF11,2,FALSE)),\"\")","v":""},{"$f":"IFERROR(PROPER(VLOOKUP(RIGHT(AE21,1)+0,AE5:AF11,2,FALSE)),\"\")","v":""},null,null,null,null,null,null,{"$f":"IFERROR(lfs(PROPER(VLOOKUP(AR21,AE5:AF11,2,FALSE))),\"\")","v":""},null,"11:45:00",8,{"$f":"IFERROR(VLOOKUP(AQ21,$S:$AA,AQ13*2-5,FALSE),\"\")","v":""}]
[null,null,null,null,null,null,null,null,null,null,null,null,null,null,null,null,null,null,21,"-","-","-","-","-","-","4--7",6,null,null,null,{"$f":"IFERROR(VLOOKUP(AQ22,$S:$AA,AQ13*2-6,FALSE),\"\")","v":""},{"$f":"IFERROR(PROPER(VLOOKUP(LEFT(AE22,1)+0,AE5:AF11,2,FALSE)),\"\")","v":""},{"$f":"IFERROR(PROPER(VLOOKUP(RIGHT(AE22,1)+0,AE5:AF11,2,FALSE)),\"\")","v":""},null,null,null,null,null,null,{"$f":"IFERROR(lfs(PROPER(VLOOKUP(AR22,AE5:AF11,2,FALSE))),\"\")","v":""},null,"12:00:00",9,{"$f":"IFERROR(VLOOKUP(AQ22,$S:$AA,AQ13*2-5,FALSE),\"\")","v":""}]
[null,null,null,null,null,null,null,null,null,null,null,null,null,null,null,null,null,null,null,null,null,null,null,null,null,null,null,null,null,null,{"$f":"IFERROR(VLOOKUP(AQ23,$S:$AA,AQ13*2-6,FALSE),\"\")","v":""},{"$f":"IFERROR(PROPER(VLOOKUP(LEFT(AE23,1)+0,AE5:AF11,2,FALSE)),\"\")","v":""},{"$f":"IFERROR(PROPER(VLOOKUP(RIGHT(AE23,1)+0,AE5:AF11,2,FALSE)),\"\")","v":""},null,null,null,null,null,null,{"$f":"IFERROR(lfs(PROPER(VLOOKUP(AR23,AE5:AF11,2,FALSE))),\"\")","v":""},null,"12:15:00",10,{"$f":"IFERROR(VLOOKUP(AQ23,$S:$AA,AQ13*2-5,FALSE),\"\")","v":""}]
[null,null,null,null,null,null,null,null,null,null,null,null,null,null,null,null,null,null,null,null,null,null,null,null,null,null,null,null,null,null,{"$f":"IFERROR(VLOOKUP(AQ24,$S:$AA,AQ13*2-6,FALSE),\"\")","v":""},{"$f":"IFERROR(PROPER(VLOOKUP(LEFT(AE24,1)+0,AE5:AF11,2,FALSE)),\"\")","v":""},{"$f":"IFERROR(PROPER(VLOOKUP(RIGHT(AE24,1)+0,AE5:AF11,2,FALSE)),\"\")","v":""},null,null,null,null,null,null,{"$f":"IFERROR(lfs(PROPER(VLOOKUP(AR24,AE5:AF11,2,FALSE))),\"\")","v":""},null,"12:30:00",11,{"$f":"IFERROR(VLOOKUP(AQ24,$S:$AA,AQ13*2-5,FALSE),\"\")","v":""}]
[null,null,null,null,null,null,null,null,null,null,null,null,null,null,null,null,null,null,null,null,null,null,null,null,null,null,null,null,null,null,{"$f":"IFERROR(VLOOKUP(AQ25,$S:$AA,AQ13*2-6,FALSE),\"\")","v":""},{"$f":"IFERROR(PROPER(VLOOKUP(LEFT(AE25,1)+0,AE5:AF11,2,FALSE)),\"\")","v":""},{"$f":"IFERROR(PROPER(VLOOKUP(RIGHT(AE25,1)+0,AE5:AF11,2,FALSE)),\"\")","v":""},null,null,null,null,null,null,{"$f":"IFERROR(lfs(PROPER(VLOOKUP(AR25,AE5:AF11,2,FALSE))),\"\")","v":""},null,"12:45:00",12,{"$f":"IFERROR(VLOOKUP(AQ25,$S:$AA,AQ13*2-5,FALSE),\"\")","v":""}]
[null,null,null,null,null,null,null,null,null,null,null,null,null,null,null,null,null,null,null,null,null,null,null,null,null,null,null,null,null,null,{"$f":"IFERROR(VLOOKUP(AQ26,$S:$AA,AQ13*2-6,FALSE),\"\")","v":""},{"$f":"IFERROR(PROPER(VLOOKUP(LEFT(AE26,1)+0,AE5:AF11,2,FALSE)),\"\")","v":""},{"$f":"IFERROR(PROPER(VLOOKUP(RIGHT(AE26,1)+0,AE5:AF11,2,FALSE)),\"\")","v":""},null,null,null,null,null,null,{"$f":"IFERROR(lfs(PROPER(VLOOKUP(AR26,AE5:AF11,2,FALSE))),\"\")","v":""},null,"13:00:00",13,{"$f":"IFERROR(VLOOKUP(AQ26,$S:$AA,AQ13*2-5,FALSE),\"\")","v":""}]
[null,null,null,null,null,null,null,null,null,null,null,null,null,null,null,null,null,null,null,null,null,null,null,null,null,null,null,null,null,null,{"$f":"IFERROR(VLOOKUP(AQ27,$S:$AA,AQ13*2-6,FALSE),\"\")","v":""},{"$f":"IFERROR(PROPER(VLOOKUP(LEFT(AE27,1)+0,AE5:AF11,2,FALSE)),\"\")","v":""},{"$f":"IFERROR(PROPER(VLOOKUP(RIGHT(AE27,1)+0,AE5:AF11,2,FALSE)),\"\")","v":""},null,null,null,null,null,null,{"$f":"IFERROR(lfs(PROPER(VLOOKUP(AR27,AE5:AF11,2,FALSE))),\"\")","v":""},null,"13:15:00",14,{"$f":"IFERROR(VLOOKUP(AQ27,$S:$AA,AQ13*2-5,FALSE),\"\")","v":""}]
[null,null,null,null,null,null,null,null,null,null,null,null,null,null,null,null,null,null,null,null,null,null,null,null,null,null,null,null,null,null,{"$f":"IFERROR(VLOOKUP(AQ28,$S:$AA,AQ13*2-6,FALSE),\"\")","v":""},{"$f":"IFERROR(PROPER(VLOOKUP(LEFT(AE28,1)+0,AE5:AF11,2,FALSE)),\"\")","v":""},{"$f":"IFERROR(PROPER(VLOOKUP(RIGHT(AE28,1)+0,AE5:AF11,2,FALSE)),\"\")","v":""},null,null,null,null,null,null,{"$f":"IFERROR(lfs(PROPER(VLOOKUP(AR28,AE5:AF11,2,FALSE))),\"\")","v":""},null,"13:30:00",15,{"$f":"IFERROR(VLOOKUP(AQ28,$S:$AA,AQ13*2-5,FALSE),\"\")","v":""}]
[null,null,null,null,null,null,null,null,null,null,null,null,null,null,null,null,null,null,null,null,null,null,null,null,null,null,null,null,null,null,{"$f":"IFERROR(VLOOKUP(AQ29,$S:$AA,AQ13*2-6,FALSE),\"\")","v":""},{"$f":"IFERROR(PROPER(VLOOKUP(LEFT(AE29,1)+0,AE5:AF11,2,FALSE)),\"\")","v":""},{"$f":"IFERROR(PROPER(VLOOKUP(RIGHT(AE29,1)+0,AE5:AF11,2,FALSE)),\"\")","v":""},null,null,null,null,null,null,{"$f":"IFERROR(lfs(PROPER(VLOOKUP(AR29,AE5:AF11,2,FALSE))),\"\")","v":""},null,{"$f":"AP28+$Q$2","v":"13:45:00"},16,{"$f":"IFERROR(VLOOKUP(AQ29,$S:$AA,AQ13*2-5,FALSE),\"\")","v":""}]
[null,null,null,null,null,null,null,null,null,null,null,null,null,null,null,null,null,null,null,null,null,null,null,null,null,null,null,null,null,null,{"$f":"IFERROR(VLOOKUP(AQ30,$S:$AA,AQ13*2-6,FALSE),\"\")","v":""},{"$f":"IFERROR(PROPER(VLOOKUP(LEFT(AE30,1)+0,AE5:AF11,2,FALSE)),\"\")","v":""},{"$f":"IFERROR(PROPER(VLOOKUP(RIGHT(AE30,1)+0,AE5:AF11,2,FALSE)),\"\")","v":""},null,null,null,null,null,null,{"$f":"IFERROR(lfs(PROPER(VLOOKUP(AR30,AE5:AF11,2,FALSE))),\"\")","v":""},null,"14:00:00",17,{"$f":"IFERROR(VLOOKUP(AQ30,$S:$AA,AQ13*2-5,FALSE),\"\")","v":""}]
[null,null,null,null,null,null,null,null,null,null,null,null,null,null,null,null,null,null,null,null,null,null,null,null,null,null,null,null,null,null,{"$f":"IFERROR(VLOOKUP(AQ31,$S:$AA,AQ13*2-6,FALSE),\"\")","v":""},{"$f":"IFERROR(PROPER(VLOOKUP(LEFT(AE31,1)+0,AE5:AF11,2,FALSE)),\"\")","v":""},{"$f":"IFERROR(PROPER(VLOOKUP(RIGHT(AE31,1)+0,AE5:AF11,2,FALSE)),\"\")","v":""},null,null,null,null,null,null,{"$f":"IFERROR(lfs(PROPER(VLOOKUP(AR31,AE5:AF11,2,FALSE))),\"\")","v":""},null,"14:15:00",18,{"$f":"IFERROR(VLOOKUP(AQ31,$S:$AA,AQ13*2-5,FALSE),\"\")","v":""}]
[null,null,null,null,null,null,null,null,null,null,null,null,null,null,null,null,null,null,null,null,null,null,null,null,null,null,null,null,null,null,{"$f":"IFERROR(VLOOKUP(AQ32,$S:$AA,AQ13*2-6,FALSE),\"\")","v":""},{"$f":"IFERROR(PROPER(VLOOKUP(LEFT(AE32,1)+0,AE5:AF11,2,FALSE)),\"\")","v":""},{"$f":"IFERROR(PROPER(VLOOKUP(RIGHT(AE32,1)+0,AE5:AF11,2,FALSE)),\"\")","v":""},null,null,null,null,null,null,{"$f":"IFERROR(lfs(PROPER(VLOOKUP(AR32,AE5:AF11,2,FALSE))),\"\")","v":""},null,"14:30:00",19,{"$f":"IFERROR(VLOOKUP(AQ32,$S:$AA,AQ13*2-5,FALSE),\"\")","v":""}]
[null,null,null,null,null,null,null,null,null,null,null,null,null,null,null,null,null,null,null,null,null,null,null,null,null,null,null,null,null,null,{"$f":"IFERROR(VLOOKUP(AQ33,$S:$AA,AQ13*2-6,FALSE),\"\")","v":""},{"$f":"IFERROR(PROPER(VLOOKUP(LEFT(AE33,1)+0,AE5:AF11,2,FALSE)),\"\")","v":""},{"$f":"IFERROR(PROPER(VLOOKUP(RIGHT(AE33,1)+0,AE5:AF11,2,FALSE)),\"\")","v":""},null,null,null,null,null,null,{"$f":"IFERROR(lfs(PROPER(VLOOKUP(AR33,AE5:AF11,2,FALSE))),\"\")","v":""},null,"14:45:00",20,{"$f":"IFERROR(VLOOKUP(AQ33,$S:$AA,AQ13*2-5,FALSE),\"\")","v":""}]
[null,null,null,null,null,null,null,null,null,null,null,null,null,null,null,null,null,null,null,null,null,null,null,null,null,null,null,null,null,null,{"$f":"IFERROR(VLOOKUP(AQ34,$S:$AA,AQ13*2-6,FALSE),\"\")","v":""},{"$f":"IFERROR(PROPER(VLOOKUP(LEFT(AE34,1)+0,AE5:AF11,2,FALSE)),\"\")","v":""},{"$f":"IFERROR(PROPER(VLOOKUP(RIGHT(AE34,1)+0,AE5:AF11,2,FALSE)),\"\")","v":""},null,null,null,null,null,null,{"$f":"IFERROR(lfs(PROPER(VLOOKUP(AR34,AE5:AF11,2,FALSE))),\"\")","v":""},null,"15:00:00",21,{"$f":"IFERROR(VLOOKUP(AQ34,$S:$AA,AQ13*2-5,FALSE),\"\")","v":""}]

{"sheet":"Tabel","index":14,"n_rows":33,"n_cols":19,"rows_kept":33,"cut":false,"hidden":false,"merged":[]}
["Gr.","Loc  1","Poz. tablou","1/4 tab","Loc  2","Poz. tablou","1/4 tab","Loc  3","Poz. tablou","1/4 tab","Loc  4","Poz. tablou","1/4 tab","Loc  5","Poz. tablou","1/4 tab","Loc  6","Poz. tablou","1/4 tab"]
[1,null,null,{"$f":"IF(C2=0,\"\",VLOOKUP(C2,K!$Y:$AC,5,FALSE))","v":""},null,null,{"$f":"IF(F2=0,\"\",VLOOKUP(F2,K!$Y:$AC,5,FALSE))","v":""},null,null,{"$f":"IF(I2=0,\"\",VLOOKUP(I2,K!$Y:$AC,5,FALSE))","v":""},null,null,{"$f":"IF(L2=0,\"\",VLOOKUP(L2,K!$Y:$AC,5,FALSE))","v":""},null,null,{"$f":"IF(O2=0,\"\",VLOOKUP(O2,K!$Y:$AC,5,FALSE))","v":""},null,null,{"$f":"IF(R2=0,\"\",VLOOKUP(R2,K!$Y:$AC,5,FALSE))","v":""}]
[2,null,null,{"$f":"IF(C3=0,\"\",VLOOKUP(C3,K!$Y:$AC,5,FALSE))","v":""},null,null,{"$f":"IF(F3=0,\"\",VLOOKUP(F3,K!$Y:$AC,5,FALSE))","v":""},null,null,{"$f":"IF(I3=0,\"\",VLOOKUP(I3,K!$Y:$AC,5,FALSE))","v":""},null,null,{"$f":"IF(L3=0,\"\",VLOOKUP(L3,K!$Y:$AC,5,FALSE))","v":""},null,null,{"$f":"IF(O3=0,\"\",VLOOKUP(O3,K!$Y:$AC,5,FALSE))","v":""},null,null,{"$f":"IF(R3=0,\"\",VLOOKUP(R3,K!$Y:$AC,5,FALSE))","v":""}]
[3,null,null,{"$f":"IF(C4=0,\"\",VLOOKUP(C4,K!$Y:$AC,5,FALSE))","v":""},null,null,{"$f":"IF(F4=0,\"\",VLOOKUP(F4,K!$Y:$AC,5,FALSE))","v":""},null,null,{"$f":"IF(I4=0,\"\",VLOOKUP(I4,K!$Y:$AC,5,FALSE))","v":""},null,null,{"$f":"IF(L4=0,\"\",VLOOKUP(L4,K!$Y:$AC,5,FALSE))","v":""},null,null,{"$f":"IF(O4=0,\"\",VLOOKUP(O4,K!$Y:$AC,5,FALSE))","v":""},null,null,{"$f":"IF(R4=0,\"\",VLOOKUP(R4,K!$Y:$AC,5,FALSE))","v":""}]
[4,null,null,{"$f":"IF(C5=0,\"\",VLOOKUP(C5,K!$Y:$AC,5,FALSE))","v":""},null,null,{"$f":"IF(F5=0,\"\",VLOOKUP(F5,K!$Y:$AC,5,FALSE))","v":""},null,null,{"$f":"IF(I5=0,\"\",VLOOKUP(I5,K!$Y:$AC,5,FALSE))","v":""},null,null,{"$f":"IF(L5=0,\"\",VLOOKUP(L5,K!$Y:$AC,5,FALSE))","v":""},null,null,{"$f":"IF(O5=0,\"\",VLOOKUP(O5,K!$Y:$AC,5,FALSE))","v":""},null,null,{"$f":"IF(R5=0,\"\",VLOOKUP(R5,K!$Y:$AC,5,FALSE))","v":""}]
[5,null,null,{"$f":"IF(C6=0,\"\",VLOOKUP(C6,K!$Y:$AC,5,FALSE))","v":""},null,null,{"$f":"IF(F6=0,\"\",VLOOKUP(F6,K!$Y:$AC,5,FALSE))","v":""},null,null,{"$f":"IF(I6=0,\"\",VLOOKUP(I6,K!$Y:$AC,5,FALSE))","v":""},null,null,{"$f":"IF(L6=0,\"\",VLOOKUP(L6,K!$Y:$AC,5,FALSE))","v":""},null,null,{"$f":"IF(O6=0,\"\",VLOOKUP(O6,K!$Y:$AC,5,FALSE))","v":""},null,null,{"$f":"IF(R6=0,\"\",VLOOKUP(R6,K!$Y:$AC,5,FALSE))","v":""}]
[6,null,null,{"$f":"IF(C7=0,\"\",VLOOKUP(C7,K!$Y:$AC,5,FALSE))","v":""},null,null,{"$f":"IF(F7=0,\"\",VLOOKUP(F7,K!$Y:$AC,5,FALSE))","v":""},null,null,{"$f":"IF(I7=0,\"\",VLOOKUP(I7,K!$Y:$AC,5,FALSE))","v":""},null,null,{"$f":"IF(L7=0,\"\",VLOOKUP(L7,K!$Y:$AC,5,FALSE))","v":""},null,null,{"$f":"IF(O7=0,\"\",VLOOKUP(O7,K!$Y:$AC,5,FALSE))","v":""},null,null,{"$f":"IF(R7=0,\"\",VLOOKUP(R7,K!$Y:$AC,5,FALSE))","v":""}]
[7,null,null,{"$f":"IF(C8=0,\"\",VLOOKUP(C8,K!$Y:$AC,5,FALSE))","v":""},null,null,{"$f":"IF(F8=0,\"\",VLOOKUP(F8,K!$Y:$AC,5,FALSE))","v":""},null,null,{"$f":"IF(I8=0,\"\",VLOOKUP(I8,K!$Y:$AC,5,FALSE))","v":""},null,null,{"$f":"IF(L8=0,\"\",VLOOKUP(L8,K!$Y:$AC,5,FALSE))","v":""},null,null,{"$f":"IF(O8=0,\"\",VLOOKUP(O8,K!$Y:$AC,5,FALSE))","v":""},null,null,{"$f":"IF(R8=0,\"\",VLOOKUP(R8,K!$Y:$AC,5,FALSE))","v":""}]
[8,null,null,{"$f":"IF(C9=0,\"\",VLOOKUP(C9,K!$Y:$AC,5,FALSE))","v":""},null,null,{"$f":"IF(F9=0,\"\",VLOOKUP(F9,K!$Y:$AC,5,FALSE))","v":""},null,null,{"$f":"IF(I9=0,\"\",VLOOKUP(I9,K!$Y:$AC,5,FALSE))","v":""},null,null,{"$f":"IF(L9=0,\"\",VLOOKUP(L9,K!$Y:$AC,5,FALSE))","v":""},null,null,{"$f":"IF(O9=0,\"\",VLOOKUP(O9,K!$Y:$AC,5,FALSE))","v":""},null,null,{"$f":"IF(R9=0,\"\",VLOOKUP(R9,K!$Y:$AC,5,FALSE))","v":""}]
[9,null,null,{"$f":"IF(C10=0,\"\",VLOOKUP(C10,K!$Y:$AC,5,FALSE))","v":""},null,null,{"$f":"IF(F10=0,\"\",VLOOKUP(F10,K!$Y:$AC,5,FALSE))","v":""},null,null,{"$f":"IF(I10=0,\"\",VLOOKUP(I10,K!$Y:$AC,5,FALSE))","v":""},null,null,{"$f":"IF(L10=0,\"\",VLOOKUP(L10,K!$Y:$AC,5,FALSE))","v":""},null,null,{"$f":"IF(O10=0,\"\",VLOOKUP(O10,K!$Y:$AC,5,FALSE))","v":""},null,null,{"$f":"IF(R10=0,\"\",VLOOKUP(R10,K!$Y:$AC,5,FALSE))","v":""}]
[10,null,null,{"$f":"IF(C11=0,\"\",VLOOKUP(C11,K!$Y:$AC,5,FALSE))","v":""},null,null,{"$f":"IF(F11=0,\"\",VLOOKUP(F11,K!$Y:$AC,5,FALSE))","v":""},null,null,{"$f":"IF(I11=0,\"\",VLOOKUP(I11,K!$Y:$AC,5,FALSE))","v":""},null,null,{"$f":"IF(L11=0,\"\",VLOOKUP(L11,K!$Y:$AC,5,FALSE))","v":""},null,null,{"$f":"IF(O11=0,\"\",VLOOKUP(O11,K!$Y:$AC,5,FALSE))","v":""},null,null,{"$f":"IF(R11=0,\"\",VLOOKUP(R11,K!$Y:$AC,5,FALSE))","v":""}]
[11,null,null,{"$f":"IF(C12=0,\"\",VLOOKUP(C12,K!$Y:$AC,5,FALSE))","v":""},null,null,{"$f":"IF(F12=0,\"\",VLOOKUP(F12,K!$Y:$AC,5,FALSE))","v":""},null,null,{"$f":"IF(I12=0,\"\",VLOOKUP(I12,K!$Y:$AC,5,FALSE))","v":""},null,null,{"$f":"IF(L12=0,\"\",VLOOKUP(L12,K!$Y:$AC,5,FALSE))","v":""},null,null,{"$f":"IF(O12=0,\"\",VLOOKUP(O12,K!$Y:$AC,5,FALSE))","v":""},null,null,{"$f":"IF(R12=0,\"\",VLOOKUP(R12,K!$Y:$AC,5,FALSE))","v":""}]
[12,null,null,{"$f":"IF(C13=0,\"\",VLOOKUP(C13,K!$Y:$AC,5,FALSE))","v":""},null,null,{"$f":"IF(F13=0,\"\",VLOOKUP(F13,K!$Y:$AC,5,FALSE))","v":""},null,null,{"$f":"IF(I13=0,\"\",VLOOKUP(I13,K!$Y:$AC,5,FALSE))","v":""},null,null,{"$f":"IF(L13=0,\"\",VLOOKUP(L13,K!$Y:$AC,5,FALSE))","v":""},null,null,{"$f":"IF(O13=0,\"\",VLOOKUP(O13,K!$Y:$AC,5,FALSE))","v":""},null,null,{"$f":"IF(R13=0,\"\",VLOOKUP(R13,K!$Y:$AC,5,FALSE))","v":""}]
[13,null,null,{"$f":"IF(C14=0,\"\",VLOOKUP(C14,K!$Y:$AC,5,FALSE))","v":""},null,null,{"$f":"IF(F14=0,\"\",VLOOKUP(F14,K!$Y:$AC,5,FALSE))","v":""},null,null,{"$f":"IF(I14=0,\"\",VLOOKUP(I14,K!$Y:$AC,5,FALSE))","v":""},null,null,{"$f":"IF(L14=0,\"\",VLOOKUP(L14,K!$Y:$AC,5,FALSE))","v":""},null,null,{"$f":"IF(O14=0,\"\",VLOOKUP(O14,K!$Y:$AC,5,FALSE))","v":""},null,null,{"$f":"IF(R14=0,\"\",VLOOKUP(R14,K!$Y:$AC,5,FALSE))","v":""}]
[14,null,null,{"$f":"IF(C15=0,\"\",VLOOKUP(C15,K!$Y:$AC,5,FALSE))","v":""},null,null,{"$f":"IF(F15=0,\"\",VLOOKUP(F15,K!$Y:$AC,5,FALSE))","v":""},null,null,{"$f":"IF(I15=0,\"\",VLOOKUP(I15,K!$Y:$AC,5,FALSE))","v":""},null,null,{"$f":"IF(L15=0,\"\",VLOOKUP(L15,K!$Y:$AC,5,FALSE))","v":""},null,null,{"$f":"IF(O15=0,\"\",VLOOKUP(O15,K!$Y:$AC,5,FALSE))","v":""},null,null,{"$f":"IF(R15=0,\"\",VLOOKUP(R15,K!$Y:$AC,5,FALSE))","v":""}]
[15,null,null,{"$f":"IF(C16=0,\"\",VLOOKUP(C16,K!$Y:$AC,5,FALSE))","v":""},null,null,{"$f":"IF(F16=0,\"\",VLOOKUP(F16,K!$Y:$AC,5,FALSE))","v":""},null,null,{"$f":"IF(I16=0,\"\",VLOOKUP(I16,K!$Y:$AC,5,FALSE))","v":""},null,null,{"$f":"IF(L16=0,\"\",VLOOKUP(L16,K!$Y:$AC,5,FALSE))","v":""},null,null,{"$f":"IF(O16=0,\"\",VLOOKUP(O16,K!$Y:$AC,5,FALSE))","v":""},null,null,{"$f":"IF(R16=0,\"\",VLOOKUP(R16,K!$Y:$AC,5,FALSE))","v":""}]
[16,null,null,{"$f":"IF(C17=0,\"\",VLOOKUP(C17,K!$Y:$AC,5,FALSE))","v":""},null,null,{"$f":"IF(F17=0,\"\",VLOOKUP(F17,K!$Y:$AC,5,FALSE))","v":""},null,null,{"$f":"IF(I17=0,\"\",VLOOKUP(I17,K!$Y:$AC,5,FALSE))","v":""},null,null,{"$f":"IF(L17=0,\"\",VLOOKUP(L17,K!$Y:$AC,5,FALSE))","v":""},null,null,{"$f":"IF(O17=0,\"\",VLOOKUP(O17,K!$Y:$AC,5,FALSE))","v":""},null,null,{"$f":"IF(R17=0,\"\",VLOOKUP(R17,K!$Y:$AC,5,FALSE))","v":""}]
[17,null,null,{"$f":"IF(C18=0,\"\",VLOOKUP(C18,K!$Y:$AC,5,FALSE))","v":""},null,null,{"$f":"IF(F18=0,\"\",VLOOKUP(F18,K!$Y:$AC,5,FALSE))","v":""},null,null,{"$f":"IF(I18=0,\"\",VLOOKUP(I18,K!$Y:$AC,5,FALSE))","v":""},null,null,{"$f":"IF(L18=0,\"\",VLOOKUP(L18,K!$Y:$AC,5,FALSE))","v":""},null,null,{"$f":"IF(O18=0,\"\",VLOOKUP(O18,K!$Y:$AC,5,FALSE))","v":""},null,null,{"$f":"IF(R18=0,\"\",VLOOKUP(R18,K!$Y:$AC,5,FALSE))","v":""}]
[18,null,null,{"$f":"IF(C19=0,\"\",VLOOKUP(C19,K!$Y:$AC,5,FALSE))","v":""},null,null,{"$f":"IF(F19=0,\"\",VLOOKUP(F19,K!$Y:$AC,5,FALSE))","v":""},null,null,{"$f":"IF(I19=0,\"\",VLOOKUP(I19,K!$Y:$AC,5,FALSE))","v":""},null,null,{"$f":"IF(L19=0,\"\",VLOOKUP(L19,K!$Y:$AC,5,FALSE))","v":""},null,null,{"$f":"IF(O19=0,\"\",VLOOKUP(O19,K!$Y:$AC,5,FALSE))","v":""},null,null,{"$f":"IF(R19=0,\"\",VLOOKUP(R19,K!$Y:$AC,5,FALSE))","v":""}]
[19,null,null,{"$f":"IF(C20=0,\"\",VLOOKUP(C20,K!$Y:$AC,5,FALSE))","v":""},null,null,{"$f":"IF(F20=0,\"\",VLOOKUP(F20,K!$Y:$AC,5,FALSE))","v":""},null,null,{"$f":"IF(I20=0,\"\",VLOOKUP(I20,K!$Y:$AC,5,FALSE))","v":""},null,null,{"$f":"IF(L20=0,\"\",VLOOKUP(L20,K!$Y:$AC,5,FALSE))","v":""},null,null,{"$f":"IF(O20=0,\"\",VLOOKUP(O20,K!$Y:$AC,5,FALSE))","v":""},null,null,{"$f":"IF(R20=0,\"\",VLOOKUP(R20,K!$Y:$AC,5,FALSE))","v":""}]
[20,null,null,{"$f":"IF(C21=0,\"\",VLOOKUP(C21,K!$Y:$AC,5,FALSE))","v":""},null,null,{"$f":"IF(F21=0,\"\",VLOOKUP(F21,K!$Y:$AC,5,FALSE))","v":""},null,null,{"$f":"IF(I21=0,\"\",VLOOKUP(I21,K!$Y:$AC,5,FALSE))","v":""},null,null,{"$f":"IF(L21=0,\"\",VLOOKUP(L21,K!$Y:$AC,5,FALSE))","v":""},null,null,{"$f":"IF(O21=0,\"\",VLOOKUP(O21,K!$Y:$AC,5,FALSE))","v":""},null,null,{"$f":"IF(R21=0,\"\",VLOOKUP(R21,K!$Y:$AC,5,FALSE))","v":""}]
[21,null,null,{"$f":"IF(C22=0,\"\",VLOOKUP(C22,K!$Y:$AC,5,FALSE))","v":""},null,null,{"$f":"IF(F22=0,\"\",VLOOKUP(F22,K!$Y:$AC,5,FALSE))","v":""},null,null,{"$f":"IF(I22=0,\"\",VLOOKUP(I22,K!$Y:$AC,5,FALSE))","v":""},null,null,{"$f":"IF(L22=0,\"\",VLOOKUP(L22,K!$Y:$AC,5,FALSE))","v":""},null,null,{"$f":"IF(O22=0,\"\",VLOOKUP(O22,K!$Y:$AC,5,FALSE))","v":""},null,null,{"$f":"IF(R22=0,\"\",VLOOKUP(R22,K!$Y:$AC,5,FALSE))","v":""}]
[22,null,null,{"$f":"IF(C23=0,\"\",VLOOKUP(C23,K!$Y:$AC,5,FALSE))","v":""},null,null,{"$f":"IF(F23=0,\"\",VLOOKUP(F23,K!$Y:$AC,5,FALSE))","v":""},null,null,{"$f":"IF(I23=0,\"\",VLOOKUP(I23,K!$Y:$AC,5,FALSE))","v":""},null,null,{"$f":"IF(L23=0,\"\",VLOOKUP(L23,K!$Y:$AC,5,FALSE))","v":""},null,null,{"$f":"IF(O23=0,\"\",VLOOKUP(O23,K!$Y:$AC,5,FALSE))","v":""},null,null,{"$f":"IF(R23=0,\"\",VLOOKUP(R23,K!$Y:$AC,5,FALSE))","v":""}]
[23,null,null,{"$f":"IF(C24=0,\"\",VLOOKUP(C24,K!$Y:$AC,5,FALSE))","v":""},null,null,{"$f":"IF(F24=0,\"\",VLOOKUP(F24,K!$Y:$AC,5,FALSE))","v":""},null,null,{"$f":"IF(I24=0,\"\",VLOOKUP(I24,K!$Y:$AC,5,FALSE))","v":""},null,null,{"$f":"IF(L24=0,\"\",VLOOKUP(L24,K!$Y:$AC,5,FALSE))","v":""},null,null,{"$f":"IF(O24=0,\"\",VLOOKUP(O24,K!$Y:$AC,5,FALSE))","v":""},null,null,{"$f":"IF(R24=0,\"\",VLOOKUP(R24,K!$Y:$AC,5,FALSE))","v":""}]
[24,null,null,{"$f":"IF(C25=0,\"\",VLOOKUP(C25,K!$Y:$AC,5,FALSE))","v":""},null,null,{"$f":"IF(F25=0,\"\",VLOOKUP(F25,K!$Y:$AC,5,FALSE))","v":""},null,null,{"$f":"IF(I25=0,\"\",VLOOKUP(I25,K!$Y:$AC,5,FALSE))","v":""},null,null,{"$f":"IF(L25=0,\"\",VLOOKUP(L25,K!$Y:$AC,5,FALSE))","v":""},null,null,{"$f":"IF(O25=0,\"\",VLOOKUP(O25,K!$Y:$AC,5,FALSE))","v":""},null,null,{"$f":"IF(R25=0,\"\",VLOOKUP(R25,K!$Y:$AC,5,FALSE))","v":""}]
[25,null,null,{"$f":"IF(C26=0,\"\",VLOOKUP(C26,K!$Y:$AC,5,FALSE))","v":""},null,null,{"$f":"IF(F26=0,\"\",VLOOKUP(F26,K!$Y:$AC,5,FALSE))","v":""},null,null,{"$f":"IF(I26=0,\"\",VLOOKUP(I26,K!$Y:$AC,5,FALSE))","v":""},null,null,{"$f":"IF(L26=0,\"\",VLOOKUP(L26,K!$Y:$AC,5,FALSE))","v":""},null,null,{"$f":"IF(O26=0,\"\",VLOOKUP(O26,K!$Y:$AC,5,FALSE))","v":""},null,null,{"$f":"IF(R26=0,\"\",VLOOKUP(R26,K!$Y:$AC,5,FALSE))","v":""}]
[26,null,null,{"$f":"IF(C27=0,\"\",VLOOKUP(C27,K!$Y:$AC,5,FALSE))","v":""},null,null,{"$f":"IF(F27=0,\"\",VLOOKUP(F27,K!$Y:$AC,5,FALSE))","v":""},null,null,{"$f":"IF(I27=0,\"\",VLOOKUP(I27,K!$Y:$AC,5,FALSE))","v":""},null,null,{"$f":"IF(L27=0,\"\",VLOOKUP(L27,K!$Y:$AC,5,FALSE))","v":""},null,null,{"$f":"IF(O27=0,\"\",VLOOKUP(O27,K!$Y:$AC,5,FALSE))","v":""},null,null,{"$f":"IF(R27=0,\"\",VLOOKUP(R27,K!$Y:$AC,5,FALSE))","v":""}]
[27,null,null,{"$f":"IF(C28=0,\"\",VLOOKUP(C28,K!$Y:$AC,5,FALSE))","v":""},null,null,{"$f":"IF(F28=0,\"\",VLOOKUP(F28,K!$Y:$AC,5,FALSE))","v":""},null,null,{"$f":"IF(I28=0,\"\",VLOOKUP(I28,K!$Y:$AC,5,FALSE))","v":""},null,null,{"$f":"IF(L28=0,\"\",VLOOKUP(L28,K!$Y:$AC,5,FALSE))","v":""},null,null,{"$f":"IF(O28=0,\"\",VLOOKUP(O28,K!$Y:$AC,5,FALSE))","v":""},null,null,{"$f":"IF(R28=0,\"\",VLOOKUP(R28,K!$Y:$AC,5,FALSE))","v":""}]
[28,null,null,{"$f":"IF(C29=0,\"\",VLOOKUP(C29,K!$Y:$AC,5,FALSE))","v":""},null,null,{"$f":"IF(F29=0,\"\",VLOOKUP(F29,K!$Y:$AC,5,FALSE))","v":""},null,null,{"$f":"IF(I29=0,\"\",VLOOKUP(I29,K!$Y:$AC,5,FALSE))","v":""},null,null,{"$f":"IF(L29=0,\"\",VLOOKUP(L29,K!$Y:$AC,5,FALSE))","v":""},null,null,{"$f":"IF(O29=0,\"\",VLOOKUP(O29,K!$Y:$AC,5,FALSE))","v":""},null,null,{"$f":"IF(R29=0,\"\",VLOOKUP(R29,K!$Y:$AC,5,FALSE))","v":""}]
[29,null,null,{"$f":"IF(C30=0,\"\",VLOOKUP(C30,K!$Y:$AC,5,FALSE))","v":""},null,null,{"$f":"IF(F30=0,\"\",VLOOKUP(F30,K!$Y:$AC,5,FALSE))","v":""},null,null,{"$f":"IF(I30=0,\"\",VLOOKUP(I30,K!$Y:$AC,5,FALSE))","v":""},null,null,{"$f":"IF(L30=0,\"\",VLOOKUP(L30,K!$Y:$AC,5,FALSE))","v":""},null,null,{"$f":"IF(O30=0,\"\",VLOOKUP(O30,K!$Y:$AC,5,FALSE))","v":""},null,null,{"$f":"IF(R30=0,\"\",VLOOKUP(R30,K!$Y:$AC,5,FALSE))","v":""}]
[30,null,null,{"$f":"IF(C31=0,\"\",VLOOKUP(C31,K!$Y:$AC,5,FALSE))","v":""},null,null,{"$f":"IF(F31=0,\"\",VLOOKUP(F31,K!$Y:$AC,5,FALSE))","v":""},null,null,{"$f":"IF(I31=0,\"\",VLOOKUP(I31,K!$Y:$AC,5,FALSE))","v":""},null,null,{"$f":"IF(L31=0,\"\",VLOOKUP(L31,K!$Y:$AC,5,FALSE))","v":""},null,null,{"$f":"IF(O31=0,\"\",VLOOKUP(O31,K!$Y:$AC,5,FALSE))","v":""},null,null,{"$f":"IF(R31=0,\"\",VLOOKUP(R31,K!$Y:$AC,5,FALSE))","v":""}]
[31,null,null,{"$f":"IF(C32=0,\"\",VLOOKUP(C32,K!$Y:$AC,5,FALSE))","v":""},null,null,{"$f":"IF(F32=0,\"\",VLOOKUP(F32,K!$Y:$AC,5,FALSE))","v":""},null,null,{"$f":"IF(I32=0,\"\",VLOOKUP(I32,K!$Y:$AC,5,FALSE))","v":""},null,null,{"$f":"IF(L32=0,\"\",VLOOKUP(L32,K!$Y:$AC,5,FALSE))","v":""},null,null,{"$f":"IF(O32=0,\"\",VLOOKUP(O32,K!$Y:$AC,5,FALSE))","v":""},null,null,{"$f":"IF(R32=0,\"\",VLOOKUP(R32,K!$Y:$AC,5,FALSE))","v":""}]
[32,null,null,{"$f":"IF(C33=0,\"\",VLOOKUP(C33,K!$Y:$AC,5,FALSE))","v":""},null,null,{"$f":"IF(F33=0,\"\",VLOOKUP(F33,K!$Y:$AC,5,FALSE))","v":""},null,null,{"$f":"IF(I33=0,\"\",VLOOKUP(I33,K!$Y:$AC,5,FALSE))","v":""},null,null,{"$f":"IF(L33=0,\"\",VLOOKUP(L33,K!$Y:$AC,5,FALSE))","v":""},null,null,{"$f":"IF(O33=0,\"\",VLOOKUP(O33,K!$Y:$AC,5,FALSE))","v":""},null,null,{"$f":"IF(R33=0,\"\",VLOOKUP(R33,K!$Y:$AC,5,FALSE))","v":""}]

{"sheet":"Elim.","index":15,"n_rows":0,"n_cols":0,"rows_kept":0,"cut":false,"hidden":false,"merged":[]}

{"sheet":"T64","index":16,"n_rows":142,"n_cols":70,"rows_kept":142,"cut":false,"hidden":true,"merged":[]}
[{"$f":"\"Eliminatorii \" & ctg & \" - page 1\"","v":"Eliminatorii categorie - page 1"},null,null,null,null,null,null,null,135,6,"SE","Loc",null,{"$f":"\"[B]\"&clr & \"Eliminatorii \" & ctg & _cle & \"[/b]\"","v":"[B][color=red]Eliminatorii categorie[/color] [/b]"},null,null,null,null,null,null,null,null,null,null,null,null,null,null,{"$f":"\"[b]\"&clr & \"Semifinale - \" & _cle & ctg & \"[/b]\"","v":"[b][color=red]Semifinale - [/color] categorie[/b]"},null,null,null,null,null,null,null,null,null,null,null,null,null,null,null,null,null,null,null,null,"R64",null,null,"R32",null,null,"R16",null,null,"R8",null,null,"SF",null,null,"F",null,null,"3rd"]
[1,null,null,null,null,null,null,null,null,null,{"$f":"H65","v":""},1,null,null,null,null,null,null,null,null,null,null,null,null,null,null,null,null,null,null,null,null,null,null,null,null,null,null,null,null,null,null,null,null,null,null,null,null,null,{"$f":"IFERROR(RIGHT(B2,LEN(B2)-FIND(\",\",B2)),\"\")","v":""},{"$f":"IFERROR(RIGHT(B4,LEN(B4)-FIND(\",\",B4)),\"\")","v":""},{"$f":"C4","v":0},{"$f":"IFERROR(RIGHT(C3,LEN(C3)-FIND(\",\",C3)),\"\")","v":""},{"$f":"IFERROR(RIGHT(C7,LEN(C7)-FIND(\",\",C7)),\"\")","v":""},{"$f":"D6","v":0},{"$f":"IFERROR(RIGHT(D5,LEN(D5)-FIND(\",\",D5)),\"\")","v":""},{"$f":"IFERROR(RIGHT(D13,LEN(D13)-FIND(\",\",D13)),\"\")","v":""},{"$f":"E10","v":0},{"$f":"IFERROR(RIGHT(E9,LEN(E9)-FIND(\",\",E9)),\"\")","v":""},{"$f":"IFERROR(RIGHT(E25,LEN(E25)-FIND(\",\",E25)),\"\")","v":""},{"$f":"F18","v":0},{"$f":"IFERROR(RIGHT(F17,LEN(F17)-FIND(\",\",F17)),\"\")","v":""},{"$f":"IFERROR(RIGHT(F49,LEN(F49)-FIND(\",\",F49)),\"\")","v":""},{"$f":"G34","v":0},{"$f":"IFERROR(RIGHT(G33,LEN(G33)-FIND(\",\",G33)),\"\")","v":""},{"$f":"IFERROR(RIGHT(G97,LEN(G97)-FIND(\",\",G97)),\"\")","v":""},{"$f":"H66","v":0},{"$f":"IFERROR(RIGHT($G$5,LEN($G$5)-FIND(\",\",$G$5)),\"\")","v":""},{"$f":"IFERROR(RIGHT($G$7,LEN($G$7)-FIND(\",\",$G$7)),\"\")","v":""},{"$f":"$H$7","v":0}]
[null,null,{"$f":"IF(C4=\"\",\"\",IF(LEFT(C4)>RIGHT(C4),B2,B4))","v":""},{"$f":"IF(C3=\"\",\"\",IF(B4=C3,B2,B4))","v":""},null,null,null,null,null,null,{"$f":"I65","v":""},2,null,{"$f":"\"[b]\"&$A2&\"[/b]. \"&_cl1&lfi(B2)&_cle","v":"[b]1[/b]. [color=\"#990000\"][/color] "},null,null,null,null,null,null,null,null,null,null,null,null,null,null,{"$f":"_cl1&lfi(F17)&_cle","v":"[color=\"#990000\"][/color] "},null,null,null,null,null,null,null,null,null,null,null,null,null,null,null,null,null,null,null,null,{"$f":"IFERROR(RIGHT(B6,LEN(B6)-FIND(\",\",B6)),\"\")","v":""},{"$f":"IFERROR(RIGHT(B8,LEN(B8)-FIND(\",\",B8)),\"\")","v":""},{"$f":"C8","v":0},{"$f":"IFERROR(RIGHT(C11,LEN(C11)-FIND(\",\",C11)),\"\")","v":""},{"$f":"IFERROR(RIGHT(C15,LEN(C15)-FIND(\",\",C15)),\"\")","v":""},{"$f":"D14","v":0},{"$f":"IFERROR(RIGHT(D21,LEN(D21)-FIND(\",\",D21)),\"\")","v":""},{"$f":"IFERROR(RIGHT(D29,LEN(D29)-FIND(\",\",D29)),\"\")","v":""},{"$f":"E26","v":0},{"$f":"IFERROR(RIGHT(E41,LEN(E41)-FIND(\",\",E41)),\"\")","v":""},{"$f":"IFERROR(RIGHT(E57,LEN(E57)-FIND(\",\",E57)),\"\")","v":""},{"$f":"F50","v":0},{"$f":"IFERROR(RIGHT(F81,LEN(F81)-FIND(\",\",F81)),\"\")","v":""},{"$f":"IFERROR(RIGHT(F113,LEN(F113)-FIND(\",\",F113)),\"\")","v":""},{"$f":"G98","v":0},"x",null,null,"x"]
[64,null,null,null,null,null,null,null,null,null,{"$f":"IF(H6=\"\",VLOOKUP(K2,$G$9:$H$128,2,FALSE),H6)","v":0},3,null,{"$f":"_m1&_cl2&lfi(C3)&_cle&sc(C4)","v":"-------------------- [color=\"#000075\"][/color] [b][/b]"},null,null,null,null,null,null,null,null,null,null,null,null,null,null,{"$f":"_m1&_cl2&\"[b]\"&lfi(G33)&\"[/b]\"&_cle& \" \" & sc(G34)","v":"-------------------- [color=\"#000075\"][b][/b][/color]  [b][/b]"},null,null,null,null,null,null,null,null,null,null,null,null,null,null,null,null,null,null,null,null,{"$f":"IFERROR(RIGHT(B10,LEN(B10)-FIND(\",\",B10)),\"\")","v":""},{"$f":"IFERROR(RIGHT(B12,LEN(B12)-FIND(\",\",B12)),\"\")","v":""},{"$f":"C12","v":0},{"$f":"IFERROR(RIGHT(C19,LEN(C19)-FIND(\",\",C19)),\"\")","v":""},{"$f":"IFERROR(RIGHT(C23,LEN(C23)-FIND(\",\",C23)),\"\")","v":""},{"$f":"D22","v":0},{"$f":"IFERROR(RIGHT(D37,LEN(D37)-FIND(\",\",D37)),\"\")","v":""},{"$f":"IFERROR(RIGHT(D45,LEN(D45)-FIND(\",\",D45)),\"\")","v":""},{"$f":"E42","v":0},{"$f":"IFERROR(RIGHT(E73,LEN(E73)-FIND(\",\",E73)),\"\")","v":""},{"$f":"IFERROR(RIGHT(E89,LEN(E89)-FIND(\",\",E89)),\"\")","v":""},{"$f":"F82","v":0},"x"]
[null,null,null,{"$f":"IF(D6=\"\",\"\",IF(LEFT(D6)>RIGHT(D6),C3,C7))","v":""},{"$f":"IF(D6=\"\",\"\",IF(LEFT(D6)<RIGHT(D6),C3,C7))","v":""},null,{"$f":"H33","v":""},null,null,null,{"$f":"IF(I6=\"\",VLOOKUP(K3,$G$9:$H$128,2,FALSE),I6)","v":0},4,null,{"$f":"\"[b]\"&$A4&\"[/b]. \"&_cl1&lfi(B4)&_cle","v":"[b]64[/b]. [color=\"#990000\"][/color] "},null,null,null,null,null,null,null,null,null,null,null,null,null,null,{"$f":"_cl1&lfi(F49)&_cle","v":"[color=\"#990000\"][/color] "},null,null,null,null,null,null,null,null,null,null,null,null,null,null,null,null,null,null,null,null,{"$f":"IFERROR(RIGHT(B14,LEN(B14)-FIND(\",\",B14)),\"\")","v":""},{"$f":"IFERROR(RIGHT(B16,LEN(B16)-FIND(\",\",B16)),\"\")","v":""},{"$f":"C16","v":0},{"$f":"IFERROR(RIGHT(C27,LEN(C27)-FIND(\",\",C27)),\"\")","v":""},{"$f":"IFERROR(RIGHT(C31,LEN(C31)-FIND(\",\",C31)),\"\")","v":""},{"$f":"D30","v":0},{"$f":"IFERROR(RIGHT(D53,LEN(D53)-FIND(\",\",D53)),\"\")","v":""},{"$f":"IFERROR(RIGHT(D61,LEN(D61)-FIND(\",\",D61)),\"\")","v":""},{"$f":"E58","v":0},{"$f":"IFERROR(RIGHT(E105,LEN(E105)-FIND(\",\",E105)),\"\")","v":""},{"$f":"IFERROR(RIGHT(E121,LEN(E121)-FIND(\",\",E121)),\"\")","v":""},{"$f":"F114","v":0}]
[33,null,null,null,null,null,{"$f":"REPT(\"-\",20)","v":"--------------------"},{"$f":"IF(H7=\"\",\"\",IF(LEFT(H7)>RIGHT(H7),G5,G7))","v":""},{"$f":"IF(H6=\"\",\"\",IF(G7=H6,G5,G7))","v":""},null,{"$f":"IF(K2=\"\",\"\",VLOOKUP(K2,$F:$G,2,FALSE))","v":""},5,null,{"$f":"_m2&_cl3&lfi(D5)&_cle&sc(D6)","v":"---------------------------------------- [color=\"#009900\"][/color] [b][/b]"},null,null,null,null,null,null,null,null,null,null,null,null,null,null,null,null,null,null,null,null,null,null,null,null,null,null,null,null,null,null,null,null,null,null,null,{"$f":"IFERROR(RIGHT(B18,LEN(B18)-FIND(\",\",B18)),\"\")","v":""},{"$f":"IFERROR(RIGHT(B20,LEN(B20)-FIND(\",\",B20)),\"\")","v":""},{"$f":"C20","v":0},{"$f":"IFERROR(RIGHT(C35,LEN(C35)-FIND(\",\",C35)),\"\")","v":""},{"$f":"IFERROR(RIGHT(C39,LEN(C39)-FIND(\",\",C39)),\"\")","v":""},{"$f":"D38","v":0},{"$f":"IFERROR(RIGHT(D69,LEN(D69)-FIND(\",\",D69)),\"\")","v":""},{"$f":"IFERROR(RIGHT(D77,LEN(D77)-FIND(\",\",D77)),\"\")","v":""},{"$f":"E74","v":0},"x"]
[null,null,{"$f":"IF(C8=\"\",\"\",IF(LEFT(C8)>RIGHT(C8),B6,B8))","v":""},{"$f":"IF(C7=\"\",\"\",IF(B8=C7,B6,B8))","v":""},null,null,{"$f":"H97","v":""},null,null,null,{"$f":"IF(K3=\"\",\"\",VLOOKUP(K3,$F:$G,2,FALSE))","v":""},6,null,{"$f":"\"[b]\"&$A6&\"[/b]. \"&cl1x&lfi(B6)&clex","v":"[b]33[/b]. [color=\"#cc5000\"][i][/i][/color] "},null,null,null,null,null,null,null,null,null,null,null,null,null,null,{"$f":"cl1x&lfi(F81)&clex","v":"[color=\"#cc5000\"][i][/i][/color] "},null,null,null,null,null,null,null,null,null,null,null,null,null,null,null,null,null,null,null,null,{"$f":"IFERROR(RIGHT(B22,LEN(B22)-FIND(\",\",B22)),\"\")","v":""},{"$f":"IFERROR(RIGHT(B24,LEN(B24)-FIND(\",\",B24)),\"\")","v":""},{"$f":"C24","v":0},{"$f":"IFERROR(RIGHT(C43,LEN(C43)-FIND(\",\",C43)),\"\")","v":""},{"$f":"IFERROR(RIGHT(C47,LEN(C47)-FIND(\",\",C47)),\"\")","v":""},{"$f":"D46","v":0},{"$f":"IFERROR(RIGHT(D85,LEN(D85)-FIND(\",\",D85)),\"\")","v":""},{"$f":"IFERROR(RIGHT(D93,LEN(D93)-FIND(\",\",D93)),\"\")","v":""},{"$f":"E90","v":0}]
[32,null,null,null,null,null,null,null,null,null,{"$f":"IF(K4=\"\",\"\",VLOOKUP(K4,$F:$G,2,FALSE))","v":{"$error":"#N/A"}},7,null,{"$f":"_m1&_cl2&lfi(C7)&_cle&sc(C8)","v":"-------------------- [color=\"#000075\"][/color] [b][/b]"},null,null,null,null,null,null,null,null,null,null,null,null,null,null,{"$f":"_m1&_cl2&\"[b]\"&lfi(G97)&\"[/b]\"&_cle& \" \" & sc(G98)","v":"-------------------- [color=\"#000075\"][b][/b][/color]  [b][/b]"},null,null,null,null,null,null,null,null,null,null,null,null,null,null,null,null,null,null,null,null,{"$f":"IFERROR(RIGHT(B26,LEN(B26)-FIND(\",\",B26)),\"\")","v":""},{"$f":"IFERROR(RIGHT(B28,LEN(B28)-FIND(\",\",B28)),\"\")","v":""},{"$f":"C28","v":0},{"$f":"IFERROR(RIGHT(C51,LEN(C51)-FIND(\",\",C51)),\"\")","v":""},{"$f":"IFERROR(RIGHT(C55,LEN(C55)-FIND(\",\",C55)),\"\")","v":""},{"$f":"D54","v":0},{"$f":"IFERROR(RIGHT(D101,LEN(D101)-FIND(\",\",D101)),\"\")","v":""},{"$f":"IFERROR(RIGHT(D109,LEN(D109)-FIND(\",\",D109)),\"\")","v":""},{"$f":"E106","v":0}]
[null,null,null,null,{"$f":"IF(E10=\"\",\"\",IF(LEFT(E10)>RIGHT(E10),D5,D13))","v":""},{"$f":"IF(E9=\"\",\"\",IF(D13=E9,D5,D13))","v":""},null,{"$f":"\"Finala mica - \" & ctg","v":"Finala mica - categorie"},null,null,{"$f":"IF(K5=\"\",\"\",VLOOKUP(K5,$F:$G,2,FALSE))","v":{"$error":"#N/A"}},8,null,{"$f":"\"[b]\"&$A8&\"[/b]. \"&cl1x&lfi(B8)&clex","v":"[b]32[/b]. [color=\"#cc5000\"][i][/i][/color] "},null,null,null,null,null,null,null,null,null,null,null,null,null,null,{"$f":"cl1x&lfi(F113)&clex","v":"[color=\"#cc5000\"][i][/i][/color] "},null,null,null,null,null,null,null,null,null,null,null,null,null,null,null,null,null,null,null,null,{"$f":"IFERROR(RIGHT(B30,LEN(B30)-FIND(\",\",B30)),\"\")","v":""},{"$f":"IFERROR(RIGHT(B32,LEN(B32)-FIND(\",\",B32)),\"\")","v":""},{"$f":"C32","v":0},{"$f":"IFERROR(RIGHT(C59,LEN(C59)-FIND(\",\",C59)),\"\")","v":""},{"$f":"IFERROR(RIGHT(C63,LEN(C63)-FIND(\",\",C63)),\"\")","v":""},{"$f":"D62","v":0},{"$f":"IFERROR(RIGHT(D117,LEN(D117)-FIND(\",\",D117)),\"\")","v":""},{"$f":"IFERROR(RIGHT(D125,LEN(D125)-FIND(\",\",D125)),\"\")","v":""},{"$f":"E122","v":0}]
[17,null,null,null,null,null,null,null,null,null,{"$f":"VLOOKUP(K2,$E:$F,2,FALSE)","v":0},9,null,{"$f":"_m3&_cl4&lfi(E9)&_cle&sc(E10)","v":"------------------------------------------------------------ [color=\"#6900af\"][/color] [b][/b]"},null,null,null,null,null,null,null,null,null,null,null,null,null,null,null,null,null,null,null,null,null,null,null,null,null,null,null,null,null,null,null,null,null,null,null,{"$f":"IFERROR(RIGHT(B34,LEN(B34)-FIND(\",\",B34)),\"\")","v":""},{"$f":"IFERROR(RIGHT(B36,LEN(B36)-FIND(\",\",B36)),\"\")","v":""},{"$f":"C36","v":0},{"$f":"IFERROR(RIGHT(C67,LEN(C67)-FIND(\",\",C67)),\"\")","v":""},{"$f":"IFERROR(RIGHT(C71,LEN(C71)-FIND(\",\",C71)),\"\")","v":""},{"$f":"D70","v":0},"x"]
[null,null,{"$f":"IF(C12=\"\",\"\",IF(LEFT(C12)>RIGHT(C12),B10,B12))","v":""},{"$f":"IF(C11=\"\",\"\",IF(B12=C11,B10,B12))","v":""},null,null,null,null,null,null,{"$f":"VLOOKUP(K3,$E:$F,2,FALSE)","v":0},10,null,{"$f":"\"[b]\"&$A10&\"[/b]. \"&_cl1&lfi(B10)&_cle","v":"[b]17[/b]. [color=\"#990000\"][/color] "},null,null,null,null,null,null,null,null,null,null,null,null,null,null,{"$f":"\"[b]\"&clr & \"Finala - \" & _cle & ctg & \"[/b]\"","v":"[b][color=red]Finala - [/color] categorie[/b]"},null,null,null,null,null,null,null,null,null,null,null,null,null,null,null,null,null,null,null,null,{"$f":"IFERROR(RIGHT(B38,LEN(B38)-FIND(\",\",B38)),\"\")","v":""},{"$f":"IFERROR(RIGHT(B40,LEN(B40)-FIND(\",\",B40)),\"\")","v":""},{"$f":"C40","v":0},{"$f":"IFERROR(RIGHT(C75,LEN(C75)-FIND(\",\",C75)),\"\")","v":""},{"$f":"IFERROR(RIGHT(C79,LEN(C79)-FIND(\",\",C79)),\"\")","v":""},{"$f":"D78","v":0}]
[48,null,null,null,null,null,null,null,null,null,{"$error":"#N/A"},11,null,{"$f":"_m1&cl2x&lfi(C11)&clex&sc(C12)","v":"-------------------- [color=\"#4040FF\"][i][/i][/color] [b][/b]"},null,null,null,null,null,null,null,null,null,null,null,null,null,null,null,null,null,null,null,null,null,null,null,null,null,null,null,null,null,null,null,null,null,null,null,{"$f":"IFERROR(RIGHT(B42,LEN(B42)-FIND(\",\",B42)),\"\")","v":""},{"$f":"IFERROR(RIGHT(B44,LEN(B44)-FIND(\",\",B44)),\"\")","v":""},{"$f":"C44","v":0},{"$f":"IFERROR(RIGHT(C83,LEN(C83)-FIND(\",\",C83)),\"\")","v":""},{"$f":"IFERROR(RIGHT(C87,LEN(C87)-FIND(\",\",C87)),\"\")","v":""},{"$f":"D86","v":0}]
[null,null,null,{"$f":"IF(D14=\"\",\"\",IF(LEFT(D14)>RIGHT(D14),C11,C15))","v":""},{"$f":"IF(D14=\"\",\"\",IF(LEFT(D14)<RIGHT(D14),C11,C15))","v":""},null,null,null,null,null,{"$error":"#N/A"},12,null,{"$f":"\"[b]\"&$A12&\"[/b]. \"&_cl1&lfi(B12)&_cle","v":"[b]48[/b]. [color=\"#990000\"][/color] "},null,null,null,null,null,null,null,null,null,null,null,null,null,null,{"$f":"_cl2&lfi($G$33)&_cle","v":"[color=\"#000075\"][/color] "},null,null,null,null,null,null,null,null,null,null,null,null,null,null,null,null,null,null,null,null,{"$f":"IFERROR(RIGHT(B46,LEN(B46)-FIND(\",\",B46)),\"\")","v":""},{"$f":"IFERROR(RIGHT(B48,LEN(B48)-FIND(\",\",B48)),\"\")","v":""},{"$f":"C48","v":0},{"$f":"IFERROR(RIGHT(C91,LEN(C91)-FIND(\",\",C91)),\"\")","v":""},{"$f":"IFERROR(RIGHT(C95,LEN(C95)-FIND(\",\",C95)),\"\")","v":""},{"$f":"D94","v":0}]
[49,null,null,null,null,null,null,null,null,null,0,13,null,{"$f":"_m2&_cl3&lfi(D13)&_cle&sc(D14)","v":"---------------------------------------- [color=\"#009900\"][/color] [b][/b]"},null,null,null,null,null,null,null,null,null,null,null,null,null,null,{"$f":"_m1&_cl5&\"[b]\"&lfi($H$65)&\"[/b]\"&_cle& \" \" & sc($H$66)","v":"-------------------- [color=red][b][/b][/color]  [b][/b]"},null,null,null,null,null,null,null,null,null,null,null,null,null,null,null,null,null,null,null,null,{"$f":"IFERROR(RIGHT(B50,LEN(B50)-FIND(\",\",B50)),\"\")","v":""},{"$f":"IFERROR(RIGHT(B52,LEN(B52)-FIND(\",\",B52)),\"\")","v":""},{"$f":"C52","v":0},{"$f":"IFERROR(RIGHT(C99,LEN(C99)-FIND(\",\",C99)),\"\")","v":""},{"$f":"IFERROR(RIGHT(C103,LEN(C103)-FIND(\",\",C103)),\"\")","v":""},{"$f":"D102","v":0}]
[null,null,{"$f":"IF(C16=\"\",\"\",IF(LEFT(C16)>RIGHT(C16),B14,B16))","v":""},{"$f":"IF(C15=\"\",\"\",IF(B16=C15,B14,B16))","v":""},null,null,null,null,null,null,0,14,null,{"$f":"\"[b]\"&$A14&\"[/b]. \"&cl1x&lfi(B14)&clex","v":"[b]49[/b]. [color=\"#cc5000\"][i][/i][/color] "},null,null,null,null,null,null,null,null,null,null,null,null,null,null,{"$f":"_cl2&lfi($G$97)&_cle","v":"[color=\"#000075\"][/color] "},null,null,null,null,null,null,null,null,null,null,null,null,null,null,null,null,null,null,null,null,{"$f":"IFERROR(RIGHT(B54,LEN(B54)-FIND(\",\",B54)),\"\")","v":""},{"$f":"IFERROR(RIGHT(B56,LEN(B56)-FIND(\",\",B56)),\"\")","v":""},{"$f":"C56","v":0},{"$f":"IFERROR(RIGHT(C107,LEN(C107)-FIND(\",\",C107)),\"\")","v":""},{"$f":"IFERROR(RIGHT(C111,LEN(C111)-FIND(\",\",C111)),\"\")","v":""},{"$f":"D110","v":0}]
[16,null,null,null,null,null,null,null,null,null,{"$error":"#N/A"},15,null,{"$f":"_m1&cl2x&lfi(C15)&clex&sc(C16)","v":"-------------------- [color=\"#4040FF\"][i][/i][/color] [b][/b]"},null,null,null,null,null,null,null,null,null,null,null,null,null,null,null,null,null,null,null,null,null,null,null,null,null,null,null,null,null,null,null,null,null,null,null,{"$f":"IFERROR(RIGHT(B58,LEN(B58)-FIND(\",\",B58)),\"\")","v":""},{"$f":"IFERROR(RIGHT(B60,LEN(B60)-FIND(\",\",B60)),\"\")","v":""},{"$f":"C60","v":0},{"$f":"IFERROR(RIGHT(C115,LEN(C115)-FIND(\",\",C115)),\"\")","v":""},{"$f":"IFERROR(RIGHT(C119,LEN(C119)-FIND(\",\",C119)),\"\")","v":""},{"$f":"D118","v":0}]
[null,null,null,null,"A",{"$f":"IF(F18=\"\",\"\",IF(LEFT(F18)>RIGHT(F18),E9,E25))","v":""},{"$f":"IF(F17=\"\",\"\",IF(E25=F17,E9,E25))","v":""},null,null,null,{"$error":"#N/A"},16,null,{"$f":"\"[b]\"&$A16&\"[/b]. \"&cl1x&lfi(B16)&clex","v":"[b]16[/b]. [color=\"#cc5000\"][i][/i][/color] "},null,null,null,null,null,null,null,null,null,null,null,null,null,null,{"$f":"\"[b]\"&clr & \"Finala mica - \" & _cle & ctg & \"[/b]\"","v":"[b][color=red]Finala mica - [/color] categorie[/b]"},null,null,null,null,null,null,null,null,null,null,null,null,null,null,null,null,null,null,null,null,{"$f":"IFERROR(RIGHT(B62,LEN(B62)-FIND(\",\",B62)),\"\")","v":""},{"$f":"IFERROR(RIGHT(B64,LEN(B64)-FIND(\",\",B64)),\"\")","v":""},{"$f":"C64","v":0},{"$f":"IFERROR(RIGHT(C123,LEN(C123)-FIND(\",\",C123)),\"\")","v":""},{"$f":"IFERROR(RIGHT(C127,LEN(C127)-FIND(\",\",C127)),\"\")","v":""},{"$f":"D126","v":0}]
[9,null,null,null,null,null,null,null,null,null,{"$f":"VLOOKUP(K2,$D:$E,2,FALSE)","v":0},17,null,{"$f":"_m4&_cl1&lfi(F17)&_cle&sc(F18)","v":"-------------------------------------------------------------------------------- [color=\"#990000\"][/color] [b][/b]"},null,null,null,null,null,null,null,null,null,null,null,null,null,null,null,null,null,null,null,null,null,null,null,null,null,null,null,null,null,null,null,null,null,null,null,{"$f":"IFERROR(RIGHT(B66,LEN(B66)-FIND(\",\",B66)),\"\")","v":""},{"$f":"IFERROR(RIGHT(B68,LEN(B68)-FIND(\",\",B68)),\"\")","v":""},{"$f":"C68","v":0},"x"]
[null,null,{"$f":"IF(C20=\"\",\"\",IF(LEFT(C20)>RIGHT(C20),B18,B20))","v":""},{"$f":"IF(C19=\"\",\"\",IF(B20=C19,B18,B20))","v":""},null,null,null,null,null,null,{"$f":"VLOOKUP(K3,$D:$E,2,FALSE)","v":0},18,null,{"$f":"\"[b]\"&$A18&\"[/b]. \"&_cl1&lfi(B18)&_cle","v":"[b]9[/b]. [color=\"#990000\"][/color] "},null,null,null,null,null,null,null,null,null,null,null,null,null,null,{"$f":"_cl3&lfi($G$5)&_cle","v":"[color=\"#009900\"][/color] "},null,null,null,null,null,null,null,null,null,null,null,null,null,null,null,null,null,null,null,null,{"$f":"IFERROR(RIGHT(B70,LEN(B70)-FIND(\",\",B70)),\"\")","v":""},{"$f":"IFERROR(RIGHT(B72,LEN(B72)-FIND(\",\",B72)),\"\")","v":""},{"$f":"C72","v":0}]
[56,null,null,null,null,null,null,null,null,null,{"$error":"#N/A"},19,null,{"$f":"_m1&_cl2&lfi(C19)&_cle&sc(C20)","v":"-------------------- [color=\"#000075\"][/color] [b][/b]"},null,null,null,null,null,null,null,null,null,null,null,null,null,null,{"$f":"_m1&_cl5&\"[b]\"&lfi($H$6)&\"[/b]\"&_cle& \" \" & sc($H$7)","v":"-------------------- [color=red][b][/b][/color]  [b][/b]"},null,null,null,null,null,null,null,null,null,null,null,null,null,null,null,null,null,null,null,null,{"$f":"IFERROR(RIGHT(B74,LEN(B74)-FIND(\",\",B74)),\"\")","v":""},{"$f":"IFERROR(RIGHT(B76,LEN(B76)-FIND(\",\",B76)),\"\")","v":""},{"$f":"C76","v":0}]
[null,null,null,{"$f":"IF(D22=\"\",\"\",IF(LEFT(D22)>RIGHT(D22),C19,C23))","v":""},{"$f":"IF(D22=\"\",\"\",IF(LEFT(D22)<RIGHT(D22),C19,C23))","v":""},null,null,null,null,null,{"$error":"#N/A"},20,null,{"$f":"\"[b]\"&$A20&\"[/b]. \"&_cl1&lfi(B20)&_cle","v":"[b]56[/b]. [color=\"#990000\"][/color] "},null,null,null,null,null,null,null,null,null,null,null,null,null,null,{"$f":"_cl3&lfi($G$7)&_cle","v":"[color=\"#009900\"][/color] "},null,null,null,null,null,null,null,null,null,null,null,null,null,null,null,null,null,null,null,null,{"$f":"IFERROR(RIGHT(B78,LEN(B78)-FIND(\",\",B78)),\"\")","v":""},{"$f":"IFERROR(RIGHT(B80,LEN(B80)-FIND(\",\",B80)),\"\")","v":""},{"$f":"C80","v":0}]
[41,null,null,null,null,null,null,null,null,null,0,21,null,{"$f":"_m2&cl3x&lfi(D21)&clex&sc(D22)","v":"---------------------------------------- [color=\"#00DC00\"][i][/i][/color] [b][/b]"},null,null,null,null,null,null,null,null,null,null,null,null,null,null,null,null,null,null,null,null,null,null,null,null,null,null,null,null,null,null,null,null,null,null,null,{"$f":"IFERROR(RIGHT(B82,LEN(B82)-FIND(\",\",B82)),\"\")","v":""},{"$f":"IFERROR(RIGHT(B84,LEN(B84)-FIND(\",\",B84)),\"\")","v":""},{"$f":"C84","v":0}]
[null,null,{"$f":"IF(C24=\"\",\"\",IF(LEFT(C24)>RIGHT(C24),B22,B24))","v":""},{"$f":"IF(C23=\"\",\"\",IF(B24=C23,B22,B24))","v":""},null,null,null,null,null,null,0,22,null,{"$f":"\"[b]\"&$A22&\"[/b]. \"&cl1x&lfi(B22)&clex","v":"[b]41[/b]. [color=\"#cc5000\"][i][/i][/color] "},null,null,null,null,null,null,null,null,null,null,null,null,null,null,null,null,null,null,null,null,null,null,null,null,null,null,null,null,null,null,null,null,null,null,null,{"$f":"IFERROR(RIGHT(B86,LEN(B86)-FIND(\",\",B86)),\"\")","v":""},{"$f":"IFERROR(RIGHT(B88,LEN(B88)-FIND(\",\",B88)),\"\")","v":""},{"$f":"C88","v":0}]
[24,null,null,null,null,null,null,null,null,null,{"$error":"#N/A"},23,null,{"$f":"_m1&_cl2&lfi(C23)&_cle&sc(C24)","v":"-------------------- [color=\"#000075\"][/color] [b][/b]"},null,null,null,null,null,null,null,null,null,null,null,null,null,null,null,null,null,null,null,null,null,null,null,null,null,null,null,null,null,null,null,null,null,null,null,{"$f":"IFERROR(RIGHT(B90,LEN(B90)-FIND(\",\",B90)),\"\")","v":""},{"$f":"IFERROR(RIGHT(B92,LEN(B92)-FIND(\",\",B92)),\"\")","v":""},{"$f":"C92","v":0}]
[null,null,null,null,{"$f":"IF(E26=\"\",\"\",IF(LEFT(E26)>RIGHT(E26),D21,D29))","v":""},{"$f":"IF(E25=\"\",\"\",IF(D29=E25,D21,D29))","v":""},null,null,null,null,{"$error":"#N/A"},24,null,{"$f":"\"[b]\"&$A24&\"[/b]. \"&cl1x&lfi(B24)&clex","v":"[b]24[/b]. [color=\"#cc5000\"][i][/i][/color] "},null,null,null,null,null,null,null,null,null,null,null,null,null,null,null,null,null,null,null,null,null,null,null,null,null,null,null,null,null,null,null,null,null,null,null,{"$f":"IFERROR(RIGHT(B94,LEN(B94)-FIND(\",\",B94)),\"\")","v":""},{"$f":"IFERROR(RIGHT(B96,LEN(B96)-FIND(\",\",B96)),\"\")","v":""},{"$f":"C96","v":0}]
[25,null,null,null,null,null,null,null,null,null,{"$error":"#N/A"},25,null,{"$f":"_m3&_cl4&lfi(E25)&_cle&sc(E26)","v":"------------------------------------------------------------ [color=\"#6900af\"][/color] [b][/b]"},null,null,null,null,null,null,null,null,null,null,null,null,null,null,null,null,null,null,null,null,null,null,null,null,null,null,null,null,null,null,null,null,null,null,null,{"$f":"IFERROR(RIGHT(B98,LEN(B98)-FIND(\",\",B98)),\"\")","v":""},{"$f":"IFERROR(RIGHT(B100,LEN(B100)-FIND(\",\",B100)),\"\")","v":""},{"$f":"C100","v":0}]
[null,null,{"$f":"IF(C28=\"\",\"\",IF(LEFT(C28)>RIGHT(C28),B26,B28))","v":""},{"$f":"IF(C27=\"\",\"\",IF(B28=C27,B26,B28))","v":""},null,null,null,null,null,null,{"$error":"#N/A"},26,null,{"$f":"\"[b]\"&$A26&\"[/b]. \"&_cl1&lfi(B26)&_cle","v":"[b]25[/b]. [color=\"#990000\"][/color] "},null,null,null,null,null,null,null,null,null,null,null,null,null,null,null,null,null,null,null,null,null,null,null,null,null,null,null,null,null,null,null,null,null,null,null,{"$f":"IFERROR(RIGHT(B102,LEN(B102)-FIND(\",\",B102)),\"\")","v":""},{"$f":"IFERROR(RIGHT(B104,LEN(B104)-FIND(\",\",B104)),\"\")","v":""},{"$f":"C104","v":0},{"$f":"IFERROR(RIGHT(#REF!,LEN(#REF!)-FIND(\",\",#REF!)),\"\")","v":""}]
[40,null,null,null,null,null,null,null,null,null,{"$error":"#N/A"},27,null,{"$f":"_m1&cl2x&lfi(C27)&clex&sc(C28)","v":"-------------------- [color=\"#4040FF\"][i][/i][/color] [b][/b]"},null,null,null,null,null,null,null,null,null,null,null,null,null,null,null,null,null,null,null,null,null,null,null,null,null,null,null,null,null,null,null,null,null,null,null,{"$f":"IFERROR(RIGHT(B106,LEN(B106)-FIND(\",\",B106)),\"\")","v":""},{"$f":"IFERROR(RIGHT(B108,LEN(B108)-FIND(\",\",B108)),\"\")","v":""},{"$f":"C108","v":0}]
[null,null,null,{"$f":"IF(D30=\"\",\"\",IF(LEFT(D30)>RIGHT(D30),C27,C31))","v":""},{"$f":"IF(D30=\"\",\"\",IF(LEFT(D30)<RIGHT(D30),C27,C31))","v":""},null,null,null,null,null,{"$error":"#N/A"},28,null,{"$f":"\"[b]\"&$A28&\"[/b]. \"&_cl1&lfi(B28)&_cle","v":"[b]40[/b]. [color=\"#990000\"][/color] "},null,null,null,null,null,null,null,null,null,null,null,null,null,null,null,null,null,null,null,null,null,null,null,null,null,null,null,null,null,null,null,null,null,null,null,{"$f":"IFERROR(RIGHT(B110,LEN(B110)-FIND(\",\",B110)),\"\")","v":""},{"$f":"IFERROR(RIGHT(B112,LEN(B112)-FIND(\",\",B112)),\"\")","v":""},{"$f":"C112","v":0}]
[57,null,null,null,null,null,null,null,null,null,{"$error":"#N/A"},29,null,{"$f":"_m2&cl3x&lfi(D29)&clex&sc(D30)","v":"---------------------------------------- [color=\"#00DC00\"][i][/i][/color] [b][/b]"},null,null,null,null,null,null,null,null,null,null,null,null,null,null,null,null,null,null,null,null,null,null,null,null,null,null,null,null,null,null,null,null,null,null,null,{"$f":"IFERROR(RIGHT(B114,LEN(B114)-FIND(\",\",B114)),\"\")","v":""},{"$f":"IFERROR(RIGHT(B116,LEN(B116)-FIND(\",\",B116)),\"\")","v":""},{"$f":"C116","v":0}]
[null,null,{"$f":"IF(C32=\"\",\"\",IF(LEFT(C32)>RIGHT(C32),B30,B32))","v":""},{"$f":"IF(C31=\"\",\"\",IF(B32=C31,B30,B32))","v":""},null,null,null,null,null,null,{"$error":"#N/A"},30,null,{"$f":"\"[b]\"&$A30&\"[/b]. \"&cl1x&lfi(B30)&clex","v":"[b]57[/b]. [color=\"#cc5000\"][i][/i][/color] "},null,null,null,null,null,null,null,null,null,null,null,null,null,null,null,null,null,null,null,null,null,null,null,null,null,null,null,null,null,null,null,null,null,null,null,{"$f":"IFERROR(RIGHT(B118,LEN(B118)-FIND(\",\",B118)),\"\")","v":""},{"$f":"IFERROR(RIGHT(B120,LEN(B120)-FIND(\",\",B120)),\"\")","v":""},{"$f":"C120","v":0}]
[8,null,null,null,null,null,null,null,null,null,{"$error":"#N/A"},31,null,{"$f":"_m1&cl2x&lfi(C31)&clex&sc(C32)","v":"-------------------- [color=\"#4040FF\"][i][/i][/color] [b][/b]"},null,null,null,null,null,null,null,null,null,null,null,null,null,null,null,null,null,null,null,null,null,null,null,null,null,null,null,null,null,null,null,null,null,null,null,{"$f":"IFERROR(RIGHT(B122,LEN(B122)-FIND(\",\",B122)),\"\")","v":""},{"$f":"IFERROR(RIGHT(B124,LEN(B124)-FIND(\",\",B124)),\"\")","v":""},{"$f":"C124","v":0},null,null,null,{"$f":"IFERROR(RIGHT(D96,LEN(D96)-FIND(\",\",D96)),\"\")","v":""}]
[{"$f":"\"Eliminatorii \" & ctg & \" - page 2\"","v":"Eliminatorii categorie - page 2"},null,null,null,null,null,{"$f":"IF(G34=\"\",\"\",IF(LEFT(G34)>RIGHT(G34),F17,F49))","v":""},{"$f":"IF(G33=\"\",\"\",IF(F49=G33,F17,F49))","v":""},null,null,{"$error":"#N/A"},32,null,{"$f":"\"[b]\"&$A32&\"[/b]. \"&cl1x&lfi(B32)&clex","v":"[b]8[/b]. [color=\"#cc5000\"][i][/i][/color] "},null,null,null,null,null,null,null,null,null,null,null,null,null,null,null,null,null,null,null,null,null,null,null,null,null,null,null,null,null,null,null,null,null,null,null,{"$f":"IFERROR(RIGHT(B126,LEN(B126)-FIND(\",\",B126)),\"\")","v":""},{"$f":"IFERROR(RIGHT(B128,LEN(B128)-FIND(\",\",B128)),\"\")","v":""},{"$f":"C128","v":0}]
[5,null,null,null,null,null,null,null,null,null,{"$f":"VLOOKUP(K2,$C:$D,2,FALSE)","v":""},33,null,null,null,null,null,null,null,null,null,null,null,null,null,null,null,null,null,null,null,null,null,null,null,null,null,null,null,null,null,null,null,null,null,null,null,null,null,"x"]
[null,null,{"$f":"IF(C36=\"\",\"\",IF(LEFT(C36)>RIGHT(C36),B34,B36))","v":""},{"$f":"IF(C35=\"\",\"\",IF(B36=C35,B34,B36))","v":""},null,null,"SF 1",null,null,null,{"$f":"VLOOKUP(K3,$C:$D,2,FALSE)","v":""},34,null,{"$f":"_m5&_cl2&\"[b]\"&lfi(G33)&\"[/b]\"&_cle&sc(G34)","v":"---------------------------------------------------------------------------------------------------- [color=\"#000075\"][b][/b][/color] [b][/b]"}]
[60,null,null,null,null,null,null,null,null,null,{"$error":"#N/A"},35]
[null,null,null,{"$f":"IF(D38=\"\",\"\",IF(LEFT(D38)>RIGHT(D38),C35,C39))","v":""},{"$f":"IF(D38=\"\",\"\",IF(LEFT(D38)<RIGHT(D38),C35,C39))","v":""},null,null,null,null,null,{"$error":"#N/A"},36,null,{"$f":"\"[b]\"&$A34&\"[/b]. \"&_cl1&lfi(B34)&_cle","v":"[b]5[/b]. [color=\"#990000\"][/color] "}]
[37,null,null,null,null,null,null,null,null,null,"",37,null,{"$f":"_m1&_cl2&lfi(C35)&_cle&sc(C36)","v":"-------------------- [color=\"#000075\"][/color] [b][/b]"}]
[null,null,{"$f":"IF(C40=\"\",\"\",IF(LEFT(C40)>RIGHT(C40),B38,B40))","v":""},{"$f":"IF(C39=\"\",\"\",IF(B40=C39,B38,B40))","v":""},null,null,null,null,null,null,"",38,null,{"$f":"\"[b]\"&$A36&\"[/b]. \"&_cl1&lfi(B36)&_cle","v":"[b]60[/b]. [color=\"#990000\"][/color] "}]
[28,null,null,null,null,null,null,null,null,null,{"$error":"#N/A"},39,null,{"$f":"_m2&_cl3&lfi(D37)&_cle&sc(D38)","v":"---------------------------------------- [color=\"#009900\"][/color] [b][/b]"}]
[null,null,null,null,{"$f":"IF(E42=\"\",\"\",IF(LEFT(E42)>RIGHT(E42),D37,D45))","v":""},{"$f":"IF(E41=\"\",\"\",IF(D45=E41,D37,D45))","v":""},null,null,null,null,{"$error":"#N/A"},40,null,{"$f":"\"[b]\"&$A38&\"[/b]. \"&cl1x&lfi(B38)&clex","v":"[b]37[/b]. [color=\"#cc5000\"][i][/i][/color] "}]
[21,null,null,null,null,null,null,null,null,null,{"$error":"#N/A"},41,null,{"$f":"_m1&_cl2&lfi(C39)&_cle&sc(C40)","v":"-------------------- [color=\"#000075\"][/color] [b][/b]"}]
[null,null,{"$f":"IF(C44=\"\",\"\",IF(LEFT(C44)>RIGHT(C44),B42,B44))","v":""},{"$f":"IF(C43=\"\",\"\",IF(B44=C43,B42,B44))","v":""},null,null,null,null,null,null,{"$error":"#N/A"},42,null,{"$f":"\"[b]\"&$A40&\"[/b]. \"&cl1x&lfi(B40)&clex","v":"[b]28[/b]. [color=\"#cc5000\"][i][/i][/color] "}]
[44,null,null,null,null,null,null,null,null,null,{"$error":"#N/A"},43,null,{"$f":"_m3&cl4x&lfi(E41)&clex&sc(E42)","v":"------------------------------------------------------------ [color=\"#bd5dff\"][i][/i][/color] [b][/b]"}]
[null,null,null,{"$f":"IF(D46=\"\",\"\",IF(LEFT(D46)>RIGHT(D46),C43,C47))","v":""},{"$f":"IF(D46=\"\",\"\",IF(LEFT(D46)<RIGHT(D46),C43,C47))","v":""},null,null,null,null,null,{"$error":"#N/A"},44,null,{"$f":"\"[b]\"&$A42&\"[/b]. \"&_cl1&lfi(B42)&_cle","v":"[b]21[/b]. [color=\"#990000\"][/color] "}]
[53,null,null,null,null,null,null,null,null,null,{"$error":"#N/A"},45,null,{"$f":"_m1&cl2x&lfi(C43)&clex&sc(C44)","v":"-------------------- [color=\"#4040FF\"][i][/i][/color] [b][/b]"}]
[null,null,{"$f":"IF(C48=\"\",\"\",IF(LEFT(C48)>RIGHT(C48),B46,B48))","v":""},{"$f":"IF(C47=\"\",\"\",IF(B48=C47,B46,B48))","v":""},null,null,null,null,null,null,{"$error":"#N/A"},46,null,{"$f":"\"[b]\"&$A44&\"[/b]. \"&_cl1&lfi(B44)&_cle","v":"[b]44[/b]. [color=\"#990000\"][/color] "}]
[12,null,null,null,null,null,null,null,null,null,{"$error":"#N/A"},47,null,{"$f":"_m2&_cl3&lfi(D45)&_cle&sc(D46)","v":"---------------------------------------- [color=\"#009900\"][/color] [b][/b]"}]
[null,null,null,null,"B",{"$f":"IF(F50=\"\",\"\",IF(LEFT(F50)>RIGHT(F50),E41,E57))","v":""},{"$f":"IF(F49=\"\",\"\",IF(E57=F49,E41,E57))","v":""},null,null,null,{"$error":"#N/A"},48,null,{"$f":"\"[b]\"&$A46&\"[/b]. \"&cl1x&lfi(B46)&clex","v":"[b]53[/b]. [color=\"#cc5000\"][i][/i][/color] "}]
[13,null,null,null,null,null,null,null,null,null,{"$error":"#N/A"},49,null,{"$f":"_m1&cl2x&lfi(C47)&clex&sc(C48)","v":"-------------------- [color=\"#4040FF\"][i][/i][/color] [b][/b]"}]
[null,null,{"$f":"IF(C52=\"\",\"\",IF(LEFT(C52)>RIGHT(C52),B50,B52))","v":""},{"$f":"IF(C51=\"\",\"\",IF(B52=C51,B50,B52))","v":""},null,null,null,null,null,null,{"$error":"#N/A"},50,null,{"$f":"\"[b]\"&$A48&\"[/b]. \"&cl1x&lfi(B48)&clex","v":"[b]12[/b]. [color=\"#cc5000\"][i][/i][/color] "}]
[52,null,null,null,null,null,null,null,null,null,{"$error":"#N/A"},51,null,{"$f":"_m4&_cl1&lfi(F49)&_cle&sc(F50)","v":"-------------------------------------------------------------------------------- [color=\"#990000\"][/color] [b][/b]"}]
[null,null,null,{"$f":"IF(D54=\"\",\"\",IF(LEFT(D54)>RIGHT(D54),C51,C55))","v":""},{"$f":"IF(D54=\"\",\"\",IF(LEFT(D54)<RIGHT(D54),C51,C55))","v":""},null,null,null,null,null,{"$error":"#N/A"},52,null,{"$f":"\"[b]\"&$A50&\"[/b]. \"&_cl1&lfi(B50)&_cle","v":"[b]13[/b]. [color=\"#990000\"][/color] "}]
[45,null,null,null,null,null,null,null,null,null,{"$error":"#N/A"},53,null,{"$f":"_m1&_cl2&lfi(C51)&_cle&sc(C52)","v":"-------------------- [color=\"#000075\"][/color] [b][/b]"}]
[null,null,{"$f":"IF(C56=\"\",\"\",IF(LEFT(C56)>RIGHT(C56),B54,B56))","v":""},{"$f":"IF(C55=\"\",\"\",IF(B56=C55,B54,B56))","v":""},null,null,null,null,null,null,{"$error":"#N/A"},54,null,{"$f":"\"[b]\"&$A52&\"[/b]. \"&_cl1&lfi(B52)&_cle","v":"[b]52[/b]. [color=\"#990000\"][/color] "}]
[20,null,null,null,null,null,null,null,null,null,{"$error":"#N/A"},55,null,{"$f":"_m2&cl3x&lfi(D53)&clex&sc(D54)","v":"---------------------------------------- [color=\"#00DC00\"][i][/i][/color] [b][/b]"}]
[null,null,null,null,{"$f":"IF(E58=\"\",\"\",IF(LEFT(E58)>RIGHT(E58),D53,D61))","v":""},{"$f":"IF(E57=\"\",\"\",IF(D61=E57,D53,D61))","v":""},null,null,null,null,{"$error":"#N/A"},56,null,{"$f":"\"[b]\"&$A54&\"[/b]. \"&cl1x&lfi(B54)&clex","v":"[b]45[/b]. [color=\"#cc5000\"][i][/i][/color] "}]
[29,null,null,null,null,null,null,null,null,null,{"$error":"#N/A"},57,null,{"$f":"_m1&_cl2&lfi(C55)&_cle&sc(C56)","v":"-------------------- [color=\"#000075\"][/color] [b][/b]"}]
[null,null,{"$f":"IF(C60=\"\",\"\",IF(LEFT(C60)>RIGHT(C60),B58,B60))","v":""},{"$f":"IF(C59=\"\",\"\",IF(B60=C59,B58,B60))","v":""},null,null,null,null,null,null,{"$error":"#N/A"},58,null,{"$f":"\"[b]\"&$A56&\"[/b]. \"&cl1x&lfi(B56)&clex","v":"[b]20[/b]. [color=\"#cc5000\"][i][/i][/color] "}]
[36,null,null,null,null,null,null,null,null,null,{"$error":"#N/A"},59,null,{"$f":"_m3&cl4x&lfi(E57)&clex&sc(E58)","v":"------------------------------------------------------------ [color=\"#bd5dff\"][i][/i][/color] [b][/b]"}]
[null,null,null,{"$f":"IF(D62=\"\",\"\",IF(LEFT(D62)>RIGHT(D62),C59,C63))","v":""},{"$f":"IF(D62=\"\",\"\",IF(LEFT(D62)<RIGHT(D62),C59,C63))","v":""},null,null,null,null,null,{"$error":"#N/A"},60,null,{"$f":"\"[b]\"&$A58&\"[/b]. \"&_cl1&lfi(B58)&_cle","v":"[b]29[/b]. [color=\"#990000\"][/color] "}]
[61,null,null,null,null,null,null,null,null,null,{"$error":"#N/A"},61,null,{"$f":"_m1&cl2x&lfi(C59)&clex&sc(C60)","v":"-------------------- [color=\"#4040FF\"][i][/i][/color] [b][/b]"}]
[null,null,{"$f":"IF(C64=\"\",\"\",IF(LEFT(C64)>RIGHT(C64),B62,B64))","v":""},{"$f":"IF(C63=\"\",\"\",IF(B64=C63,B62,B64))","v":""},null,null,null,null,null,null,{"$error":"#N/A"},62,null,{"$f":"\"[b]\"&$A60&\"[/b]. \"&_cl1&lfi(B60)&_cle","v":"[b]36[/b]. [color=\"#990000\"][/color] "}]
[4,null,null,null,null,null,null,null,null,null,{"$error":"#N/A"},63,null,{"$f":"_m2&cl3x&lfi(D61)&clex&sc(D62)","v":"---------------------------------------- [color=\"#00DC00\"][i][/i][/color] [b][/b]"}]
[{"$f":"\"Eliminatorii \" & ctg & \" - page 3\"","v":"Eliminatorii categorie - page 3"},null,null,null,null,null,null,{"$f":"IF(H66=\"\",\"\",IF(LEFT(H66)>RIGHT(H66),G33,G97))","v":""},{"$f":"IF(H65=\"\",\"\",IF(G97=H65,G33,G97))","v":""},null,{"$error":"#N/A"},64,null,{"$f":"\"[b]\"&$A62&\"[/b]. \"&cl1x&lfi(B62)&clex","v":"[b]61[/b]. [color=\"#cc5000\"][i][/i][/color] "}]
[3,null,null,null,null,null,null,null,null,null,null,null,null,{"$f":"_m1&cl2x&lfi(C63)&clex&sc(C64)","v":"-------------------- [color=\"#4040FF\"][i][/i][/color] [b][/b]"}]
[null,null,{"$f":"IF(C68=\"\",\"\",IF(LEFT(C68)>RIGHT(C68),B66,B68))","v":""},{"$f":"IF(C67=\"\",\"\",IF(B68=C67,B66,B68))","v":""},null,null,null,"Finala",null,null,null,null,null,{"$f":"\"[b]\"&$A64&\"[/b]. \"&cl1x&lfi(B64)&clex","v":"[b]4[/b]. [color=\"#cc5000\"][i][/i][/color] "}]
[62]
[null,null,null,{"$f":"IF(D70=\"\",\"\",IF(LEFT(D70)>RIGHT(D70),C67,C71))","v":""},{"$f":"IF(D70=\"\",\"\",IF(LEFT(D70)<RIGHT(D70),C67,C71))","v":""},null,null,null,null,null,null,null,null,{"$f":"_m6&_m1&clr&\"[b]\"&lfi(H65)&\"[/b]\"&_cle&sc(H66)","v":"------------------------------------------------------------------------------------------------------------------------ -------------------- [color=red][b][/b][/color] [b][/b]"}]
[35]
[null,null,{"$f":"IF(C72=\"\",\"\",IF(LEFT(C72)>RIGHT(C72),B70,B72))","v":""},{"$f":"IF(C71=\"\",\"\",IF(B72=C71,B70,B72))","v":""},null,null,null,null,null,null,null,null,null,{"$f":"\"[b]\"&$A66&\"[/b]. \"&_cl1&lfi(B66)&_cle","v":"[b]3[/b]. [color=\"#990000\"][/color] "}]
[30,null,null,null,null,null,null,null,null,null,null,null,null,{"$f":"_m1&_cl2&lfi(C67)&_cle&sc(C68)","v":"-------------------- [color=\"#000075\"][/color] [b][/b]"}]
[null,null,null,null,{"$f":"IF(E74=\"\",\"\",IF(LEFT(E74)>RIGHT(E74),D69,D77))","v":""},{"$f":"IF(E73=\"\",\"\",IF(D77=E73,D69,D77))","v":""},null,null,null,null,null,null,null,{"$f":"\"[b]\"&$A68&\"[/b]. \"&_cl1&lfi(B68)&_cle","v":"[b]62[/b]. [color=\"#990000\"][/color] "}]
[19,null,null,null,null,null,null,null,null,null,null,null,null,{"$f":"_m2&_cl3&lfi(D69)&_cle&sc(D70)","v":"---------------------------------------- [color=\"#009900\"][/color] [b][/b]"}]
[null,null,{"$f":"IF(C76=\"\",\"\",IF(LEFT(C76)>RIGHT(C76),B74,B76))","v":""},{"$f":"IF(C75=\"\",\"\",IF(B76=C75,B74,B76))","v":""},null,null,null,null,null,null,null,null,null,{"$f":"\"[b]\"&$A70&\"[/b]. \"&cl1x&lfi(B70)&clex","v":"[b]35[/b]. [color=\"#cc5000\"][i][/i][/color] "}]
[46,null,null,null,null,null,null,null,null,null,null,null,null,{"$f":"_m1&_cl2&lfi(C71)&_cle&sc(C72)","v":"-------------------- [color=\"#000075\"][/color] [b][/b]"}]
[null,null,null,{"$f":"IF(D78=\"\",\"\",IF(LEFT(D78)>RIGHT(D78),C75,C79))","v":""},{"$f":"IF(D78=\"\",\"\",IF(LEFT(D78)<RIGHT(D78),C75,C79))","v":""},null,null,null,null,null,null,null,null,{"$f":"\"[b]\"&$A72&\"[/b]. \"&cl1x&lfi(B72)&clex","v":"[b]30[/b]. [color=\"#cc5000\"][i][/i][/color] "}]
[51,null,null,null,null,null,null,null,null,null,null,null,null,{"$f":"_m3&_cl4&lfi(E73)&_cle&sc(E74)","v":"------------------------------------------------------------ [color=\"#6900af\"][/color] [b][/b]"}]
[null,null,{"$f":"IF(C80=\"\",\"\",IF(LEFT(C80)>RIGHT(C80),B78,B80))","v":""},{"$f":"IF(C79=\"\",\"\",IF(B80=C79,B78,B80))","v":""},null,null,null,null,null,null,null,null,null,{"$f":"\"[b]\"&$A74&\"[/b]. \"&_cl1&lfi(B74)&_cle","v":"[b]19[/b]. [color=\"#990000\"][/color] "}]
[14,null,null,null,null,null,null,null,null,null,null,null,null,{"$f":"_m1&cl2x&lfi(C75)&clex&sc(C76)","v":"-------------------- [color=\"#4040FF\"][i][/i][/color] [b][/b]"}]
[null,null,null,null,"C",{"$f":"IF(F82=\"\",\"\",IF(LEFT(F82)>RIGHT(F82),E73,E89))","v":""},{"$f":"IF(F81=\"\",\"\",IF(E89=F81,E73,E89))","v":""},null,null,null,null,null,null,{"$f":"\"[b]\"&$A76&\"[/b]. \"&_cl1&lfi(B76)&_cle","v":"[b]46[/b]. [color=\"#990000\"][/color] "}]
[11,null,null,null,null,null,null,null,null,null,null,null,null,{"$f":"_m2&_cl3&lfi(D77)&_cle&sc(D78)","v":"---------------------------------------- [color=\"#009900\"][/color] [b][/b]"}]
[null,null,{"$f":"IF(C84=\"\",\"\",IF(LEFT(C84)>RIGHT(C84),B82,B84))","v":""},{"$f":"IF(C83=\"\",\"\",IF(B84=C83,B82,B84))","v":""},null,null,null,null,null,null,null,null,null,{"$f":"\"[b]\"&$A78&\"[/b]. \"&cl1x&lfi(B78)&clex","v":"[b]51[/b]. [color=\"#cc5000\"][i][/i][/color] "}]
[54,null,null,null,null,null,null,null,null,null,null,null,null,{"$f":"_m1&cl2x&lfi(C79)&clex&sc(C80)","v":"-------------------- [color=\"#4040FF\"][i][/i][/color] [b][/b]"}]
[null,null,null,{"$f":"IF(D86=\"\",\"\",IF(LEFT(D86)>RIGHT(D86),C83,C87))","v":""},{"$f":"IF(D86=\"\",\"\",IF(LEFT(D86)<RIGHT(D86),C83,C87))","v":""},null,null,null,null,null,null,null,null,{"$f":"\"[b]\"&$A80&\"[/b]. \"&cl1x&lfi(B80)&clex","v":"[b]14[/b]. [color=\"#cc5000\"][i][/i][/color] "}]
[43,null,null,null,null,null,null,null,null,null,null,null,null,{"$f":"_m4&cl1x&lfi(F81)&clex&sc(F82)","v":"-------------------------------------------------------------------------------- [color=\"#cc5000\"][i][/i][/color] [b][/b]"}]
[null,null,{"$f":"IF(C88=\"\",\"\",IF(LEFT(C88)>RIGHT(C88),B86,B88))","v":""},{"$f":"IF(C87=\"\",\"\",IF(B88=C87,B86,B88))","v":""},null,null,null,null,null,null,null,null,null,{"$f":"\"[b]\"&$A82&\"[/b]. \"&_cl1&lfi(B82)&_cle","v":"[b]11[/b]. [color=\"#990000\"][/color] "}]
[22,null,null,null,null,null,null,null,null,null,null,null,null,{"$f":"_m1&_cl2&lfi(C83)&_cle&sc(C84)","v":"-------------------- [color=\"#000075\"][/color] [b][/b]"}]
[null,null,null,null,{"$f":"IF(E90=\"\",\"\",IF(LEFT(E90)>RIGHT(E90),D85,D93))","v":""},{"$f":"IF(E89=\"\",\"\",IF(D93=E89,D85,D93))","v":""},null,null,null,null,null,null,null,{"$f":"\"[b]\"&$A84&\"[/b]. \"&_cl1&lfi(B84)&_cle","v":"[b]54[/b]. [color=\"#990000\"][/color] "}]
[27,null,null,null,null,null,null,null,null,null,null,null,null,{"$f":"_m2&cl3x&lfi(D85)&clex&sc(D86)","v":"---------------------------------------- [color=\"#00DC00\"][i][/i][/color] [b][/b]"}]
[null,null,{"$f":"IF(C92=\"\",\"\",IF(LEFT(C92)>RIGHT(C92),B90,B92))","v":""},{"$f":"IF(C91=\"\",\"\",IF(B92=C91,B90,B92))","v":""},null,null,null,null,null,null,null,null,null,{"$f":"\"[b]\"&$A86&\"[/b]. \"&cl1x&lfi(B86)&clex","v":"[b]43[/b]. [color=\"#cc5000\"][i][/i][/color] "}]
[38,null,null,null,null,null,null,null,null,null,null,null,null,{"$f":"_m1&_cl2&lfi(C87)&_cle&sc(C88)","v":"-------------------- [color=\"#000075\"][/color] [b][/b]"}]
[null,null,null,{"$f":"IF(D94=\"\",\"\",IF(LEFT(D94)>RIGHT(D94),C91,C95))","v":""},{"$f":"IF(D94=\"\",\"\",IF(LEFT(D94)<RIGHT(D94),C91,C95))","v":""},null,null,null,null,null,null,null,null,{"$f":"\"[b]\"&$A88&\"[/b]. \"&cl1x&lfi(B88)&clex","v":"[b]22[/b]. [color=\"#cc5000\"][i][/i][/color] "}]
[59,null,null,null,null,null,null,null,null,null,null,null,null,{"$f":"_m3&_cl4&lfi(E89)&_cle&sc(E90)","v":"------------------------------------------------------------ [color=\"#6900af\"][/color] [b][/b]"}]
[null,null,{"$f":"IF(C96=\"\",\"\",IF(LEFT(C96)>RIGHT(C96),B94,B96))","v":""},{"$f":"IF(C95=\"\",\"\",IF(B96=C95,B94,B96))","v":""},null,null,null,null,null,null,null,null,null,{"$f":"\"[b]\"&$A90&\"[/b]. \"&_cl1&lfi(B90)&_cle","v":"[b]27[/b]. [color=\"#990000\"][/color] "}]
[6,null,null,null,null,null,null,null,null,null,null,null,null,{"$f":"_m1&cl2x&lfi(C91)&clex&sc(C92)","v":"-------------------- [color=\"#4040FF\"][i][/i][/color] [b][/b]"}]
[{"$f":"\"Eliminatorii \" & ctg & \" - page 4\"","v":"Eliminatorii categorie - page 4"},null,null,null,null,null,{"$f":"IF(G98=\"\",\"\",IF(LEFT(G98)>RIGHT(G98),F81,F113))","v":""},{"$f":"IF(G97=\"\",\"\",IF(F113=G97,F81,F113))","v":""},null,null,null,null,null,{"$f":"\"[b]\"&$A92&\"[/b]. \"&_cl1&lfi(B92)&_cle","v":"[b]38[/b]. [color=\"#990000\"][/color] "}]
[7,null,null,null,null,null,null,null,null,null,null,null,null,{"$f":"_m2&cl3x&lfi(D93)&clex&sc(D94)","v":"---------------------------------------- [color=\"#00DC00\"][i][/i][/color] [b][/b]"}]
[null,null,{"$f":"IF(C100=\"\",\"\",IF(LEFT(C100)>RIGHT(C100),B98,B100))","v":""},{"$f":"IF(C99=\"\",\"\",IF(B100=C99,B98,B100))","v":""},null,null,"SF 2",null,null,null,null,null,null,{"$f":"\"[b]\"&$A94&\"[/b]. \"&cl1x&lfi(B94)&clex","v":"[b]59[/b]. [color=\"#cc5000\"][i][/i][/color] "}]
[58,null,null,null,null,null,null,null,null,null,null,null,null,{"$f":"_m1&cl2x&lfi(C95)&clex&sc(C96)","v":"-------------------- [color=\"#4040FF\"][i][/i][/color] [b][/b]"}]
[null,null,null,{"$f":"IF(D102=\"\",\"\",IF(LEFT(D102)>RIGHT(D102),C99,C103))","v":""},{"$f":"IF(D102=\"\",\"\",IF(LEFT(D102)<RIGHT(D102),C99,C103))","v":""},null,null,null,null,null,null,null,null,{"$f":"\"[b]\"&$A96&\"[/b]. \"&cl1x&lfi(B96)&clex","v":"[b]6[/b]. [color=\"#cc5000\"][i][/i][/color] "}]
[39]
[null,null,{"$f":"IF(C104=\"\",\"\",IF(LEFT(C104)>RIGHT(C104),B102,B104))","v":""},{"$f":"IF(C103=\"\",\"\",IF(B104=C103,B102,B104))","v":""},null,null,null,null,null,null,null,null,null,{"$f":"_m5&_cl2&\"[b]\"&lfi(G97)&\"[/b]\"&_cle&sc(G98)","v":"---------------------------------------------------------------------------------------------------- [color=\"#000075\"][b][/b][/color] [b][/b]"}]
[26]
[null,null,null,null,{"$f":"IF(E106=\"\",\"\",IF(LEFT(E106)>RIGHT(E106),D101,D109))","v":""},{"$f":"IF(E105=\"\",\"\",IF(D109=E105,D101,D109))","v":""},null,null,null,null,null,null,null,{"$f":"\"[b]\"&$A98&\"[/b]. \"&_cl1&lfi(B98)&_cle","v":"[b]7[/b]. [color=\"#990000\"][/color] "}]
[23,null,null,null,null,null,null,null,null,null,null,null,null,{"$f":"_m1&_cl2&lfi(C99)&_cle&sc(C100)","v":"-------------------- [color=\"#000075\"][/color] [b][/b]"}]
[null,null,{"$f":"IF(C108=\"\",\"\",IF(LEFT(C108)>RIGHT(C108),B106,B108))","v":""},{"$f":"IF(C107=\"\",\"\",IF(B108=C107,B106,B108))","v":""},null,null,null,null,null,null,null,null,null,{"$f":"\"[b]\"&$A100&\"[/b]. \"&_cl1&lfi(B100)&_cle","v":"[b]58[/b]. [color=\"#990000\"][/color] "}]
[42,null,null,null,null,null,null,null,null,null,null,null,null,{"$f":"_m2&_cl3&lfi(D101)&_cle&sc(D102)","v":"---------------------------------------- [color=\"#009900\"][/color] [b][/b]"}]
[null,null,null,{"$f":"IF(D110=\"\",\"\",IF(LEFT(D110)>RIGHT(D110),C107,C111))","v":""},{"$f":"IF(D110=\"\",\"\",IF(LEFT(D110)<RIGHT(D110),C107,C111))","v":""},null,null,null,null,null,null,null,null,{"$f":"\"[b]\"&$A102&\"[/b]. \"&cl1x&lfi(B102)&clex","v":"[b]39[/b]. [color=\"#cc5000\"][i][/i][/color] "}]
[55,null,null,null,null,null,null,null,null,null,null,null,null,{"$f":"_m1&_cl2&lfi(C103)&_cle&sc(C104)","v":"-------------------- [color=\"#000075\"][/color] [b][/b]"}]
[null,null,{"$f":"IF(C112=\"\",\"\",IF(LEFT(C112)>RIGHT(C112),B110,B112))","v":""},{"$f":"IF(C111=\"\",\"\",IF(B112=C111,B110,B112))","v":""},null,null,null,null,null,null,null,null,null,{"$f":"\"[b]\"&$A104&\"[/b]. \"&cl1x&lfi(B104)&clex","v":"[b]26[/b]. [color=\"#cc5000\"][i][/i][/color] "}]
[10,null,null,null,null,null,null,null,null,null,null,null,null,{"$f":"_m3&cl4x&lfi(E105)&clex&sc(E106)","v":"------------------------------------------------------------ [color=\"#bd5dff\"][i][/i][/color] [b][/b]"}]
[null,null,null,null,"D",{"$f":"IF(F114=\"\",\"\",IF(LEFT(F114)>RIGHT(F114),E105,E121))","v":""},{"$f":"IF(F113=\"\",\"\",IF(E121=F113,E105,E121))","v":""},null,null,null,null,null,null,{"$f":"\"[b]\"&$A106&\"[/b]. \"&_cl1&lfi(B106)&_cle","v":"[b]23[/b]. [color=\"#990000\"][/color] "}]
[15,null,null,null,null,null,null,null,null,null,null,null,null,{"$f":"_m1&cl2x&lfi(C107)&clex&sc(C108)","v":"-------------------- [color=\"#4040FF\"][i][/i][/color] [b][/b]"}]
[null,null,{"$f":"IF(C116=\"\",\"\",IF(LEFT(C116)>RIGHT(C116),B114,B116))","v":""},{"$f":"IF(C115=\"\",\"\",IF(B116=C115,B114,B116))","v":""},null,null,null,null,null,null,null,null,null,{"$f":"\"[b]\"&$A108&\"[/b]. \"&_cl1&lfi(B108)&_cle","v":"[b]42[/b]. [color=\"#990000\"][/color] "}]
[50,null,null,null,null,null,null,null,null,null,null,null,null,{"$f":"_m2&_cl3&lfi(D109)&_cle&sc(D110)","v":"---------------------------------------- [color=\"#009900\"][/color] [b][/b]"}]
[null,null,null,{"$f":"IF(D118=\"\",\"\",IF(LEFT(D118)>RIGHT(D118),C115,C119))","v":""},{"$f":"IF(D118=\"\",\"\",IF(LEFT(D118)<RIGHT(D118),C115,C119))","v":""},null,null,null,null,null,null,null,null,{"$f":"\"[b]\"&$A110&\"[/b]. \"&cl1x&lfi(B110)&clex","v":"[b]55[/b]. [color=\"#cc5000\"][i][/i][/color] "}]
[47,null,null,null,null,null,null,null,null,null,null,null,null,{"$f":"_m1&cl2x&lfi(C111)&clex&sc(C112)","v":"-------------------- [color=\"#4040FF\"][i][/i][/color] [b][/b]"}]
[null,null,{"$f":"IF(C120=\"\",\"\",IF(LEFT(C120)>RIGHT(C120),B118,B120))","v":""},{"$f":"IF(C119=\"\",\"\",IF(B120=C119,B118,B120))","v":""},null,null,null,null,null,null,null,null,null,{"$f":"\"[b]\"&$A112&\"[/b]. \"&cl1x&lfi(B112)&clex","v":"[b]10[/b]. [color=\"#cc5000\"][i][/i][/color] "}]
[18,null,null,null,null,null,null,null,null,null,null,null,null,{"$f":"_m4&cl1x&lfi(F113)&clex&sc(F114)","v":"-------------------------------------------------------------------------------- [color=\"#cc5000\"][i][/i][/color] [b][/b]"}]
[null,null,null,null,{"$f":"IF(E122=\"\",\"\",IF(LEFT(E122)>RIGHT(E122),D117,D125))","v":""},{"$f":"IF(E121=\"\",\"\",IF(D125=E121,D117,D125))","v":""},null,null,null,null,null,null,null,{"$f":"\"[b]\"&$A114&\"[/b]. \"&_cl1&lfi(B114)&_cle","v":"[b]15[/b]. [color=\"#990000\"][/color] "}]
[31,null,null,null,null,null,null,null,null,null,null,null,null,{"$f":"_m1&_cl2&lfi(C115)&_cle&sc(C116)","v":"-------------------- [color=\"#000075\"][/color] [b][/b]"}]
[null,null,{"$f":"IF(C124=\"\",\"\",IF(LEFT(C124)>RIGHT(C124),B122,B124))","v":""},{"$f":"IF(C123=\"\",\"\",IF(B124=C123,B122,B124))","v":""},null,null,null,null,null,null,null,null,null,{"$f":"\"[b]\"&$A116&\"[/b]. \"&_cl1&lfi(B116)&_cle","v":"[b]50[/b]. [color=\"#990000\"][/color] "}]
[34,null,null,null,null,null,null,null,null,null,null,null,null,{"$f":"_m2&cl3x&lfi(D117)&clex&sc(D118)","v":"---------------------------------------- [color=\"#00DC00\"][i][/i][/color] [b][/b]"}]
[null,null,null,{"$f":"IF(D126=\"\",\"\",IF(LEFT(D126)>RIGHT(D126),C123,C127))","v":""},{"$f":"IF(D126=\"\",\"\",IF(LEFT(D126)<RIGHT(D126),C123,C127))","v":""},null,null,null,null,null,null,null,null,{"$f":"\"[b]\"&$A118&\"[/b]. \"&cl1x&lfi(B118)&clex","v":"[b]47[/b]. [color=\"#cc5000\"][i][/i][/color] "}]
[63,null,null,null,null,null,null,null,null,null,null,null,null,{"$f":"_m1&_cl2&lfi(C119)&_cle&sc(C120)","v":"-------------------- [color=\"#000075\"][/color] [b][/b]"}]
[null,null,{"$f":"IF(C128=\"\",\"\",IF(LEFT(C128)>RIGHT(C128),B126,B128))","v":""},{"$f":"IF(C127=\"\",\"\",IF(B128=C127,B126,B128))","v":""},null,null,null,null,null,null,null,null,null,{"$f":"\"[b]\"&$A120&\"[/b]. \"&cl1x&lfi(B120)&clex","v":"[b]18[/b]. [color=\"#cc5000\"][i][/i][/color] "}]
[2,null,null,null,null,null,null,null,null,null,null,null,null,{"$f":"_m3&cl4x&lfi(E121)&clex&sc(E122)","v":"------------------------------------------------------------ [color=\"#bd5dff\"][i][/i][/color] [b][/b]"}]
[null,null,null,null,null,null,null,null,null,null,null,null,null,{"$f":"\"[b]\"&$A122&\"[/b]. \"&_cl1&lfi(B122)&_cle","v":"[b]31[/b]. [color=\"#990000\"][/color] "}]
[null,null,null,null,null,null,null,null,null,null,null,null,null,{"$f":"_m1&cl2x&lfi(C123)&clex&sc(C124)","v":"-------------------- [color=\"#4040FF\"][i][/i][/color] [b][/b]"}]
[null,null,null,null,null,null,null,null,null,null,null,null,null,{"$f":"\"[b]\"&$A124&\"[/b]. \"&_cl1&lfi(B124)&_cle","v":"[b]34[/b]. [color=\"#990000\"][/color] "}]
[null,null,null,null,null,null,null,null,null,null,null,null,null,{"$f":"_m2&cl3x&lfi(D125)&clex&sc(D126)","v":"---------------------------------------- [color=\"#00DC00\"][i][/i][/color] [b][/b]"}]
[null,null,null,null,null,null,null,null,null,null,null,null,null,{"$f":"\"[b]\"&$A126&\"[/b]. \"&cl1x&lfi(B126)&clex","v":"[b]63[/b]. [color=\"#cc5000\"][i][/i][/color] "}]
[null,null,null,null,null,null,null,null,null,null,null,null,null,{"$f":"_m1&cl2x&lfi(C127)&clex&sc(C128)","v":"-------------------- [color=\"#4040FF\"][i][/i][/color] [b][/b]"}]
[null,null,null,null,null,null,null,null,null,null,null,null,null,{"$f":"\"[b]\"&$A128&\"[/b]. \"&cl1x&lfi(B128)&clex","v":"[b]2[/b]. [color=\"#cc5000\"][i][/i][/color] "}]
[]
[]
[null,null,null,null,null,null,null,null,null,null,null,null,null,{"$f":"\"[b]\"&clr & \"Finala mica - \" & _cle & ctg & \"[/b]\"","v":"[b][color=red]Finala mica - [/color] categorie[/b]"}]
[]
[null,null,null,null,null,null,null,null,null,null,null,null,null,{"$f":"_cl3&lfi($G$5)&_cle","v":"[color=\"#009900\"][/color] "}]
[null,null,null,null,null,null,null,null,null,null,null,null,null,{"$f":"_m1&_cl5&\"[b]\"&lfi($H$6)&\"[/b]\"&_cle& \" \" & sc($H$7)","v":"-------------------- [color=red][b][/b][/color]  [b][/b]"}]
[null,null,null,null,null,null,null,null,null,null,null,null,null,{"$f":"_cl3&lfi($G$7)&_cle","v":"[color=\"#009900\"][/color] "}]

{"sheet":"T32","index":17,"n_rows":113,"n_cols":67,"rows_kept":113,"cut":false,"hidden":true,"merged":[]}
[{"$f":"\"Eliminatorii \" & ctg & \" - page 1\"","v":"Eliminatorii categorie - page 1"},null,null,null,null,null,null,null,67,5,"SE","Loc",null,{"$f":"\"[B]\"&clr & \"Eliminatorii \" & ctg & _cle & \"[/b]\"","v":"[B][color=red]Eliminatorii categorie[/color] [/b]"},null,null,null,null,null,null,null,null,null,null,null,null,null,null,{"$f":"\"[b]\"&clr & \"Semifinale - \" & _cle & ctg & \"[/b]\"","v":"[b][color=red]Semifinale - [/color] categorie[/b]"},null,null,null,null,null,null,null,null,null,null,null,null,null,null,null,null,null,null,null,null,"R32",null,null,"R16",null,null,"R8",null,null,"SF",null,null,"F",null,null,"3rd"]
[1,null,null,null,null,null,null,null,null,null,{"$f":"G33","v":""},1,null,null,null,null,null,null,null,null,null,null,null,null,null,null,null,null,null,null,null,null,null,null,null,null,null,null,null,null,null,null,null,null,null,null,null,null,null,{"$f":"IFERROR(RIGHT(B2,LEN(B2)-FIND(\",\",B2)),\"\")","v":""},{"$f":"IFERROR(RIGHT(B4,LEN(B4)-FIND(\",\",B4)),\"\")","v":""},{"$f":"C4","v":0},{"$f":"IFERROR(RIGHT(C3,LEN(C3)-FIND(\",\",C3)),\"\")","v":""},{"$f":"IFERROR(RIGHT(C7,LEN(C7)-FIND(\",\",C7)),\"\")","v":""},{"$f":"D6","v":0},{"$f":"IFERROR(RIGHT(D5,LEN(D5)-FIND(\",\",D5)),\"\")","v":""},{"$f":"IFERROR(RIGHT(D13,LEN(D13)-FIND(\",\",D13)),\"\")","v":""},{"$f":"E10","v":0},{"$f":"IFERROR(RIGHT(E9,LEN(E9)-FIND(\",\",E9)),\"\")","v":""},{"$f":"IFERROR(RIGHT(E25,LEN(E25)-FIND(\",\",E25)),\"\")","v":""},{"$f":"F18","v":0},{"$f":"IFERROR(RIGHT(F17,LEN(F17)-FIND(\",\",F17)),\"\")","v":""},{"$f":"IFERROR(RIGHT(F49,LEN(F49)-FIND(\",\",F49)),\"\")","v":""},{"$f":"G34","v":0},{"$f":"IFERROR(RIGHT($G$5,LEN($G$5)-FIND(\",\",$G$5)),\"\")","v":""},{"$f":"IFERROR(RIGHT($G$7,LEN($G$7)-FIND(\",\",$G$7)),\"\")","v":""},{"$f":"$H$7","v":0}]
[null,null,{"$f":"IF(C4=\"\",\"\",IF(LEFT(C4)>RIGHT(C4),B2,B4))","v":""},{"$f":"IF(C3=\"\",\"\",IF(B4=C3,B2,B4))","v":""},null,null,null,null,null,null,{"$f":"H33","v":""},2,null,{"$f":"\"[b]\"&$A2&\"[/b]. \"&_cl1&lfi(B2)&_cle","v":"[b]1[/b]. [color=\"#990000\"][/color] "},null,null,null,null,null,null,null,null,null,null,null,null,null,null,{"$f":"_cl1&lfi(E9)&_cle","v":"[color=\"#990000\"][/color] "},null,null,null,null,null,null,null,null,null,null,null,null,null,null,null,null,null,null,null,null,{"$f":"IFERROR(RIGHT(B6,LEN(B6)-FIND(\",\",B6)),\"\")","v":""},{"$f":"IFERROR(RIGHT(B8,LEN(B8)-FIND(\",\",B8)),\"\")","v":""},{"$f":"C8","v":0},{"$f":"IFERROR(RIGHT(C11,LEN(C11)-FIND(\",\",C11)),\"\")","v":""},{"$f":"IFERROR(RIGHT(C15,LEN(C15)-FIND(\",\",C15)),\"\")","v":""},{"$f":"D14","v":0},{"$f":"IFERROR(RIGHT(D21,LEN(D21)-FIND(\",\",D21)),\"\")","v":""},{"$f":"IFERROR(RIGHT(D29,LEN(D29)-FIND(\",\",D29)),\"\")","v":""},{"$f":"E26","v":0},{"$f":"IFERROR(RIGHT(E41,LEN(E41)-FIND(\",\",E41)),\"\")","v":""},{"$f":"IFERROR(RIGHT(E57,LEN(E57)-FIND(\",\",E57)),\"\")","v":""},{"$f":"F50","v":0},"x",null,null,"x"]
[32,null,null,null,null,null,null,null,null,null,{"$f":"IF(H6=\"\",VLOOKUP(K2,$F:$G,2,FALSE),H6)","v":0},3,null,{"$f":"_m1&_cl2&lfi(C3)&_cle&sc(C4)","v":"-------------------- [color=\"#000075\"][/color] [b][/b]"},null,null,null,null,null,null,null,null,null,null,null,null,null,null,{"$f":"_m1&_cl2&\"[b]\"&lfi(F17)&\"[/b]\"&_cle& \" \" & sc(F18)","v":"-------------------- [color=\"#000075\"][b][/b][/color]  [b][/b]"},null,null,null,null,null,null,null,null,null,null,null,null,null,null,null,null,null,null,null,null,{"$f":"IFERROR(RIGHT(B10,LEN(B10)-FIND(\",\",B10)),\"\")","v":""},{"$f":"IFERROR(RIGHT(B12,LEN(B12)-FIND(\",\",B12)),\"\")","v":""},{"$f":"C12","v":0},{"$f":"IFERROR(RIGHT(C19,LEN(C19)-FIND(\",\",C19)),\"\")","v":""},{"$f":"IFERROR(RIGHT(C23,LEN(C23)-FIND(\",\",C23)),\"\")","v":""},{"$f":"D22","v":0},{"$f":"IFERROR(RIGHT(D37,LEN(D37)-FIND(\",\",D37)),\"\")","v":""},{"$f":"IFERROR(RIGHT(D45,LEN(D45)-FIND(\",\",D45)),\"\")","v":""},{"$f":"E42","v":0},"x"]
[null,null,null,{"$f":"IF(D6=\"\",\"\",IF(LEFT(D6)>RIGHT(D6),C3,C7))","v":""},{"$f":"IF(D6=\"\",\"\",IF(LEFT(D6)<RIGHT(D6),C3,C7))","v":""},null,{"$f":"G17","v":""},null,null,null,{"$f":"IF(I6=\"\",VLOOKUP(K3,$F:$G,2,FALSE),I6)","v":0},4,null,{"$f":"\"[b]\"&$A4&\"[/b]. \"&_cl1&lfi(B4)&_cle","v":"[b]32[/b]. [color=\"#990000\"][/color] "},null,null,null,null,null,null,null,null,null,null,null,null,null,null,{"$f":"_cl1&lfi(E25)&_cle","v":"[color=\"#990000\"][/color] "},null,null,null,null,null,null,null,null,null,null,null,null,null,null,null,null,null,null,null,null,{"$f":"IFERROR(RIGHT(B14,LEN(B14)-FIND(\",\",B14)),\"\")","v":""},{"$f":"IFERROR(RIGHT(B16,LEN(B16)-FIND(\",\",B16)),\"\")","v":""},{"$f":"C16","v":0},{"$f":"IFERROR(RIGHT(C27,LEN(C27)-FIND(\",\",C27)),\"\")","v":""},{"$f":"IFERROR(RIGHT(C31,LEN(C31)-FIND(\",\",C31)),\"\")","v":""},{"$f":"D30","v":0},{"$f":"IFERROR(RIGHT(D53,LEN(D53)-FIND(\",\",D53)),\"\")","v":""},{"$f":"IFERROR(RIGHT(D61,LEN(D61)-FIND(\",\",D61)),\"\")","v":""},{"$f":"E58","v":0}]
[17,null,null,null,null,null,{"$f":"REPT(\"-\",20)","v":"--------------------"},{"$f":"IF(H7=\"\",\"\",IF(LEFT(H7)>RIGHT(H7),G5,G7))","v":""},{"$f":"IF(H6=\"\",\"\",IF(G7=H6,G5,G7))","v":""},null,{"$f":"VLOOKUP(K2,$E:$F,2,FALSE)","v":0},5,null,{"$f":"_m2&_cl3&lfi(D5)&_cle&sc(D6)","v":"---------------------------------------- [color=\"#009900\"][/color] [b][/b]"},null,null,null,null,null,null,null,null,null,null,null,null,null,null,null,null,null,null,null,null,null,null,null,null,null,null,null,null,null,null,null,null,null,null,null,{"$f":"IFERROR(RIGHT(B18,LEN(B18)-FIND(\",\",B18)),\"\")","v":""},{"$f":"IFERROR(RIGHT(B20,LEN(B20)-FIND(\",\",B20)),\"\")","v":""},{"$f":"C20","v":0},{"$f":"IFERROR(RIGHT(C35,LEN(C35)-FIND(\",\",C35)),\"\")","v":""},{"$f":"IFERROR(RIGHT(C39,LEN(C39)-FIND(\",\",C39)),\"\")","v":""},{"$f":"D38","v":0},"x"]
[null,null,{"$f":"IF(C8=\"\",\"\",IF(LEFT(C8)>RIGHT(C8),B6,B8))","v":""},{"$f":"IF(C7=\"\",\"\",IF(B8=C7,B6,B8))","v":""},null,null,{"$f":"G49","v":""},null,null,null,{"$f":"VLOOKUP(K3,$E:$F,2,FALSE)","v":0},6,null,{"$f":"\"[b]\"&$A6&\"[/b]. \"&cl1x&lfi(B6)&clex","v":"[b]17[/b]. [color=\"#cc5000\"][i][/i][/color] "},null,null,null,null,null,null,null,null,null,null,null,null,null,null,{"$f":"cl1x&lfi(E41)&clex","v":"[color=\"#cc5000\"][i][/i][/color] "},null,null,null,null,null,null,null,null,null,null,null,null,null,null,null,null,null,null,null,null,{"$f":"IFERROR(RIGHT(B22,LEN(B22)-FIND(\",\",B22)),\"\")","v":""},{"$f":"IFERROR(RIGHT(B24,LEN(B24)-FIND(\",\",B24)),\"\")","v":""},{"$f":"C24","v":0},{"$f":"IFERROR(RIGHT(C43,LEN(C43)-FIND(\",\",C43)),\"\")","v":""},{"$f":"IFERROR(RIGHT(C47,LEN(C47)-FIND(\",\",C47)),\"\")","v":""},{"$f":"D46","v":0}]
[16,null,null,null,null,null,null,null,null,null,{"$f":"VLOOKUP(K4,$E:$F,2,FALSE)","v":{"$error":"#N/A"}},7,null,{"$f":"_m1&_cl2&lfi(C7)&_cle&sc(C8)","v":"-------------------- [color=\"#000075\"][/color] [b][/b]"},null,null,null,null,null,null,null,null,null,null,null,null,null,null,{"$f":"_m1&_cl2&\"[b]\"&lfi(F49)&\"[/b]\"&_cle& \" \" & sc(F50)","v":"-------------------- [color=\"#000075\"][b][/b][/color]  [b][/b]"},null,null,null,null,null,null,null,null,null,null,null,null,null,null,null,null,null,null,null,null,{"$f":"IFERROR(RIGHT(B26,LEN(B26)-FIND(\",\",B26)),\"\")","v":""},{"$f":"IFERROR(RIGHT(B28,LEN(B28)-FIND(\",\",B28)),\"\")","v":""},{"$f":"C28","v":0},{"$f":"IFERROR(RIGHT(C51,LEN(C51)-FIND(\",\",C51)),\"\")","v":""},{"$f":"IFERROR(RIGHT(C55,LEN(C55)-FIND(\",\",C55)),\"\")","v":""},{"$f":"D54","v":0}]
[null,null,null,null,{"$f":"IF(E10=\"\",\"\",IF(LEFT(E10)>RIGHT(E10),D5,D13))","v":""},{"$f":"IF(E9=\"\",\"\",IF(D13=E9,D5,D13))","v":""},null,{"$f":"\"Finala mica - \" & ctg","v":"Finala mica - categorie"},null,null,{"$f":"VLOOKUP(K5,$E:$F,2,FALSE)","v":{"$error":"#N/A"}},8,null,{"$f":"\"[b]\"&$A8&\"[/b]. \"&cl1x&lfi(B8)&clex","v":"[b]16[/b]. [color=\"#cc5000\"][i][/i][/color] "},null,null,null,null,null,null,null,null,null,null,null,null,null,null,{"$f":"cl1x&lfi(E57)&clex","v":"[color=\"#cc5000\"][i][/i][/color] "},null,null,null,null,null,null,null,null,null,null,null,null,null,null,null,null,null,null,null,null,{"$f":"IFERROR(RIGHT(B30,LEN(B30)-FIND(\",\",B30)),\"\")","v":""},{"$f":"IFERROR(RIGHT(B32,LEN(B32)-FIND(\",\",B32)),\"\")","v":""},{"$f":"C32","v":0},{"$f":"IFERROR(RIGHT(C59,LEN(C59)-FIND(\",\",C59)),\"\")","v":""},{"$f":"IFERROR(RIGHT(C63,LEN(C63)-FIND(\",\",C63)),\"\")","v":""},{"$f":"D62","v":0}]
[9,null,null,null,null,null,null,null,null,null,{"$f":"VLOOKUP(K2,$D:$E,2,FALSE)","v":0},9,null,{"$f":"_m3&_cl4&lfi(E9)&_cle&sc(E10)","v":"------------------------------------------------------------ [color=\"#6900af\"][/color] [b][/b]"},null,null,null,null,null,null,null,null,null,null,null,null,null,null,null,null,null,null,null,null,null,null,null,null,null,null,null,null,null,null,null,null,null,null,null,{"$f":"IFERROR(RIGHT(B34,LEN(B34)-FIND(\",\",B34)),\"\")","v":""},{"$f":"IFERROR(RIGHT(B36,LEN(B36)-FIND(\",\",B36)),\"\")","v":""},{"$f":"C36","v":0},"x"]
[null,null,{"$f":"IF(C12=\"\",\"\",IF(LEFT(C12)>RIGHT(C12),B10,B12))","v":""},{"$f":"IF(C11=\"\",\"\",IF(B12=C11,B10,B12))","v":""},null,null,null,null,null,null,{"$f":"VLOOKUP(K3,$D:$E,2,FALSE)","v":0},10,null,{"$f":"\"[b]\"&$A10&\"[/b]. \"&_cl1&lfi(B10)&_cle","v":"[b]9[/b]. [color=\"#990000\"][/color] "},null,null,null,null,null,null,null,null,null,null,null,null,null,null,{"$f":"\"[b]\"&clr & \"Finala - \" & _cle & ctg & \"[/b]\"","v":"[b][color=red]Finala - [/color] categorie[/b]"},null,null,null,null,null,null,null,null,null,null,null,null,null,null,null,null,null,null,null,null,{"$f":"IFERROR(RIGHT(B38,LEN(B38)-FIND(\",\",B38)),\"\")","v":""},{"$f":"IFERROR(RIGHT(B40,LEN(B40)-FIND(\",\",B40)),\"\")","v":""},{"$f":"C40","v":0},{"$f":"IFERROR(RIGHT(#REF!,LEN(#REF!)-FIND(\",\",#REF!)),\"\")","v":""}]
[24,null,null,null,null,null,null,null,null,null,{"$error":"#N/A"},11,null,{"$f":"_m1&cl2x&lfi(C11)&clex&sc(C12)","v":"-------------------- [color=\"#4040FF\"][i][/i][/color] [b][/b]"},null,null,null,null,null,null,null,null,null,null,null,null,null,null,null,null,null,null,null,null,null,null,null,null,null,null,null,null,null,null,null,null,null,null,null,{"$f":"IFERROR(RIGHT(B42,LEN(B42)-FIND(\",\",B42)),\"\")","v":""},{"$f":"IFERROR(RIGHT(B44,LEN(B44)-FIND(\",\",B44)),\"\")","v":""},{"$f":"C44","v":0}]
[null,null,null,{"$f":"IF(D14=\"\",\"\",IF(LEFT(D14)>RIGHT(D14),C11,C15))","v":""},{"$f":"IF(D14=\"\",\"\",IF(LEFT(D14)<RIGHT(D14),C11,C15))","v":""},null,null,null,null,null,{"$error":"#N/A"},12,null,{"$f":"\"[b]\"&$A12&\"[/b]. \"&_cl1&lfi(B12)&_cle","v":"[b]24[/b]. [color=\"#990000\"][/color] "},null,null,null,null,null,null,null,null,null,null,null,null,null,null,{"$f":"_cl2&lfi($F$17)&_cle","v":"[color=\"#000075\"][/color] "},null,null,null,null,null,null,null,null,null,null,null,null,null,null,null,null,null,null,null,null,{"$f":"IFERROR(RIGHT(B46,LEN(B46)-FIND(\",\",B46)),\"\")","v":""},{"$f":"IFERROR(RIGHT(B48,LEN(B48)-FIND(\",\",B48)),\"\")","v":""},{"$f":"C48","v":0}]
[25,null,null,null,null,null,null,null,null,null,{"$error":"#N/A"},13,null,{"$f":"_m2&_cl3&lfi(D13)&_cle&sc(D14)","v":"---------------------------------------- [color=\"#009900\"][/color] [b][/b]"},null,null,null,null,null,null,null,null,null,null,null,null,null,null,{"$f":"_m1&clr&\"[b]\"&lfi($G$33)&\"[/b]\"&_cle& \" \" & sc($G$34)","v":"-------------------- [color=red][b][/b][/color]  [b][/b]"},null,null,null,null,null,null,null,null,null,null,null,null,null,null,null,null,null,null,null,null,{"$f":"IFERROR(RIGHT(B50,LEN(B50)-FIND(\",\",B50)),\"\")","v":""},{"$f":"IFERROR(RIGHT(B52,LEN(B52)-FIND(\",\",B52)),\"\")","v":""},{"$f":"C52","v":0}]
[null,null,{"$f":"IF(C16=\"\",\"\",IF(LEFT(C16)>RIGHT(C16),B14,B16))","v":""},{"$f":"IF(C15=\"\",\"\",IF(B16=C15,B14,B16))","v":""},null,null,null,null,null,null,{"$error":"#N/A"},14,null,{"$f":"\"[b]\"&$A14&\"[/b]. \"&cl1x&lfi(B14)&clex","v":"[b]25[/b]. [color=\"#cc5000\"][i][/i][/color] "},null,null,null,null,null,null,null,null,null,null,null,null,null,null,{"$f":"_cl2&lfi($F$49)&_cle","v":"[color=\"#000075\"][/color] "},null,null,null,null,null,null,null,null,null,null,null,null,null,null,null,null,null,null,null,null,{"$f":"IFERROR(RIGHT(B54,LEN(B54)-FIND(\",\",B54)),\"\")","v":""},{"$f":"IFERROR(RIGHT(B56,LEN(B56)-FIND(\",\",B56)),\"\")","v":""},{"$f":"C56","v":0}]
[8,null,null,null,null,null,null,null,null,null,{"$error":"#N/A"},15,null,{"$f":"_m1&cl2x&lfi(C15)&clex&sc(C16)","v":"-------------------- [color=\"#4040FF\"][i][/i][/color] [b][/b]"},null,null,null,null,null,null,null,null,null,null,null,null,null,null,null,null,null,null,null,null,null,null,null,null,null,null,null,null,null,null,null,null,null,null,null,{"$f":"IFERROR(RIGHT(B58,LEN(B58)-FIND(\",\",B58)),\"\")","v":""},{"$f":"IFERROR(RIGHT(B60,LEN(B60)-FIND(\",\",B60)),\"\")","v":""},{"$f":"C60","v":0},null,null,null,{"$f":"IFERROR(RIGHT(D32,LEN(D32)-FIND(\",\",D32)),\"\")","v":""}]
[null,null,null,null,null,{"$f":"IF(F18=\"\",\"\",IF(LEFT(F18)>RIGHT(F18),E9,E25))","v":""},{"$f":"IF(F17=\"\",\"\",IF(E25=F17,E9,E25))","v":""},null,null,null,{"$error":"#N/A"},16,null,{"$f":"\"[b]\"&$A16&\"[/b]. \"&cl1x&lfi(B16)&clex","v":"[b]8[/b]. [color=\"#cc5000\"][i][/i][/color] "},null,null,null,null,null,null,null,null,null,null,null,null,null,null,{"$f":"\"[b]\"&clr & \"Finala mica - \" & _cle & ctg & \"[/b]\"","v":"[b][color=red]Finala mica - [/color] categorie[/b]"},null,null,null,null,null,null,null,null,null,null,null,null,null,null,null,null,null,null,null,null,{"$f":"IFERROR(RIGHT(B62,LEN(B62)-FIND(\",\",B62)),\"\")","v":""},{"$f":"IFERROR(RIGHT(B64,LEN(B64)-FIND(\",\",B64)),\"\")","v":""},{"$f":"C64","v":0}]
[5,null,null,null,null,null,null,null,null,null,{"$f":"VLOOKUP(K2,$C:$D,2,FALSE)","v":""},17,null,{"$f":"_m4&_cl1&\"[b]\"&lfi(F17)&\"[/b]\"&_cle&sc(F18)","v":"-------------------------------------------------------------------------------- [color=\"#990000\"][b][/b][/color] [b][/b]"},null,null,null,null,null,null,null,null,null,null,null,null,null,null,null,null,null,null,null,null,null,null,null,null,null,null,null,null,null,null,null,null,null,null,null,"x"]
[null,null,{"$f":"IF(C20=\"\",\"\",IF(LEFT(C20)>RIGHT(C20),B18,B20))","v":""},{"$f":"IF(C19=\"\",\"\",IF(B20=C19,B18,B20))","v":""},null,"SF 1",null,null,null,null,{"$f":"VLOOKUP(K3,$C:$D,2,FALSE)","v":""},18,null,{"$f":"\"[b]\"&$A18&\"[/b]. \"&_cl1&lfi(B18)&_cle","v":"[b]5[/b]. [color=\"#990000\"][/color] "},null,null,null,null,null,null,null,null,null,null,null,null,null,null,{"$f":"_cl3&lfi($G$5)&_cle","v":"[color=\"#009900\"][/color] "}]
[28,null,null,null,null,null,null,null,null,null,{"$error":"#N/A"},19,null,{"$f":"_m1&_cl2&lfi(C19)&_cle&sc(C20)","v":"-------------------- [color=\"#000075\"][/color] [b][/b]"},null,null,null,null,null,null,null,null,null,null,null,null,null,null,{"$f":"_m1&clr&\"[b]\"&lfi($H$6)&\"[/b]\"&_cle& \" \" & sc($H$7)","v":"-------------------- [color=red][b][/b][/color]  [b][/b]"}]
[null,null,null,{"$f":"IF(D22=\"\",\"\",IF(LEFT(D22)>RIGHT(D22),C19,C23))","v":""},{"$f":"IF(D22=\"\",\"\",IF(LEFT(D22)<RIGHT(D22),C19,C23))","v":""},null,null,null,null,null,{"$error":"#N/A"},20,null,{"$f":"\"[b]\"&$A20&\"[/b]. \"&_cl1&lfi(B20)&_cle","v":"[b]28[/b]. [color=\"#990000\"][/color] "},null,null,null,null,null,null,null,null,null,null,null,null,null,null,{"$f":"_cl3&lfi($G$7)&_cle","v":"[color=\"#009900\"][/color] "}]
[21,null,null,null,null,null,null,null,null,null,{"$error":"#N/A"},21,null,{"$f":"_m2&cl3x&lfi(D21)&clex&sc(D22)","v":"---------------------------------------- [color=\"#00DC00\"][i][/i][/color] [b][/b]"}]
[null,null,{"$f":"IF(C24=\"\",\"\",IF(LEFT(C24)>RIGHT(C24),B22,B24))","v":""},{"$f":"IF(C23=\"\",\"\",IF(B24=C23,B22,B24))","v":""},null,null,null,null,null,null,{"$error":"#N/A"},22,null,{"$f":"\"[b]\"&$A22&\"[/b]. \"&cl1x&lfi(B22)&clex","v":"[b]21[/b]. [color=\"#cc5000\"][i][/i][/color] "}]
[12,null,null,null,null,null,null,null,null,null,{"$error":"#N/A"},23,null,{"$f":"_m1&_cl2&lfi(C23)&_cle&sc(C24)","v":"-------------------- [color=\"#000075\"][/color] [b][/b]"}]
[null,null,null,null,{"$f":"IF(E26=\"\",\"\",IF(LEFT(E26)>RIGHT(E26),D21,D29))","v":""},{"$f":"IF(E25=\"\",\"\",IF(D29=E25,D21,D29))","v":""},null,null,null,null,{"$error":"#N/A"},24,null,{"$f":"\"[b]\"&$A24&\"[/b]. \"&cl1x&lfi(B24)&clex","v":"[b]12[/b]. [color=\"#cc5000\"][i][/i][/color] "}]
[13,null,null,null,null,null,null,null,null,null,{"$error":"#N/A"},25,null,{"$f":"_m3&_cl4&lfi(E25)&_cle&sc(E26)","v":"------------------------------------------------------------ [color=\"#6900af\"][/color] [b][/b]"}]
[null,null,{"$f":"IF(C28=\"\",\"\",IF(LEFT(C28)>RIGHT(C28),B26,B28))","v":""},{"$f":"IF(C27=\"\",\"\",IF(B28=C27,B26,B28))","v":""},null,null,null,null,null,null,{"$error":"#N/A"},26,null,{"$f":"\"[b]\"&$A26&\"[/b]. \"&_cl1&lfi(B26)&_cle","v":"[b]13[/b]. [color=\"#990000\"][/color] "}]
[20,null,null,null,null,null,null,null,null,null,{"$error":"#N/A"},27,null,{"$f":"_m1&cl2x&lfi(C27)&clex&sc(C28)","v":"-------------------- [color=\"#4040FF\"][i][/i][/color] [b][/b]"}]
[null,null,null,{"$f":"IF(D30=\"\",\"\",IF(LEFT(D30)>RIGHT(D30),C27,C31))","v":""},{"$f":"IF(D30=\"\",\"\",IF(LEFT(D30)<RIGHT(D30),C27,C31))","v":""},null,null,null,null,null,{"$error":"#N/A"},28,null,{"$f":"\"[b]\"&$A28&\"[/b]. \"&_cl1&lfi(B28)&_cle","v":"[b]20[/b]. [color=\"#990000\"][/color] "}]
[29,null,null,null,null,null,null,null,null,null,{"$error":"#N/A"},29,null,{"$f":"_m2&cl3x&lfi(D29)&clex&sc(D30)","v":"---------------------------------------- [color=\"#00DC00\"][i][/i][/color] [b][/b]"}]
[null,null,{"$f":"IF(C32=\"\",\"\",IF(LEFT(C32)>RIGHT(C32),B30,B32))","v":""},{"$f":"IF(C31=\"\",\"\",IF(B32=C31,B30,B32))","v":""},null,null,null,null,null,null,{"$error":"#N/A"},30,null,{"$f":"\"[b]\"&$A30&\"[/b]. \"&cl1x&lfi(B30)&clex","v":"[b]29[/b]. [color=\"#cc5000\"][i][/i][/color] "}]
[4,null,null,null,null,null,null,null,null,null,{"$error":"#N/A"},31,null,{"$f":"_m1&cl2x&lfi(C31)&clex&sc(C32)","v":"-------------------- [color=\"#4040FF\"][i][/i][/color] [b][/b]"}]
[{"$f":"\"Eliminatorii \" & ctg & \" - page 2\"","v":"Eliminatorii categorie - page 2"},null,null,null,null,null,{"$f":"IF(G34=\"\",\"\",IF(LEFT(G34)>RIGHT(G34),F17,F49))","v":""},{"$f":"IF(G33=\"\",\"\",IF(F49=G33,F17,F49))","v":""},null,null,{"$error":"#N/A"},32,null,{"$f":"\"[b]\"&$A32&\"[/b]. \"&cl1x&lfi(B32)&clex","v":"[b]4[/b]. [color=\"#cc5000\"][i][/i][/color] "}]
[3]
[null,null,{"$f":"IF(C36=\"\",\"\",IF(LEFT(C36)>RIGHT(C36),B34,B36))","v":""},{"$f":"IF(C35=\"\",\"\",IF(B36=C35,B34,B36))","v":""},null,null,"Finala",null,null,null,null,null,null,{"$f":"_m5&clr&\"[b]\"&lfi(G33)&\"[/b]\"&_cle&sc(G34)","v":"---------------------------------------------------------------------------------------------------- [color=red][b][/b][/color] [b][/b]"}]
[30]
[null,null,null,{"$f":"IF(D38=\"\",\"\",IF(LEFT(D38)>RIGHT(D38),C35,C39))","v":""},{"$f":"IF(D38=\"\",\"\",IF(LEFT(D38)<RIGHT(D38),C35,C39))","v":""},null,null,null,null,null,null,null,null,{"$f":"\"[b]\"&$A34&\"[/b]. \"&_cl1&lfi(B34)&_cle","v":"[b]3[/b]. [color=\"#990000\"][/color] "}]
[19,null,null,null,null,null,null,null,null,null,null,null,null,{"$f":"_m1&_cl2&lfi(C35)&_cle&sc(C36)","v":"-------------------- [color=\"#000075\"][/color] [b][/b]"}]
[null,null,{"$f":"IF(C40=\"\",\"\",IF(LEFT(C40)>RIGHT(C40),B38,B40))","v":""},{"$f":"IF(C39=\"\",\"\",IF(B40=C39,B38,B40))","v":""},null,null,null,null,null,null,null,null,null,{"$f":"\"[b]\"&$A36&\"[/b]. \"&_cl1&lfi(B36)&_cle","v":"[b]30[/b]. [color=\"#990000\"][/color] "}]
[14,null,null,null,null,null,null,null,null,null,null,null,null,{"$f":"_m2&_cl3&lfi(D37)&_cle&sc(D38)","v":"---------------------------------------- [color=\"#009900\"][/color] [b][/b]"}]
[null,null,null,null,{"$f":"IF(E42=\"\",\"\",IF(LEFT(E42)>RIGHT(E42),D37,D45))","v":""},{"$f":"IF(E41=\"\",\"\",IF(D45=E41,D37,D45))","v":""},null,null,null,null,null,null,null,{"$f":"\"[b]\"&$A38&\"[/b]. \"&cl1x&lfi(B38)&clex","v":"[b]19[/b]. [color=\"#cc5000\"][i][/i][/color] "}]
[11,null,null,null,null,null,null,null,null,null,null,null,null,{"$f":"_m1&_cl2&lfi(C39)&_cle&sc(C40)","v":"-------------------- [color=\"#000075\"][/color] [b][/b]"}]
[null,null,{"$f":"IF(C44=\"\",\"\",IF(LEFT(C44)>RIGHT(C44),B42,B44))","v":""},{"$f":"IF(C43=\"\",\"\",IF(B44=C43,B42,B44))","v":""},null,null,null,null,null,null,null,null,null,{"$f":"\"[b]\"&$A40&\"[/b]. \"&cl1x&lfi(B40)&clex","v":"[b]14[/b]. [color=\"#cc5000\"][i][/i][/color] "}]
[22,null,null,null,null,null,null,null,null,null,null,null,null,{"$f":"_m3&cl4x&lfi(E41)&clex&sc(E42)","v":"------------------------------------------------------------ [color=\"#bd5dff\"][i][/i][/color] [b][/b]"}]
[null,null,null,{"$f":"IF(D46=\"\",\"\",IF(LEFT(D46)>RIGHT(D46),C43,C47))","v":""},{"$f":"IF(D46=\"\",\"\",IF(LEFT(D46)<RIGHT(D46),C43,C47))","v":""},null,null,null,null,null,null,null,null,{"$f":"\"[b]\"&$A42&\"[/b]. \"&_cl1&lfi(B42)&_cle","v":"[b]11[/b]. [color=\"#990000\"][/color] "}]
[27,null,null,null,null,null,null,null,null,null,null,null,null,{"$f":"_m1&cl2x&lfi(C43)&clex&sc(C44)","v":"-------------------- [color=\"#4040FF\"][i][/i][/color] [b][/b]"}]
[null,null,{"$f":"IF(C48=\"\",\"\",IF(LEFT(C48)>RIGHT(C48),B46,B48))","v":""},{"$f":"IF(C47=\"\",\"\",IF(B48=C47,B46,B48))","v":""},null,null,null,null,null,null,null,null,null,{"$f":"\"[b]\"&$A44&\"[/b]. \"&_cl1&lfi(B44)&_cle","v":"[b]22[/b]. [color=\"#990000\"][/color] "}]
[6,null,null,null,null,null,null,null,null,null,null,null,null,{"$f":"_m2&_cl3&lfi(D45)&_cle&sc(D46)","v":"---------------------------------------- [color=\"#009900\"][/color] [b][/b]"}]
[null,null,null,null,null,{"$f":"IF(F50=\"\",\"\",IF(LEFT(F50)>RIGHT(F50),E41,E57))","v":""},{"$f":"IF(F49=\"\",\"\",IF(E57=F49,E41,E57))","v":""},null,null,null,null,null,null,{"$f":"\"[b]\"&$A46&\"[/b]. \"&cl1x&lfi(B46)&clex","v":"[b]27[/b]. [color=\"#cc5000\"][i][/i][/color] "}]
[7,null,null,null,null,null,null,null,null,null,null,null,null,{"$f":"_m1&cl2x&lfi(C47)&clex&sc(C48)","v":"-------------------- [color=\"#4040FF\"][i][/i][/color] [b][/b]"}]
[null,null,{"$f":"IF(C52=\"\",\"\",IF(LEFT(C52)>RIGHT(C52),B50,B52))","v":""},{"$f":"IF(C51=\"\",\"\",IF(B52=C51,B50,B52))","v":""},null,"SF 2",null,null,null,null,null,null,null,{"$f":"\"[b]\"&$A48&\"[/b]. \"&cl1x&lfi(B48)&clex","v":"[b]6[/b]. [color=\"#cc5000\"][i][/i][/color] "}]
[26,null,null,null,null,null,null,null,null,null,null,null,null,{"$f":"_m4&_cl1&\"[b]\"&lfi(F49)&\"[/b]\"&_cle&sc(F50)","v":"-------------------------------------------------------------------------------- [color=\"#990000\"][b][/b][/color] [b][/b]"}]
[null,null,null,{"$f":"IF(D54=\"\",\"\",IF(LEFT(D54)>RIGHT(D54),C51,C55))","v":""},{"$f":"IF(D54=\"\",\"\",IF(LEFT(D54)<RIGHT(D54),C51,C55))","v":""},null,null,null,null,null,null,null,null,{"$f":"\"[b]\"&$A50&\"[/b]. \"&_cl1&lfi(B50)&_cle","v":"[b]7[/b]. [color=\"#990000\"][/color] "}]
[23,null,null,null,null,null,null,null,null,null,null,null,null,{"$f":"_m1&_cl2&lfi(C51)&_cle&sc(C52)","v":"-------------------- [color=\"#000075\"][/color] [b][/b]"}]
[null,null,{"$f":"IF(C56=\"\",\"\",IF(LEFT(C56)>RIGHT(C56),B54,B56))","v":""},{"$f":"IF(C55=\"\",\"\",IF(B56=C55,B54,B56))","v":""},null,null,null,null,null,null,null,null,null,{"$f":"\"[b]\"&$A52&\"[/b]. \"&_cl1&lfi(B52)&_cle","v":"[b]26[/b]. [color=\"#990000\"][/color] "}]
[10,null,null,null,null,null,null,null,null,null,null,null,null,{"$f":"_m2&cl3x&lfi(D53)&clex&sc(D54)","v":"---------------------------------------- [color=\"#00DC00\"][i][/i][/color] [b][/b]"}]
[null,null,null,null,{"$f":"IF(E58=\"\",\"\",IF(LEFT(E58)>RIGHT(E58),D53,D61))","v":""},{"$f":"IF(E57=\"\",\"\",IF(D61=E57,D53,D61))","v":""},null,null,null,null,null,null,null,{"$f":"\"[b]\"&$A54&\"[/b]. \"&cl1x&lfi(B54)&clex","v":"[b]23[/b]. [color=\"#cc5000\"][i][/i][/color] "}]
[15,null,null,null,null,null,null,null,null,null,null,null,null,{"$f":"_m1&_cl2&lfi(C55)&_cle&sc(C56)","v":"-------------------- [color=\"#000075\"][/color] [b][/b]"}]
[null,null,{"$f":"IF(C60=\"\",\"\",IF(LEFT(C60)>RIGHT(C60),B58,B60))","v":""},{"$f":"IF(C59=\"\",\"\",IF(B60=C59,B58,B60))","v":""},null,null,null,null,null,null,null,null,null,{"$f":"\"[b]\"&$A56&\"[/b]. \"&cl1x&lfi(B56)&clex","v":"[b]10[/b]. [color=\"#cc5000\"][i][/i][/color] "}]
[18,null,null,null,null,null,null,null,null,null,null,null,null,{"$f":"_m3&cl4x&lfi(E57)&clex&sc(E58)","v":"------------------------------------------------------------ [color=\"#bd5dff\"][i][/i][/color] [b][/b]"}]
[null,null,null,{"$f":"IF(D62=\"\",\"\",IF(LEFT(D62)>RIGHT(D62),C59,C63))","v":""},{"$f":"IF(D62=\"\",\"\",IF(LEFT(D62)<RIGHT(D62),C59,C63))","v":""},null,null,null,null,null,null,null,null,{"$f":"\"[b]\"&$A58&\"[/b]. \"&_cl1&lfi(B58)&_cle","v":"[b]15[/b]. [color=\"#990000\"][/color] "}]
[31,null,null,null,null,null,null,null,null,null,null,null,null,{"$f":"_m1&cl2x&lfi(C59)&clex&sc(C60)","v":"-------------------- [color=\"#4040FF\"][i][/i][/color] [b][/b]"}]
[null,null,{"$f":"IF(C64=\"\",\"\",IF(LEFT(C64)>RIGHT(C64),B62,B64))","v":""},{"$f":"IF(C63=\"\",\"\",IF(B64=C63,B62,B64))","v":""},null,null,null,null,null,null,null,null,null,{"$f":"\"[b]\"&$A60&\"[/b]. \"&_cl1&lfi(B60)&_cle","v":"[b]18[/b]. [color=\"#990000\"][/color] "}]
[2,null,null,null,null,null,null,null,null,null,null,null,null,{"$f":"_m2&cl3x&lfi(D61)&clex&sc(D62)","v":"---------------------------------------- [color=\"#00DC00\"][i][/i][/color] [b][/b]"}]
[null,null,null,null,null,null,null,null,null,null,null,null,null,{"$f":"\"[b]\"&$A62&\"[/b]. \"&cl1x&lfi(B62)&clex","v":"[b]31[/b]. [color=\"#cc5000\"][i][/i][/color] "}]
[null,null,null,null,null,null,null,null,null,null,null,null,null,{"$f":"_m1&cl2x&lfi(C63)&clex&sc(C64)","v":"-------------------- [color=\"#4040FF\"][i][/i][/color] [b][/b]"}]
[null,null,null,null,null,null,null,null,null,null,null,null,null,{"$f":"\"[b]\"&$A64&\"[/b]. \"&cl1x&lfi(B64)&clex","v":"[b]2[/b]. [color=\"#cc5000\"][i][/i][/color] "}]
[]
[]
[null,null,null,null,null,null,null,null,null,null,null,null,null,{"$f":"\"[b]\"&clr & \"Finala mica - \" & _cle & ctg & \"[/b]\"","v":"[b][color=red]Finala mica - [/color] categorie[/b]"}]
[]
[null,null,null,null,null,null,null,null,null,null,null,null,null,{"$f":"_cl3&lfi($G$5)&_cle","v":"[color=\"#009900\"][/color] "}]
[null,null,null,null,null,null,null,null,null,null,null,null,null,{"$f":"_m1&clr&\"[b]\"&lfi($H$6)&\"[/b]\"&_cle& \" \" & sc($H$7)","v":"-------------------- [color=red][b][/b][/color]  [b][/b]"}]
[null,null,null,null,null,null,null,null,null,null,null,null,null,{"$f":"_cl3&lfi($G$7)&_cle","v":"[color=\"#009900\"][/color] "}]
[]
[]
[]
[]
[]
[]
[null,null,null,null,null,null,{"$f":"IF(F81=\"\",\"\",IF(E89=F81,E73,E89))","v":""}]
[]
[]
[]
[]
[]
[]
[]
[]
[]
[]
[]
[]
[]
[]
[]
[]
[]
[]
[]
[]
[]
[]
[]
[]
[]
[]
[]
[]
[]
[]
[]
[null,null,null,null,null,null,{"$f":"IF(F113=\"\",\"\",IF(E121=F113,E105,E121))","v":""}]

{"sheet":"T16","index":18,"n_rows":40,"n_cols":64,"rows_kept":40,"cut":false,"hidden":true,"merged":[]}
[{"$f":"\"Eliminatorii \" & Start!$D$1","v":"Eliminatorii categorie"},null,null,null,null,null,null,null,33,4,"SE","Loc",null,{"$f":"\"[B]\"&clr &$A1 & _cle & \"[/b]\"","v":"[B][color=red]Eliminatorii categorie[/color] [/b]"},null,null,null,null,null,null,null,null,null,null,null,null,null,null,{"$f":"\"[b]\"&clr &\"SemiFinale - \" & _cle & ctg & \"[/b]\"","v":"[b][color=red]SemiFinale - [/color] categorie[/b]"},null,null,null,null,null,null,null,null,null,null,null,null,null,null,null,null,null,null,null,null,"R16",null,null,"R8",null,null,"SF",null,null,"F",null,null,"3rd"]
[1,null,null,null,null,null,null,null,null,null,{"$f":"F17","v":""},1,null,null,null,null,null,null,null,null,null,null,null,null,null,null,null,null,null,null,null,null,null,null,null,null,null,null,null,null,null,null,null,null,null,null,null,null,null,{"$f":"IFERROR(RIGHT(B2,LEN(B2)-FIND(\",\",B2)),\"\")","v":""},{"$f":"IFERROR(RIGHT(B4,LEN(B4)-FIND(\",\",B4)),\"\")","v":""},{"$f":"C4","v":0},{"$f":"IFERROR(RIGHT(C3,LEN(C3)-FIND(\",\",C3)),\"\")","v":""},{"$f":"IFERROR(RIGHT(C7,LEN(C7)-FIND(\",\",C7)),\"\")","v":""},{"$f":"D6","v":0},{"$f":"IFERROR(RIGHT(D5,LEN(D5)-FIND(\",\",D5)),\"\")","v":""},{"$f":"IFERROR(RIGHT(D13,LEN(D13)-FIND(\",\",D13)),\"\")","v":""},{"$f":"E10","v":0},{"$f":"IFERROR(RIGHT(E9,LEN(E9)-FIND(\",\",E9)),\"\")","v":""},{"$f":"IFERROR(RIGHT(E25,LEN(E25)-FIND(\",\",E25)),\"\")","v":""},{"$f":"F18","v":0},{"$f":"IFERROR(RIGHT($G$5,LEN($G$5)-FIND(\",\",$G$5)),\"\")","v":""},{"$f":"IFERROR(RIGHT($G$7,LEN($G$7)-FIND(\",\",$G$7)),\"\")","v":""},{"$f":"$H$7","v":0}]
[null,null,{"$f":"IF(C4=\"\",\"\",IF(LEFT(C4)>RIGHT(C4),B2,B4))","v":""},{"$f":"IF(C3=\"\",\"\",IF(B4=C3,B2,B4))","v":""},null,null,null,null,null,null,{"$f":"G17","v":""},2,null,{"$f":"\"[b]\"&$A2&\"[/b]. \"&_cl1&lfi(B2)&_cle","v":"[b]1[/b]. [color=\"#990000\"][/color] "},null,null,null,null,null,null,null,null,null,null,null,null,null,null,{"$f":"_cl1&lfi(D5)&_cle","v":"[color=\"#990000\"][/color] "},null,null,null,null,null,null,null,null,null,null,null,null,null,null,null,null,null,null,null,null,{"$f":"IFERROR(RIGHT(B6,LEN(B6)-FIND(\",\",B6)),\"\")","v":""},{"$f":"IFERROR(RIGHT(B8,LEN(B8)-FIND(\",\",B8)),\"\")","v":""},{"$f":"C8","v":0},{"$f":"IFERROR(RIGHT(C11,LEN(C11)-FIND(\",\",C11)),\"\")","v":""},{"$f":"IFERROR(RIGHT(C15,LEN(C15)-FIND(\",\",C15)),\"\")","v":""},{"$f":"D14","v":0},{"$f":"IFERROR(RIGHT(D21,LEN(D21)-FIND(\",\",D21)),\"\")","v":""},{"$f":"IFERROR(RIGHT(D29,LEN(D29)-FIND(\",\",D29)),\"\")","v":""},{"$f":"E26","v":0},"x",null,null,"x"]
[16,null,null,null,null,null,null,null,null,null,{"$f":"IF(H6=\"\",VLOOKUP(K2,$E:$F,2,FALSE),H6)","v":0},3,null,{"$f":"_m1&_cl2&lfi(C3)&_cle&sc(C4)","v":"-------------------- [color=\"#000075\"][/color] [b][/b]"},null,null,null,null,null,null,null,null,null,null,null,null,null,null,{"$f":"_m1&_cl2&\"[b]\"&lfi(E9)&\"[/b]\"&_cle& \" \" & sc(E10)","v":"-------------------- [color=\"#000075\"][b][/b][/color]  [b][/b]"},null,null,null,null,null,null,null,null,null,null,null,null,null,null,null,null,null,null,null,null,{"$f":"IFERROR(RIGHT(B10,LEN(B10)-FIND(\",\",B10)),\"\")","v":""},{"$f":"IFERROR(RIGHT(B12,LEN(B12)-FIND(\",\",B12)),\"\")","v":""},{"$f":"C12","v":0},{"$f":"IFERROR(RIGHT(C19,LEN(C19)-FIND(\",\",C19)),\"\")","v":""},{"$f":"IFERROR(RIGHT(C23,LEN(C23)-FIND(\",\",C23)),\"\")","v":""},{"$f":"D22","v":0},"x"]
[null,null,null,{"$f":"IF(D6=\"\",\"\",IF(LEFT(D6)>RIGHT(D6),C3,C7))","v":""},{"$f":"IF(D6=\"\",\"\",IF(LEFT(D6)<RIGHT(D6),C3,C7))","v":""},null,{"$f":"F9","v":""},null,null,null,{"$f":"IF(I6=\"\",VLOOKUP(K3,$E:$F,2,FALSE),I6)","v":0},4,null,{"$f":"\"[b]\"&$A4&\"[/b]. \"&_cl1&lfi(B4)&_cle","v":"[b]16[/b]. [color=\"#990000\"][/color] "},null,null,null,null,null,null,null,null,null,null,null,null,null,null,{"$f":"_cl1&lfi(D13)&_cle","v":"[color=\"#990000\"][/color] "},null,null,null,null,null,null,null,null,null,null,null,null,null,null,null,null,null,null,null,null,{"$f":"IFERROR(RIGHT(B14,LEN(B14)-FIND(\",\",B14)),\"\")","v":""},{"$f":"IFERROR(RIGHT(B16,LEN(B16)-FIND(\",\",B16)),\"\")","v":""},{"$f":"C16","v":0},{"$f":"IFERROR(RIGHT(C27,LEN(C27)-FIND(\",\",C27)),\"\")","v":""},{"$f":"IFERROR(RIGHT(C31,LEN(C31)-FIND(\",\",C31)),\"\")","v":""},{"$f":"D30","v":0}]
[9,null,null,null,null,null,{"$f":"REPT(\"-\",20)","v":"--------------------"},{"$f":"IF(H7=\"\",\"\",IF(LEFT(H7)>RIGHT(H7),G5,G7))","v":""},{"$f":"IF(H6=\"\",\"\",IF(G7=H6,G5,G7))","v":""},null,{"$f":"VLOOKUP(K2,$D:$E,2,FALSE)","v":0},5,null,{"$f":"_m2&_cl3&lfi(D5)&_cle&sc(D6)","v":"---------------------------------------- [color=\"#009900\"][/color] [b][/b]"},null,null,null,null,null,null,null,null,null,null,null,null,null,null,null,null,null,null,null,null,null,null,null,null,null,null,null,null,null,null,null,null,null,null,null,{"$f":"IFERROR(RIGHT(B18,LEN(B18)-FIND(\",\",B18)),\"\")","v":""},{"$f":"IFERROR(RIGHT(B20,LEN(B20)-FIND(\",\",B20)),\"\")","v":""},{"$f":"C20","v":0},"x"]
[null,null,{"$f":"IF(C8=\"\",\"\",IF(LEFT(C8)>RIGHT(C8),B6,B8))","v":""},{"$f":"IF(C7=\"\",\"\",IF(B8=C7,B6,B8))","v":""},null,null,{"$f":"F25","v":""},null,null,null,{"$f":"VLOOKUP(K3,$D:$E,2,FALSE)","v":0},6,null,{"$f":"\"[b]\"&$A6&\"[/b]. \"&cl1x&lfi(B6)&clex","v":"[b]9[/b]. [color=\"#cc5000\"][i][/i][/color] "},null,null,null,null,null,null,null,null,null,null,null,null,null,null,{"$f":"cl1x&lfi(D21)&clex","v":"[color=\"#cc5000\"][i][/i][/color] "},null,null,null,null,null,null,null,null,null,null,null,null,null,null,null,null,null,null,null,null,{"$f":"IFERROR(RIGHT(B22,LEN(B22)-FIND(\",\",B22)),\"\")","v":""},{"$f":"IFERROR(RIGHT(B24,LEN(B24)-FIND(\",\",B24)),\"\")","v":""},{"$f":"C24","v":0},{"$f":"IFERROR(RIGHT(#REF!,LEN(#REF!)-FIND(\",\",#REF!)),\"\")","v":""}]
[8,null,null,null,null,null,null,null,null,null,{"$f":"VLOOKUP(K4,$D:$E,2,FALSE)","v":{"$error":"#N/A"}},7,null,{"$f":"_m1&_cl2&lfi(C7)&_cle&sc(C8)","v":"-------------------- [color=\"#000075\"][/color] [b][/b]"},null,null,null,null,null,null,null,null,null,null,null,null,null,null,{"$f":"_m1&_cl2&\"[b]\"&lfi(E25)&\"[/b]\"&_cle& \" \" & sc(E26)","v":"-------------------- [color=\"#000075\"][b][/b][/color]  [b][/b]"},null,null,null,null,null,null,null,null,null,null,null,null,null,null,null,null,null,null,null,null,{"$f":"IFERROR(RIGHT(B26,LEN(B26)-FIND(\",\",B26)),\"\")","v":""},{"$f":"IFERROR(RIGHT(B28,LEN(B28)-FIND(\",\",B28)),\"\")","v":""},{"$f":"C28","v":0}]
[null,null,null,null,{"$f":"IF(E10=\"\",\"\",IF(LEFT(E10)>RIGHT(E10),D5,D13))","v":""},{"$f":"IF(E9=\"\",\"\",IF(D13=E9,D5,D13))","v":""},null,{"$f":"\"Finala mica - \" & ctg","v":"Finala mica - categorie"},null,null,{"$f":"VLOOKUP(K5,$D:$E,2,FALSE)","v":{"$error":"#N/A"}},8,null,{"$f":"\"[b]\"&$A8&\"[/b]. \"&cl1x&lfi(B8)&clex","v":"[b]8[/b]. [color=\"#cc5000\"][i][/i][/color] "},null,null,null,null,null,null,null,null,null,null,null,null,null,null,{"$f":"cl1x&lfi(D29)&clex","v":"[color=\"#cc5000\"][i][/i][/color] "},null,null,null,null,null,null,null,null,null,null,null,null,null,null,null,null,null,null,null,null,{"$f":"IFERROR(RIGHT(B30,LEN(B30)-FIND(\",\",B30)),\"\")","v":""},{"$f":"IFERROR(RIGHT(B32,LEN(B32)-FIND(\",\",B32)),\"\")","v":""},{"$f":"C32","v":0}]
[5,null,null,null,null,null,null,null,null,null,{"$f":"VLOOKUP(K2,$C:$D,2,FALSE)","v":""},9,null,{"$f":"_m3&_cl4&\"[b]\"&lfi(E9)&\"[/b]\"&_cle&sc(E10)","v":"------------------------------------------------------------ [color=\"#6900af\"][b][/b][/color] [b][/b]"},null,null,null,null,null,null,null,null,null,null,null,null,null,null,null,null,null,null,null,null,null,null,null,null,null,null,null,null,null,null,null,null,null,null,null,"x"]
[null,null,{"$f":"IF(C12=\"\",\"\",IF(LEFT(C12)>RIGHT(C12),B10,B12))","v":""},{"$f":"IF(C11=\"\",\"\",IF(B12=C11,B10,B12))","v":""},null,null,null,null,null,null,"",10,null,{"$f":"\"[b]\"&$A10&\"[/b]. \"&_cl1&lfi(B10)&_cle","v":"[b]5[/b]. [color=\"#990000\"][/color] "},null,null,null,null,null,null,null,null,null,null,null,null,null,null,{"$f":"\"[b]\"&clr & \"Finala - \" & _cle & ctg & \"[/b]\"","v":"[b][color=red]Finala - [/color] categorie[/b]"}]
[12,null,null,null,null,null,null,null,null,null,{"$error":"#N/A"},11,null,{"$f":"_m1&cl2x&lfi(C11)&clex&sc(C12)","v":"-------------------- [color=\"#4040FF\"][i][/i][/color] [b][/b]"}]
[null,null,null,{"$f":"IF(D14=\"\",\"\",IF(LEFT(D14)>RIGHT(D14),C11,C15))","v":""},{"$f":"IF(D14=\"\",\"\",IF(LEFT(D14)<RIGHT(D14),C11,C15))","v":""},null,null,null,null,null,{"$error":"#N/A"},12,null,{"$f":"\"[b]\"&$A12&\"[/b]. \"&_cl1&lfi(B12)&_cle","v":"[b]12[/b]. [color=\"#990000\"][/color] "},null,null,null,null,null,null,null,null,null,null,null,null,null,null,{"$f":"_cl2&lfi($E$9)&_cle","v":"[color=\"#000075\"][/color] "}]
[13,null,null,null,null,null,null,null,null,null,{"$error":"#N/A"},13,null,{"$f":"_m2&_cl3&lfi(D13)&_cle&sc(D14)","v":"---------------------------------------- [color=\"#009900\"][/color] [b][/b]"},null,null,null,null,null,null,null,null,null,null,null,null,null,null,{"$f":"_m1&clr&\"[b]\"&lfi($F$17)&\"[/b]\"&_cle& \" \" & sc($F$18)","v":"-------------------- [color=red][b][/b][/color]  [b][/b]"},null,null,null,null,null,null,null,null,null,null,null,null,null,null,null,null,null,null,null,null,null,null,null,null,null,null,{"$f":"IFERROR(RIGHT(D32,LEN(D32)-FIND(\",\",D32)),\"\")","v":""}]
[null,null,{"$f":"IF(C16=\"\",\"\",IF(LEFT(C16)>RIGHT(C16),B14,B16))","v":""},{"$f":"IF(C15=\"\",\"\",IF(B16=C15,B14,B16))","v":""},null,null,null,null,null,null,{"$error":"#N/A"},14,null,{"$f":"\"[b]\"&$A14&\"[/b]. \"&cl1x&lfi(B14)&clex","v":"[b]13[/b]. [color=\"#cc5000\"][i][/i][/color] "},null,null,null,null,null,null,null,null,null,null,null,null,null,null,{"$f":"_cl2&lfi($E$25)&_cle","v":"[color=\"#000075\"][/color] "}]
[4,null,null,null,null,null,null,null,null,null,{"$error":"#N/A"},15,null,{"$f":"_m1&cl2x&lfi(C15)&clex&sc(C16)","v":"-------------------- [color=\"#4040FF\"][i][/i][/color] [b][/b]"}]
[null,null,null,null,null,{"$f":"IF(F18=\"\",\"\",IF(LEFT(F18)>RIGHT(F18),E9,E25))","v":""},{"$f":"IF(F17=\"\",\"\",IF(E25=F17,E9,E25))","v":""},null,null,null,{"$error":"#N/A"},16,null,{"$f":"\"[b]\"&$A16&\"[/b]. \"&cl1x&lfi(B16)&clex","v":"[b]4[/b]. [color=\"#cc5000\"][i][/i][/color] "},null,null,null,null,null,null,null,null,null,null,null,null,null,null,{"$f":"\"[b]\"&clr & \"Finala mica - \" & _cle & ctg & \"[/b]\"","v":"[b][color=red]Finala mica - [/color] categorie[/b]"}]
[3,null,null,null,null,null,null,null,null,null,null,null,null,{"$f":"_m4&clr&\"[b]\"&lfi(F17)&\"[/b]\"&_cle&sc(F18)","v":"-------------------------------------------------------------------------------- [color=red][b][/b][/color] [b][/b]"}]
[null,null,{"$f":"IF(C20=\"\",\"\",IF(LEFT(C20)>RIGHT(C20),B18,B20))","v":""},{"$f":"IF(C19=\"\",\"\",IF(B20=C19,B18,B20))","v":""},null,null,null,null,null,null,null,null,null,{"$f":"\"[b]\"&$A18&\"[/b]. \"&_cl1&lfi(B18)&_cle","v":"[b]3[/b]. [color=\"#990000\"][/color] "},null,null,null,null,null,null,null,null,null,null,null,null,null,null,{"$f":"_cl3&lfi($G$5)&_cle","v":"[color=\"#009900\"][/color] "}]
[14,null,null,null,null,null,null,null,null,null,null,null,null,{"$f":"_m1&_cl2&lfi(C19)&_cle&sc(C20)","v":"-------------------- [color=\"#000075\"][/color] [b][/b]"},null,null,null,null,null,null,null,null,null,null,null,null,null,null,{"$f":"_m1&clr&\"[b]\"&lfi($H$6)&\"[/b]\"&_cle& \" \" & sc($H$7)","v":"-------------------- [color=red][b][/b][/color]  [b][/b]"}]
[null,null,null,{"$f":"IF(D22=\"\",\"\",IF(LEFT(D22)>RIGHT(D22),C19,C23))","v":""},{"$f":"IF(D22=\"\",\"\",IF(LEFT(D22)<RIGHT(D22),C19,C23))","v":""},null,null,null,null,null,null,null,null,{"$f":"\"[b]\"&$A20&\"[/b]. \"&_cl1&lfi(B20)&_cle","v":"[b]14[/b]. [color=\"#990000\"][/color] "},null,null,null,null,null,null,null,null,null,null,null,null,null,null,{"$f":"_cl3&lfi($G$7)&_cle","v":"[color=\"#009900\"][/color] "}]
[11,null,null,null,null,null,null,null,null,null,null,null,null,{"$f":"_m2&cl3x&lfi(D21)&clex&sc(D22)","v":"---------------------------------------- [color=\"#00DC00\"][i][/i][/color] [b][/b]"}]
[null,null,{"$f":"IF(C24=\"\",\"\",IF(LEFT(C24)>RIGHT(C24),B22,B24))","v":""},{"$f":"IF(C23=\"\",\"\",IF(B24=C23,B22,B24))","v":""},null,null,null,null,null,null,null,null,null,{"$f":"\"[b]\"&$A22&\"[/b]. \"&cl1x&lfi(B22)&clex","v":"[b]11[/b]. [color=\"#cc5000\"][i][/i][/color] "}]
[6,null,null,null,null,null,null,null,null,null,null,null,null,{"$f":"_m1&_cl2&lfi(C23)&_cle&sc(C24)","v":"-------------------- [color=\"#000075\"][/color] [b][/b]"}]
[null,null,null,null,{"$f":"IF(E26=\"\",\"\",IF(LEFT(E26)>RIGHT(E26),D21,D29))","v":""},{"$f":"IF(E25=\"\",\"\",IF(D29=E25,D21,D29))","v":""},null,null,null,null,null,null,null,{"$f":"\"[b]\"&$A24&\"[/b]. \"&cl1x&lfi(B24)&clex","v":"[b]6[/b]. [color=\"#cc5000\"][i][/i][/color] "}]
[7,null,null,null,null,null,null,null,null,null,null,null,null,{"$f":"_m3&_cl4&\"[b]\"&lfi(E25)&\"[/b]\"&_cle&sc(E26)","v":"------------------------------------------------------------ [color=\"#6900af\"][b][/b][/color] [b][/b]"}]
[null,null,{"$f":"IF(C28=\"\",\"\",IF(LEFT(C28)>RIGHT(C28),B26,B28))","v":""},{"$f":"IF(C27=\"\",\"\",IF(B28=C27,B26,B28))","v":""},null,null,null,null,null,null,null,null,null,{"$f":"\"[b]\"&$A26&\"[/b]. \"&_cl1&lfi(B26)&_cle","v":"[b]7[/b]. [color=\"#990000\"][/color] "}]
[10,null,null,null,null,null,null,null,null,null,null,null,null,{"$f":"_m1&cl2x&lfi(C27)&clex&sc(C28)","v":"-------------------- [color=\"#4040FF\"][i][/i][/color] [b][/b]"}]
[null,null,null,{"$f":"IF(D30=\"\",\"\",IF(LEFT(D30)>RIGHT(D30),C27,C31))","v":""},{"$f":"IF(D30=\"\",\"\",IF(LEFT(D30)<RIGHT(D30),C27,C31))","v":""},null,null,null,null,null,null,null,null,{"$f":"\"[b]\"&$A28&\"[/b]. \"&_cl1&lfi(B28)&_cle","v":"[b]10[/b]. [color=\"#990000\"][/color] "}]
[15,null,null,null,null,null,null,null,null,null,null,null,null,{"$f":"_m2&cl3x&lfi(D29)&clex&sc(D30)","v":"---------------------------------------- [color=\"#00DC00\"][i][/i][/color] [b][/b]"}]
[null,null,{"$f":"IF(C32=\"\",\"\",IF(LEFT(C32)>RIGHT(C32),B30,B32))","v":""},{"$f":"IF(C31=\"\",\"\",IF(B32=C31,B30,B32))","v":""},null,null,null,null,null,null,null,null,null,{"$f":"\"[b]\"&$A30&\"[/b]. \"&cl1x&lfi(B30)&clex","v":"[b]15[/b]. [color=\"#cc5000\"][i][/i][/color] "}]
[2,null,null,null,null,null,null,null,null,null,null,null,null,{"$f":"_m1&cl2x&lfi(C31)&clex&sc(C32)","v":"-------------------- [color=\"#4040FF\"][i][/i][/color] [b][/b]"}]
[null,null,null,null,null,null,null,null,null,null,null,null,null,{"$f":"\"[b]\"&$A32&\"[/b]. \"&cl1x&lfi(B32)&clex","v":"[b]2[/b]. [color=\"#cc5000\"][i][/i][/color] "}]
[]
[]
[null,null,null,null,null,null,null,null,null,null,null,null,null,{"$f":"\"[b]\"&clr & \"Finala mica - \" & _cle & ctg & \"[/b]\"","v":"[b][color=red]Finala mica - [/color] categorie[/b]"}]
[]
[null,null,null,null,null,null,null,null,null,null,null,null,null,{"$f":"_cl3&lfi($G$5)&_cle","v":"[color=\"#009900\"][/color] "}]
[null,null,null,null,null,null,null,null,null,null,null,null,null,{"$f":"_m1&clr&\"[b]\"&lfi($H$6)&\"[/b]\"&_cle& \" \" & sc($H$7)","v":"-------------------- [color=red][b][/b][/color]  [b][/b]"}]
[null,null,null,null,null,null,null,null,null,null,null,null,null,{"$f":"_cl3&lfi($G$7)&_cle","v":"[color=\"#009900\"][/color] "}]

{"sheet":"T8","index":19,"n_rows":125,"n_cols":61,"rows_kept":125,"cut":false,"hidden":true,"merged":[]}
[{"$f":"\"Eliminatorii \" & Start!$D$1","v":"Eliminatorii categorie"},null,null,null,null,null,null,null,17,3,"SE","Loc",null,{"$f":"\"[B]\"&clr &$A1 & _cle & \"[/b]\"","v":"[B][color=red]Eliminatorii categorie[/color] [/b]"},null,null,null,null,null,null,null,null,null,null,null,null,null,null,null,null,null,null,null,null,null,null,null,null,null,null,null,null,null,null,null,null,null,null,null,"R8",null,null,"SF",null,null,"F",null,null,"3rd"]
[1,null,null,null,null,null,null,null,null,null,{"$f":"E9","v":""},1,null,null,null,null,null,null,null,null,null,null,null,null,null,null,null,null,null,null,null,null,null,null,null,null,null,null,null,null,null,null,null,null,null,null,null,null,null,{"$f":"IFERROR(RIGHT(B2,LEN(B2)-FIND(\",\",B2)),\"\")","v":""},{"$f":"IFERROR(RIGHT(B4,LEN(B4)-FIND(\",\",B4)),\"\")","v":""},{"$f":"C4","v":0},{"$f":"IFERROR(RIGHT(C3,LEN(C3)-FIND(\",\",C3)),\"\")","v":""},{"$f":"IFERROR(RIGHT(C7,LEN(C7)-FIND(\",\",C7)),\"\")","v":""},{"$f":"D6","v":0},{"$f":"IFERROR(RIGHT(D5,LEN(D5)-FIND(\",\",D5)),\"\")","v":""},{"$f":"IFERROR(RIGHT(D13,LEN(D13)-FIND(\",\",D13)),\"\")","v":""},{"$f":"E10","v":0},{"$f":"IFERROR(RIGHT($G$5,LEN($G$5)-FIND(\",\",$G$5)),\"\")","v":""},{"$f":"IFERROR(RIGHT($G$7,LEN($G$7)-FIND(\",\",$G$7)),\"\")","v":""},{"$f":"$H$7","v":0}]
[null,null,{"$f":"IF(C4=\"\",\"\",IF(LEFT(C4)>RIGHT(C4),B2,B4))","v":""},{"$f":"IF(C3=\"\",\"\",IF(B4=C3,B2,B4))","v":""},null,null,null,null,null,null,{"$f":"F9","v":""},2,null,{"$f":"\"[b]\"&$A2&\"[/b]. \"&_cl1&lfi(B2)&_cle","v":"[b]1[/b]. [color=\"#990000\"][/color] "},null,null,null,null,null,null,null,null,null,null,null,null,null,null,null,null,null,null,null,null,null,null,null,null,null,null,null,null,null,null,null,null,null,null,null,{"$f":"IFERROR(RIGHT(B6,LEN(B6)-FIND(\",\",B6)),\"\")","v":""},{"$f":"IFERROR(RIGHT(B8,LEN(B8)-FIND(\",\",B8)),\"\")","v":""},{"$f":"C8","v":0},{"$f":"IFERROR(RIGHT(C11,LEN(C11)-FIND(\",\",C11)),\"\")","v":""},{"$f":"IFERROR(RIGHT(C15,LEN(C15)-FIND(\",\",C15)),\"\")","v":""},{"$f":"D14","v":0},"x",null,null,"x"]
[8,null,null,null,null,null,null,null,null,null,{"$f":"IF(H6=\"\",VLOOKUP(K2,$D:$E,2,FALSE),H6)","v":0},3,null,{"$f":"_m1&_cl2&lfi(C3)&_cle&sc(C4)","v":"-------------------- [color=\"#000075\"][/color] [b][/b]"},null,null,null,null,null,null,null,null,null,null,null,null,null,null,null,null,null,null,null,null,null,null,null,null,null,null,null,null,null,null,null,null,null,null,null,{"$f":"IFERROR(RIGHT(B10,LEN(B10)-FIND(\",\",B10)),\"\")","v":""},{"$f":"IFERROR(RIGHT(B12,LEN(B12)-FIND(\",\",B12)),\"\")","v":""},{"$f":"C12","v":0},"x"]
[null,null,null,{"$f":"IF(D6=\"\",\"\",IF(LEFT(D6)>RIGHT(D6),C3,C7))","v":""},{"$f":"IF(D5=\"\",\"\",IF(C7=D5,C3,C7))","v":""},null,{"$f":"E5","v":""},null,null,null,{"$f":"IF(I6=\"\",VLOOKUP(K3,$D:$E,2,FALSE),I6)","v":0},4,null,{"$f":"\"[b]\"&$A4&\"[/b]. \"&_cl1&lfi(B4)&_cle","v":"[b]8[/b]. [color=\"#990000\"][/color] "},null,null,null,null,null,null,null,null,null,null,null,null,null,null,null,null,null,null,null,null,null,null,null,null,null,null,null,null,null,null,null,null,null,null,null,{"$f":"IFERROR(RIGHT(B14,LEN(B14)-FIND(\",\",B14)),\"\")","v":""},{"$f":"IFERROR(RIGHT(B16,LEN(B16)-FIND(\",\",B16)),\"\")","v":""},{"$f":"C16","v":0}]
[5,null,null,null,null,null,{"$f":"REPT(\"-\",20)","v":"--------------------"},{"$f":"IF(H7=\"\",\"\",IF(LEFT(H7)>RIGHT(H7),G5,G7))","v":""},{"$f":"IF(H6=\"\",\"\",IF(G7=H6,G5,G7))","v":""},null,{"$f":"VLOOKUP(K2,$C:$D,2,FALSE)","v":""},5,null,{"$f":"_m2&_cl3&\"[b]\"&lfi(D5)&\"[/b]\"&_cle&sc(D6)","v":"---------------------------------------- [color=\"#009900\"][b][/b][/color] [b][/b]"},null,null,null,null,null,null,null,null,null,null,null,null,null,null,null,null,null,null,null,null,null,null,null,null,null,null,null,null,null,null,null,null,null,null,null,"x"]
[null,null,{"$f":"IF(C8=\"\",\"\",IF(LEFT(C8)>RIGHT(C8),B6,B8))","v":""},{"$f":"IF(C7=\"\",\"\",IF(B8=C7,B6,B8))","v":""},null,null,{"$f":"E13","v":""},null,null,null,{"$f":"VLOOKUP(K3,$C:$D,2,FALSE)","v":""},6,null,{"$f":"\"[b]\"&$A6&\"[/b]. \"&cl1x&lfi(B6)&clex","v":"[b]5[/b]. [color=\"#cc5000\"][i][/i][/color] "}]
[4,null,null,null,null,null,null,null,null,null,{"$f":"VLOOKUP(K4,$C:$D,2,FALSE)","v":{"$error":"#N/A"}},7,null,{"$f":"_m1&_cl2&lfi(C7)&_cle&sc(C8)","v":"-------------------- [color=\"#000075\"][/color] [b][/b]"}]
[null,null,null,null,{"$f":"IF(E10=\"\",\"\",IF(LEFT(E10)>RIGHT(E10),D5,D13))","v":""},{"$f":"IF(E9=\"\",\"\",IF(D13=E9,D5,D13))","v":""},null,{"$f":"\"Finala mica - \" & ctg","v":"Finala mica - categorie"},null,null,{"$f":"VLOOKUP(K5,$C:$D,2,FALSE)","v":{"$error":"#N/A"}},8,null,{"$f":"\"[b]\"&$A8&\"[/b]. \"&cl1x&lfi(B8)&clex","v":"[b]4[/b]. [color=\"#cc5000\"][i][/i][/color] "}]
[3,null,null,null,null,null,null,null,null,null,null,null,null,{"$f":"_m3&clr&\"[b]\"&lfi(E9)&\"[/b]\"&_cle&sc(E10)","v":"------------------------------------------------------------ [color=red][b][/b][/color] [b][/b]"}]
[null,null,{"$f":"IF(C12=\"\",\"\",IF(LEFT(C12)>RIGHT(C12),B10,B12))","v":""},{"$f":"IF(C11=\"\",\"\",IF(B12=C11,B10,B12))","v":""},null,null,null,null,null,null,null,null,null,{"$f":"\"[b]\"&$A10&\"[/b]. \"&_cl1&lfi(B10)&_cle","v":"[b]3[/b]. [color=\"#990000\"][/color] "},null,null,null,null,null,null,null,null,null,null,null,null,null,null,{"$f":"\"[b]\"&clr & \"Finala - \" & _cle & ctg & \"[/b]\"","v":"[b][color=red]Finala - [/color] categorie[/b]"}]
[6,null,null,null,null,null,null,null,null,null,null,null,null,{"$f":"_m1&cl2x&lfi(C11)&clex&sc(C12)","v":"-------------------- [color=\"#4040FF\"][i][/i][/color] [b][/b]"}]
[null,null,null,{"$f":"IF(D14=\"\",\"\",IF(LEFT(D14)>RIGHT(D14),C11,C15))","v":""},{"$f":"IF(D13=\"\",\"\",IF(C15=D13,C11,C15))","v":""},null,null,null,null,null,null,null,null,{"$f":"\"[b]\"&$A12&\"[/b]. \"&_cl1&lfi(B12)&_cle","v":"[b]6[/b]. [color=\"#990000\"][/color] "},null,null,null,null,null,null,null,null,null,null,null,null,null,null,{"$f":"_cl2&lfi($D$5)&_cle","v":"[color=\"#000075\"][/color] "}]
[7,null,null,null,null,null,null,null,null,null,null,null,null,{"$f":"_m2&_cl3&\"[b]\"&lfi(D13)&\"[/b]\"&_cle&sc(D14)","v":"---------------------------------------- [color=\"#009900\"][b][/b][/color] [b][/b]"},null,null,null,null,null,null,null,null,null,null,null,null,null,null,{"$f":"_m1&clr&\"[b]\"&lfi($E$9)&\"[/b]\"&_cle& \" \" & sc($E$10)","v":"-------------------- [color=red][b][/b][/color]  [b][/b]"}]
[null,null,{"$f":"IF(C16=\"\",\"\",IF(LEFT(C16)>RIGHT(C16),B14,B16))","v":""},{"$f":"IF(C15=\"\",\"\",IF(B16=C15,B14,B16))","v":""},null,null,null,null,null,null,null,null,null,{"$f":"\"[b]\"&$A14&\"[/b]. \"&cl1x&lfi(B14)&clex","v":"[b]7[/b]. [color=\"#cc5000\"][i][/i][/color] "},null,null,null,null,null,null,null,null,null,null,null,null,null,null,{"$f":"_cl2&lfi($D$13)&_cle","v":"[color=\"#000075\"][/color] "}]
[2,null,null,null,null,null,null,null,null,null,null,null,null,{"$f":"_m1&cl2x&lfi(C15)&clex&sc(C16)","v":"-------------------- [color=\"#4040FF\"][i][/i][/color] [b][/b]"}]
[null,null,null,null,null,null,null,null,null,null,null,null,null,{"$f":"\"[b]\"&$A16&\"[/b]. \"&cl1x&lfi(B16)&clex","v":"[b]2[/b]. [color=\"#cc5000\"][i][/i][/color] "},null,null,null,null,null,null,null,null,null,null,null,null,null,null,{"$f":"\"[b]\"&clr & \"Finala mica - \" & _cle & ctg & \"[/b]\"","v":"[b][color=red]Finala mica - [/color] categorie[/b]"}]
[]
[null,null,null,null,null,null,null,null,null,null,null,null,null,null,null,null,null,null,null,null,null,null,null,null,null,null,null,null,{"$f":"_cl3&lfi($G$5)&_cle","v":"[color=\"#009900\"][/color] "}]
[null,null,null,null,null,null,null,null,null,null,null,null,null,{"$f":"\"[b]\"&clr & \"Finala mica - \" & _cle & ctg & \"[/b]\"","v":"[b][color=red]Finala mica - [/color] categorie[/b]"},null,null,null,null,null,null,null,null,null,null,null,null,null,null,{"$f":"_m1&clr&\"[b]\"&lfi($H$6)&\"[/b]\"&_cle& \" \" & sc($H$7)","v":"-------------------- [color=red][b][/b][/color]  [b][/b]"}]
[null,null,null,null,{"$f":"IF(D21=\"\",\"\",IF(C23=D21,C19,C23))","v":""},null,null,null,null,null,null,null,null,null,null,null,null,null,null,null,null,null,null,null,null,null,null,null,{"$f":"_cl3&lfi($G$7)&_cle","v":"[color=\"#009900\"][/color] "}]
[null,null,null,null,null,null,null,null,null,null,null,null,null,{"$f":"_cl3&lfi($G$5)&_cle","v":"[color=\"#009900\"][/color] "}]
[null,null,null,null,null,null,null,null,null,null,null,null,null,{"$f":"_m1&clr&\"[b]\"&lfi($H$6)&\"[/b]\"&_cle& \" \" & sc($H$7)","v":"-------------------- [color=red][b][/b][/color]  [b][/b]"}]
[null,null,null,null,null,null,null,null,null,null,null,null,null,{"$f":"_cl3&lfi($G$7)&_cle","v":"[color=\"#009900\"][/color] "}]
[]
[]
[]
[]
[null,null,null,null,{"$f":"IF(D29=\"\",\"\",IF(C31=D29,C27,C31))","v":""}]
[]
[]
[]
[]
[]
[]
[]
[null,null,null,null,{"$f":"IF(D37=\"\",\"\",IF(C39=D37,C35,C39))","v":""}]
[]
[]
[]
[]
[]
[]
[]
[null,null,null,null,{"$f":"IF(D45=\"\",\"\",IF(C47=D45,C43,C47))","v":""}]
[]
[]
[]
[]
[]
[]
[]
[null,null,null,null,{"$f":"IF(D53=\"\",\"\",IF(C55=D53,C51,C55))","v":""}]
[]
[]
[]
[]
[]
[]
[]
[null,null,null,null,{"$f":"IF(D61=\"\",\"\",IF(C63=D61,C59,C63))","v":""}]
[]
[]
[]
[]
[]
[]
[]
[null,null,null,null,{"$f":"IF(D69=\"\",\"\",IF(C71=D69,C67,C71))","v":""}]
[]
[]
[]
[]
[]
[]
[]
[null,null,null,null,{"$f":"IF(D77=\"\",\"\",IF(C79=D77,C75,C79))","v":""}]
[]
[]
[]
[]
[]
[]
[]
[null,null,null,null,{"$f":"IF(D85=\"\",\"\",IF(C87=D85,C83,C87))","v":""}]
[]
[]
[]
[]
[]
[]
[]
[null,null,null,null,{"$f":"IF(D93=\"\",\"\",IF(C95=D93,C91,C95))","v":""}]
[]
[]
[]
[]
[]
[]
[]
[null,null,null,null,{"$f":"IF(D101=\"\",\"\",IF(C103=D101,C99,C103))","v":""}]
[]
[]
[]
[]
[]
[]
[]
[null,null,null,null,{"$f":"IF(D109=\"\",\"\",IF(C111=D109,C107,C111))","v":""}]
[]
[]
[]
[]
[]
[]
[]
[null,null,null,null,{"$f":"IF(D117=\"\",\"\",IF(C119=D117,C115,C119))","v":""}]
[]
[]
[]
[]
[]
[]
[]
[null,null,null,null,{"$f":"IF(D125=\"\",\"\",IF(C127=D125,C123,C127))","v":""}]